{"text_format":"1","workbook":"xlsx","n_sheets":11,"sheets":["表單使用說明","氫氟碳化物核配資格申請表","公私場所基本資料表","109年氫氟碳（HFCs）之國內採購統計申報表","110年氫氟碳（HFCs）之國內採購統計申報表","111年氫氟碳（HFCs）之國內採購統計申報表","114年氫氟碳（HFCs）之需求量","使用用途申報表","附件、使用用途列表","附件、冷媒GWP值","工作表9"],"not_rendered":{"charts":0,"images":0,"macros":0,"external_links":0,"defined_names":7,"comments":0,"pivot_tables":0},"unopened":[],"bounds":{"document_bytes":16777216,"sheet_cells":100000,"rows_first":2000,"rows_last":500,"rows_between":2000,"halvings":0,"cell_chars":16384,"cell_head_chars":4096},"cells_cut":0,"cells_raw":0,"read":"whole","date_system":"1900"}

{"sheet":"表單使用說明","index":0,"n_rows":22,"n_cols":10,"rows_kept":22,"cut":false,"hidden":false,"merged":[[2,0,2,2],[2,3,2,8],[0,0,0,8],[5,0,5,2],[6,0,21,2],[7,4,7,8],[8,4,8,8],[9,4,9,8],[11,4,11,8],[5,3,5,8],[6,3,6,8],[12,4,12,8],[15,4,15,8],[17,4,17,8],[10,4,10,8],[16,4,16,8],[19,4,19,8],[21,4,21,8],[3,0,3,2],[3,3,3,8],[18,4,18,8],[4,0,4,2],[4,3,4,8],[13,4,13,8],[14,4,14,8],[20,4,20,8]]}
["「氫氟碳化物管理辦法」正式生效後，114年3月底前，擬申請第一梯次氫氟碳化物（HFCs）使用廠商核配資格者，請至環境部之「氫氟碳化物HFCs申報系統」網站（hfc.moenv.gov.tw）申請帳號後，下載填寫表單文件，並於申請期限前至網站完成上傳表單檔案與佐證文件與送審，始得進入正式審核程序。"]
[]
["廠商名稱",null,null,"A"]
["申請日期",null,null,"民國        年        月          日"]
[]
["使用廠商類型",null,null,"應檢附表單文件（請檢視確認勾選）",null,null,null,null,null,"check"]
["其他產品應填充HFCs之廠商(包括噴霧罐、飲水機、自動販賣機、醫療設備)",null,null,"使用廠商本身文件"]
[null,null,null,null,"氫氟碳化物核配資格申請表",null,null,null,null,false]
[null,null,null,null,"公私場所基本資料表，共              份",null,null,null,null,false]
[null,null,null,null,"109年氫氟碳（HFCs）之國內採購統計申報表",null,null,null,null,false]
[null,null,null,null,"110年氫氟碳（HFCs）之國內採購統計申報表",null,null,null,null,false]
[null,null,null,null,"111年氫氟碳（HFCs）之國內採購統計申報表",null,null,null,null,false]
[null,null,null,null,"114年氫氟碳（HFCs）之需求量",null,null,null,null,false]
[null,null,null,null,"使用用途申報表",null,null,null,null,false]
[null,null,null,null,"附件、使用用途列表",null,null,null,null,false]
[null,null,null,null,"附件、冷媒GWP值(若有新增冷媒種類，無則免附）",null,null,null,null,false]
[null,null,null,null,"佐證文件"]
[null,null,null,null,"工廠登記證明文件影本（依使用HFCs工廠數量檢附，並填寫公私場所基本資料表）",null,null,null,null,false]
[null,null,null,null,"固定污染源許可證影本（依使用HFCs工廠數量檢附，並填寫公私場所基本資料表）",null,null,null,null,false]
[null,null,null,null,"商業登記證明文件影本",null,null,null,null,false]
[null,null,null,null,"氫氟碳（HFCs）採購發票影本109-111年（可多張一起黏貼於A4紙張）",null,null,null,null,false]
[null,null,null,null,"其他檢附文件（請自行填寫）",null,null,null,null,false]

{"sheet":"氫氟碳化物核配資格申請表","index":1,"n_rows":11,"n_cols":12,"rows_kept":11,"cut":false,"hidden":false,"merged":[[0,1,0,10],[8,0,10,0],[8,2,8,10],[9,2,9,10],[10,2,10,10],[2,0,7,0],[1,1,1,10],[3,2,3,10],[4,2,4,10],[2,2,2,10],[7,2,7,10],[6,2,6,10]]}
["廠商名稱","A",null,null,null,null,null,null,null,null,null,"check"]
["申請日期","  民國                       年                   月                         日"]
["使用氫氟碳化物之類型\n（可複選）",null,"噴霧罐製造工廠",null,null,null,null,null,null,null,null,false]
[null,null,"飲水機之製造工廠（非冷凍空調設備製造廠）",null,null,null,null,null,null,null,null,false]
[null,null,"自動販賣機之製造工廠（非冷凍空調設備製造廠）",null,null,null,null,null,null,null,null,false]
[null,null,"醫療設備應填充HFCs者",null,null,null,null,null,null,null,null,false]
[null,null,"其他使用類型",null,null,null,null,null,null,null,null,false]
[null,null,"請簡要說明：",null,null,null,null,null,null,null,null,false]
["過去曾是氟氯烴（HCFCs）\n核配資格廠商嗎？",null,"是",null,null,null,null,null,null,null,null,false]
[null,null,"否",null,null,null,null,null,null,null,null,false]
[null,null,"被取消資格時間：       年          月",null,null,null,null,null,null,null,null,false]

{"sheet":"公私場所基本資料表","index":2,"n_rows":29,"n_cols":3,"rows_kept":29,"cut":false,"hidden":false,"merged":[]}
["公私場所基本資料表（噴霧罐、飲水機、自動販賣機之製造工廠）","同一個統一編號的公司，若有不同廠房使用HFCs，請分別填寫不同公私場所基本資料表（請複製工作表即可填寫）"]
["1.廠商名稱"]
["廠房編號或名稱","1A"]
["2.管制編號"]
["3.固定污染源操作許可證號（僅填寫使用HFCs之固定污染源）"]
["3a.許可污染源程序"]
["3b.有效期間(開始)","民國          年          月          日","至"]
["3c.有效期間(結束)","民國          年          月          日"]
["4.工廠登記地址"]
["5.負責人姓名"]
["5a.職稱"]
["6.統一編號"]
["7.資本額",null,"元"]
["8.員工人數",null,"人"]
["9.聯絡人姓名"]
["9a.聯絡人職稱"]
["9b.聯絡地址"]
["9c.鄉鎮代碼"]
["9d.郵遞區號"]
["9e.聯絡人電話","（   ）                                     分機"]
["9f.聯絡人電子信箱"]
["9g.聯絡人手機"]
["10.工廠登記證號"]
["10a.工廠設立許可證號"]
["10b. 設立核准日期","民國          年          月          日"]
["10c. 登記核准日期","民國          年          月          日"]
["11.商業登記證號"]
["11a.核准設立登記日期","民國          年          月          日"]
["11b.最後核准變更日期","民國          年          月          日"]

{"sheet":"109年氫氟碳（HFCs）之國內採購統計申報表","index":3,"n_rows":1001,"n_cols":10,"rows_kept":1001,"cut":false,"hidden":false,"merged":[[1,6,3,6],[0,2,0,5],[0,0,0,1],[1,5,3,5],[1,0,3,0],[1,1,3,1],[1,3,3,3],[1,4,3,4],[1,2,3,2]]}
["申報年份",null,"   109         年",null,null,null,"請記得檢附採購發票影本"]
["編號","採購發票編號","供應廠商統一編號","供應廠商名稱","商品名稱","冷媒編號\n請填寫號碼即可，毋須填寫R-","物質類別","採購量","GWP*","公噸CO2eq"]
[null,null,null,null,null,null,null,"（公噸）",null,"C=A*B"]
[null,null,null,null,null,null,null,"A","B"]
["範例 1","UZ07990000","02750961","AA","R23",23,{"$f":"VLOOKUP(F5,工作表9!$G$1:$I$136,3, FALSE)","v":"純物質"},50,{"$f":"VLOOKUP(F5,工作表9!$G$1:$H$142, 2, FALSE)","v":14800},{"$f":"H5*I5","v":740000}]
["範例 2","UZ07990000","02750961","AA","R134a","134a",{"$f":"VLOOKUP(F6,工作表9!$G$1:$I$136,3, FALSE)","v":"純物質"},100,{"$f":"VLOOKUP(F6,工作表9!$G$1:$H$142, 2, FALSE)","v":1430},{"$f":"H6*I6","v":143000}]
[null,null,null,null,null,null,{"$f":"VLOOKUP(F7,工作表9!$G$1:$I$136,3, FALSE)","v":"混合物"},null,{"$f":"VLOOKUP(F7,工作表9!$G$1:$H$142, 2, FALSE)","v":0},0]
[null,null,null,null,null,null,{"$f":"VLOOKUP(F8,工作表9!$G$1:$I$136,3, FALSE)","v":"混合物"},null,{"$f":"VLOOKUP(F8,工作表9!$G$1:$H$142, 2, FALSE)","v":0},0]
[null,null,null,null,null,null,{"$f":"VLOOKUP(F9,工作表9!$G$1:$I$136,3, FALSE)","v":"混合物"},null,{"$f":"VLOOKUP(F9,工作表9!$G$1:$H$142, 2, FALSE)","v":0},0]
[null,null,null,null,null,null,{"$f":"VLOOKUP(F10,工作表9!$G$1:$I$136,3, FALSE)","v":"混合物"},null,{"$f":"VLOOKUP(F10,工作表9!$G$1:$H$142, 2, FALSE)","v":0},0]
[null,null,null,null,null,null,{"$f":"VLOOKUP(F11,工作表9!$G$1:$I$136,3, FALSE)","v":"混合物"},null,{"$f":"VLOOKUP(F11,工作表9!$G$1:$H$142, 2, FALSE)","v":0},0]
[null,null,null,null,null,null,{"$f":"VLOOKUP(F12,工作表9!$G$1:$I$136,3, FALSE)","v":"混合物"},null,{"$f":"VLOOKUP(F12,工作表9!$G$1:$H$142, 2, FALSE)","v":0},0]
[null,null,null,null,null,null,{"$f":"VLOOKUP(F13,工作表9!$G$1:$I$136,3, FALSE)","v":"混合物"},null,{"$f":"VLOOKUP(F13,工作表9!$G$1:$H$142, 2, FALSE)","v":0},0]
[null,null,null,null,null,null,{"$f":"VLOOKUP(F14,工作表9!$G$1:$I$136,3, FALSE)","v":"混合物"},null,{"$f":"VLOOKUP(F14,工作表9!$G$1:$H$142, 2, FALSE)","v":0},0]
[null,null,null,null,null,null,{"$f":"VLOOKUP(F15,工作表9!$G$1:$I$136,3, FALSE)","v":"混合物"},null,{"$f":"VLOOKUP(F15,工作表9!$G$1:$H$142, 2, FALSE)","v":0},0]
[null,null,null,null,null,null,{"$f":"VLOOKUP(F16,工作表9!$G$1:$I$136,3, FALSE)","v":"混合物"},null,{"$f":"VLOOKUP(F16,工作表9!$G$1:$H$142, 2, FALSE)","v":0},0]
[null,null,null,null,null,null,{"$f":"VLOOKUP(F17,工作表9!$G$1:$I$136,3, FALSE)","v":"混合物"},null,{"$f":"VLOOKUP(F17,工作表9!$G$1:$H$142, 2, FALSE)","v":0},0]
[null,null,null,null,null,null,{"$f":"VLOOKUP(F18,工作表9!$G$1:$I$136,3, FALSE)","v":"混合物"},null,{"$f":"VLOOKUP(F18,工作表9!$G$1:$H$142, 2, FALSE)","v":0},0]
[null,null,null,null,null,null,{"$f":"VLOOKUP(F19,工作表9!$G$1:$I$136,3, FALSE)","v":"混合物"},null,{"$f":"VLOOKUP(F19,工作表9!$G$1:$H$142, 2, FALSE)","v":0},0]
[null,null,null,null,null,null,{"$f":"VLOOKUP(F20,工作表9!$G$1:$I$136,3, FALSE)","v":"混合物"},null,{"$f":"VLOOKUP(F20,工作表9!$G$1:$H$142, 2, FALSE)","v":0},0]
[null,null,null,null,null,null,{"$f":"VLOOKUP(F21,工作表9!$G$1:$I$136,3, FALSE)","v":"混合物"},null,{"$f":"VLOOKUP(F21,工作表9!$G$1:$H$142, 2, FALSE)","v":0},0]
[null,null,null,null,null,null,{"$f":"VLOOKUP(F22,工作表9!$G$1:$I$136,3, FALSE)","v":"混合物"},null,{"$f":"VLOOKUP(F22,工作表9!$G$1:$H$142, 2, FALSE)","v":0},0]
[null,null,null,null,null,null,{"$f":"VLOOKUP(F23,工作表9!$G$1:$I$136,3, FALSE)","v":"混合物"},null,{"$f":"VLOOKUP(F23,工作表9!$G$1:$H$142, 2, FALSE)","v":0},0]
[null,null,null,null,null,null,{"$f":"VLOOKUP(F24,工作表9!$G$1:$I$136,3, FALSE)","v":"混合物"},null,{"$f":"VLOOKUP(F24,工作表9!$G$1:$H$142, 2, FALSE)","v":0},0]
[null,null,null,null,null,null,{"$f":"VLOOKUP(F25,工作表9!$G$1:$I$136,3, FALSE)","v":"混合物"},null,{"$f":"VLOOKUP(F25,工作表9!$G$1:$H$142, 2, FALSE)","v":0},0]
[null,null,null,null,null,null,{"$f":"VLOOKUP(F26,工作表9!$G$1:$I$136,3, FALSE)","v":"混合物"},null,{"$f":"VLOOKUP(F26,工作表9!$G$1:$H$142, 2, FALSE)","v":0},0]
[null,null,null,null,null,null,{"$f":"VLOOKUP(F27,工作表9!$G$1:$I$136,3, FALSE)","v":"混合物"},null,{"$f":"VLOOKUP(F27,工作表9!$G$1:$H$142, 2, FALSE)","v":0},0]
[null,null,null,null,null,null,{"$f":"VLOOKUP(F28,工作表9!$G$1:$I$136,3, FALSE)","v":"混合物"},null,{"$f":"VLOOKUP(F28,工作表9!$G$1:$H$142, 2, FALSE)","v":0},0]
[null,null,null,null,null,null,{"$f":"VLOOKUP(F29,工作表9!$G$1:$I$136,3, FALSE)","v":"混合物"},null,{"$f":"VLOOKUP(F29,工作表9!$G$1:$H$142, 2, FALSE)","v":0},0]
[null,null,null,null,null,null,{"$f":"VLOOKUP(F30,工作表9!$G$1:$I$136,3, FALSE)","v":"混合物"},null,{"$f":"VLOOKUP(F30,工作表9!$G$1:$H$142, 2, FALSE)","v":0},0]
[null,null,null,null,null,null,{"$f":"VLOOKUP(F31,工作表9!$G$1:$I$136,3, FALSE)","v":"混合物"},null,{"$f":"VLOOKUP(F31,工作表9!$G$1:$H$142, 2, FALSE)","v":0},0]
[null,null,null,null,null,null,{"$f":"VLOOKUP(F32,工作表9!$G$1:$I$136,3, FALSE)","v":"混合物"},null,{"$f":"VLOOKUP(F32,工作表9!$G$1:$H$142, 2, FALSE)","v":0},0]
[null,null,null,null,null,null,{"$f":"VLOOKUP(F33,工作表9!$G$1:$I$136,3, FALSE)","v":"混合物"},null,{"$f":"VLOOKUP(F33,工作表9!$G$1:$H$142, 2, FALSE)","v":0},0]
[null,null,null,null,null,null,{"$f":"VLOOKUP(F34,工作表9!$G$1:$I$136,3, FALSE)","v":"混合物"},null,{"$f":"VLOOKUP(F34,工作表9!$G$1:$H$142, 2, FALSE)","v":0},0]
[null,null,null,null,null,null,{"$f":"VLOOKUP(F35,工作表9!$G$1:$I$136,3, FALSE)","v":"混合物"},null,{"$f":"VLOOKUP(F35,工作表9!$G$1:$H$142, 2, FALSE)","v":0},0]
[null,null,null,null,null,null,{"$f":"VLOOKUP(F36,工作表9!$G$1:$I$136,3, FALSE)","v":"混合物"},null,{"$f":"VLOOKUP(F36,工作表9!$G$1:$H$142, 2, FALSE)","v":0},0]
[null,null,null,null,null,null,{"$f":"VLOOKUP(F37,工作表9!$G$1:$I$136,3, FALSE)","v":"混合物"},null,{"$f":"VLOOKUP(F37,工作表9!$G$1:$H$142, 2, FALSE)","v":0},0]
[null,null,null,null,null,null,{"$f":"VLOOKUP(F38,工作表9!$G$1:$I$136,3, FALSE)","v":"混合物"},null,{"$f":"VLOOKUP(F38,工作表9!$G$1:$H$142, 2, FALSE)","v":0},0]
[null,null,null,null,null,null,{"$f":"VLOOKUP(F39,工作表9!$G$1:$I$136,3, FALSE)","v":"混合物"},null,{"$f":"VLOOKUP(F39,工作表9!$G$1:$H$142, 2, FALSE)","v":0},0]
[null,null,null,null,null,null,{"$f":"VLOOKUP(F40,工作表9!$G$1:$I$136,3, FALSE)","v":"混合物"},null,{"$f":"VLOOKUP(F40,工作表9!$G$1:$H$142, 2, FALSE)","v":0},0]
[null,null,null,null,null,null,{"$f":"VLOOKUP(F41,工作表9!$G$1:$I$136,3, FALSE)","v":"混合物"},null,{"$f":"VLOOKUP(F41,工作表9!$G$1:$H$142, 2, FALSE)","v":0},0]
[null,null,null,null,null,null,{"$f":"VLOOKUP(F42,工作表9!$G$1:$I$136,3, FALSE)","v":"混合物"},null,{"$f":"VLOOKUP(F42,工作表9!$G$1:$H$142, 2, FALSE)","v":0},0]
[null,null,null,null,null,null,{"$f":"VLOOKUP(F43,工作表9!$G$1:$I$136,3, FALSE)","v":"混合物"},null,{"$f":"VLOOKUP(F43,工作表9!$G$1:$H$142, 2, FALSE)","v":0},0]
[null,null,null,null,null,null,{"$f":"VLOOKUP(F44,工作表9!$G$1:$I$136,3, FALSE)","v":"混合物"},null,{"$f":"VLOOKUP(F44,工作表9!$G$1:$H$142, 2, FALSE)","v":0},0]
[null,null,null,null,null,null,{"$f":"VLOOKUP(F45,工作表9!$G$1:$I$136,3, FALSE)","v":"混合物"},null,{"$f":"VLOOKUP(F45,工作表9!$G$1:$H$142, 2, FALSE)","v":0},0]
[null,null,null,null,null,null,{"$f":"VLOOKUP(F46,工作表9!$G$1:$I$136,3, FALSE)","v":"混合物"},null,{"$f":"VLOOKUP(F46,工作表9!$G$1:$H$142, 2, FALSE)","v":0},0]
[null,null,null,null,null,null,{"$f":"VLOOKUP(F47,工作表9!$G$1:$I$136,3, FALSE)","v":"混合物"},null,{"$f":"VLOOKUP(F47,工作表9!$G$1:$H$142, 2, FALSE)","v":0},0]
[null,null,null,null,null,null,{"$f":"VLOOKUP(F48,工作表9!$G$1:$I$136,3, FALSE)","v":"混合物"},null,{"$f":"VLOOKUP(F48,工作表9!$G$1:$H$142, 2, FALSE)","v":0},0]
[null,null,null,null,null,null,{"$f":"VLOOKUP(F49,工作表9!$G$1:$I$136,3, FALSE)","v":"混合物"},null,{"$f":"VLOOKUP(F49,工作表9!$G$1:$H$142, 2, FALSE)","v":0},0]
[null,null,null,null,null,null,{"$f":"VLOOKUP(F50,工作表9!$G$1:$I$136,3, FALSE)","v":"混合物"},null,{"$f":"VLOOKUP(F50,工作表9!$G$1:$H$142, 2, FALSE)","v":0},0]
[null,null,null,null,null,null,{"$f":"VLOOKUP(F51,工作表9!$G$1:$I$136,3, FALSE)","v":"混合物"},null,{"$f":"VLOOKUP(F51,工作表9!$G$1:$H$142, 2, FALSE)","v":0},0]
[null,null,null,null,null,null,{"$f":"VLOOKUP(F52,工作表9!$G$1:$I$136,3, FALSE)","v":"混合物"},null,{"$f":"VLOOKUP(F52,工作表9!$G$1:$H$142, 2, FALSE)","v":0},0]
[null,null,null,null,null,null,{"$f":"VLOOKUP(F53,工作表9!$G$1:$I$136,3, FALSE)","v":"混合物"},null,{"$f":"VLOOKUP(F53,工作表9!$G$1:$H$142, 2, FALSE)","v":0},0]
[null,null,null,null,null,null,{"$f":"VLOOKUP(F54,工作表9!$G$1:$I$136,3, FALSE)","v":"混合物"},null,{"$f":"VLOOKUP(F54,工作表9!$G$1:$H$142, 2, FALSE)","v":0},0]
[null,null,null,null,null,null,{"$f":"VLOOKUP(F55,工作表9!$G$1:$I$136,3, FALSE)","v":"混合物"},null,{"$f":"VLOOKUP(F55,工作表9!$G$1:$H$142, 2, FALSE)","v":0},0]
[null,null,null,null,null,null,{"$f":"VLOOKUP(F56,工作表9!$G$1:$I$136,3, FALSE)","v":"混合物"},null,{"$f":"VLOOKUP(F56,工作表9!$G$1:$H$142, 2, FALSE)","v":0},0]
[null,null,null,null,null,null,{"$f":"VLOOKUP(F57,工作表9!$G$1:$I$136,3, FALSE)","v":"混合物"},null,{"$f":"VLOOKUP(F57,工作表9!$G$1:$H$142, 2, FALSE)","v":0},0]
[null,null,null,null,null,null,{"$f":"VLOOKUP(F58,工作表9!$G$1:$I$136,3, FALSE)","v":"混合物"},null,{"$f":"VLOOKUP(F58,工作表9!$G$1:$H$142, 2, FALSE)","v":0},0]
[null,null,null,null,null,null,{"$f":"VLOOKUP(F59,工作表9!$G$1:$I$136,3, FALSE)","v":"混合物"},null,{"$f":"VLOOKUP(F59,工作表9!$G$1:$H$142, 2, FALSE)","v":0},0]
[null,null,null,null,null,null,{"$f":"VLOOKUP(F60,工作表9!$G$1:$I$136,3, FALSE)","v":"混合物"},null,{"$f":"VLOOKUP(F60,工作表9!$G$1:$H$142, 2, FALSE)","v":0},0]
[null,null,null,null,null,null,{"$f":"VLOOKUP(F61,工作表9!$G$1:$I$136,3, FALSE)","v":"混合物"},null,{"$f":"VLOOKUP(F61,工作表9!$G$1:$H$142, 2, FALSE)","v":0},0]
[null,null,null,null,null,null,{"$f":"VLOOKUP(F62,工作表9!$G$1:$I$136,3, FALSE)","v":"混合物"},null,{"$f":"VLOOKUP(F62,工作表9!$G$1:$H$142, 2, FALSE)","v":0},0]
[null,null,null,null,null,null,{"$f":"VLOOKUP(F63,工作表9!$G$1:$I$136,3, FALSE)","v":"混合物"},null,{"$f":"VLOOKUP(F63,工作表9!$G$1:$H$142, 2, FALSE)","v":0},0]
[null,null,null,null,null,null,{"$f":"VLOOKUP(F64,工作表9!$G$1:$I$136,3, FALSE)","v":"混合物"},null,{"$f":"VLOOKUP(F64,工作表9!$G$1:$H$142, 2, FALSE)","v":0},0]
[null,null,null,null,null,null,{"$f":"VLOOKUP(F65,工作表9!$G$1:$I$136,3, FALSE)","v":"混合物"},null,{"$f":"VLOOKUP(F65,工作表9!$G$1:$H$142, 2, FALSE)","v":0},0]
[null,null,null,null,null,null,{"$f":"VLOOKUP(F66,工作表9!$G$1:$I$136,3, FALSE)","v":"混合物"},null,{"$f":"VLOOKUP(F66,工作表9!$G$1:$H$142, 2, FALSE)","v":0},0]
[null,null,null,null,null,null,{"$f":"VLOOKUP(F67,工作表9!$G$1:$I$136,3, FALSE)","v":"混合物"},null,{"$f":"VLOOKUP(F67,工作表9!$G$1:$H$142, 2, FALSE)","v":0},0]
[null,null,null,null,null,null,{"$f":"VLOOKUP(F68,工作表9!$G$1:$I$136,3, FALSE)","v":"混合物"},null,{"$f":"VLOOKUP(F68,工作表9!$G$1:$H$142, 2, FALSE)","v":0},0]
[null,null,null,null,null,null,{"$f":"VLOOKUP(F69,工作表9!$G$1:$I$136,3, FALSE)","v":"混合物"},null,{"$f":"VLOOKUP(F69,工作表9!$G$1:$H$142, 2, FALSE)","v":0},0]
[null,null,null,null,null,null,{"$f":"VLOOKUP(F70,工作表9!$G$1:$I$136,3, FALSE)","v":"混合物"},null,{"$f":"VLOOKUP(F70,工作表9!$G$1:$H$142, 2, FALSE)","v":0},{"$f":"H70*I70","v":0}]
[null,null,null,null,null,null,{"$f":"VLOOKUP(F71,工作表9!$G$1:$I$136,3, FALSE)","v":"混合物"},null,{"$f":"VLOOKUP(F71,工作表9!$G$1:$H$142, 2, FALSE)","v":0},0]
[null,null,null,null,null,null,{"$f":"VLOOKUP(F72,工作表9!$G$1:$I$136,3, FALSE)","v":"混合物"},null,{"$f":"VLOOKUP(F72,工作表9!$G$1:$H$142, 2, FALSE)","v":0},0]
[null,null,null,null,null,null,{"$f":"VLOOKUP(F73,工作表9!$G$1:$I$136,3, FALSE)","v":"混合物"},null,{"$f":"VLOOKUP(F73,工作表9!$G$1:$H$142, 2, FALSE)","v":0},0]
[null,null,null,null,null,null,{"$f":"VLOOKUP(F74,工作表9!$G$1:$I$136,3, FALSE)","v":"混合物"},null,{"$f":"VLOOKUP(F74,工作表9!$G$1:$H$142, 2, FALSE)","v":0},0]
[null,null,null,null,null,null,{"$f":"VLOOKUP(F75,工作表9!$G$1:$I$136,3, FALSE)","v":"混合物"},null,{"$f":"VLOOKUP(F75,工作表9!$G$1:$H$142, 2, FALSE)","v":0},0]
[null,null,null,null,null,null,{"$f":"VLOOKUP(F76,工作表9!$G$1:$I$136,3, FALSE)","v":"混合物"},null,{"$f":"VLOOKUP(F76,工作表9!$G$1:$H$142, 2, FALSE)","v":0},0]
[null,null,null,null,null,null,{"$f":"VLOOKUP(F77,工作表9!$G$1:$I$136,3, FALSE)","v":"混合物"},null,{"$f":"VLOOKUP(F77,工作表9!$G$1:$H$142, 2, FALSE)","v":0},0]
[null,null,null,null,null,null,{"$f":"VLOOKUP(F78,工作表9!$G$1:$I$136,3, FALSE)","v":"混合物"},null,{"$f":"VLOOKUP(F78,工作表9!$G$1:$H$142, 2, FALSE)","v":0},0]
[null,null,null,null,null,null,{"$f":"VLOOKUP(F79,工作表9!$G$1:$I$136,3, FALSE)","v":"混合物"},null,{"$f":"VLOOKUP(F79,工作表9!$G$1:$H$142, 2, FALSE)","v":0},0]
[null,null,null,null,null,null,{"$f":"VLOOKUP(F80,工作表9!$G$1:$I$136,3, FALSE)","v":"混合物"},null,{"$f":"VLOOKUP(F80,工作表9!$G$1:$H$142, 2, FALSE)","v":0},0]
[null,null,null,null,null,null,{"$f":"VLOOKUP(F81,工作表9!$G$1:$I$136,3, FALSE)","v":"混合物"},null,{"$f":"VLOOKUP(F81,工作表9!$G$1:$H$142, 2, FALSE)","v":0},0]
[null,null,null,null,null,null,{"$f":"VLOOKUP(F82,工作表9!$G$1:$I$136,3, FALSE)","v":"混合物"},null,{"$f":"VLOOKUP(F82,工作表9!$G$1:$H$142, 2, FALSE)","v":0},0]
[null,null,null,null,null,null,{"$f":"VLOOKUP(F83,工作表9!$G$1:$I$136,3, FALSE)","v":"混合物"},null,{"$f":"VLOOKUP(F83,工作表9!$G$1:$H$142, 2, FALSE)","v":0},0]
[null,null,null,null,null,null,{"$f":"VLOOKUP(F84,工作表9!$G$1:$I$136,3, FALSE)","v":"混合物"},null,{"$f":"VLOOKUP(F84,工作表9!$G$1:$H$142, 2, FALSE)","v":0},0]
[null,null,null,null,null,null,{"$f":"VLOOKUP(F85,工作表9!$G$1:$I$136,3, FALSE)","v":"混合物"},null,{"$f":"VLOOKUP(F85,工作表9!$G$1:$H$142, 2, FALSE)","v":0},0]
[null,null,null,null,null,null,{"$f":"VLOOKUP(F86,工作表9!$G$1:$I$136,3, FALSE)","v":"混合物"},null,{"$f":"VLOOKUP(F86,工作表9!$G$1:$H$142, 2, FALSE)","v":0},0]
[null,null,null,null,null,null,{"$f":"VLOOKUP(F87,工作表9!$G$1:$I$136,3, FALSE)","v":"混合物"},null,{"$f":"VLOOKUP(F87,工作表9!$G$1:$H$142, 2, FALSE)","v":0},0]
[null,null,null,null,null,null,{"$f":"VLOOKUP(F88,工作表9!$G$1:$I$136,3, FALSE)","v":"混合物"},null,{"$f":"VLOOKUP(F88,工作表9!$G$1:$H$142, 2, FALSE)","v":0},0]
[null,null,null,null,null,null,{"$f":"VLOOKUP(F89,工作表9!$G$1:$I$136,3, FALSE)","v":"混合物"},null,{"$f":"VLOOKUP(F89,工作表9!$G$1:$H$142, 2, FALSE)","v":0},0]
[null,null,null,null,null,null,{"$f":"VLOOKUP(F90,工作表9!$G$1:$I$136,3, FALSE)","v":"混合物"},null,{"$f":"VLOOKUP(F90,工作表9!$G$1:$H$142, 2, FALSE)","v":0},0]
[null,null,null,null,null,null,{"$f":"VLOOKUP(F91,工作表9!$G$1:$I$136,3, FALSE)","v":"混合物"},null,{"$f":"VLOOKUP(F91,工作表9!$G$1:$H$142, 2, FALSE)","v":0},0]
[null,null,null,null,null,null,{"$f":"VLOOKUP(F92,工作表9!$G$1:$I$136,3, FALSE)","v":"混合物"},null,{"$f":"VLOOKUP(F92,工作表9!$G$1:$H$142, 2, FALSE)","v":0},0]
[null,null,null,null,null,null,{"$f":"VLOOKUP(F93,工作表9!$G$1:$I$136,3, FALSE)","v":"混合物"},null,{"$f":"VLOOKUP(F93,工作表9!$G$1:$H$142, 2, FALSE)","v":0},0]
[null,null,null,null,null,null,{"$f":"VLOOKUP(F94,工作表9!$G$1:$I$136,3, FALSE)","v":"混合物"},null,{"$f":"VLOOKUP(F94,工作表9!$G$1:$H$142, 2, FALSE)","v":0},0]
[null,null,null,null,null,null,{"$f":"VLOOKUP(F95,工作表9!$G$1:$I$136,3, FALSE)","v":"混合物"},null,{"$f":"VLOOKUP(F95,工作表9!$G$1:$H$142, 2, FALSE)","v":0},0]
[null,null,null,null,null,null,{"$f":"VLOOKUP(F96,工作表9!$G$1:$I$136,3, FALSE)","v":"混合物"},null,{"$f":"VLOOKUP(F96,工作表9!$G$1:$H$142, 2, FALSE)","v":0},0]
[null,null,null,null,null,null,{"$f":"VLOOKUP(F97,工作表9!$G$1:$I$136,3, FALSE)","v":"混合物"},null,{"$f":"VLOOKUP(F97,工作表9!$G$1:$H$142, 2, FALSE)","v":0},0]
[null,null,null,null,null,null,{"$f":"VLOOKUP(F98,工作表9!$G$1:$I$136,3, FALSE)","v":"混合物"},null,{"$f":"VLOOKUP(F98,工作表9!$G$1:$H$142, 2, FALSE)","v":0},0]
[null,null,null,null,null,null,{"$f":"VLOOKUP(F99,工作表9!$G$1:$I$136,3, FALSE)","v":"混合物"},null,{"$f":"VLOOKUP(F99,工作表9!$G$1:$H$142, 2, FALSE)","v":0},0]
[null,null,null,null,null,null,{"$f":"VLOOKUP(F100,工作表9!$G$1:$I$136,3, FALSE)","v":"混合物"},null,{"$f":"VLOOKUP(F100,工作表9!$G$1:$H$142, 2, FALSE)","v":0},0]
[null,null,null,null,null,null,{"$f":"VLOOKUP(F101,工作表9!$G$1:$I$136,3, FALSE)","v":"混合物"},null,{"$f":"VLOOKUP(F101,工作表9!$G$1:$H$142, 2, FALSE)","v":0},0]
[null,null,null,null,null,null,{"$f":"VLOOKUP(F102,工作表9!$G$1:$I$136,3, FALSE)","v":"混合物"},null,{"$f":"VLOOKUP(F102,工作表9!$G$1:$H$142, 2, FALSE)","v":0},0]
[null,null,null,null,null,null,{"$f":"VLOOKUP(F103,工作表9!$G$1:$I$136,3, FALSE)","v":"混合物"},null,{"$f":"VLOOKUP(F103,工作表9!$G$1:$H$142, 2, FALSE)","v":0},0]
[null,null,null,null,null,null,{"$f":"VLOOKUP(F104,工作表9!$G$1:$I$136,3, FALSE)","v":"混合物"},null,{"$f":"VLOOKUP(F104,工作表9!$G$1:$H$142, 2, FALSE)","v":0},0]
[null,null,null,null,null,null,{"$f":"VLOOKUP(F105,工作表9!$G$1:$I$136,3, FALSE)","v":"混合物"},null,{"$f":"VLOOKUP(F105,工作表9!$G$1:$H$142, 2, FALSE)","v":0},0]
[null,null,null,null,null,null,{"$f":"VLOOKUP(F106,工作表9!$G$1:$I$136,3, FALSE)","v":"混合物"},null,{"$f":"VLOOKUP(F106,工作表9!$G$1:$H$142, 2, FALSE)","v":0},0]
[null,null,null,null,null,null,{"$f":"VLOOKUP(F107,工作表9!$G$1:$I$136,3, FALSE)","v":"混合物"},null,{"$f":"VLOOKUP(F107,工作表9!$G$1:$H$142, 2, FALSE)","v":0},0]
[null,null,null,null,null,null,{"$f":"VLOOKUP(F108,工作表9!$G$1:$I$136,3, FALSE)","v":"混合物"},null,{"$f":"VLOOKUP(F108,工作表9!$G$1:$H$142, 2, FALSE)","v":0},0]
[null,null,null,null,null,null,{"$f":"VLOOKUP(F109,工作表9!$G$1:$I$136,3, FALSE)","v":"混合物"},null,{"$f":"VLOOKUP(F109,工作表9!$G$1:$H$142, 2, FALSE)","v":0},0]
[null,null,null,null,null,null,{"$f":"VLOOKUP(F110,工作表9!$G$1:$I$136,3, FALSE)","v":"混合物"},null,{"$f":"VLOOKUP(F110,工作表9!$G$1:$H$142, 2, FALSE)","v":0},0]
[null,null,null,null,null,null,{"$f":"VLOOKUP(F111,工作表9!$G$1:$I$136,3, FALSE)","v":"混合物"},null,{"$f":"VLOOKUP(F111,工作表9!$G$1:$H$142, 2, FALSE)","v":0},0]
[null,null,null,null,null,null,{"$f":"VLOOKUP(F112,工作表9!$G$1:$I$136,3, FALSE)","v":"混合物"},null,{"$f":"VLOOKUP(F112,工作表9!$G$1:$H$142, 2, FALSE)","v":0},0]
[null,null,null,null,null,null,{"$f":"VLOOKUP(F113,工作表9!$G$1:$I$136,3, FALSE)","v":"混合物"},null,{"$f":"VLOOKUP(F113,工作表9!$G$1:$H$142, 2, FALSE)","v":0},0]
[null,null,null,null,null,null,{"$f":"VLOOKUP(F114,工作表9!$G$1:$I$136,3, FALSE)","v":"混合物"},null,{"$f":"VLOOKUP(F114,工作表9!$G$1:$H$142, 2, FALSE)","v":0},0]
[null,null,null,null,null,null,{"$f":"VLOOKUP(F115,工作表9!$G$1:$I$136,3, FALSE)","v":"混合物"},null,{"$f":"VLOOKUP(F115,工作表9!$G$1:$H$142, 2, FALSE)","v":0},0]
[null,null,null,null,null,null,{"$f":"VLOOKUP(F116,工作表9!$G$1:$I$136,3, FALSE)","v":"混合物"},null,{"$f":"VLOOKUP(F116,工作表9!$G$1:$H$142, 2, FALSE)","v":0},0]
[null,null,null,null,null,null,{"$f":"VLOOKUP(F117,工作表9!$G$1:$I$136,3, FALSE)","v":"混合物"},null,{"$f":"VLOOKUP(F117,工作表9!$G$1:$H$142, 2, FALSE)","v":0},0]
[null,null,null,null,null,null,{"$f":"VLOOKUP(F118,工作表9!$G$1:$I$136,3, FALSE)","v":"混合物"},null,{"$f":"VLOOKUP(F118,工作表9!$G$1:$H$142, 2, FALSE)","v":0},0]
[null,null,null,null,null,null,{"$f":"VLOOKUP(F119,工作表9!$G$1:$I$136,3, FALSE)","v":"混合物"},null,{"$f":"VLOOKUP(F119,工作表9!$G$1:$H$142, 2, FALSE)","v":0},0]
[null,null,null,null,null,null,{"$f":"VLOOKUP(F120,工作表9!$G$1:$I$136,3, FALSE)","v":"混合物"},null,{"$f":"VLOOKUP(F120,工作表9!$G$1:$H$142, 2, FALSE)","v":0},0]
[null,null,null,null,null,null,{"$f":"VLOOKUP(F121,工作表9!$G$1:$I$136,3, FALSE)","v":"混合物"},null,{"$f":"VLOOKUP(F121,工作表9!$G$1:$H$142, 2, FALSE)","v":0},0]
[null,null,null,null,null,null,{"$f":"VLOOKUP(F122,工作表9!$G$1:$I$136,3, FALSE)","v":"混合物"},null,{"$f":"VLOOKUP(F122,工作表9!$G$1:$H$142, 2, FALSE)","v":0},0]
[null,null,null,null,null,null,{"$f":"VLOOKUP(F123,工作表9!$G$1:$I$136,3, FALSE)","v":"混合物"},null,{"$f":"VLOOKUP(F123,工作表9!$G$1:$H$142, 2, FALSE)","v":0},0]
[null,null,null,null,null,null,{"$f":"VLOOKUP(F124,工作表9!$G$1:$I$136,3, FALSE)","v":"混合物"},null,{"$f":"VLOOKUP(F124,工作表9!$G$1:$H$142, 2, FALSE)","v":0},0]
[null,null,null,null,null,null,{"$f":"VLOOKUP(F125,工作表9!$G$1:$I$136,3, FALSE)","v":"混合物"},null,{"$f":"VLOOKUP(F125,工作表9!$G$1:$H$142, 2, FALSE)","v":0},0]
[null,null,null,null,null,null,{"$f":"VLOOKUP(F126,工作表9!$G$1:$I$136,3, FALSE)","v":"混合物"},null,{"$f":"VLOOKUP(F126,工作表9!$G$1:$H$142, 2, FALSE)","v":0},0]
[null,null,null,null,null,null,{"$f":"VLOOKUP(F127,工作表9!$G$1:$I$136,3, FALSE)","v":"混合物"},null,{"$f":"VLOOKUP(F127,工作表9!$G$1:$H$142, 2, FALSE)","v":0},0]
[null,null,null,null,null,null,{"$f":"VLOOKUP(F128,工作表9!$G$1:$I$136,3, FALSE)","v":"混合物"},null,{"$f":"VLOOKUP(F128,工作表9!$G$1:$H$142, 2, FALSE)","v":0},0]
[null,null,null,null,null,null,{"$f":"VLOOKUP(F129,工作表9!$G$1:$I$136,3, FALSE)","v":"混合物"},null,{"$f":"VLOOKUP(F129,工作表9!$G$1:$H$142, 2, FALSE)","v":0},0]
[null,null,null,null,null,null,{"$f":"VLOOKUP(F130,工作表9!$G$1:$I$136,3, FALSE)","v":"混合物"},null,{"$f":"VLOOKUP(F130,工作表9!$G$1:$H$142, 2, FALSE)","v":0},0]
[null,null,null,null,null,null,{"$f":"VLOOKUP(F131,工作表9!$G$1:$I$136,3, FALSE)","v":"混合物"},null,{"$f":"VLOOKUP(F131,工作表9!$G$1:$H$142, 2, FALSE)","v":0},0]
[null,null,null,null,null,null,{"$f":"VLOOKUP(F132,工作表9!$G$1:$I$136,3, FALSE)","v":"混合物"},null,{"$f":"VLOOKUP(F132,工作表9!$G$1:$H$142, 2, FALSE)","v":0},0]
[null,null,null,null,null,null,{"$f":"VLOOKUP(F133,工作表9!$G$1:$I$136,3, FALSE)","v":"混合物"},null,{"$f":"VLOOKUP(F133,工作表9!$G$1:$H$142, 2, FALSE)","v":0},0]
[null,null,null,null,null,null,{"$f":"VLOOKUP(F134,工作表9!$G$1:$I$136,3, FALSE)","v":"混合物"},null,{"$f":"VLOOKUP(F134,工作表9!$G$1:$H$142, 2, FALSE)","v":0},{"$f":"H134*I134","v":0}]
[null,null,null,null,null,null,{"$f":"VLOOKUP(F135,工作表9!$G$1:$I$136,3, FALSE)","v":"混合物"},null,{"$f":"VLOOKUP(F135,工作表9!$G$1:$H$142, 2, FALSE)","v":0},0]
[null,null,null,null,null,null,{"$f":"VLOOKUP(F136,工作表9!$G$1:$I$136,3, FALSE)","v":"混合物"},null,{"$f":"VLOOKUP(F136,工作表9!$G$1:$H$142, 2, FALSE)","v":0},0]
[null,null,null,null,null,null,{"$f":"VLOOKUP(F137,工作表9!$G$1:$I$136,3, FALSE)","v":"混合物"},null,{"$f":"VLOOKUP(F137,工作表9!$G$1:$H$142, 2, FALSE)","v":0},0]
[null,null,null,null,null,null,{"$f":"VLOOKUP(F138,工作表9!$G$1:$I$136,3, FALSE)","v":"混合物"},null,{"$f":"VLOOKUP(F138,工作表9!$G$1:$H$142, 2, FALSE)","v":0},0]
[null,null,null,null,null,null,{"$f":"VLOOKUP(F139,工作表9!$G$1:$I$136,3, FALSE)","v":"混合物"},null,{"$f":"VLOOKUP(F139,工作表9!$G$1:$H$142, 2, FALSE)","v":0},0]
[null,null,null,null,null,null,{"$f":"VLOOKUP(F140,工作表9!$G$1:$I$136,3, FALSE)","v":"混合物"},null,{"$f":"VLOOKUP(F140,工作表9!$G$1:$H$142, 2, FALSE)","v":0},0]
[null,null,null,null,null,null,{"$f":"VLOOKUP(F141,工作表9!$G$1:$I$136,3, FALSE)","v":"混合物"},null,{"$f":"VLOOKUP(F141,工作表9!$G$1:$H$142, 2, FALSE)","v":0},0]
[null,null,null,null,null,null,{"$f":"VLOOKUP(F142,工作表9!$G$1:$I$136,3, FALSE)","v":"混合物"},null,{"$f":"VLOOKUP(F142,工作表9!$G$1:$H$142, 2, FALSE)","v":0},0]
[null,null,null,null,null,null,{"$f":"VLOOKUP(F143,工作表9!$G$1:$I$136,3, FALSE)","v":"混合物"},null,{"$f":"VLOOKUP(F143,工作表9!$G$1:$H$142, 2, FALSE)","v":0},0]
[null,null,null,null,null,null,{"$f":"VLOOKUP(F144,工作表9!$G$1:$I$136,3, FALSE)","v":"混合物"},null,{"$f":"VLOOKUP(F144,工作表9!$G$1:$H$142, 2, FALSE)","v":0},0]
[null,null,null,null,null,null,{"$f":"VLOOKUP(F145,工作表9!$G$1:$I$136,3, FALSE)","v":"混合物"},null,{"$f":"VLOOKUP(F145,工作表9!$G$1:$H$142, 2, FALSE)","v":0},0]
[null,null,null,null,null,null,{"$f":"VLOOKUP(F146,工作表9!$G$1:$I$136,3, FALSE)","v":"混合物"},null,{"$f":"VLOOKUP(F146,工作表9!$G$1:$H$142, 2, FALSE)","v":0},0]
[null,null,null,null,null,null,{"$f":"VLOOKUP(F147,工作表9!$G$1:$I$136,3, FALSE)","v":"混合物"},null,{"$f":"VLOOKUP(F147,工作表9!$G$1:$H$142, 2, FALSE)","v":0},0]
[null,null,null,null,null,null,{"$f":"VLOOKUP(F148,工作表9!$G$1:$I$136,3, FALSE)","v":"混合物"},null,{"$f":"VLOOKUP(F148,工作表9!$G$1:$H$142, 2, FALSE)","v":0},0]
[null,null,null,null,null,null,{"$f":"VLOOKUP(F149,工作表9!$G$1:$I$136,3, FALSE)","v":"混合物"},null,{"$f":"VLOOKUP(F149,工作表9!$G$1:$H$142, 2, FALSE)","v":0},0]
[null,null,null,null,null,null,{"$f":"VLOOKUP(F150,工作表9!$G$1:$I$136,3, FALSE)","v":"混合物"},null,{"$f":"VLOOKUP(F150,工作表9!$G$1:$H$142, 2, FALSE)","v":0},0]
[null,null,null,null,null,null,{"$f":"VLOOKUP(F151,工作表9!$G$1:$I$136,3, FALSE)","v":"混合物"},null,{"$f":"VLOOKUP(F151,工作表9!$G$1:$H$142, 2, FALSE)","v":0},0]
[null,null,null,null,null,null,{"$f":"VLOOKUP(F152,工作表9!$G$1:$I$136,3, FALSE)","v":"混合物"},null,{"$f":"VLOOKUP(F152,工作表9!$G$1:$H$142, 2, FALSE)","v":0},0]
[null,null,null,null,null,null,{"$f":"VLOOKUP(F153,工作表9!$G$1:$I$136,3, FALSE)","v":"混合物"},null,{"$f":"VLOOKUP(F153,工作表9!$G$1:$H$142, 2, FALSE)","v":0},0]
[null,null,null,null,null,null,{"$f":"VLOOKUP(F154,工作表9!$G$1:$I$136,3, FALSE)","v":"混合物"},null,{"$f":"VLOOKUP(F154,工作表9!$G$1:$H$142, 2, FALSE)","v":0},0]
[null,null,null,null,null,null,{"$f":"VLOOKUP(F155,工作表9!$G$1:$I$136,3, FALSE)","v":"混合物"},null,{"$f":"VLOOKUP(F155,工作表9!$G$1:$H$142, 2, FALSE)","v":0},0]
[null,null,null,null,null,null,{"$f":"VLOOKUP(F156,工作表9!$G$1:$I$136,3, FALSE)","v":"混合物"},null,{"$f":"VLOOKUP(F156,工作表9!$G$1:$H$142, 2, FALSE)","v":0},0]
[null,null,null,null,null,null,{"$f":"VLOOKUP(F157,工作表9!$G$1:$I$136,3, FALSE)","v":"混合物"},null,{"$f":"VLOOKUP(F157,工作表9!$G$1:$H$142, 2, FALSE)","v":0},0]
[null,null,null,null,null,null,{"$f":"VLOOKUP(F158,工作表9!$G$1:$I$136,3, FALSE)","v":"混合物"},null,{"$f":"VLOOKUP(F158,工作表9!$G$1:$H$142, 2, FALSE)","v":0},0]
[null,null,null,null,null,null,{"$f":"VLOOKUP(F159,工作表9!$G$1:$I$136,3, FALSE)","v":"混合物"},null,{"$f":"VLOOKUP(F159,工作表9!$G$1:$H$142, 2, FALSE)","v":0},0]
[null,null,null,null,null,null,{"$f":"VLOOKUP(F160,工作表9!$G$1:$I$136,3, FALSE)","v":"混合物"},null,{"$f":"VLOOKUP(F160,工作表9!$G$1:$H$142, 2, FALSE)","v":0},0]
[null,null,null,null,null,null,{"$f":"VLOOKUP(F161,工作表9!$G$1:$I$136,3, FALSE)","v":"混合物"},null,{"$f":"VLOOKUP(F161,工作表9!$G$1:$H$142, 2, FALSE)","v":0},0]
[null,null,null,null,null,null,{"$f":"VLOOKUP(F162,工作表9!$G$1:$I$136,3, FALSE)","v":"混合物"},null,{"$f":"VLOOKUP(F162,工作表9!$G$1:$H$142, 2, FALSE)","v":0},0]
[null,null,null,null,null,null,{"$f":"VLOOKUP(F163,工作表9!$G$1:$I$136,3, FALSE)","v":"混合物"},null,{"$f":"VLOOKUP(F163,工作表9!$G$1:$H$142, 2, FALSE)","v":0},0]
[null,null,null,null,null,null,{"$f":"VLOOKUP(F164,工作表9!$G$1:$I$136,3, FALSE)","v":"混合物"},null,{"$f":"VLOOKUP(F164,工作表9!$G$1:$H$142, 2, FALSE)","v":0},0]
[null,null,null,null,null,null,{"$f":"VLOOKUP(F165,工作表9!$G$1:$I$136,3, FALSE)","v":"混合物"},null,{"$f":"VLOOKUP(F165,工作表9!$G$1:$H$142, 2, FALSE)","v":0},0]
[null,null,null,null,null,null,{"$f":"VLOOKUP(F166,工作表9!$G$1:$I$136,3, FALSE)","v":"混合物"},null,{"$f":"VLOOKUP(F166,工作表9!$G$1:$H$142, 2, FALSE)","v":0},0]
[null,null,null,null,null,null,{"$f":"VLOOKUP(F167,工作表9!$G$1:$I$136,3, FALSE)","v":"混合物"},null,{"$f":"VLOOKUP(F167,工作表9!$G$1:$H$142, 2, FALSE)","v":0},0]
[null,null,null,null,null,null,{"$f":"VLOOKUP(F168,工作表9!$G$1:$I$136,3, FALSE)","v":"混合物"},null,{"$f":"VLOOKUP(F168,工作表9!$G$1:$H$142, 2, FALSE)","v":0},0]
[null,null,null,null,null,null,{"$f":"VLOOKUP(F169,工作表9!$G$1:$I$136,3, FALSE)","v":"混合物"},null,{"$f":"VLOOKUP(F169,工作表9!$G$1:$H$142, 2, FALSE)","v":0},0]
[null,null,null,null,null,null,{"$f":"VLOOKUP(F170,工作表9!$G$1:$I$136,3, FALSE)","v":"混合物"},null,{"$f":"VLOOKUP(F170,工作表9!$G$1:$H$142, 2, FALSE)","v":0},0]
[null,null,null,null,null,null,{"$f":"VLOOKUP(F171,工作表9!$G$1:$I$136,3, FALSE)","v":"混合物"},null,{"$f":"VLOOKUP(F171,工作表9!$G$1:$H$142, 2, FALSE)","v":0},0]
[null,null,null,null,null,null,{"$f":"VLOOKUP(F172,工作表9!$G$1:$I$136,3, FALSE)","v":"混合物"},null,{"$f":"VLOOKUP(F172,工作表9!$G$1:$H$142, 2, FALSE)","v":0},0]
[null,null,null,null,null,null,{"$f":"VLOOKUP(F173,工作表9!$G$1:$I$136,3, FALSE)","v":"混合物"},null,{"$f":"VLOOKUP(F173,工作表9!$G$1:$H$142, 2, FALSE)","v":0},0]
[null,null,null,null,null,null,{"$f":"VLOOKUP(F174,工作表9!$G$1:$I$136,3, FALSE)","v":"混合物"},null,{"$f":"VLOOKUP(F174,工作表9!$G$1:$H$142, 2, FALSE)","v":0},0]
[null,null,null,null,null,null,{"$f":"VLOOKUP(F175,工作表9!$G$1:$I$136,3, FALSE)","v":"混合物"},null,{"$f":"VLOOKUP(F175,工作表9!$G$1:$H$142, 2, FALSE)","v":0},0]
[null,null,null,null,null,null,{"$f":"VLOOKUP(F176,工作表9!$G$1:$I$136,3, FALSE)","v":"混合物"},null,{"$f":"VLOOKUP(F176,工作表9!$G$1:$H$142, 2, FALSE)","v":0},0]
[null,null,null,null,null,null,{"$f":"VLOOKUP(F177,工作表9!$G$1:$I$136,3, FALSE)","v":"混合物"},null,{"$f":"VLOOKUP(F177,工作表9!$G$1:$H$142, 2, FALSE)","v":0},0]
[null,null,null,null,null,null,{"$f":"VLOOKUP(F178,工作表9!$G$1:$I$136,3, FALSE)","v":"混合物"},null,{"$f":"VLOOKUP(F178,工作表9!$G$1:$H$142, 2, FALSE)","v":0},0]
[null,null,null,null,null,null,{"$f":"VLOOKUP(F179,工作表9!$G$1:$I$136,3, FALSE)","v":"混合物"},null,{"$f":"VLOOKUP(F179,工作表9!$G$1:$H$142, 2, FALSE)","v":0},0]
[null,null,null,null,null,null,{"$f":"VLOOKUP(F180,工作表9!$G$1:$I$136,3, FALSE)","v":"混合物"},null,{"$f":"VLOOKUP(F180,工作表9!$G$1:$H$142, 2, FALSE)","v":0},0]
[null,null,null,null,null,null,{"$f":"VLOOKUP(F181,工作表9!$G$1:$I$136,3, FALSE)","v":"混合物"},null,{"$f":"VLOOKUP(F181,工作表9!$G$1:$H$142, 2, FALSE)","v":0},0]
[null,null,null,null,null,null,{"$f":"VLOOKUP(F182,工作表9!$G$1:$I$136,3, FALSE)","v":"混合物"},null,{"$f":"VLOOKUP(F182,工作表9!$G$1:$H$142, 2, FALSE)","v":0},0]
[null,null,null,null,null,null,{"$f":"VLOOKUP(F183,工作表9!$G$1:$I$136,3, FALSE)","v":"混合物"},null,{"$f":"VLOOKUP(F183,工作表9!$G$1:$H$142, 2, FALSE)","v":0},0]
[null,null,null,null,null,null,{"$f":"VLOOKUP(F184,工作表9!$G$1:$I$136,3, FALSE)","v":"混合物"},null,{"$f":"VLOOKUP(F184,工作表9!$G$1:$H$142, 2, FALSE)","v":0},0]
[null,null,null,null,null,null,{"$f":"VLOOKUP(F185,工作表9!$G$1:$I$136,3, FALSE)","v":"混合物"},null,{"$f":"VLOOKUP(F185,工作表9!$G$1:$H$142, 2, FALSE)","v":0},0]
[null,null,null,null,null,null,{"$f":"VLOOKUP(F186,工作表9!$G$1:$I$136,3, FALSE)","v":"混合物"},null,{"$f":"VLOOKUP(F186,工作表9!$G$1:$H$142, 2, FALSE)","v":0},0]
[null,null,null,null,null,null,{"$f":"VLOOKUP(F187,工作表9!$G$1:$I$136,3, FALSE)","v":"混合物"},null,{"$f":"VLOOKUP(F187,工作表9!$G$1:$H$142, 2, FALSE)","v":0},0]
[null,null,null,null,null,null,{"$f":"VLOOKUP(F188,工作表9!$G$1:$I$136,3, FALSE)","v":"混合物"},null,{"$f":"VLOOKUP(F188,工作表9!$G$1:$H$142, 2, FALSE)","v":0},0]
[null,null,null,null,null,null,{"$f":"VLOOKUP(F189,工作表9!$G$1:$I$136,3, FALSE)","v":"混合物"},null,{"$f":"VLOOKUP(F189,工作表9!$G$1:$H$142, 2, FALSE)","v":0},0]
[null,null,null,null,null,null,{"$f":"VLOOKUP(F190,工作表9!$G$1:$I$136,3, FALSE)","v":"混合物"},null,{"$f":"VLOOKUP(F190,工作表9!$G$1:$H$142, 2, FALSE)","v":0},0]
[null,null,null,null,null,null,{"$f":"VLOOKUP(F191,工作表9!$G$1:$I$136,3, FALSE)","v":"混合物"},null,{"$f":"VLOOKUP(F191,工作表9!$G$1:$H$142, 2, FALSE)","v":0},0]
[null,null,null,null,null,null,{"$f":"VLOOKUP(F192,工作表9!$G$1:$I$136,3, FALSE)","v":"混合物"},null,{"$f":"VLOOKUP(F192,工作表9!$G$1:$H$142, 2, FALSE)","v":0},0]
[null,null,null,null,null,null,{"$f":"VLOOKUP(F193,工作表9!$G$1:$I$136,3, FALSE)","v":"混合物"},null,{"$f":"VLOOKUP(F193,工作表9!$G$1:$H$142, 2, FALSE)","v":0},0]
[null,null,null,null,null,null,{"$f":"VLOOKUP(F194,工作表9!$G$1:$I$136,3, FALSE)","v":"混合物"},null,{"$f":"VLOOKUP(F194,工作表9!$G$1:$H$142, 2, FALSE)","v":0},0]
[null,null,null,null,null,null,{"$f":"VLOOKUP(F195,工作表9!$G$1:$I$136,3, FALSE)","v":"混合物"},null,{"$f":"VLOOKUP(F195,工作表9!$G$1:$H$142, 2, FALSE)","v":0},0]
[null,null,null,null,null,null,{"$f":"VLOOKUP(F196,工作表9!$G$1:$I$136,3, FALSE)","v":"混合物"},null,{"$f":"VLOOKUP(F196,工作表9!$G$1:$H$142, 2, FALSE)","v":0},0]
[null,null,null,null,null,null,{"$f":"VLOOKUP(F197,工作表9!$G$1:$I$136,3, FALSE)","v":"混合物"},null,{"$f":"VLOOKUP(F197,工作表9!$G$1:$H$142, 2, FALSE)","v":0},0]
[null,null,null,null,null,null,{"$f":"VLOOKUP(F198,工作表9!$G$1:$I$136,3, FALSE)","v":"混合物"},null,{"$f":"VLOOKUP(F198,工作表9!$G$1:$H$142, 2, FALSE)","v":0},{"$f":"H198*I198","v":0}]
[null,null,null,null,null,null,{"$f":"VLOOKUP(F199,工作表9!$G$1:$I$136,3, FALSE)","v":"混合物"},null,{"$f":"VLOOKUP(F199,工作表9!$G$1:$H$142, 2, FALSE)","v":0},0]
[null,null,null,null,null,null,{"$f":"VLOOKUP(F200,工作表9!$G$1:$I$136,3, FALSE)","v":"混合物"},null,{"$f":"VLOOKUP(F200,工作表9!$G$1:$H$142, 2, FALSE)","v":0},0]
[null,null,null,null,null,null,{"$f":"VLOOKUP(F201,工作表9!$G$1:$I$136,3, FALSE)","v":"混合物"},null,{"$f":"VLOOKUP(F201,工作表9!$G$1:$H$142, 2, FALSE)","v":0},0]
[null,null,null,null,null,null,{"$f":"VLOOKUP(F202,工作表9!$G$1:$I$136,3, FALSE)","v":"混合物"},null,{"$f":"VLOOKUP(F202,工作表9!$G$1:$H$142, 2, FALSE)","v":0},0]
[null,null,null,null,null,null,{"$f":"VLOOKUP(F203,工作表9!$G$1:$I$136,3, FALSE)","v":"混合物"},null,{"$f":"VLOOKUP(F203,工作表9!$G$1:$H$142, 2, FALSE)","v":0},0]
[null,null,null,null,null,null,{"$f":"VLOOKUP(F204,工作表9!$G$1:$I$136,3, FALSE)","v":"混合物"},null,{"$f":"VLOOKUP(F204,工作表9!$G$1:$H$142, 2, FALSE)","v":0},0]
[null,null,null,null,null,null,{"$f":"VLOOKUP(F205,工作表9!$G$1:$I$136,3, FALSE)","v":"混合物"},null,{"$f":"VLOOKUP(F205,工作表9!$G$1:$H$142, 2, FALSE)","v":0},0]
[null,null,null,null,null,null,{"$f":"VLOOKUP(F206,工作表9!$G$1:$I$136,3, FALSE)","v":"混合物"},null,{"$f":"VLOOKUP(F206,工作表9!$G$1:$H$142, 2, FALSE)","v":0},0]
[null,null,null,null,null,null,{"$f":"VLOOKUP(F207,工作表9!$G$1:$I$136,3, FALSE)","v":"混合物"},null,{"$f":"VLOOKUP(F207,工作表9!$G$1:$H$142, 2, FALSE)","v":0},0]
[null,null,null,null,null,null,{"$f":"VLOOKUP(F208,工作表9!$G$1:$I$136,3, FALSE)","v":"混合物"},null,{"$f":"VLOOKUP(F208,工作表9!$G$1:$H$142, 2, FALSE)","v":0},0]
[null,null,null,null,null,null,{"$f":"VLOOKUP(F209,工作表9!$G$1:$I$136,3, FALSE)","v":"混合物"},null,{"$f":"VLOOKUP(F209,工作表9!$G$1:$H$142, 2, FALSE)","v":0},0]
[null,null,null,null,null,null,{"$f":"VLOOKUP(F210,工作表9!$G$1:$I$136,3, FALSE)","v":"混合物"},null,{"$f":"VLOOKUP(F210,工作表9!$G$1:$H$142, 2, FALSE)","v":0},0]
[null,null,null,null,null,null,{"$f":"VLOOKUP(F211,工作表9!$G$1:$I$136,3, FALSE)","v":"混合物"},null,{"$f":"VLOOKUP(F211,工作表9!$G$1:$H$142, 2, FALSE)","v":0},0]
[null,null,null,null,null,null,{"$f":"VLOOKUP(F212,工作表9!$G$1:$I$136,3, FALSE)","v":"混合物"},null,{"$f":"VLOOKUP(F212,工作表9!$G$1:$H$142, 2, FALSE)","v":0},0]
[null,null,null,null,null,null,{"$f":"VLOOKUP(F213,工作表9!$G$1:$I$136,3, FALSE)","v":"混合物"},null,{"$f":"VLOOKUP(F213,工作表9!$G$1:$H$142, 2, FALSE)","v":0},0]
[null,null,null,null,null,null,{"$f":"VLOOKUP(F214,工作表9!$G$1:$I$136,3, FALSE)","v":"混合物"},null,{"$f":"VLOOKUP(F214,工作表9!$G$1:$H$142, 2, FALSE)","v":0},0]
[null,null,null,null,null,null,{"$f":"VLOOKUP(F215,工作表9!$G$1:$I$136,3, FALSE)","v":"混合物"},null,{"$f":"VLOOKUP(F215,工作表9!$G$1:$H$142, 2, FALSE)","v":0},0]
[null,null,null,null,null,null,{"$f":"VLOOKUP(F216,工作表9!$G$1:$I$136,3, FALSE)","v":"混合物"},null,{"$f":"VLOOKUP(F216,工作表9!$G$1:$H$142, 2, FALSE)","v":0},0]
[null,null,null,null,null,null,{"$f":"VLOOKUP(F217,工作表9!$G$1:$I$136,3, FALSE)","v":"混合物"},null,{"$f":"VLOOKUP(F217,工作表9!$G$1:$H$142, 2, FALSE)","v":0},0]
[null,null,null,null,null,null,{"$f":"VLOOKUP(F218,工作表9!$G$1:$I$136,3, FALSE)","v":"混合物"},null,{"$f":"VLOOKUP(F218,工作表9!$G$1:$H$142, 2, FALSE)","v":0},0]
[null,null,null,null,null,null,{"$f":"VLOOKUP(F219,工作表9!$G$1:$I$136,3, FALSE)","v":"混合物"},null,{"$f":"VLOOKUP(F219,工作表9!$G$1:$H$142, 2, FALSE)","v":0},0]
[null,null,null,null,null,null,{"$f":"VLOOKUP(F220,工作表9!$G$1:$I$136,3, FALSE)","v":"混合物"},null,{"$f":"VLOOKUP(F220,工作表9!$G$1:$H$142, 2, FALSE)","v":0},0]
[null,null,null,null,null,null,{"$f":"VLOOKUP(F221,工作表9!$G$1:$I$136,3, FALSE)","v":"混合物"},null,{"$f":"VLOOKUP(F221,工作表9!$G$1:$H$142, 2, FALSE)","v":0},0]
[null,null,null,null,null,null,{"$f":"VLOOKUP(F222,工作表9!$G$1:$I$136,3, FALSE)","v":"混合物"},null,{"$f":"VLOOKUP(F222,工作表9!$G$1:$H$142, 2, FALSE)","v":0},0]
[null,null,null,null,null,null,{"$f":"VLOOKUP(F223,工作表9!$G$1:$I$136,3, FALSE)","v":"混合物"},null,{"$f":"VLOOKUP(F223,工作表9!$G$1:$H$142, 2, FALSE)","v":0},0]
[null,null,null,null,null,null,{"$f":"VLOOKUP(F224,工作表9!$G$1:$I$136,3, FALSE)","v":"混合物"},null,{"$f":"VLOOKUP(F224,工作表9!$G$1:$H$142, 2, FALSE)","v":0},0]
[null,null,null,null,null,null,{"$f":"VLOOKUP(F225,工作表9!$G$1:$I$136,3, FALSE)","v":"混合物"},null,{"$f":"VLOOKUP(F225,工作表9!$G$1:$H$142, 2, FALSE)","v":0},0]
[null,null,null,null,null,null,{"$f":"VLOOKUP(F226,工作表9!$G$1:$I$136,3, FALSE)","v":"混合物"},null,{"$f":"VLOOKUP(F226,工作表9!$G$1:$H$142, 2, FALSE)","v":0},0]
[null,null,null,null,null,null,{"$f":"VLOOKUP(F227,工作表9!$G$1:$I$136,3, FALSE)","v":"混合物"},null,{"$f":"VLOOKUP(F227,工作表9!$G$1:$H$142, 2, FALSE)","v":0},0]
[null,null,null,null,null,null,{"$f":"VLOOKUP(F228,工作表9!$G$1:$I$136,3, FALSE)","v":"混合物"},null,{"$f":"VLOOKUP(F228,工作表9!$G$1:$H$142, 2, FALSE)","v":0},0]
[null,null,null,null,null,null,{"$f":"VLOOKUP(F229,工作表9!$G$1:$I$136,3, FALSE)","v":"混合物"},null,{"$f":"VLOOKUP(F229,工作表9!$G$1:$H$142, 2, FALSE)","v":0},0]
[null,null,null,null,null,null,{"$f":"VLOOKUP(F230,工作表9!$G$1:$I$136,3, FALSE)","v":"混合物"},null,{"$f":"VLOOKUP(F230,工作表9!$G$1:$H$142, 2, FALSE)","v":0},0]
[null,null,null,null,null,null,{"$f":"VLOOKUP(F231,工作表9!$G$1:$I$136,3, FALSE)","v":"混合物"},null,{"$f":"VLOOKUP(F231,工作表9!$G$1:$H$142, 2, FALSE)","v":0},0]
[null,null,null,null,null,null,{"$f":"VLOOKUP(F232,工作表9!$G$1:$I$136,3, FALSE)","v":"混合物"},null,{"$f":"VLOOKUP(F232,工作表9!$G$1:$H$142, 2, FALSE)","v":0},0]
[null,null,null,null,null,null,{"$f":"VLOOKUP(F233,工作表9!$G$1:$I$136,3, FALSE)","v":"混合物"},null,{"$f":"VLOOKUP(F233,工作表9!$G$1:$H$142, 2, FALSE)","v":0},0]
[null,null,null,null,null,null,{"$f":"VLOOKUP(F234,工作表9!$G$1:$I$136,3, FALSE)","v":"混合物"},null,{"$f":"VLOOKUP(F234,工作表9!$G$1:$H$142, 2, FALSE)","v":0},0]
[null,null,null,null,null,null,{"$f":"VLOOKUP(F235,工作表9!$G$1:$I$136,3, FALSE)","v":"混合物"},null,{"$f":"VLOOKUP(F235,工作表9!$G$1:$H$142, 2, FALSE)","v":0},0]
[null,null,null,null,null,null,{"$f":"VLOOKUP(F236,工作表9!$G$1:$I$136,3, FALSE)","v":"混合物"},null,{"$f":"VLOOKUP(F236,工作表9!$G$1:$H$142, 2, FALSE)","v":0},0]
[null,null,null,null,null,null,{"$f":"VLOOKUP(F237,工作表9!$G$1:$I$136,3, FALSE)","v":"混合物"},null,{"$f":"VLOOKUP(F237,工作表9!$G$1:$H$142, 2, FALSE)","v":0},0]
[null,null,null,null,null,null,{"$f":"VLOOKUP(F238,工作表9!$G$1:$I$136,3, FALSE)","v":"混合物"},null,{"$f":"VLOOKUP(F238,工作表9!$G$1:$H$142, 2, FALSE)","v":0},0]
[null,null,null,null,null,null,{"$f":"VLOOKUP(F239,工作表9!$G$1:$I$136,3, FALSE)","v":"混合物"},null,{"$f":"VLOOKUP(F239,工作表9!$G$1:$H$142, 2, FALSE)","v":0},0]
[null,null,null,null,null,null,{"$f":"VLOOKUP(F240,工作表9!$G$1:$I$136,3, FALSE)","v":"混合物"},null,{"$f":"VLOOKUP(F240,工作表9!$G$1:$H$142, 2, FALSE)","v":0},0]
[null,null,null,null,null,null,{"$f":"VLOOKUP(F241,工作表9!$G$1:$I$136,3, FALSE)","v":"混合物"},null,{"$f":"VLOOKUP(F241,工作表9!$G$1:$H$142, 2, FALSE)","v":0},0]
[null,null,null,null,null,null,{"$f":"VLOOKUP(F242,工作表9!$G$1:$I$136,3, FALSE)","v":"混合物"},null,{"$f":"VLOOKUP(F242,工作表9!$G$1:$H$142, 2, FALSE)","v":0},0]
[null,null,null,null,null,null,{"$f":"VLOOKUP(F243,工作表9!$G$1:$I$136,3, FALSE)","v":"混合物"},null,{"$f":"VLOOKUP(F243,工作表9!$G$1:$H$142, 2, FALSE)","v":0},0]
[null,null,null,null,null,null,{"$f":"VLOOKUP(F244,工作表9!$G$1:$I$136,3, FALSE)","v":"混合物"},null,{"$f":"VLOOKUP(F244,工作表9!$G$1:$H$142, 2, FALSE)","v":0},0]
[null,null,null,null,null,null,{"$f":"VLOOKUP(F245,工作表9!$G$1:$I$136,3, FALSE)","v":"混合物"},null,{"$f":"VLOOKUP(F245,工作表9!$G$1:$H$142, 2, FALSE)","v":0},0]
[null,null,null,null,null,null,{"$f":"VLOOKUP(F246,工作表9!$G$1:$I$136,3, FALSE)","v":"混合物"},null,{"$f":"VLOOKUP(F246,工作表9!$G$1:$H$142, 2, FALSE)","v":0},0]
[null,null,null,null,null,null,{"$f":"VLOOKUP(F247,工作表9!$G$1:$I$136,3, FALSE)","v":"混合物"},null,{"$f":"VLOOKUP(F247,工作表9!$G$1:$H$142, 2, FALSE)","v":0},0]
[null,null,null,null,null,null,{"$f":"VLOOKUP(F248,工作表9!$G$1:$I$136,3, FALSE)","v":"混合物"},null,{"$f":"VLOOKUP(F248,工作表9!$G$1:$H$142, 2, FALSE)","v":0},0]
[null,null,null,null,null,null,{"$f":"VLOOKUP(F249,工作表9!$G$1:$I$136,3, FALSE)","v":"混合物"},null,{"$f":"VLOOKUP(F249,工作表9!$G$1:$H$142, 2, FALSE)","v":0},0]
[null,null,null,null,null,null,{"$f":"VLOOKUP(F250,工作表9!$G$1:$I$136,3, FALSE)","v":"混合物"},null,{"$f":"VLOOKUP(F250,工作表9!$G$1:$H$142, 2, FALSE)","v":0},0]
[null,null,null,null,null,null,{"$f":"VLOOKUP(F251,工作表9!$G$1:$I$136,3, FALSE)","v":"混合物"},null,{"$f":"VLOOKUP(F251,工作表9!$G$1:$H$142, 2, FALSE)","v":0},0]
[null,null,null,null,null,null,{"$f":"VLOOKUP(F252,工作表9!$G$1:$I$136,3, FALSE)","v":"混合物"},null,{"$f":"VLOOKUP(F252,工作表9!$G$1:$H$142, 2, FALSE)","v":0},0]
[null,null,null,null,null,null,{"$f":"VLOOKUP(F253,工作表9!$G$1:$I$136,3, FALSE)","v":"混合物"},null,{"$f":"VLOOKUP(F253,工作表9!$G$1:$H$142, 2, FALSE)","v":0},0]
[null,null,null,null,null,null,{"$f":"VLOOKUP(F254,工作表9!$G$1:$I$136,3, FALSE)","v":"混合物"},null,{"$f":"VLOOKUP(F254,工作表9!$G$1:$H$142, 2, FALSE)","v":0},0]
[null,null,null,null,null,null,{"$f":"VLOOKUP(F255,工作表9!$G$1:$I$136,3, FALSE)","v":"混合物"},null,{"$f":"VLOOKUP(F255,工作表9!$G$1:$H$142, 2, FALSE)","v":0},0]
[null,null,null,null,null,null,{"$f":"VLOOKUP(F256,工作表9!$G$1:$I$136,3, FALSE)","v":"混合物"},null,{"$f":"VLOOKUP(F256,工作表9!$G$1:$H$142, 2, FALSE)","v":0},0]
[null,null,null,null,null,null,{"$f":"VLOOKUP(F257,工作表9!$G$1:$I$136,3, FALSE)","v":"混合物"},null,{"$f":"VLOOKUP(F257,工作表9!$G$1:$H$142, 2, FALSE)","v":0},0]
[null,null,null,null,null,null,{"$f":"VLOOKUP(F258,工作表9!$G$1:$I$136,3, FALSE)","v":"混合物"},null,{"$f":"VLOOKUP(F258,工作表9!$G$1:$H$142, 2, FALSE)","v":0},0]
[null,null,null,null,null,null,{"$f":"VLOOKUP(F259,工作表9!$G$1:$I$136,3, FALSE)","v":"混合物"},null,{"$f":"VLOOKUP(F259,工作表9!$G$1:$H$142, 2, FALSE)","v":0},0]
[null,null,null,null,null,null,{"$f":"VLOOKUP(F260,工作表9!$G$1:$I$136,3, FALSE)","v":"混合物"},null,{"$f":"VLOOKUP(F260,工作表9!$G$1:$H$142, 2, FALSE)","v":0},0]
[null,null,null,null,null,null,{"$f":"VLOOKUP(F261,工作表9!$G$1:$I$136,3, FALSE)","v":"混合物"},null,{"$f":"VLOOKUP(F261,工作表9!$G$1:$H$142, 2, FALSE)","v":0},0]
[null,null,null,null,null,null,{"$f":"VLOOKUP(F262,工作表9!$G$1:$I$136,3, FALSE)","v":"混合物"},null,{"$f":"VLOOKUP(F262,工作表9!$G$1:$H$142, 2, FALSE)","v":0},{"$f":"H262*I262","v":0}]
[null,null,null,null,null,null,{"$f":"VLOOKUP(F263,工作表9!$G$1:$I$136,3, FALSE)","v":"混合物"},null,{"$f":"VLOOKUP(F263,工作表9!$G$1:$H$142, 2, FALSE)","v":0},0]
[null,null,null,null,null,null,{"$f":"VLOOKUP(F264,工作表9!$G$1:$I$136,3, FALSE)","v":"混合物"},null,{"$f":"VLOOKUP(F264,工作表9!$G$1:$H$142, 2, FALSE)","v":0},0]
[null,null,null,null,null,null,{"$f":"VLOOKUP(F265,工作表9!$G$1:$I$136,3, FALSE)","v":"混合物"},null,{"$f":"VLOOKUP(F265,工作表9!$G$1:$H$142, 2, FALSE)","v":0},0]
[null,null,null,null,null,null,{"$f":"VLOOKUP(F266,工作表9!$G$1:$I$136,3, FALSE)","v":"混合物"},null,{"$f":"VLOOKUP(F266,工作表9!$G$1:$H$142, 2, FALSE)","v":0},0]
[null,null,null,null,null,null,{"$f":"VLOOKUP(F267,工作表9!$G$1:$I$136,3, FALSE)","v":"混合物"},null,{"$f":"VLOOKUP(F267,工作表9!$G$1:$H$142, 2, FALSE)","v":0},0]
[null,null,null,null,null,null,{"$f":"VLOOKUP(F268,工作表9!$G$1:$I$136,3, FALSE)","v":"混合物"},null,{"$f":"VLOOKUP(F268,工作表9!$G$1:$H$142, 2, FALSE)","v":0},0]
[null,null,null,null,null,null,{"$f":"VLOOKUP(F269,工作表9!$G$1:$I$136,3, FALSE)","v":"混合物"},null,{"$f":"VLOOKUP(F269,工作表9!$G$1:$H$142, 2, FALSE)","v":0},0]
[null,null,null,null,null,null,{"$f":"VLOOKUP(F270,工作表9!$G$1:$I$136,3, FALSE)","v":"混合物"},null,{"$f":"VLOOKUP(F270,工作表9!$G$1:$H$142, 2, FALSE)","v":0},0]
[null,null,null,null,null,null,{"$f":"VLOOKUP(F271,工作表9!$G$1:$I$136,3, FALSE)","v":"混合物"},null,{"$f":"VLOOKUP(F271,工作表9!$G$1:$H$142, 2, FALSE)","v":0},0]
[null,null,null,null,null,null,{"$f":"VLOOKUP(F272,工作表9!$G$1:$I$136,3, FALSE)","v":"混合物"},null,{"$f":"VLOOKUP(F272,工作表9!$G$1:$H$142, 2, FALSE)","v":0},0]
[null,null,null,null,null,null,{"$f":"VLOOKUP(F273,工作表9!$G$1:$I$136,3, FALSE)","v":"混合物"},null,{"$f":"VLOOKUP(F273,工作表9!$G$1:$H$142, 2, FALSE)","v":0},0]
[null,null,null,null,null,null,{"$f":"VLOOKUP(F274,工作表9!$G$1:$I$136,3, FALSE)","v":"混合物"},null,{"$f":"VLOOKUP(F274,工作表9!$G$1:$H$142, 2, FALSE)","v":0},0]
[null,null,null,null,null,null,{"$f":"VLOOKUP(F275,工作表9!$G$1:$I$136,3, FALSE)","v":"混合物"},null,{"$f":"VLOOKUP(F275,工作表9!$G$1:$H$142, 2, FALSE)","v":0},0]
[null,null,null,null,null,null,{"$f":"VLOOKUP(F276,工作表9!$G$1:$I$136,3, FALSE)","v":"混合物"},null,{"$f":"VLOOKUP(F276,工作表9!$G$1:$H$142, 2, FALSE)","v":0},0]
[null,null,null,null,null,null,{"$f":"VLOOKUP(F277,工作表9!$G$1:$I$136,3, FALSE)","v":"混合物"},null,{"$f":"VLOOKUP(F277,工作表9!$G$1:$H$142, 2, FALSE)","v":0},0]
[null,null,null,null,null,null,{"$f":"VLOOKUP(F278,工作表9!$G$1:$I$136,3, FALSE)","v":"混合物"},null,{"$f":"VLOOKUP(F278,工作表9!$G$1:$H$142, 2, FALSE)","v":0},0]
[null,null,null,null,null,null,{"$f":"VLOOKUP(F279,工作表9!$G$1:$I$136,3, FALSE)","v":"混合物"},null,{"$f":"VLOOKUP(F279,工作表9!$G$1:$H$142, 2, FALSE)","v":0},0]
[null,null,null,null,null,null,{"$f":"VLOOKUP(F280,工作表9!$G$1:$I$136,3, FALSE)","v":"混合物"},null,{"$f":"VLOOKUP(F280,工作表9!$G$1:$H$142, 2, FALSE)","v":0},0]
[null,null,null,null,null,null,{"$f":"VLOOKUP(F281,工作表9!$G$1:$I$136,3, FALSE)","v":"混合物"},null,{"$f":"VLOOKUP(F281,工作表9!$G$1:$H$142, 2, FALSE)","v":0},0]
[null,null,null,null,null,null,{"$f":"VLOOKUP(F282,工作表9!$G$1:$I$136,3, FALSE)","v":"混合物"},null,{"$f":"VLOOKUP(F282,工作表9!$G$1:$H$142, 2, FALSE)","v":0},0]
[null,null,null,null,null,null,{"$f":"VLOOKUP(F283,工作表9!$G$1:$I$136,3, FALSE)","v":"混合物"},null,{"$f":"VLOOKUP(F283,工作表9!$G$1:$H$142, 2, FALSE)","v":0},0]
[null,null,null,null,null,null,{"$f":"VLOOKUP(F284,工作表9!$G$1:$I$136,3, FALSE)","v":"混合物"},null,{"$f":"VLOOKUP(F284,工作表9!$G$1:$H$142, 2, FALSE)","v":0},0]
[null,null,null,null,null,null,{"$f":"VLOOKUP(F285,工作表9!$G$1:$I$136,3, FALSE)","v":"混合物"},null,{"$f":"VLOOKUP(F285,工作表9!$G$1:$H$142, 2, FALSE)","v":0},0]
[null,null,null,null,null,null,{"$f":"VLOOKUP(F286,工作表9!$G$1:$I$136,3, FALSE)","v":"混合物"},null,{"$f":"VLOOKUP(F286,工作表9!$G$1:$H$142, 2, FALSE)","v":0},0]
[null,null,null,null,null,null,{"$f":"VLOOKUP(F287,工作表9!$G$1:$I$136,3, FALSE)","v":"混合物"},null,{"$f":"VLOOKUP(F287,工作表9!$G$1:$H$142, 2, FALSE)","v":0},0]
[null,null,null,null,null,null,{"$f":"VLOOKUP(F288,工作表9!$G$1:$I$136,3, FALSE)","v":"混合物"},null,{"$f":"VLOOKUP(F288,工作表9!$G$1:$H$142, 2, FALSE)","v":0},0]
[null,null,null,null,null,null,{"$f":"VLOOKUP(F289,工作表9!$G$1:$I$136,3, FALSE)","v":"混合物"},null,{"$f":"VLOOKUP(F289,工作表9!$G$1:$H$142, 2, FALSE)","v":0},0]
[null,null,null,null,null,null,{"$f":"VLOOKUP(F290,工作表9!$G$1:$I$136,3, FALSE)","v":"混合物"},null,{"$f":"VLOOKUP(F290,工作表9!$G$1:$H$142, 2, FALSE)","v":0},0]
[null,null,null,null,null,null,{"$f":"VLOOKUP(F291,工作表9!$G$1:$I$136,3, FALSE)","v":"混合物"},null,{"$f":"VLOOKUP(F291,工作表9!$G$1:$H$142, 2, FALSE)","v":0},0]
[null,null,null,null,null,null,{"$f":"VLOOKUP(F292,工作表9!$G$1:$I$136,3, FALSE)","v":"混合物"},null,{"$f":"VLOOKUP(F292,工作表9!$G$1:$H$142, 2, FALSE)","v":0},0]
[null,null,null,null,null,null,{"$f":"VLOOKUP(F293,工作表9!$G$1:$I$136,3, FALSE)","v":"混合物"},null,{"$f":"VLOOKUP(F293,工作表9!$G$1:$H$142, 2, FALSE)","v":0},0]
[null,null,null,null,null,null,{"$f":"VLOOKUP(F294,工作表9!$G$1:$I$136,3, FALSE)","v":"混合物"},null,{"$f":"VLOOKUP(F294,工作表9!$G$1:$H$142, 2, FALSE)","v":0},0]
[null,null,null,null,null,null,{"$f":"VLOOKUP(F295,工作表9!$G$1:$I$136,3, FALSE)","v":"混合物"},null,{"$f":"VLOOKUP(F295,工作表9!$G$1:$H$142, 2, FALSE)","v":0},0]
[null,null,null,null,null,null,{"$f":"VLOOKUP(F296,工作表9!$G$1:$I$136,3, FALSE)","v":"混合物"},null,{"$f":"VLOOKUP(F296,工作表9!$G$1:$H$142, 2, FALSE)","v":0},0]
[null,null,null,null,null,null,{"$f":"VLOOKUP(F297,工作表9!$G$1:$I$136,3, FALSE)","v":"混合物"},null,{"$f":"VLOOKUP(F297,工作表9!$G$1:$H$142, 2, FALSE)","v":0},0]
[null,null,null,null,null,null,{"$f":"VLOOKUP(F298,工作表9!$G$1:$I$136,3, FALSE)","v":"混合物"},null,{"$f":"VLOOKUP(F298,工作表9!$G$1:$H$142, 2, FALSE)","v":0},0]
[null,null,null,null,null,null,{"$f":"VLOOKUP(F299,工作表9!$G$1:$I$136,3, FALSE)","v":"混合物"},null,{"$f":"VLOOKUP(F299,工作表9!$G$1:$H$142, 2, FALSE)","v":0},0]
[null,null,null,null,null,null,{"$f":"VLOOKUP(F300,工作表9!$G$1:$I$136,3, FALSE)","v":"混合物"},null,{"$f":"VLOOKUP(F300,工作表9!$G$1:$H$142, 2, FALSE)","v":0},0]
[null,null,null,null,null,null,{"$f":"VLOOKUP(F301,工作表9!$G$1:$I$136,3, FALSE)","v":"混合物"},null,{"$f":"VLOOKUP(F301,工作表9!$G$1:$H$142, 2, FALSE)","v":0},0]
[null,null,null,null,null,null,{"$f":"VLOOKUP(F302,工作表9!$G$1:$I$136,3, FALSE)","v":"混合物"},null,{"$f":"VLOOKUP(F302,工作表9!$G$1:$H$142, 2, FALSE)","v":0},0]
[null,null,null,null,null,null,{"$f":"VLOOKUP(F303,工作表9!$G$1:$I$136,3, FALSE)","v":"混合物"},null,{"$f":"VLOOKUP(F303,工作表9!$G$1:$H$142, 2, FALSE)","v":0},0]
[null,null,null,null,null,null,{"$f":"VLOOKUP(F304,工作表9!$G$1:$I$136,3, FALSE)","v":"混合物"},null,{"$f":"VLOOKUP(F304,工作表9!$G$1:$H$142, 2, FALSE)","v":0},0]
[null,null,null,null,null,null,{"$f":"VLOOKUP(F305,工作表9!$G$1:$I$136,3, FALSE)","v":"混合物"},null,{"$f":"VLOOKUP(F305,工作表9!$G$1:$H$142, 2, FALSE)","v":0},0]
[null,null,null,null,null,null,{"$f":"VLOOKUP(F306,工作表9!$G$1:$I$136,3, FALSE)","v":"混合物"},null,{"$f":"VLOOKUP(F306,工作表9!$G$1:$H$142, 2, FALSE)","v":0},0]
[null,null,null,null,null,null,{"$f":"VLOOKUP(F307,工作表9!$G$1:$I$136,3, FALSE)","v":"混合物"},null,{"$f":"VLOOKUP(F307,工作表9!$G$1:$H$142, 2, FALSE)","v":0},0]
[null,null,null,null,null,null,{"$f":"VLOOKUP(F308,工作表9!$G$1:$I$136,3, FALSE)","v":"混合物"},null,{"$f":"VLOOKUP(F308,工作表9!$G$1:$H$142, 2, FALSE)","v":0},0]
[null,null,null,null,null,null,{"$f":"VLOOKUP(F309,工作表9!$G$1:$I$136,3, FALSE)","v":"混合物"},null,{"$f":"VLOOKUP(F309,工作表9!$G$1:$H$142, 2, FALSE)","v":0},0]
[null,null,null,null,null,null,{"$f":"VLOOKUP(F310,工作表9!$G$1:$I$136,3, FALSE)","v":"混合物"},null,{"$f":"VLOOKUP(F310,工作表9!$G$1:$H$142, 2, FALSE)","v":0},0]
[null,null,null,null,null,null,{"$f":"VLOOKUP(F311,工作表9!$G$1:$I$136,3, FALSE)","v":"混合物"},null,{"$f":"VLOOKUP(F311,工作表9!$G$1:$H$142, 2, FALSE)","v":0},0]
[null,null,null,null,null,null,{"$f":"VLOOKUP(F312,工作表9!$G$1:$I$136,3, FALSE)","v":"混合物"},null,{"$f":"VLOOKUP(F312,工作表9!$G$1:$H$142, 2, FALSE)","v":0},0]
[null,null,null,null,null,null,{"$f":"VLOOKUP(F313,工作表9!$G$1:$I$136,3, FALSE)","v":"混合物"},null,{"$f":"VLOOKUP(F313,工作表9!$G$1:$H$142, 2, FALSE)","v":0},0]
[null,null,null,null,null,null,{"$f":"VLOOKUP(F314,工作表9!$G$1:$I$136,3, FALSE)","v":"混合物"},null,{"$f":"VLOOKUP(F314,工作表9!$G$1:$H$142, 2, FALSE)","v":0},0]
[null,null,null,null,null,null,{"$f":"VLOOKUP(F315,工作表9!$G$1:$I$136,3, FALSE)","v":"混合物"},null,{"$f":"VLOOKUP(F315,工作表9!$G$1:$H$142, 2, FALSE)","v":0},0]
[null,null,null,null,null,null,{"$f":"VLOOKUP(F316,工作表9!$G$1:$I$136,3, FALSE)","v":"混合物"},null,{"$f":"VLOOKUP(F316,工作表9!$G$1:$H$142, 2, FALSE)","v":0},0]
[null,null,null,null,null,null,{"$f":"VLOOKUP(F317,工作表9!$G$1:$I$136,3, FALSE)","v":"混合物"},null,{"$f":"VLOOKUP(F317,工作表9!$G$1:$H$142, 2, FALSE)","v":0},0]
[null,null,null,null,null,null,{"$f":"VLOOKUP(F318,工作表9!$G$1:$I$136,3, FALSE)","v":"混合物"},null,{"$f":"VLOOKUP(F318,工作表9!$G$1:$H$142, 2, FALSE)","v":0},0]
[null,null,null,null,null,null,{"$f":"VLOOKUP(F319,工作表9!$G$1:$I$136,3, FALSE)","v":"混合物"},null,{"$f":"VLOOKUP(F319,工作表9!$G$1:$H$142, 2, FALSE)","v":0},0]
[null,null,null,null,null,null,{"$f":"VLOOKUP(F320,工作表9!$G$1:$I$136,3, FALSE)","v":"混合物"},null,{"$f":"VLOOKUP(F320,工作表9!$G$1:$H$142, 2, FALSE)","v":0},0]
[null,null,null,null,null,null,{"$f":"VLOOKUP(F321,工作表9!$G$1:$I$136,3, FALSE)","v":"混合物"},null,{"$f":"VLOOKUP(F321,工作表9!$G$1:$H$142, 2, FALSE)","v":0},0]
[null,null,null,null,null,null,{"$f":"VLOOKUP(F322,工作表9!$G$1:$I$136,3, FALSE)","v":"混合物"},null,{"$f":"VLOOKUP(F322,工作表9!$G$1:$H$142, 2, FALSE)","v":0},0]
[null,null,null,null,null,null,{"$f":"VLOOKUP(F323,工作表9!$G$1:$I$136,3, FALSE)","v":"混合物"},null,{"$f":"VLOOKUP(F323,工作表9!$G$1:$H$142, 2, FALSE)","v":0},0]
[null,null,null,null,null,null,{"$f":"VLOOKUP(F324,工作表9!$G$1:$I$136,3, FALSE)","v":"混合物"},null,{"$f":"VLOOKUP(F324,工作表9!$G$1:$H$142, 2, FALSE)","v":0},0]
[null,null,null,null,null,null,{"$f":"VLOOKUP(F325,工作表9!$G$1:$I$136,3, FALSE)","v":"混合物"},null,{"$f":"VLOOKUP(F325,工作表9!$G$1:$H$142, 2, FALSE)","v":0},0]
[null,null,null,null,null,null,{"$f":"VLOOKUP(F326,工作表9!$G$1:$I$136,3, FALSE)","v":"混合物"},null,{"$f":"VLOOKUP(F326,工作表9!$G$1:$H$142, 2, FALSE)","v":0},{"$f":"H326*I326","v":0}]
[null,null,null,null,null,null,{"$f":"VLOOKUP(F327,工作表9!$G$1:$I$136,3, FALSE)","v":"混合物"},null,{"$f":"VLOOKUP(F327,工作表9!$G$1:$H$142, 2, FALSE)","v":0},0]
[null,null,null,null,null,null,{"$f":"VLOOKUP(F328,工作表9!$G$1:$I$136,3, FALSE)","v":"混合物"},null,{"$f":"VLOOKUP(F328,工作表9!$G$1:$H$142, 2, FALSE)","v":0},0]
[null,null,null,null,null,null,{"$f":"VLOOKUP(F329,工作表9!$G$1:$I$136,3, FALSE)","v":"混合物"},null,{"$f":"VLOOKUP(F329,工作表9!$G$1:$H$142, 2, FALSE)","v":0},0]
[null,null,null,null,null,null,{"$f":"VLOOKUP(F330,工作表9!$G$1:$I$136,3, FALSE)","v":"混合物"},null,{"$f":"VLOOKUP(F330,工作表9!$G$1:$H$142, 2, FALSE)","v":0},0]
[null,null,null,null,null,null,{"$f":"VLOOKUP(F331,工作表9!$G$1:$I$136,3, FALSE)","v":"混合物"},null,{"$f":"VLOOKUP(F331,工作表9!$G$1:$H$142, 2, FALSE)","v":0},0]
[null,null,null,null,null,null,{"$f":"VLOOKUP(F332,工作表9!$G$1:$I$136,3, FALSE)","v":"混合物"},null,{"$f":"VLOOKUP(F332,工作表9!$G$1:$H$142, 2, FALSE)","v":0},0]
[null,null,null,null,null,null,{"$f":"VLOOKUP(F333,工作表9!$G$1:$I$136,3, FALSE)","v":"混合物"},null,{"$f":"VLOOKUP(F333,工作表9!$G$1:$H$142, 2, FALSE)","v":0},0]
[null,null,null,null,null,null,{"$f":"VLOOKUP(F334,工作表9!$G$1:$I$136,3, FALSE)","v":"混合物"},null,{"$f":"VLOOKUP(F334,工作表9!$G$1:$H$142, 2, FALSE)","v":0},0]
[null,null,null,null,null,null,{"$f":"VLOOKUP(F335,工作表9!$G$1:$I$136,3, FALSE)","v":"混合物"},null,{"$f":"VLOOKUP(F335,工作表9!$G$1:$H$142, 2, FALSE)","v":0},0]
[null,null,null,null,null,null,{"$f":"VLOOKUP(F336,工作表9!$G$1:$I$136,3, FALSE)","v":"混合物"},null,{"$f":"VLOOKUP(F336,工作表9!$G$1:$H$142, 2, FALSE)","v":0},0]
[null,null,null,null,null,null,{"$f":"VLOOKUP(F337,工作表9!$G$1:$I$136,3, FALSE)","v":"混合物"},null,{"$f":"VLOOKUP(F337,工作表9!$G$1:$H$142, 2, FALSE)","v":0},0]
[null,null,null,null,null,null,{"$f":"VLOOKUP(F338,工作表9!$G$1:$I$136,3, FALSE)","v":"混合物"},null,{"$f":"VLOOKUP(F338,工作表9!$G$1:$H$142, 2, FALSE)","v":0},0]
[null,null,null,null,null,null,{"$f":"VLOOKUP(F339,工作表9!$G$1:$I$136,3, FALSE)","v":"混合物"},null,{"$f":"VLOOKUP(F339,工作表9!$G$1:$H$142, 2, FALSE)","v":0},0]
[null,null,null,null,null,null,{"$f":"VLOOKUP(F340,工作表9!$G$1:$I$136,3, FALSE)","v":"混合物"},null,{"$f":"VLOOKUP(F340,工作表9!$G$1:$H$142, 2, FALSE)","v":0},0]
[null,null,null,null,null,null,{"$f":"VLOOKUP(F341,工作表9!$G$1:$I$136,3, FALSE)","v":"混合物"},null,{"$f":"VLOOKUP(F341,工作表9!$G$1:$H$142, 2, FALSE)","v":0},0]
[null,null,null,null,null,null,{"$f":"VLOOKUP(F342,工作表9!$G$1:$I$136,3, FALSE)","v":"混合物"},null,{"$f":"VLOOKUP(F342,工作表9!$G$1:$H$142, 2, FALSE)","v":0},0]
[null,null,null,null,null,null,{"$f":"VLOOKUP(F343,工作表9!$G$1:$I$136,3, FALSE)","v":"混合物"},null,{"$f":"VLOOKUP(F343,工作表9!$G$1:$H$142, 2, FALSE)","v":0},0]
[null,null,null,null,null,null,{"$f":"VLOOKUP(F344,工作表9!$G$1:$I$136,3, FALSE)","v":"混合物"},null,{"$f":"VLOOKUP(F344,工作表9!$G$1:$H$142, 2, FALSE)","v":0},0]
[null,null,null,null,null,null,{"$f":"VLOOKUP(F345,工作表9!$G$1:$I$136,3, FALSE)","v":"混合物"},null,{"$f":"VLOOKUP(F345,工作表9!$G$1:$H$142, 2, FALSE)","v":0},0]
[null,null,null,null,null,null,{"$f":"VLOOKUP(F346,工作表9!$G$1:$I$136,3, FALSE)","v":"混合物"},null,{"$f":"VLOOKUP(F346,工作表9!$G$1:$H$142, 2, FALSE)","v":0},0]
[null,null,null,null,null,null,{"$f":"VLOOKUP(F347,工作表9!$G$1:$I$136,3, FALSE)","v":"混合物"},null,{"$f":"VLOOKUP(F347,工作表9!$G$1:$H$142, 2, FALSE)","v":0},0]
[null,null,null,null,null,null,{"$f":"VLOOKUP(F348,工作表9!$G$1:$I$136,3, FALSE)","v":"混合物"},null,{"$f":"VLOOKUP(F348,工作表9!$G$1:$H$142, 2, FALSE)","v":0},0]
[null,null,null,null,null,null,{"$f":"VLOOKUP(F349,工作表9!$G$1:$I$136,3, FALSE)","v":"混合物"},null,{"$f":"VLOOKUP(F349,工作表9!$G$1:$H$142, 2, FALSE)","v":0},0]
[null,null,null,null,null,null,{"$f":"VLOOKUP(F350,工作表9!$G$1:$I$136,3, FALSE)","v":"混合物"},null,{"$f":"VLOOKUP(F350,工作表9!$G$1:$H$142, 2, FALSE)","v":0},0]
[null,null,null,null,null,null,{"$f":"VLOOKUP(F351,工作表9!$G$1:$I$136,3, FALSE)","v":"混合物"},null,{"$f":"VLOOKUP(F351,工作表9!$G$1:$H$142, 2, FALSE)","v":0},0]
[null,null,null,null,null,null,{"$f":"VLOOKUP(F352,工作表9!$G$1:$I$136,3, FALSE)","v":"混合物"},null,{"$f":"VLOOKUP(F352,工作表9!$G$1:$H$142, 2, FALSE)","v":0},0]
[null,null,null,null,null,null,{"$f":"VLOOKUP(F353,工作表9!$G$1:$I$136,3, FALSE)","v":"混合物"},null,{"$f":"VLOOKUP(F353,工作表9!$G$1:$H$142, 2, FALSE)","v":0},0]
[null,null,null,null,null,null,{"$f":"VLOOKUP(F354,工作表9!$G$1:$I$136,3, FALSE)","v":"混合物"},null,{"$f":"VLOOKUP(F354,工作表9!$G$1:$H$142, 2, FALSE)","v":0},0]
[null,null,null,null,null,null,{"$f":"VLOOKUP(F355,工作表9!$G$1:$I$136,3, FALSE)","v":"混合物"},null,{"$f":"VLOOKUP(F355,工作表9!$G$1:$H$142, 2, FALSE)","v":0},0]
[null,null,null,null,null,null,{"$f":"VLOOKUP(F356,工作表9!$G$1:$I$136,3, FALSE)","v":"混合物"},null,{"$f":"VLOOKUP(F356,工作表9!$G$1:$H$142, 2, FALSE)","v":0},0]
[null,null,null,null,null,null,{"$f":"VLOOKUP(F357,工作表9!$G$1:$I$136,3, FALSE)","v":"混合物"},null,{"$f":"VLOOKUP(F357,工作表9!$G$1:$H$142, 2, FALSE)","v":0},0]
[null,null,null,null,null,null,{"$f":"VLOOKUP(F358,工作表9!$G$1:$I$136,3, FALSE)","v":"混合物"},null,{"$f":"VLOOKUP(F358,工作表9!$G$1:$H$142, 2, FALSE)","v":0},0]
[null,null,null,null,null,null,{"$f":"VLOOKUP(F359,工作表9!$G$1:$I$136,3, FALSE)","v":"混合物"},null,{"$f":"VLOOKUP(F359,工作表9!$G$1:$H$142, 2, FALSE)","v":0},0]
[null,null,null,null,null,null,{"$f":"VLOOKUP(F360,工作表9!$G$1:$I$136,3, FALSE)","v":"混合物"},null,{"$f":"VLOOKUP(F360,工作表9!$G$1:$H$142, 2, FALSE)","v":0},0]
[null,null,null,null,null,null,{"$f":"VLOOKUP(F361,工作表9!$G$1:$I$136,3, FALSE)","v":"混合物"},null,{"$f":"VLOOKUP(F361,工作表9!$G$1:$H$142, 2, FALSE)","v":0},0]
[null,null,null,null,null,null,{"$f":"VLOOKUP(F362,工作表9!$G$1:$I$136,3, FALSE)","v":"混合物"},null,{"$f":"VLOOKUP(F362,工作表9!$G$1:$H$142, 2, FALSE)","v":0},0]
[null,null,null,null,null,null,{"$f":"VLOOKUP(F363,工作表9!$G$1:$I$136,3, FALSE)","v":"混合物"},null,{"$f":"VLOOKUP(F363,工作表9!$G$1:$H$142, 2, FALSE)","v":0},0]
[null,null,null,null,null,null,{"$f":"VLOOKUP(F364,工作表9!$G$1:$I$136,3, FALSE)","v":"混合物"},null,{"$f":"VLOOKUP(F364,工作表9!$G$1:$H$142, 2, FALSE)","v":0},0]
[null,null,null,null,null,null,{"$f":"VLOOKUP(F365,工作表9!$G$1:$I$136,3, FALSE)","v":"混合物"},null,{"$f":"VLOOKUP(F365,工作表9!$G$1:$H$142, 2, FALSE)","v":0},0]
[null,null,null,null,null,null,{"$f":"VLOOKUP(F366,工作表9!$G$1:$I$136,3, FALSE)","v":"混合物"},null,{"$f":"VLOOKUP(F366,工作表9!$G$1:$H$142, 2, FALSE)","v":0},0]
[null,null,null,null,null,null,{"$f":"VLOOKUP(F367,工作表9!$G$1:$I$136,3, FALSE)","v":"混合物"},null,{"$f":"VLOOKUP(F367,工作表9!$G$1:$H$142, 2, FALSE)","v":0},0]
[null,null,null,null,null,null,{"$f":"VLOOKUP(F368,工作表9!$G$1:$I$136,3, FALSE)","v":"混合物"},null,{"$f":"VLOOKUP(F368,工作表9!$G$1:$H$142, 2, FALSE)","v":0},0]
[null,null,null,null,null,null,{"$f":"VLOOKUP(F369,工作表9!$G$1:$I$136,3, FALSE)","v":"混合物"},null,{"$f":"VLOOKUP(F369,工作表9!$G$1:$H$142, 2, FALSE)","v":0},0]
[null,null,null,null,null,null,{"$f":"VLOOKUP(F370,工作表9!$G$1:$I$136,3, FALSE)","v":"混合物"},null,{"$f":"VLOOKUP(F370,工作表9!$G$1:$H$142, 2, FALSE)","v":0},0]
[null,null,null,null,null,null,{"$f":"VLOOKUP(F371,工作表9!$G$1:$I$136,3, FALSE)","v":"混合物"},null,{"$f":"VLOOKUP(F371,工作表9!$G$1:$H$142, 2, FALSE)","v":0},0]
[null,null,null,null,null,null,{"$f":"VLOOKUP(F372,工作表9!$G$1:$I$136,3, FALSE)","v":"混合物"},null,{"$f":"VLOOKUP(F372,工作表9!$G$1:$H$142, 2, FALSE)","v":0},0]
[null,null,null,null,null,null,{"$f":"VLOOKUP(F373,工作表9!$G$1:$I$136,3, FALSE)","v":"混合物"},null,{"$f":"VLOOKUP(F373,工作表9!$G$1:$H$142, 2, FALSE)","v":0},0]
[null,null,null,null,null,null,{"$f":"VLOOKUP(F374,工作表9!$G$1:$I$136,3, FALSE)","v":"混合物"},null,{"$f":"VLOOKUP(F374,工作表9!$G$1:$H$142, 2, FALSE)","v":0},0]
[null,null,null,null,null,null,{"$f":"VLOOKUP(F375,工作表9!$G$1:$I$136,3, FALSE)","v":"混合物"},null,{"$f":"VLOOKUP(F375,工作表9!$G$1:$H$142, 2, FALSE)","v":0},0]
[null,null,null,null,null,null,{"$f":"VLOOKUP(F376,工作表9!$G$1:$I$136,3, FALSE)","v":"混合物"},null,{"$f":"VLOOKUP(F376,工作表9!$G$1:$H$142, 2, FALSE)","v":0},0]
[null,null,null,null,null,null,{"$f":"VLOOKUP(F377,工作表9!$G$1:$I$136,3, FALSE)","v":"混合物"},null,{"$f":"VLOOKUP(F377,工作表9!$G$1:$H$142, 2, FALSE)","v":0},0]
[null,null,null,null,null,null,{"$f":"VLOOKUP(F378,工作表9!$G$1:$I$136,3, FALSE)","v":"混合物"},null,{"$f":"VLOOKUP(F378,工作表9!$G$1:$H$142, 2, FALSE)","v":0},0]
[null,null,null,null,null,null,{"$f":"VLOOKUP(F379,工作表9!$G$1:$I$136,3, FALSE)","v":"混合物"},null,{"$f":"VLOOKUP(F379,工作表9!$G$1:$H$142, 2, FALSE)","v":0},0]
[null,null,null,null,null,null,{"$f":"VLOOKUP(F380,工作表9!$G$1:$I$136,3, FALSE)","v":"混合物"},null,{"$f":"VLOOKUP(F380,工作表9!$G$1:$H$142, 2, FALSE)","v":0},0]
[null,null,null,null,null,null,{"$f":"VLOOKUP(F381,工作表9!$G$1:$I$136,3, FALSE)","v":"混合物"},null,{"$f":"VLOOKUP(F381,工作表9!$G$1:$H$142, 2, FALSE)","v":0},0]
[null,null,null,null,null,null,{"$f":"VLOOKUP(F382,工作表9!$G$1:$I$136,3, FALSE)","v":"混合物"},null,{"$f":"VLOOKUP(F382,工作表9!$G$1:$H$142, 2, FALSE)","v":0},0]
[null,null,null,null,null,null,{"$f":"VLOOKUP(F383,工作表9!$G$1:$I$136,3, FALSE)","v":"混合物"},null,{"$f":"VLOOKUP(F383,工作表9!$G$1:$H$142, 2, FALSE)","v":0},0]
[null,null,null,null,null,null,{"$f":"VLOOKUP(F384,工作表9!$G$1:$I$136,3, FALSE)","v":"混合物"},null,{"$f":"VLOOKUP(F384,工作表9!$G$1:$H$142, 2, FALSE)","v":0},0]
[null,null,null,null,null,null,{"$f":"VLOOKUP(F385,工作表9!$G$1:$I$136,3, FALSE)","v":"混合物"},null,{"$f":"VLOOKUP(F385,工作表9!$G$1:$H$142, 2, FALSE)","v":0},0]
[null,null,null,null,null,null,{"$f":"VLOOKUP(F386,工作表9!$G$1:$I$136,3, FALSE)","v":"混合物"},null,{"$f":"VLOOKUP(F386,工作表9!$G$1:$H$142, 2, FALSE)","v":0},0]
[null,null,null,null,null,null,{"$f":"VLOOKUP(F387,工作表9!$G$1:$I$136,3, FALSE)","v":"混合物"},null,{"$f":"VLOOKUP(F387,工作表9!$G$1:$H$142, 2, FALSE)","v":0},0]
[null,null,null,null,null,null,{"$f":"VLOOKUP(F388,工作表9!$G$1:$I$136,3, FALSE)","v":"混合物"},null,{"$f":"VLOOKUP(F388,工作表9!$G$1:$H$142, 2, FALSE)","v":0},0]
[null,null,null,null,null,null,{"$f":"VLOOKUP(F389,工作表9!$G$1:$I$136,3, FALSE)","v":"混合物"},null,{"$f":"VLOOKUP(F389,工作表9!$G$1:$H$142, 2, FALSE)","v":0},0]
[null,null,null,null,null,null,{"$f":"VLOOKUP(F390,工作表9!$G$1:$I$136,3, FALSE)","v":"混合物"},null,{"$f":"VLOOKUP(F390,工作表9!$G$1:$H$142, 2, FALSE)","v":0},{"$f":"H390*I390","v":0}]
[null,null,null,null,null,null,{"$f":"VLOOKUP(F391,工作表9!$G$1:$I$136,3, FALSE)","v":"混合物"},null,{"$f":"VLOOKUP(F391,工作表9!$G$1:$H$142, 2, FALSE)","v":0},0]
[null,null,null,null,null,null,{"$f":"VLOOKUP(F392,工作表9!$G$1:$I$136,3, FALSE)","v":"混合物"},null,{"$f":"VLOOKUP(F392,工作表9!$G$1:$H$142, 2, FALSE)","v":0},0]
[null,null,null,null,null,null,{"$f":"VLOOKUP(F393,工作表9!$G$1:$I$136,3, FALSE)","v":"混合物"},null,{"$f":"VLOOKUP(F393,工作表9!$G$1:$H$142, 2, FALSE)","v":0},0]
[null,null,null,null,null,null,{"$f":"VLOOKUP(F394,工作表9!$G$1:$I$136,3, FALSE)","v":"混合物"},null,{"$f":"VLOOKUP(F394,工作表9!$G$1:$H$142, 2, FALSE)","v":0},0]
[null,null,null,null,null,null,{"$f":"VLOOKUP(F395,工作表9!$G$1:$I$136,3, FALSE)","v":"混合物"},null,{"$f":"VLOOKUP(F395,工作表9!$G$1:$H$142, 2, FALSE)","v":0},0]
[null,null,null,null,null,null,{"$f":"VLOOKUP(F396,工作表9!$G$1:$I$136,3, FALSE)","v":"混合物"},null,{"$f":"VLOOKUP(F396,工作表9!$G$1:$H$142, 2, FALSE)","v":0},0]
[null,null,null,null,null,null,{"$f":"VLOOKUP(F397,工作表9!$G$1:$I$136,3, FALSE)","v":"混合物"},null,{"$f":"VLOOKUP(F397,工作表9!$G$1:$H$142, 2, FALSE)","v":0},0]
[null,null,null,null,null,null,{"$f":"VLOOKUP(F398,工作表9!$G$1:$I$136,3, FALSE)","v":"混合物"},null,{"$f":"VLOOKUP(F398,工作表9!$G$1:$H$142, 2, FALSE)","v":0},0]
[null,null,null,null,null,null,{"$f":"VLOOKUP(F399,工作表9!$G$1:$I$136,3, FALSE)","v":"混合物"},null,{"$f":"VLOOKUP(F399,工作表9!$G$1:$H$142, 2, FALSE)","v":0},0]
[null,null,null,null,null,null,{"$f":"VLOOKUP(F400,工作表9!$G$1:$I$136,3, FALSE)","v":"混合物"},null,{"$f":"VLOOKUP(F400,工作表9!$G$1:$H$142, 2, FALSE)","v":0},0]
[null,null,null,null,null,null,{"$f":"VLOOKUP(F401,工作表9!$G$1:$I$136,3, FALSE)","v":"混合物"},null,{"$f":"VLOOKUP(F401,工作表9!$G$1:$H$142, 2, FALSE)","v":0},0]
[null,null,null,null,null,null,{"$f":"VLOOKUP(F402,工作表9!$G$1:$I$136,3, FALSE)","v":"混合物"},null,{"$f":"VLOOKUP(F402,工作表9!$G$1:$H$142, 2, FALSE)","v":0},0]
[null,null,null,null,null,null,{"$f":"VLOOKUP(F403,工作表9!$G$1:$I$136,3, FALSE)","v":"混合物"},null,{"$f":"VLOOKUP(F403,工作表9!$G$1:$H$142, 2, FALSE)","v":0},0]
[null,null,null,null,null,null,{"$f":"VLOOKUP(F404,工作表9!$G$1:$I$136,3, FALSE)","v":"混合物"},null,{"$f":"VLOOKUP(F404,工作表9!$G$1:$H$142, 2, FALSE)","v":0},0]
[null,null,null,null,null,null,{"$f":"VLOOKUP(F405,工作表9!$G$1:$I$136,3, FALSE)","v":"混合物"},null,{"$f":"VLOOKUP(F405,工作表9!$G$1:$H$142, 2, FALSE)","v":0},0]
[null,null,null,null,null,null,{"$f":"VLOOKUP(F406,工作表9!$G$1:$I$136,3, FALSE)","v":"混合物"},null,{"$f":"VLOOKUP(F406,工作表9!$G$1:$H$142, 2, FALSE)","v":0},0]
[null,null,null,null,null,null,{"$f":"VLOOKUP(F407,工作表9!$G$1:$I$136,3, FALSE)","v":"混合物"},null,{"$f":"VLOOKUP(F407,工作表9!$G$1:$H$142, 2, FALSE)","v":0},0]
[null,null,null,null,null,null,{"$f":"VLOOKUP(F408,工作表9!$G$1:$I$136,3, FALSE)","v":"混合物"},null,{"$f":"VLOOKUP(F408,工作表9!$G$1:$H$142, 2, FALSE)","v":0},0]
[null,null,null,null,null,null,{"$f":"VLOOKUP(F409,工作表9!$G$1:$I$136,3, FALSE)","v":"混合物"},null,{"$f":"VLOOKUP(F409,工作表9!$G$1:$H$142, 2, FALSE)","v":0},0]
[null,null,null,null,null,null,{"$f":"VLOOKUP(F410,工作表9!$G$1:$I$136,3, FALSE)","v":"混合物"},null,{"$f":"VLOOKUP(F410,工作表9!$G$1:$H$142, 2, FALSE)","v":0},0]
[null,null,null,null,null,null,{"$f":"VLOOKUP(F411,工作表9!$G$1:$I$136,3, FALSE)","v":"混合物"},null,{"$f":"VLOOKUP(F411,工作表9!$G$1:$H$142, 2, FALSE)","v":0},0]
[null,null,null,null,null,null,{"$f":"VLOOKUP(F412,工作表9!$G$1:$I$136,3, FALSE)","v":"混合物"},null,{"$f":"VLOOKUP(F412,工作表9!$G$1:$H$142, 2, FALSE)","v":0},0]
[null,null,null,null,null,null,{"$f":"VLOOKUP(F413,工作表9!$G$1:$I$136,3, FALSE)","v":"混合物"},null,{"$f":"VLOOKUP(F413,工作表9!$G$1:$H$142, 2, FALSE)","v":0},0]
[null,null,null,null,null,null,{"$f":"VLOOKUP(F414,工作表9!$G$1:$I$136,3, FALSE)","v":"混合物"},null,{"$f":"VLOOKUP(F414,工作表9!$G$1:$H$142, 2, FALSE)","v":0},0]
[null,null,null,null,null,null,{"$f":"VLOOKUP(F415,工作表9!$G$1:$I$136,3, FALSE)","v":"混合物"},null,{"$f":"VLOOKUP(F415,工作表9!$G$1:$H$142, 2, FALSE)","v":0},0]
[null,null,null,null,null,null,{"$f":"VLOOKUP(F416,工作表9!$G$1:$I$136,3, FALSE)","v":"混合物"},null,{"$f":"VLOOKUP(F416,工作表9!$G$1:$H$142, 2, FALSE)","v":0},0]
[null,null,null,null,null,null,{"$f":"VLOOKUP(F417,工作表9!$G$1:$I$136,3, FALSE)","v":"混合物"},null,{"$f":"VLOOKUP(F417,工作表9!$G$1:$H$142, 2, FALSE)","v":0},0]
[null,null,null,null,null,null,{"$f":"VLOOKUP(F418,工作表9!$G$1:$I$136,3, FALSE)","v":"混合物"},null,{"$f":"VLOOKUP(F418,工作表9!$G$1:$H$142, 2, FALSE)","v":0},0]
[null,null,null,null,null,null,{"$f":"VLOOKUP(F419,工作表9!$G$1:$I$136,3, FALSE)","v":"混合物"},null,{"$f":"VLOOKUP(F419,工作表9!$G$1:$H$142, 2, FALSE)","v":0},0]
[null,null,null,null,null,null,{"$f":"VLOOKUP(F420,工作表9!$G$1:$I$136,3, FALSE)","v":"混合物"},null,{"$f":"VLOOKUP(F420,工作表9!$G$1:$H$142, 2, FALSE)","v":0},0]
[null,null,null,null,null,null,{"$f":"VLOOKUP(F421,工作表9!$G$1:$I$136,3, FALSE)","v":"混合物"},null,{"$f":"VLOOKUP(F421,工作表9!$G$1:$H$142, 2, FALSE)","v":0},0]
[null,null,null,null,null,null,{"$f":"VLOOKUP(F422,工作表9!$G$1:$I$136,3, FALSE)","v":"混合物"},null,{"$f":"VLOOKUP(F422,工作表9!$G$1:$H$142, 2, FALSE)","v":0},0]
[null,null,null,null,null,null,{"$f":"VLOOKUP(F423,工作表9!$G$1:$I$136,3, FALSE)","v":"混合物"},null,{"$f":"VLOOKUP(F423,工作表9!$G$1:$H$142, 2, FALSE)","v":0},0]
[null,null,null,null,null,null,{"$f":"VLOOKUP(F424,工作表9!$G$1:$I$136,3, FALSE)","v":"混合物"},null,{"$f":"VLOOKUP(F424,工作表9!$G$1:$H$142, 2, FALSE)","v":0},0]
[null,null,null,null,null,null,{"$f":"VLOOKUP(F425,工作表9!$G$1:$I$136,3, FALSE)","v":"混合物"},null,{"$f":"VLOOKUP(F425,工作表9!$G$1:$H$142, 2, FALSE)","v":0},0]
[null,null,null,null,null,null,{"$f":"VLOOKUP(F426,工作表9!$G$1:$I$136,3, FALSE)","v":"混合物"},null,{"$f":"VLOOKUP(F426,工作表9!$G$1:$H$142, 2, FALSE)","v":0},0]
[null,null,null,null,null,null,{"$f":"VLOOKUP(F427,工作表9!$G$1:$I$136,3, FALSE)","v":"混合物"},null,{"$f":"VLOOKUP(F427,工作表9!$G$1:$H$142, 2, FALSE)","v":0},0]
[null,null,null,null,null,null,{"$f":"VLOOKUP(F428,工作表9!$G$1:$I$136,3, FALSE)","v":"混合物"},null,{"$f":"VLOOKUP(F428,工作表9!$G$1:$H$142, 2, FALSE)","v":0},0]
[null,null,null,null,null,null,{"$f":"VLOOKUP(F429,工作表9!$G$1:$I$136,3, FALSE)","v":"混合物"},null,{"$f":"VLOOKUP(F429,工作表9!$G$1:$H$142, 2, FALSE)","v":0},0]
[null,null,null,null,null,null,{"$f":"VLOOKUP(F430,工作表9!$G$1:$I$136,3, FALSE)","v":"混合物"},null,{"$f":"VLOOKUP(F430,工作表9!$G$1:$H$142, 2, FALSE)","v":0},0]
[null,null,null,null,null,null,{"$f":"VLOOKUP(F431,工作表9!$G$1:$I$136,3, FALSE)","v":"混合物"},null,{"$f":"VLOOKUP(F431,工作表9!$G$1:$H$142, 2, FALSE)","v":0},0]
[null,null,null,null,null,null,{"$f":"VLOOKUP(F432,工作表9!$G$1:$I$136,3, FALSE)","v":"混合物"},null,{"$f":"VLOOKUP(F432,工作表9!$G$1:$H$142, 2, FALSE)","v":0},0]
[null,null,null,null,null,null,{"$f":"VLOOKUP(F433,工作表9!$G$1:$I$136,3, FALSE)","v":"混合物"},null,{"$f":"VLOOKUP(F433,工作表9!$G$1:$H$142, 2, FALSE)","v":0},0]
[null,null,null,null,null,null,{"$f":"VLOOKUP(F434,工作表9!$G$1:$I$136,3, FALSE)","v":"混合物"},null,{"$f":"VLOOKUP(F434,工作表9!$G$1:$H$142, 2, FALSE)","v":0},0]
[null,null,null,null,null,null,{"$f":"VLOOKUP(F435,工作表9!$G$1:$I$136,3, FALSE)","v":"混合物"},null,{"$f":"VLOOKUP(F435,工作表9!$G$1:$H$142, 2, FALSE)","v":0},0]
[null,null,null,null,null,null,{"$f":"VLOOKUP(F436,工作表9!$G$1:$I$136,3, FALSE)","v":"混合物"},null,{"$f":"VLOOKUP(F436,工作表9!$G$1:$H$142, 2, FALSE)","v":0},0]
[null,null,null,null,null,null,{"$f":"VLOOKUP(F437,工作表9!$G$1:$I$136,3, FALSE)","v":"混合物"},null,{"$f":"VLOOKUP(F437,工作表9!$G$1:$H$142, 2, FALSE)","v":0},0]
[null,null,null,null,null,null,{"$f":"VLOOKUP(F438,工作表9!$G$1:$I$136,3, FALSE)","v":"混合物"},null,{"$f":"VLOOKUP(F438,工作表9!$G$1:$H$142, 2, FALSE)","v":0},0]
[null,null,null,null,null,null,{"$f":"VLOOKUP(F439,工作表9!$G$1:$I$136,3, FALSE)","v":"混合物"},null,{"$f":"VLOOKUP(F439,工作表9!$G$1:$H$142, 2, FALSE)","v":0},0]
[null,null,null,null,null,null,{"$f":"VLOOKUP(F440,工作表9!$G$1:$I$136,3, FALSE)","v":"混合物"},null,{"$f":"VLOOKUP(F440,工作表9!$G$1:$H$142, 2, FALSE)","v":0},0]
[null,null,null,null,null,null,{"$f":"VLOOKUP(F441,工作表9!$G$1:$I$136,3, FALSE)","v":"混合物"},null,{"$f":"VLOOKUP(F441,工作表9!$G$1:$H$142, 2, FALSE)","v":0},0]
[null,null,null,null,null,null,{"$f":"VLOOKUP(F442,工作表9!$G$1:$I$136,3, FALSE)","v":"混合物"},null,{"$f":"VLOOKUP(F442,工作表9!$G$1:$H$142, 2, FALSE)","v":0},0]
[null,null,null,null,null,null,{"$f":"VLOOKUP(F443,工作表9!$G$1:$I$136,3, FALSE)","v":"混合物"},null,{"$f":"VLOOKUP(F443,工作表9!$G$1:$H$142, 2, FALSE)","v":0},0]
[null,null,null,null,null,null,{"$f":"VLOOKUP(F444,工作表9!$G$1:$I$136,3, FALSE)","v":"混合物"},null,{"$f":"VLOOKUP(F444,工作表9!$G$1:$H$142, 2, FALSE)","v":0},0]
[null,null,null,null,null,null,{"$f":"VLOOKUP(F445,工作表9!$G$1:$I$136,3, FALSE)","v":"混合物"},null,{"$f":"VLOOKUP(F445,工作表9!$G$1:$H$142, 2, FALSE)","v":0},0]
[null,null,null,null,null,null,{"$f":"VLOOKUP(F446,工作表9!$G$1:$I$136,3, FALSE)","v":"混合物"},null,{"$f":"VLOOKUP(F446,工作表9!$G$1:$H$142, 2, FALSE)","v":0},0]
[null,null,null,null,null,null,{"$f":"VLOOKUP(F447,工作表9!$G$1:$I$136,3, FALSE)","v":"混合物"},null,{"$f":"VLOOKUP(F447,工作表9!$G$1:$H$142, 2, FALSE)","v":0},0]
[null,null,null,null,null,null,{"$f":"VLOOKUP(F448,工作表9!$G$1:$I$136,3, FALSE)","v":"混合物"},null,{"$f":"VLOOKUP(F448,工作表9!$G$1:$H$142, 2, FALSE)","v":0},0]
[null,null,null,null,null,null,{"$f":"VLOOKUP(F449,工作表9!$G$1:$I$136,3, FALSE)","v":"混合物"},null,{"$f":"VLOOKUP(F449,工作表9!$G$1:$H$142, 2, FALSE)","v":0},0]
[null,null,null,null,null,null,{"$f":"VLOOKUP(F450,工作表9!$G$1:$I$136,3, FALSE)","v":"混合物"},null,{"$f":"VLOOKUP(F450,工作表9!$G$1:$H$142, 2, FALSE)","v":0},0]
[null,null,null,null,null,null,{"$f":"VLOOKUP(F451,工作表9!$G$1:$I$136,3, FALSE)","v":"混合物"},null,{"$f":"VLOOKUP(F451,工作表9!$G$1:$H$142, 2, FALSE)","v":0},0]
[null,null,null,null,null,null,{"$f":"VLOOKUP(F452,工作表9!$G$1:$I$136,3, FALSE)","v":"混合物"},null,{"$f":"VLOOKUP(F452,工作表9!$G$1:$H$142, 2, FALSE)","v":0},0]
[null,null,null,null,null,null,{"$f":"VLOOKUP(F453,工作表9!$G$1:$I$136,3, FALSE)","v":"混合物"},null,{"$f":"VLOOKUP(F453,工作表9!$G$1:$H$142, 2, FALSE)","v":0},0]
[null,null,null,null,null,null,{"$f":"VLOOKUP(F454,工作表9!$G$1:$I$136,3, FALSE)","v":"混合物"},null,{"$f":"VLOOKUP(F454,工作表9!$G$1:$H$142, 2, FALSE)","v":0},{"$f":"H454*I454","v":0}]
[null,null,null,null,null,null,{"$f":"VLOOKUP(F455,工作表9!$G$1:$I$136,3, FALSE)","v":"混合物"},null,{"$f":"VLOOKUP(F455,工作表9!$G$1:$H$142, 2, FALSE)","v":0},0]
[null,null,null,null,null,null,{"$f":"VLOOKUP(F456,工作表9!$G$1:$I$136,3, FALSE)","v":"混合物"},null,{"$f":"VLOOKUP(F456,工作表9!$G$1:$H$142, 2, FALSE)","v":0},0]
[null,null,null,null,null,null,{"$f":"VLOOKUP(F457,工作表9!$G$1:$I$136,3, FALSE)","v":"混合物"},null,{"$f":"VLOOKUP(F457,工作表9!$G$1:$H$142, 2, FALSE)","v":0},0]
[null,null,null,null,null,null,{"$f":"VLOOKUP(F458,工作表9!$G$1:$I$136,3, FALSE)","v":"混合物"},null,{"$f":"VLOOKUP(F458,工作表9!$G$1:$H$142, 2, FALSE)","v":0},0]
[null,null,null,null,null,null,{"$f":"VLOOKUP(F459,工作表9!$G$1:$I$136,3, FALSE)","v":"混合物"},null,{"$f":"VLOOKUP(F459,工作表9!$G$1:$H$142, 2, FALSE)","v":0},0]
[null,null,null,null,null,null,{"$f":"VLOOKUP(F460,工作表9!$G$1:$I$136,3, FALSE)","v":"混合物"},null,{"$f":"VLOOKUP(F460,工作表9!$G$1:$H$142, 2, FALSE)","v":0},0]
[null,null,null,null,null,null,{"$f":"VLOOKUP(F461,工作表9!$G$1:$I$136,3, FALSE)","v":"混合物"},null,{"$f":"VLOOKUP(F461,工作表9!$G$1:$H$142, 2, FALSE)","v":0},0]
[null,null,null,null,null,null,{"$f":"VLOOKUP(F462,工作表9!$G$1:$I$136,3, FALSE)","v":"混合物"},null,{"$f":"VLOOKUP(F462,工作表9!$G$1:$H$142, 2, FALSE)","v":0},0]
[null,null,null,null,null,null,{"$f":"VLOOKUP(F463,工作表9!$G$1:$I$136,3, FALSE)","v":"混合物"},null,{"$f":"VLOOKUP(F463,工作表9!$G$1:$H$142, 2, FALSE)","v":0},0]
[null,null,null,null,null,null,{"$f":"VLOOKUP(F464,工作表9!$G$1:$I$136,3, FALSE)","v":"混合物"},null,{"$f":"VLOOKUP(F464,工作表9!$G$1:$H$142, 2, FALSE)","v":0},0]
[null,null,null,null,null,null,{"$f":"VLOOKUP(F465,工作表9!$G$1:$I$136,3, FALSE)","v":"混合物"},null,{"$f":"VLOOKUP(F465,工作表9!$G$1:$H$142, 2, FALSE)","v":0},0]
[null,null,null,null,null,null,{"$f":"VLOOKUP(F466,工作表9!$G$1:$I$136,3, FALSE)","v":"混合物"},null,{"$f":"VLOOKUP(F466,工作表9!$G$1:$H$142, 2, FALSE)","v":0},0]
[null,null,null,null,null,null,{"$f":"VLOOKUP(F467,工作表9!$G$1:$I$136,3, FALSE)","v":"混合物"},null,{"$f":"VLOOKUP(F467,工作表9!$G$1:$H$142, 2, FALSE)","v":0},0]
[null,null,null,null,null,null,{"$f":"VLOOKUP(F468,工作表9!$G$1:$I$136,3, FALSE)","v":"混合物"},null,{"$f":"VLOOKUP(F468,工作表9!$G$1:$H$142, 2, FALSE)","v":0},0]
[null,null,null,null,null,null,{"$f":"VLOOKUP(F469,工作表9!$G$1:$I$136,3, FALSE)","v":"混合物"},null,{"$f":"VLOOKUP(F469,工作表9!$G$1:$H$142, 2, FALSE)","v":0},0]
[null,null,null,null,null,null,{"$f":"VLOOKUP(F470,工作表9!$G$1:$I$136,3, FALSE)","v":"混合物"},null,{"$f":"VLOOKUP(F470,工作表9!$G$1:$H$142, 2, FALSE)","v":0},0]
[null,null,null,null,null,null,{"$f":"VLOOKUP(F471,工作表9!$G$1:$I$136,3, FALSE)","v":"混合物"},null,{"$f":"VLOOKUP(F471,工作表9!$G$1:$H$142, 2, FALSE)","v":0},0]
[null,null,null,null,null,null,{"$f":"VLOOKUP(F472,工作表9!$G$1:$I$136,3, FALSE)","v":"混合物"},null,{"$f":"VLOOKUP(F472,工作表9!$G$1:$H$142, 2, FALSE)","v":0},0]
[null,null,null,null,null,null,{"$f":"VLOOKUP(F473,工作表9!$G$1:$I$136,3, FALSE)","v":"混合物"},null,{"$f":"VLOOKUP(F473,工作表9!$G$1:$H$142, 2, FALSE)","v":0},0]
[null,null,null,null,null,null,{"$f":"VLOOKUP(F474,工作表9!$G$1:$I$136,3, FALSE)","v":"混合物"},null,{"$f":"VLOOKUP(F474,工作表9!$G$1:$H$142, 2, FALSE)","v":0},0]
[null,null,null,null,null,null,{"$f":"VLOOKUP(F475,工作表9!$G$1:$I$136,3, FALSE)","v":"混合物"},null,{"$f":"VLOOKUP(F475,工作表9!$G$1:$H$142, 2, FALSE)","v":0},0]
[null,null,null,null,null,null,{"$f":"VLOOKUP(F476,工作表9!$G$1:$I$136,3, FALSE)","v":"混合物"},null,{"$f":"VLOOKUP(F476,工作表9!$G$1:$H$142, 2, FALSE)","v":0},0]
[null,null,null,null,null,null,{"$f":"VLOOKUP(F477,工作表9!$G$1:$I$136,3, FALSE)","v":"混合物"},null,{"$f":"VLOOKUP(F477,工作表9!$G$1:$H$142, 2, FALSE)","v":0},0]
[null,null,null,null,null,null,{"$f":"VLOOKUP(F478,工作表9!$G$1:$I$136,3, FALSE)","v":"混合物"},null,{"$f":"VLOOKUP(F478,工作表9!$G$1:$H$142, 2, FALSE)","v":0},0]
[null,null,null,null,null,null,{"$f":"VLOOKUP(F479,工作表9!$G$1:$I$136,3, FALSE)","v":"混合物"},null,{"$f":"VLOOKUP(F479,工作表9!$G$1:$H$142, 2, FALSE)","v":0},0]
[null,null,null,null,null,null,{"$f":"VLOOKUP(F480,工作表9!$G$1:$I$136,3, FALSE)","v":"混合物"},null,{"$f":"VLOOKUP(F480,工作表9!$G$1:$H$142, 2, FALSE)","v":0},0]
[null,null,null,null,null,null,{"$f":"VLOOKUP(F481,工作表9!$G$1:$I$136,3, FALSE)","v":"混合物"},null,{"$f":"VLOOKUP(F481,工作表9!$G$1:$H$142, 2, FALSE)","v":0},0]
[null,null,null,null,null,null,{"$f":"VLOOKUP(F482,工作表9!$G$1:$I$136,3, FALSE)","v":"混合物"},null,{"$f":"VLOOKUP(F482,工作表9!$G$1:$H$142, 2, FALSE)","v":0},0]
[null,null,null,null,null,null,{"$f":"VLOOKUP(F483,工作表9!$G$1:$I$136,3, FALSE)","v":"混合物"},null,{"$f":"VLOOKUP(F483,工作表9!$G$1:$H$142, 2, FALSE)","v":0},0]
[null,null,null,null,null,null,{"$f":"VLOOKUP(F484,工作表9!$G$1:$I$136,3, FALSE)","v":"混合物"},null,{"$f":"VLOOKUP(F484,工作表9!$G$1:$H$142, 2, FALSE)","v":0},0]
[null,null,null,null,null,null,{"$f":"VLOOKUP(F485,工作表9!$G$1:$I$136,3, FALSE)","v":"混合物"},null,{"$f":"VLOOKUP(F485,工作表9!$G$1:$H$142, 2, FALSE)","v":0},0]
[null,null,null,null,null,null,{"$f":"VLOOKUP(F486,工作表9!$G$1:$I$136,3, FALSE)","v":"混合物"},null,{"$f":"VLOOKUP(F486,工作表9!$G$1:$H$142, 2, FALSE)","v":0},0]
[null,null,null,null,null,null,{"$f":"VLOOKUP(F487,工作表9!$G$1:$I$136,3, FALSE)","v":"混合物"},null,{"$f":"VLOOKUP(F487,工作表9!$G$1:$H$142, 2, FALSE)","v":0},0]
[null,null,null,null,null,null,{"$f":"VLOOKUP(F488,工作表9!$G$1:$I$136,3, FALSE)","v":"混合物"},null,{"$f":"VLOOKUP(F488,工作表9!$G$1:$H$142, 2, FALSE)","v":0},0]
[null,null,null,null,null,null,{"$f":"VLOOKUP(F489,工作表9!$G$1:$I$136,3, FALSE)","v":"混合物"},null,{"$f":"VLOOKUP(F489,工作表9!$G$1:$H$142, 2, FALSE)","v":0},0]
[null,null,null,null,null,null,{"$f":"VLOOKUP(F490,工作表9!$G$1:$I$136,3, FALSE)","v":"混合物"},null,{"$f":"VLOOKUP(F490,工作表9!$G$1:$H$142, 2, FALSE)","v":0},0]
[null,null,null,null,null,null,{"$f":"VLOOKUP(F491,工作表9!$G$1:$I$136,3, FALSE)","v":"混合物"},null,{"$f":"VLOOKUP(F491,工作表9!$G$1:$H$142, 2, FALSE)","v":0},0]
[null,null,null,null,null,null,{"$f":"VLOOKUP(F492,工作表9!$G$1:$I$136,3, FALSE)","v":"混合物"},null,{"$f":"VLOOKUP(F492,工作表9!$G$1:$H$142, 2, FALSE)","v":0},0]
[null,null,null,null,null,null,{"$f":"VLOOKUP(F493,工作表9!$G$1:$I$136,3, FALSE)","v":"混合物"},null,{"$f":"VLOOKUP(F493,工作表9!$G$1:$H$142, 2, FALSE)","v":0},0]
[null,null,null,null,null,null,{"$f":"VLOOKUP(F494,工作表9!$G$1:$I$136,3, FALSE)","v":"混合物"},null,{"$f":"VLOOKUP(F494,工作表9!$G$1:$H$142, 2, FALSE)","v":0},0]
[null,null,null,null,null,null,{"$f":"VLOOKUP(F495,工作表9!$G$1:$I$136,3, FALSE)","v":"混合物"},null,{"$f":"VLOOKUP(F495,工作表9!$G$1:$H$142, 2, FALSE)","v":0},0]
[null,null,null,null,null,null,{"$f":"VLOOKUP(F496,工作表9!$G$1:$I$136,3, FALSE)","v":"混合物"},null,{"$f":"VLOOKUP(F496,工作表9!$G$1:$H$142, 2, FALSE)","v":0},0]
[null,null,null,null,null,null,{"$f":"VLOOKUP(F497,工作表9!$G$1:$I$136,3, FALSE)","v":"混合物"},null,{"$f":"VLOOKUP(F497,工作表9!$G$1:$H$142, 2, FALSE)","v":0},0]
[null,null,null,null,null,null,{"$f":"VLOOKUP(F498,工作表9!$G$1:$I$136,3, FALSE)","v":"混合物"},null,{"$f":"VLOOKUP(F498,工作表9!$G$1:$H$142, 2, FALSE)","v":0},0]
[null,null,null,null,null,null,{"$f":"VLOOKUP(F499,工作表9!$G$1:$I$136,3, FALSE)","v":"混合物"},null,{"$f":"VLOOKUP(F499,工作表9!$G$1:$H$142, 2, FALSE)","v":0},0]
[null,null,null,null,null,null,{"$f":"VLOOKUP(F500,工作表9!$G$1:$I$136,3, FALSE)","v":"混合物"},null,{"$f":"VLOOKUP(F500,工作表9!$G$1:$H$142, 2, FALSE)","v":0},0]
[null,null,null,null,null,null,{"$f":"VLOOKUP(F501,工作表9!$G$1:$I$136,3, FALSE)","v":"混合物"},null,{"$f":"VLOOKUP(F501,工作表9!$G$1:$H$142, 2, FALSE)","v":0},0]
[null,null,null,null,null,null,{"$f":"VLOOKUP(F502,工作表9!$G$1:$I$136,3, FALSE)","v":"混合物"},null,{"$f":"VLOOKUP(F502,工作表9!$G$1:$H$142, 2, FALSE)","v":0},0]
[null,null,null,null,null,null,{"$f":"VLOOKUP(F503,工作表9!$G$1:$I$136,3, FALSE)","v":"混合物"},null,{"$f":"VLOOKUP(F503,工作表9!$G$1:$H$142, 2, FALSE)","v":0},0]
[null,null,null,null,null,null,{"$f":"VLOOKUP(F504,工作表9!$G$1:$I$136,3, FALSE)","v":"混合物"},null,{"$f":"VLOOKUP(F504,工作表9!$G$1:$H$142, 2, FALSE)","v":0},0]
[null,null,null,null,null,null,{"$f":"VLOOKUP(F505,工作表9!$G$1:$I$136,3, FALSE)","v":"混合物"},null,{"$f":"VLOOKUP(F505,工作表9!$G$1:$H$142, 2, FALSE)","v":0},0]
[null,null,null,null,null,null,{"$f":"VLOOKUP(F506,工作表9!$G$1:$I$136,3, FALSE)","v":"混合物"},null,{"$f":"VLOOKUP(F506,工作表9!$G$1:$H$142, 2, FALSE)","v":0},0]
[null,null,null,null,null,null,{"$f":"VLOOKUP(F507,工作表9!$G$1:$I$136,3, FALSE)","v":"混合物"},null,{"$f":"VLOOKUP(F507,工作表9!$G$1:$H$142, 2, FALSE)","v":0},0]
[null,null,null,null,null,null,{"$f":"VLOOKUP(F508,工作表9!$G$1:$I$136,3, FALSE)","v":"混合物"},null,{"$f":"VLOOKUP(F508,工作表9!$G$1:$H$142, 2, FALSE)","v":0},0]
[null,null,null,null,null,null,{"$f":"VLOOKUP(F509,工作表9!$G$1:$I$136,3, FALSE)","v":"混合物"},null,{"$f":"VLOOKUP(F509,工作表9!$G$1:$H$142, 2, FALSE)","v":0},0]
[null,null,null,null,null,null,{"$f":"VLOOKUP(F510,工作表9!$G$1:$I$136,3, FALSE)","v":"混合物"},null,{"$f":"VLOOKUP(F510,工作表9!$G$1:$H$142, 2, FALSE)","v":0},0]
[null,null,null,null,null,null,{"$f":"VLOOKUP(F511,工作表9!$G$1:$I$136,3, FALSE)","v":"混合物"},null,{"$f":"VLOOKUP(F511,工作表9!$G$1:$H$142, 2, FALSE)","v":0},0]
[null,null,null,null,null,null,{"$f":"VLOOKUP(F512,工作表9!$G$1:$I$136,3, FALSE)","v":"混合物"},null,{"$f":"VLOOKUP(F512,工作表9!$G$1:$H$142, 2, FALSE)","v":0},0]
[null,null,null,null,null,null,{"$f":"VLOOKUP(F513,工作表9!$G$1:$I$136,3, FALSE)","v":"混合物"},null,{"$f":"VLOOKUP(F513,工作表9!$G$1:$H$142, 2, FALSE)","v":0},0]
[null,null,null,null,null,null,{"$f":"VLOOKUP(F514,工作表9!$G$1:$I$136,3, FALSE)","v":"混合物"},null,{"$f":"VLOOKUP(F514,工作表9!$G$1:$H$142, 2, FALSE)","v":0},0]
[null,null,null,null,null,null,{"$f":"VLOOKUP(F515,工作表9!$G$1:$I$136,3, FALSE)","v":"混合物"},null,{"$f":"VLOOKUP(F515,工作表9!$G$1:$H$142, 2, FALSE)","v":0},0]
[null,null,null,null,null,null,{"$f":"VLOOKUP(F516,工作表9!$G$1:$I$136,3, FALSE)","v":"混合物"},null,{"$f":"VLOOKUP(F516,工作表9!$G$1:$H$142, 2, FALSE)","v":0},0]
[null,null,null,null,null,null,{"$f":"VLOOKUP(F517,工作表9!$G$1:$I$136,3, FALSE)","v":"混合物"},null,{"$f":"VLOOKUP(F517,工作表9!$G$1:$H$142, 2, FALSE)","v":0},0]
[null,null,null,null,null,null,{"$f":"VLOOKUP(F518,工作表9!$G$1:$I$136,3, FALSE)","v":"混合物"},null,{"$f":"VLOOKUP(F518,工作表9!$G$1:$H$142, 2, FALSE)","v":0},{"$f":"H518*I518","v":0}]
[null,null,null,null,null,null,{"$f":"VLOOKUP(F519,工作表9!$G$1:$I$136,3, FALSE)","v":"混合物"},null,{"$f":"VLOOKUP(F519,工作表9!$G$1:$H$142, 2, FALSE)","v":0},0]
[null,null,null,null,null,null,{"$f":"VLOOKUP(F520,工作表9!$G$1:$I$136,3, FALSE)","v":"混合物"},null,{"$f":"VLOOKUP(F520,工作表9!$G$1:$H$142, 2, FALSE)","v":0},0]
[null,null,null,null,null,null,{"$f":"VLOOKUP(F521,工作表9!$G$1:$I$136,3, FALSE)","v":"混合物"},null,{"$f":"VLOOKUP(F521,工作表9!$G$1:$H$142, 2, FALSE)","v":0},0]
[null,null,null,null,null,null,{"$f":"VLOOKUP(F522,工作表9!$G$1:$I$136,3, FALSE)","v":"混合物"},null,{"$f":"VLOOKUP(F522,工作表9!$G$1:$H$142, 2, FALSE)","v":0},0]
[null,null,null,null,null,null,{"$f":"VLOOKUP(F523,工作表9!$G$1:$I$136,3, FALSE)","v":"混合物"},null,{"$f":"VLOOKUP(F523,工作表9!$G$1:$H$142, 2, FALSE)","v":0},0]
[null,null,null,null,null,null,{"$f":"VLOOKUP(F524,工作表9!$G$1:$I$136,3, FALSE)","v":"混合物"},null,{"$f":"VLOOKUP(F524,工作表9!$G$1:$H$142, 2, FALSE)","v":0},0]
[null,null,null,null,null,null,{"$f":"VLOOKUP(F525,工作表9!$G$1:$I$136,3, FALSE)","v":"混合物"},null,{"$f":"VLOOKUP(F525,工作表9!$G$1:$H$142, 2, FALSE)","v":0},0]
[null,null,null,null,null,null,{"$f":"VLOOKUP(F526,工作表9!$G$1:$I$136,3, FALSE)","v":"混合物"},null,{"$f":"VLOOKUP(F526,工作表9!$G$1:$H$142, 2, FALSE)","v":0},0]
[null,null,null,null,null,null,{"$f":"VLOOKUP(F527,工作表9!$G$1:$I$136,3, FALSE)","v":"混合物"},null,{"$f":"VLOOKUP(F527,工作表9!$G$1:$H$142, 2, FALSE)","v":0},0]
[null,null,null,null,null,null,{"$f":"VLOOKUP(F528,工作表9!$G$1:$I$136,3, FALSE)","v":"混合物"},null,{"$f":"VLOOKUP(F528,工作表9!$G$1:$H$142, 2, FALSE)","v":0},0]
[null,null,null,null,null,null,{"$f":"VLOOKUP(F529,工作表9!$G$1:$I$136,3, FALSE)","v":"混合物"},null,{"$f":"VLOOKUP(F529,工作表9!$G$1:$H$142, 2, FALSE)","v":0},0]
[null,null,null,null,null,null,{"$f":"VLOOKUP(F530,工作表9!$G$1:$I$136,3, FALSE)","v":"混合物"},null,{"$f":"VLOOKUP(F530,工作表9!$G$1:$H$142, 2, FALSE)","v":0},0]
[null,null,null,null,null,null,{"$f":"VLOOKUP(F531,工作表9!$G$1:$I$136,3, FALSE)","v":"混合物"},null,{"$f":"VLOOKUP(F531,工作表9!$G$1:$H$142, 2, FALSE)","v":0},0]
[null,null,null,null,null,null,{"$f":"VLOOKUP(F532,工作表9!$G$1:$I$136,3, FALSE)","v":"混合物"},null,{"$f":"VLOOKUP(F532,工作表9!$G$1:$H$142, 2, FALSE)","v":0},0]
[null,null,null,null,null,null,{"$f":"VLOOKUP(F533,工作表9!$G$1:$I$136,3, FALSE)","v":"混合物"},null,{"$f":"VLOOKUP(F533,工作表9!$G$1:$H$142, 2, FALSE)","v":0},0]
[null,null,null,null,null,null,{"$f":"VLOOKUP(F534,工作表9!$G$1:$I$136,3, FALSE)","v":"混合物"},null,{"$f":"VLOOKUP(F534,工作表9!$G$1:$H$142, 2, FALSE)","v":0},0]
[null,null,null,null,null,null,{"$f":"VLOOKUP(F535,工作表9!$G$1:$I$136,3, FALSE)","v":"混合物"},null,{"$f":"VLOOKUP(F535,工作表9!$G$1:$H$142, 2, FALSE)","v":0},0]
[null,null,null,null,null,null,{"$f":"VLOOKUP(F536,工作表9!$G$1:$I$136,3, FALSE)","v":"混合物"},null,{"$f":"VLOOKUP(F536,工作表9!$G$1:$H$142, 2, FALSE)","v":0},0]
[null,null,null,null,null,null,{"$f":"VLOOKUP(F537,工作表9!$G$1:$I$136,3, FALSE)","v":"混合物"},null,{"$f":"VLOOKUP(F537,工作表9!$G$1:$H$142, 2, FALSE)","v":0},0]
[null,null,null,null,null,null,{"$f":"VLOOKUP(F538,工作表9!$G$1:$I$136,3, FALSE)","v":"混合物"},null,{"$f":"VLOOKUP(F538,工作表9!$G$1:$H$142, 2, FALSE)","v":0},0]
[null,null,null,null,null,null,{"$f":"VLOOKUP(F539,工作表9!$G$1:$I$136,3, FALSE)","v":"混合物"},null,{"$f":"VLOOKUP(F539,工作表9!$G$1:$H$142, 2, FALSE)","v":0},0]
[null,null,null,null,null,null,{"$f":"VLOOKUP(F540,工作表9!$G$1:$I$136,3, FALSE)","v":"混合物"},null,{"$f":"VLOOKUP(F540,工作表9!$G$1:$H$142, 2, FALSE)","v":0},0]
[null,null,null,null,null,null,{"$f":"VLOOKUP(F541,工作表9!$G$1:$I$136,3, FALSE)","v":"混合物"},null,{"$f":"VLOOKUP(F541,工作表9!$G$1:$H$142, 2, FALSE)","v":0},0]
[null,null,null,null,null,null,{"$f":"VLOOKUP(F542,工作表9!$G$1:$I$136,3, FALSE)","v":"混合物"},null,{"$f":"VLOOKUP(F542,工作表9!$G$1:$H$142, 2, FALSE)","v":0},0]
[null,null,null,null,null,null,{"$f":"VLOOKUP(F543,工作表9!$G$1:$I$136,3, FALSE)","v":"混合物"},null,{"$f":"VLOOKUP(F543,工作表9!$G$1:$H$142, 2, FALSE)","v":0},0]
[null,null,null,null,null,null,{"$f":"VLOOKUP(F544,工作表9!$G$1:$I$136,3, FALSE)","v":"混合物"},null,{"$f":"VLOOKUP(F544,工作表9!$G$1:$H$142, 2, FALSE)","v":0},0]
[null,null,null,null,null,null,{"$f":"VLOOKUP(F545,工作表9!$G$1:$I$136,3, FALSE)","v":"混合物"},null,{"$f":"VLOOKUP(F545,工作表9!$G$1:$H$142, 2, FALSE)","v":0},0]
[null,null,null,null,null,null,{"$f":"VLOOKUP(F546,工作表9!$G$1:$I$136,3, FALSE)","v":"混合物"},null,{"$f":"VLOOKUP(F546,工作表9!$G$1:$H$142, 2, FALSE)","v":0},0]
[null,null,null,null,null,null,{"$f":"VLOOKUP(F547,工作表9!$G$1:$I$136,3, FALSE)","v":"混合物"},null,{"$f":"VLOOKUP(F547,工作表9!$G$1:$H$142, 2, FALSE)","v":0},0]
[null,null,null,null,null,null,{"$f":"VLOOKUP(F548,工作表9!$G$1:$I$136,3, FALSE)","v":"混合物"},null,{"$f":"VLOOKUP(F548,工作表9!$G$1:$H$142, 2, FALSE)","v":0},0]
[null,null,null,null,null,null,{"$f":"VLOOKUP(F549,工作表9!$G$1:$I$136,3, FALSE)","v":"混合物"},null,{"$f":"VLOOKUP(F549,工作表9!$G$1:$H$142, 2, FALSE)","v":0},0]
[null,null,null,null,null,null,{"$f":"VLOOKUP(F550,工作表9!$G$1:$I$136,3, FALSE)","v":"混合物"},null,{"$f":"VLOOKUP(F550,工作表9!$G$1:$H$142, 2, FALSE)","v":0},0]
[null,null,null,null,null,null,{"$f":"VLOOKUP(F551,工作表9!$G$1:$I$136,3, FALSE)","v":"混合物"},null,{"$f":"VLOOKUP(F551,工作表9!$G$1:$H$142, 2, FALSE)","v":0},0]
[null,null,null,null,null,null,{"$f":"VLOOKUP(F552,工作表9!$G$1:$I$136,3, FALSE)","v":"混合物"},null,{"$f":"VLOOKUP(F552,工作表9!$G$1:$H$142, 2, FALSE)","v":0},0]
[null,null,null,null,null,null,{"$f":"VLOOKUP(F553,工作表9!$G$1:$I$136,3, FALSE)","v":"混合物"},null,{"$f":"VLOOKUP(F553,工作表9!$G$1:$H$142, 2, FALSE)","v":0},0]
[null,null,null,null,null,null,{"$f":"VLOOKUP(F554,工作表9!$G$1:$I$136,3, FALSE)","v":"混合物"},null,{"$f":"VLOOKUP(F554,工作表9!$G$1:$H$142, 2, FALSE)","v":0},0]
[null,null,null,null,null,null,{"$f":"VLOOKUP(F555,工作表9!$G$1:$I$136,3, FALSE)","v":"混合物"},null,{"$f":"VLOOKUP(F555,工作表9!$G$1:$H$142, 2, FALSE)","v":0},0]
[null,null,null,null,null,null,{"$f":"VLOOKUP(F556,工作表9!$G$1:$I$136,3, FALSE)","v":"混合物"},null,{"$f":"VLOOKUP(F556,工作表9!$G$1:$H$142, 2, FALSE)","v":0},0]
[null,null,null,null,null,null,{"$f":"VLOOKUP(F557,工作表9!$G$1:$I$136,3, FALSE)","v":"混合物"},null,{"$f":"VLOOKUP(F557,工作表9!$G$1:$H$142, 2, FALSE)","v":0},0]
[null,null,null,null,null,null,{"$f":"VLOOKUP(F558,工作表9!$G$1:$I$136,3, FALSE)","v":"混合物"},null,{"$f":"VLOOKUP(F558,工作表9!$G$1:$H$142, 2, FALSE)","v":0},0]
[null,null,null,null,null,null,{"$f":"VLOOKUP(F559,工作表9!$G$1:$I$136,3, FALSE)","v":"混合物"},null,{"$f":"VLOOKUP(F559,工作表9!$G$1:$H$142, 2, FALSE)","v":0},0]
[null,null,null,null,null,null,{"$f":"VLOOKUP(F560,工作表9!$G$1:$I$136,3, FALSE)","v":"混合物"},null,{"$f":"VLOOKUP(F560,工作表9!$G$1:$H$142, 2, FALSE)","v":0},0]
[null,null,null,null,null,null,{"$f":"VLOOKUP(F561,工作表9!$G$1:$I$136,3, FALSE)","v":"混合物"},null,{"$f":"VLOOKUP(F561,工作表9!$G$1:$H$142, 2, FALSE)","v":0},0]
[null,null,null,null,null,null,{"$f":"VLOOKUP(F562,工作表9!$G$1:$I$136,3, FALSE)","v":"混合物"},null,{"$f":"VLOOKUP(F562,工作表9!$G$1:$H$142, 2, FALSE)","v":0},0]
[null,null,null,null,null,null,{"$f":"VLOOKUP(F563,工作表9!$G$1:$I$136,3, FALSE)","v":"混合物"},null,{"$f":"VLOOKUP(F563,工作表9!$G$1:$H$142, 2, FALSE)","v":0},0]
[null,null,null,null,null,null,{"$f":"VLOOKUP(F564,工作表9!$G$1:$I$136,3, FALSE)","v":"混合物"},null,{"$f":"VLOOKUP(F564,工作表9!$G$1:$H$142, 2, FALSE)","v":0},0]
[null,null,null,null,null,null,{"$f":"VLOOKUP(F565,工作表9!$G$1:$I$136,3, FALSE)","v":"混合物"},null,{"$f":"VLOOKUP(F565,工作表9!$G$1:$H$142, 2, FALSE)","v":0},0]
[null,null,null,null,null,null,{"$f":"VLOOKUP(F566,工作表9!$G$1:$I$136,3, FALSE)","v":"混合物"},null,{"$f":"VLOOKUP(F566,工作表9!$G$1:$H$142, 2, FALSE)","v":0},0]
[null,null,null,null,null,null,{"$f":"VLOOKUP(F567,工作表9!$G$1:$I$136,3, FALSE)","v":"混合物"},null,{"$f":"VLOOKUP(F567,工作表9!$G$1:$H$142, 2, FALSE)","v":0},0]
[null,null,null,null,null,null,{"$f":"VLOOKUP(F568,工作表9!$G$1:$I$136,3, FALSE)","v":"混合物"},null,{"$f":"VLOOKUP(F568,工作表9!$G$1:$H$142, 2, FALSE)","v":0},0]
[null,null,null,null,null,null,{"$f":"VLOOKUP(F569,工作表9!$G$1:$I$136,3, FALSE)","v":"混合物"},null,{"$f":"VLOOKUP(F569,工作表9!$G$1:$H$142, 2, FALSE)","v":0},0]
[null,null,null,null,null,null,{"$f":"VLOOKUP(F570,工作表9!$G$1:$I$136,3, FALSE)","v":"混合物"},null,{"$f":"VLOOKUP(F570,工作表9!$G$1:$H$142, 2, FALSE)","v":0},0]
[null,null,null,null,null,null,{"$f":"VLOOKUP(F571,工作表9!$G$1:$I$136,3, FALSE)","v":"混合物"},null,{"$f":"VLOOKUP(F571,工作表9!$G$1:$H$142, 2, FALSE)","v":0},0]
[null,null,null,null,null,null,{"$f":"VLOOKUP(F572,工作表9!$G$1:$I$136,3, FALSE)","v":"混合物"},null,{"$f":"VLOOKUP(F572,工作表9!$G$1:$H$142, 2, FALSE)","v":0},0]
[null,null,null,null,null,null,{"$f":"VLOOKUP(F573,工作表9!$G$1:$I$136,3, FALSE)","v":"混合物"},null,{"$f":"VLOOKUP(F573,工作表9!$G$1:$H$142, 2, FALSE)","v":0},0]
[null,null,null,null,null,null,{"$f":"VLOOKUP(F574,工作表9!$G$1:$I$136,3, FALSE)","v":"混合物"},null,{"$f":"VLOOKUP(F574,工作表9!$G$1:$H$142, 2, FALSE)","v":0},0]
[null,null,null,null,null,null,{"$f":"VLOOKUP(F575,工作表9!$G$1:$I$136,3, FALSE)","v":"混合物"},null,{"$f":"VLOOKUP(F575,工作表9!$G$1:$H$142, 2, FALSE)","v":0},0]
[null,null,null,null,null,null,{"$f":"VLOOKUP(F576,工作表9!$G$1:$I$136,3, FALSE)","v":"混合物"},null,{"$f":"VLOOKUP(F576,工作表9!$G$1:$H$142, 2, FALSE)","v":0},0]
[null,null,null,null,null,null,{"$f":"VLOOKUP(F577,工作表9!$G$1:$I$136,3, FALSE)","v":"混合物"},null,{"$f":"VLOOKUP(F577,工作表9!$G$1:$H$142, 2, FALSE)","v":0},0]
[null,null,null,null,null,null,{"$f":"VLOOKUP(F578,工作表9!$G$1:$I$136,3, FALSE)","v":"混合物"},null,{"$f":"VLOOKUP(F578,工作表9!$G$1:$H$142, 2, FALSE)","v":0},0]
[null,null,null,null,null,null,{"$f":"VLOOKUP(F579,工作表9!$G$1:$I$136,3, FALSE)","v":"混合物"},null,{"$f":"VLOOKUP(F579,工作表9!$G$1:$H$142, 2, FALSE)","v":0},0]
[null,null,null,null,null,null,{"$f":"VLOOKUP(F580,工作表9!$G$1:$I$136,3, FALSE)","v":"混合物"},null,{"$f":"VLOOKUP(F580,工作表9!$G$1:$H$142, 2, FALSE)","v":0},0]
[null,null,null,null,null,null,{"$f":"VLOOKUP(F581,工作表9!$G$1:$I$136,3, FALSE)","v":"混合物"},null,{"$f":"VLOOKUP(F581,工作表9!$G$1:$H$142, 2, FALSE)","v":0},0]
[null,null,null,null,null,null,{"$f":"VLOOKUP(F582,工作表9!$G$1:$I$136,3, FALSE)","v":"混合物"},null,{"$f":"VLOOKUP(F582,工作表9!$G$1:$H$142, 2, FALSE)","v":0},{"$f":"H582*I582","v":0}]
[null,null,null,null,null,null,{"$f":"VLOOKUP(F583,工作表9!$G$1:$I$136,3, FALSE)","v":"混合物"},null,{"$f":"VLOOKUP(F583,工作表9!$G$1:$H$142, 2, FALSE)","v":0},0]
[null,null,null,null,null,null,{"$f":"VLOOKUP(F584,工作表9!$G$1:$I$136,3, FALSE)","v":"混合物"},null,{"$f":"VLOOKUP(F584,工作表9!$G$1:$H$142, 2, FALSE)","v":0},0]
[null,null,null,null,null,null,{"$f":"VLOOKUP(F585,工作表9!$G$1:$I$136,3, FALSE)","v":"混合物"},null,{"$f":"VLOOKUP(F585,工作表9!$G$1:$H$142, 2, FALSE)","v":0},0]
[null,null,null,null,null,null,{"$f":"VLOOKUP(F586,工作表9!$G$1:$I$136,3, FALSE)","v":"混合物"},null,{"$f":"VLOOKUP(F586,工作表9!$G$1:$H$142, 2, FALSE)","v":0},0]
[null,null,null,null,null,null,{"$f":"VLOOKUP(F587,工作表9!$G$1:$I$136,3, FALSE)","v":"混合物"},null,{"$f":"VLOOKUP(F587,工作表9!$G$1:$H$142, 2, FALSE)","v":0},0]
[null,null,null,null,null,null,{"$f":"VLOOKUP(F588,工作表9!$G$1:$I$136,3, FALSE)","v":"混合物"},null,{"$f":"VLOOKUP(F588,工作表9!$G$1:$H$142, 2, FALSE)","v":0},0]
[null,null,null,null,null,null,{"$f":"VLOOKUP(F589,工作表9!$G$1:$I$136,3, FALSE)","v":"混合物"},null,{"$f":"VLOOKUP(F589,工作表9!$G$1:$H$142, 2, FALSE)","v":0},0]
[null,null,null,null,null,null,{"$f":"VLOOKUP(F590,工作表9!$G$1:$I$136,3, FALSE)","v":"混合物"},null,{"$f":"VLOOKUP(F590,工作表9!$G$1:$H$142, 2, FALSE)","v":0},0]
[null,null,null,null,null,null,{"$f":"VLOOKUP(F591,工作表9!$G$1:$I$136,3, FALSE)","v":"混合物"},null,{"$f":"VLOOKUP(F591,工作表9!$G$1:$H$142, 2, FALSE)","v":0},0]
[null,null,null,null,null,null,{"$f":"VLOOKUP(F592,工作表9!$G$1:$I$136,3, FALSE)","v":"混合物"},null,{"$f":"VLOOKUP(F592,工作表9!$G$1:$H$142, 2, FALSE)","v":0},0]
[null,null,null,null,null,null,{"$f":"VLOOKUP(F593,工作表9!$G$1:$I$136,3, FALSE)","v":"混合物"},null,{"$f":"VLOOKUP(F593,工作表9!$G$1:$H$142, 2, FALSE)","v":0},0]
[null,null,null,null,null,null,{"$f":"VLOOKUP(F594,工作表9!$G$1:$I$136,3, FALSE)","v":"混合物"},null,{"$f":"VLOOKUP(F594,工作表9!$G$1:$H$142, 2, FALSE)","v":0},0]
[null,null,null,null,null,null,{"$f":"VLOOKUP(F595,工作表9!$G$1:$I$136,3, FALSE)","v":"混合物"},null,{"$f":"VLOOKUP(F595,工作表9!$G$1:$H$142, 2, FALSE)","v":0},0]
[null,null,null,null,null,null,{"$f":"VLOOKUP(F596,工作表9!$G$1:$I$136,3, FALSE)","v":"混合物"},null,{"$f":"VLOOKUP(F596,工作表9!$G$1:$H$142, 2, FALSE)","v":0},0]
[null,null,null,null,null,null,{"$f":"VLOOKUP(F597,工作表9!$G$1:$I$136,3, FALSE)","v":"混合物"},null,{"$f":"VLOOKUP(F597,工作表9!$G$1:$H$142, 2, FALSE)","v":0},0]
[null,null,null,null,null,null,{"$f":"VLOOKUP(F598,工作表9!$G$1:$I$136,3, FALSE)","v":"混合物"},null,{"$f":"VLOOKUP(F598,工作表9!$G$1:$H$142, 2, FALSE)","v":0},0]
[null,null,null,null,null,null,{"$f":"VLOOKUP(F599,工作表9!$G$1:$I$136,3, FALSE)","v":"混合物"},null,{"$f":"VLOOKUP(F599,工作表9!$G$1:$H$142, 2, FALSE)","v":0},0]
[null,null,null,null,null,null,{"$f":"VLOOKUP(F600,工作表9!$G$1:$I$136,3, FALSE)","v":"混合物"},null,{"$f":"VLOOKUP(F600,工作表9!$G$1:$H$142, 2, FALSE)","v":0},0]
[null,null,null,null,null,null,{"$f":"VLOOKUP(F601,工作表9!$G$1:$I$136,3, FALSE)","v":"混合物"},null,{"$f":"VLOOKUP(F601,工作表9!$G$1:$H$142, 2, FALSE)","v":0},0]
[null,null,null,null,null,null,{"$f":"VLOOKUP(F602,工作表9!$G$1:$I$136,3, FALSE)","v":"混合物"},null,{"$f":"VLOOKUP(F602,工作表9!$G$1:$H$142, 2, FALSE)","v":0},0]
[null,null,null,null,null,null,{"$f":"VLOOKUP(F603,工作表9!$G$1:$I$136,3, FALSE)","v":"混合物"},null,{"$f":"VLOOKUP(F603,工作表9!$G$1:$H$142, 2, FALSE)","v":0},0]
[null,null,null,null,null,null,{"$f":"VLOOKUP(F604,工作表9!$G$1:$I$136,3, FALSE)","v":"混合物"},null,{"$f":"VLOOKUP(F604,工作表9!$G$1:$H$142, 2, FALSE)","v":0},0]
[null,null,null,null,null,null,{"$f":"VLOOKUP(F605,工作表9!$G$1:$I$136,3, FALSE)","v":"混合物"},null,{"$f":"VLOOKUP(F605,工作表9!$G$1:$H$142, 2, FALSE)","v":0},0]
[null,null,null,null,null,null,{"$f":"VLOOKUP(F606,工作表9!$G$1:$I$136,3, FALSE)","v":"混合物"},null,{"$f":"VLOOKUP(F606,工作表9!$G$1:$H$142, 2, FALSE)","v":0},0]
[null,null,null,null,null,null,{"$f":"VLOOKUP(F607,工作表9!$G$1:$I$136,3, FALSE)","v":"混合物"},null,{"$f":"VLOOKUP(F607,工作表9!$G$1:$H$142, 2, FALSE)","v":0},0]
[null,null,null,null,null,null,{"$f":"VLOOKUP(F608,工作表9!$G$1:$I$136,3, FALSE)","v":"混合物"},null,{"$f":"VLOOKUP(F608,工作表9!$G$1:$H$142, 2, FALSE)","v":0},0]
[null,null,null,null,null,null,{"$f":"VLOOKUP(F609,工作表9!$G$1:$I$136,3, FALSE)","v":"混合物"},null,{"$f":"VLOOKUP(F609,工作表9!$G$1:$H$142, 2, FALSE)","v":0},0]
[null,null,null,null,null,null,{"$f":"VLOOKUP(F610,工作表9!$G$1:$I$136,3, FALSE)","v":"混合物"},null,{"$f":"VLOOKUP(F610,工作表9!$G$1:$H$142, 2, FALSE)","v":0},0]
[null,null,null,null,null,null,{"$f":"VLOOKUP(F611,工作表9!$G$1:$I$136,3, FALSE)","v":"混合物"},null,{"$f":"VLOOKUP(F611,工作表9!$G$1:$H$142, 2, FALSE)","v":0},0]
[null,null,null,null,null,null,{"$f":"VLOOKUP(F612,工作表9!$G$1:$I$136,3, FALSE)","v":"混合物"},null,{"$f":"VLOOKUP(F612,工作表9!$G$1:$H$142, 2, FALSE)","v":0},0]
[null,null,null,null,null,null,{"$f":"VLOOKUP(F613,工作表9!$G$1:$I$136,3, FALSE)","v":"混合物"},null,{"$f":"VLOOKUP(F613,工作表9!$G$1:$H$142, 2, FALSE)","v":0},0]
[null,null,null,null,null,null,{"$f":"VLOOKUP(F614,工作表9!$G$1:$I$136,3, FALSE)","v":"混合物"},null,{"$f":"VLOOKUP(F614,工作表9!$G$1:$H$142, 2, FALSE)","v":0},0]
[null,null,null,null,null,null,{"$f":"VLOOKUP(F615,工作表9!$G$1:$I$136,3, FALSE)","v":"混合物"},null,{"$f":"VLOOKUP(F615,工作表9!$G$1:$H$142, 2, FALSE)","v":0},0]
[null,null,null,null,null,null,{"$f":"VLOOKUP(F616,工作表9!$G$1:$I$136,3, FALSE)","v":"混合物"},null,{"$f":"VLOOKUP(F616,工作表9!$G$1:$H$142, 2, FALSE)","v":0},0]
[null,null,null,null,null,null,{"$f":"VLOOKUP(F617,工作表9!$G$1:$I$136,3, FALSE)","v":"混合物"},null,{"$f":"VLOOKUP(F617,工作表9!$G$1:$H$142, 2, FALSE)","v":0},0]
[null,null,null,null,null,null,{"$f":"VLOOKUP(F618,工作表9!$G$1:$I$136,3, FALSE)","v":"混合物"},null,{"$f":"VLOOKUP(F618,工作表9!$G$1:$H$142, 2, FALSE)","v":0},0]
[null,null,null,null,null,null,{"$f":"VLOOKUP(F619,工作表9!$G$1:$I$136,3, FALSE)","v":"混合物"},null,{"$f":"VLOOKUP(F619,工作表9!$G$1:$H$142, 2, FALSE)","v":0},0]
[null,null,null,null,null,null,{"$f":"VLOOKUP(F620,工作表9!$G$1:$I$136,3, FALSE)","v":"混合物"},null,{"$f":"VLOOKUP(F620,工作表9!$G$1:$H$142, 2, FALSE)","v":0},0]
[null,null,null,null,null,null,{"$f":"VLOOKUP(F621,工作表9!$G$1:$I$136,3, FALSE)","v":"混合物"},null,{"$f":"VLOOKUP(F621,工作表9!$G$1:$H$142, 2, FALSE)","v":0},0]
[null,null,null,null,null,null,{"$f":"VLOOKUP(F622,工作表9!$G$1:$I$136,3, FALSE)","v":"混合物"},null,{"$f":"VLOOKUP(F622,工作表9!$G$1:$H$142, 2, FALSE)","v":0},0]
[null,null,null,null,null,null,{"$f":"VLOOKUP(F623,工作表9!$G$1:$I$136,3, FALSE)","v":"混合物"},null,{"$f":"VLOOKUP(F623,工作表9!$G$1:$H$142, 2, FALSE)","v":0},0]
[null,null,null,null,null,null,{"$f":"VLOOKUP(F624,工作表9!$G$1:$I$136,3, FALSE)","v":"混合物"},null,{"$f":"VLOOKUP(F624,工作表9!$G$1:$H$142, 2, FALSE)","v":0},0]
[null,null,null,null,null,null,{"$f":"VLOOKUP(F625,工作表9!$G$1:$I$136,3, FALSE)","v":"混合物"},null,{"$f":"VLOOKUP(F625,工作表9!$G$1:$H$142, 2, FALSE)","v":0},0]
[null,null,null,null,null,null,{"$f":"VLOOKUP(F626,工作表9!$G$1:$I$136,3, FALSE)","v":"混合物"},null,{"$f":"VLOOKUP(F626,工作表9!$G$1:$H$142, 2, FALSE)","v":0},0]
[null,null,null,null,null,null,{"$f":"VLOOKUP(F627,工作表9!$G$1:$I$136,3, FALSE)","v":"混合物"},null,{"$f":"VLOOKUP(F627,工作表9!$G$1:$H$142, 2, FALSE)","v":0},0]
[null,null,null,null,null,null,{"$f":"VLOOKUP(F628,工作表9!$G$1:$I$136,3, FALSE)","v":"混合物"},null,{"$f":"VLOOKUP(F628,工作表9!$G$1:$H$142, 2, FALSE)","v":0},0]
[null,null,null,null,null,null,{"$f":"VLOOKUP(F629,工作表9!$G$1:$I$136,3, FALSE)","v":"混合物"},null,{"$f":"VLOOKUP(F629,工作表9!$G$1:$H$142, 2, FALSE)","v":0},0]
[null,null,null,null,null,null,{"$f":"VLOOKUP(F630,工作表9!$G$1:$I$136,3, FALSE)","v":"混合物"},null,{"$f":"VLOOKUP(F630,工作表9!$G$1:$H$142, 2, FALSE)","v":0},0]
[null,null,null,null,null,null,{"$f":"VLOOKUP(F631,工作表9!$G$1:$I$136,3, FALSE)","v":"混合物"},null,{"$f":"VLOOKUP(F631,工作表9!$G$1:$H$142, 2, FALSE)","v":0},0]
[null,null,null,null,null,null,{"$f":"VLOOKUP(F632,工作表9!$G$1:$I$136,3, FALSE)","v":"混合物"},null,{"$f":"VLOOKUP(F632,工作表9!$G$1:$H$142, 2, FALSE)","v":0},0]
[null,null,null,null,null,null,{"$f":"VLOOKUP(F633,工作表9!$G$1:$I$136,3, FALSE)","v":"混合物"},null,{"$f":"VLOOKUP(F633,工作表9!$G$1:$H$142, 2, FALSE)","v":0},0]
[null,null,null,null,null,null,{"$f":"VLOOKUP(F634,工作表9!$G$1:$I$136,3, FALSE)","v":"混合物"},null,{"$f":"VLOOKUP(F634,工作表9!$G$1:$H$142, 2, FALSE)","v":0},0]
[null,null,null,null,null,null,{"$f":"VLOOKUP(F635,工作表9!$G$1:$I$136,3, FALSE)","v":"混合物"},null,{"$f":"VLOOKUP(F635,工作表9!$G$1:$H$142, 2, FALSE)","v":0},0]
[null,null,null,null,null,null,{"$f":"VLOOKUP(F636,工作表9!$G$1:$I$136,3, FALSE)","v":"混合物"},null,{"$f":"VLOOKUP(F636,工作表9!$G$1:$H$142, 2, FALSE)","v":0},0]
[null,null,null,null,null,null,{"$f":"VLOOKUP(F637,工作表9!$G$1:$I$136,3, FALSE)","v":"混合物"},null,{"$f":"VLOOKUP(F637,工作表9!$G$1:$H$142, 2, FALSE)","v":0},0]
[null,null,null,null,null,null,{"$f":"VLOOKUP(F638,工作表9!$G$1:$I$136,3, FALSE)","v":"混合物"},null,{"$f":"VLOOKUP(F638,工作表9!$G$1:$H$142, 2, FALSE)","v":0},0]
[null,null,null,null,null,null,{"$f":"VLOOKUP(F639,工作表9!$G$1:$I$136,3, FALSE)","v":"混合物"},null,{"$f":"VLOOKUP(F639,工作表9!$G$1:$H$142, 2, FALSE)","v":0},0]
[null,null,null,null,null,null,{"$f":"VLOOKUP(F640,工作表9!$G$1:$I$136,3, FALSE)","v":"混合物"},null,{"$f":"VLOOKUP(F640,工作表9!$G$1:$H$142, 2, FALSE)","v":0},0]
[null,null,null,null,null,null,{"$f":"VLOOKUP(F641,工作表9!$G$1:$I$136,3, FALSE)","v":"混合物"},null,{"$f":"VLOOKUP(F641,工作表9!$G$1:$H$142, 2, FALSE)","v":0},0]
[null,null,null,null,null,null,{"$f":"VLOOKUP(F642,工作表9!$G$1:$I$136,3, FALSE)","v":"混合物"},null,{"$f":"VLOOKUP(F642,工作表9!$G$1:$H$142, 2, FALSE)","v":0},0]
[null,null,null,null,null,null,{"$f":"VLOOKUP(F643,工作表9!$G$1:$I$136,3, FALSE)","v":"混合物"},null,{"$f":"VLOOKUP(F643,工作表9!$G$1:$H$142, 2, FALSE)","v":0},0]
[null,null,null,null,null,null,{"$f":"VLOOKUP(F644,工作表9!$G$1:$I$136,3, FALSE)","v":"混合物"},null,{"$f":"VLOOKUP(F644,工作表9!$G$1:$H$142, 2, FALSE)","v":0},0]
[null,null,null,null,null,null,{"$f":"VLOOKUP(F645,工作表9!$G$1:$I$136,3, FALSE)","v":"混合物"},null,{"$f":"VLOOKUP(F645,工作表9!$G$1:$H$142, 2, FALSE)","v":0},0]
[null,null,null,null,null,null,{"$f":"VLOOKUP(F646,工作表9!$G$1:$I$136,3, FALSE)","v":"混合物"},null,{"$f":"VLOOKUP(F646,工作表9!$G$1:$H$142, 2, FALSE)","v":0},{"$f":"H646*I646","v":0}]
[null,null,null,null,null,null,{"$f":"VLOOKUP(F647,工作表9!$G$1:$I$136,3, FALSE)","v":"混合物"},null,{"$f":"VLOOKUP(F647,工作表9!$G$1:$H$142, 2, FALSE)","v":0},0]
[null,null,null,null,null,null,{"$f":"VLOOKUP(F648,工作表9!$G$1:$I$136,3, FALSE)","v":"混合物"},null,{"$f":"VLOOKUP(F648,工作表9!$G$1:$H$142, 2, FALSE)","v":0},0]
[null,null,null,null,null,null,{"$f":"VLOOKUP(F649,工作表9!$G$1:$I$136,3, FALSE)","v":"混合物"},null,{"$f":"VLOOKUP(F649,工作表9!$G$1:$H$142, 2, FALSE)","v":0},0]
[null,null,null,null,null,null,{"$f":"VLOOKUP(F650,工作表9!$G$1:$I$136,3, FALSE)","v":"混合物"},null,{"$f":"VLOOKUP(F650,工作表9!$G$1:$H$142, 2, FALSE)","v":0},0]
[null,null,null,null,null,null,{"$f":"VLOOKUP(F651,工作表9!$G$1:$I$136,3, FALSE)","v":"混合物"},null,{"$f":"VLOOKUP(F651,工作表9!$G$1:$H$142, 2, FALSE)","v":0},0]
[null,null,null,null,null,null,{"$f":"VLOOKUP(F652,工作表9!$G$1:$I$136,3, FALSE)","v":"混合物"},null,{"$f":"VLOOKUP(F652,工作表9!$G$1:$H$142, 2, FALSE)","v":0},0]
[null,null,null,null,null,null,{"$f":"VLOOKUP(F653,工作表9!$G$1:$I$136,3, FALSE)","v":"混合物"},null,{"$f":"VLOOKUP(F653,工作表9!$G$1:$H$142, 2, FALSE)","v":0},0]
[null,null,null,null,null,null,{"$f":"VLOOKUP(F654,工作表9!$G$1:$I$136,3, FALSE)","v":"混合物"},null,{"$f":"VLOOKUP(F654,工作表9!$G$1:$H$142, 2, FALSE)","v":0},0]
[null,null,null,null,null,null,{"$f":"VLOOKUP(F655,工作表9!$G$1:$I$136,3, FALSE)","v":"混合物"},null,{"$f":"VLOOKUP(F655,工作表9!$G$1:$H$142, 2, FALSE)","v":0},0]
[null,null,null,null,null,null,{"$f":"VLOOKUP(F656,工作表9!$G$1:$I$136,3, FALSE)","v":"混合物"},null,{"$f":"VLOOKUP(F656,工作表9!$G$1:$H$142, 2, FALSE)","v":0},0]
[null,null,null,null,null,null,{"$f":"VLOOKUP(F657,工作表9!$G$1:$I$136,3, FALSE)","v":"混合物"},null,{"$f":"VLOOKUP(F657,工作表9!$G$1:$H$142, 2, FALSE)","v":0},0]
[null,null,null,null,null,null,{"$f":"VLOOKUP(F658,工作表9!$G$1:$I$136,3, FALSE)","v":"混合物"},null,{"$f":"VLOOKUP(F658,工作表9!$G$1:$H$142, 2, FALSE)","v":0},0]
[null,null,null,null,null,null,{"$f":"VLOOKUP(F659,工作表9!$G$1:$I$136,3, FALSE)","v":"混合物"},null,{"$f":"VLOOKUP(F659,工作表9!$G$1:$H$142, 2, FALSE)","v":0},0]
[null,null,null,null,null,null,{"$f":"VLOOKUP(F660,工作表9!$G$1:$I$136,3, FALSE)","v":"混合物"},null,{"$f":"VLOOKUP(F660,工作表9!$G$1:$H$142, 2, FALSE)","v":0},0]
[null,null,null,null,null,null,{"$f":"VLOOKUP(F661,工作表9!$G$1:$I$136,3, FALSE)","v":"混合物"},null,{"$f":"VLOOKUP(F661,工作表9!$G$1:$H$142, 2, FALSE)","v":0},0]
[null,null,null,null,null,null,{"$f":"VLOOKUP(F662,工作表9!$G$1:$I$136,3, FALSE)","v":"混合物"},null,{"$f":"VLOOKUP(F662,工作表9!$G$1:$H$142, 2, FALSE)","v":0},0]
[null,null,null,null,null,null,{"$f":"VLOOKUP(F663,工作表9!$G$1:$I$136,3, FALSE)","v":"混合物"},null,{"$f":"VLOOKUP(F663,工作表9!$G$1:$H$142, 2, FALSE)","v":0},0]
[null,null,null,null,null,null,{"$f":"VLOOKUP(F664,工作表9!$G$1:$I$136,3, FALSE)","v":"混合物"},null,{"$f":"VLOOKUP(F664,工作表9!$G$1:$H$142, 2, FALSE)","v":0},0]
[null,null,null,null,null,null,{"$f":"VLOOKUP(F665,工作表9!$G$1:$I$136,3, FALSE)","v":"混合物"},null,{"$f":"VLOOKUP(F665,工作表9!$G$1:$H$142, 2, FALSE)","v":0},0]
[null,null,null,null,null,null,{"$f":"VLOOKUP(F666,工作表9!$G$1:$I$136,3, FALSE)","v":"混合物"},null,{"$f":"VLOOKUP(F666,工作表9!$G$1:$H$142, 2, FALSE)","v":0},0]
[null,null,null,null,null,null,{"$f":"VLOOKUP(F667,工作表9!$G$1:$I$136,3, FALSE)","v":"混合物"},null,{"$f":"VLOOKUP(F667,工作表9!$G$1:$H$142, 2, FALSE)","v":0},0]
[null,null,null,null,null,null,{"$f":"VLOOKUP(F668,工作表9!$G$1:$I$136,3, FALSE)","v":"混合物"},null,{"$f":"VLOOKUP(F668,工作表9!$G$1:$H$142, 2, FALSE)","v":0},0]
[null,null,null,null,null,null,{"$f":"VLOOKUP(F669,工作表9!$G$1:$I$136,3, FALSE)","v":"混合物"},null,{"$f":"VLOOKUP(F669,工作表9!$G$1:$H$142, 2, FALSE)","v":0},0]
[null,null,null,null,null,null,{"$f":"VLOOKUP(F670,工作表9!$G$1:$I$136,3, FALSE)","v":"混合物"},null,{"$f":"VLOOKUP(F670,工作表9!$G$1:$H$142, 2, FALSE)","v":0},0]
[null,null,null,null,null,null,{"$f":"VLOOKUP(F671,工作表9!$G$1:$I$136,3, FALSE)","v":"混合物"},null,{"$f":"VLOOKUP(F671,工作表9!$G$1:$H$142, 2, FALSE)","v":0},0]
[null,null,null,null,null,null,{"$f":"VLOOKUP(F672,工作表9!$G$1:$I$136,3, FALSE)","v":"混合物"},null,{"$f":"VLOOKUP(F672,工作表9!$G$1:$H$142, 2, FALSE)","v":0},0]
[null,null,null,null,null,null,{"$f":"VLOOKUP(F673,工作表9!$G$1:$I$136,3, FALSE)","v":"混合物"},null,{"$f":"VLOOKUP(F673,工作表9!$G$1:$H$142, 2, FALSE)","v":0},0]
[null,null,null,null,null,null,{"$f":"VLOOKUP(F674,工作表9!$G$1:$I$136,3, FALSE)","v":"混合物"},null,{"$f":"VLOOKUP(F674,工作表9!$G$1:$H$142, 2, FALSE)","v":0},0]
[null,null,null,null,null,null,{"$f":"VLOOKUP(F675,工作表9!$G$1:$I$136,3, FALSE)","v":"混合物"},null,{"$f":"VLOOKUP(F675,工作表9!$G$1:$H$142, 2, FALSE)","v":0},0]
[null,null,null,null,null,null,{"$f":"VLOOKUP(F676,工作表9!$G$1:$I$136,3, FALSE)","v":"混合物"},null,{"$f":"VLOOKUP(F676,工作表9!$G$1:$H$142, 2, FALSE)","v":0},0]
[null,null,null,null,null,null,{"$f":"VLOOKUP(F677,工作表9!$G$1:$I$136,3, FALSE)","v":"混合物"},null,{"$f":"VLOOKUP(F677,工作表9!$G$1:$H$142, 2, FALSE)","v":0},0]
[null,null,null,null,null,null,{"$f":"VLOOKUP(F678,工作表9!$G$1:$I$136,3, FALSE)","v":"混合物"},null,{"$f":"VLOOKUP(F678,工作表9!$G$1:$H$142, 2, FALSE)","v":0},0]
[null,null,null,null,null,null,{"$f":"VLOOKUP(F679,工作表9!$G$1:$I$136,3, FALSE)","v":"混合物"},null,{"$f":"VLOOKUP(F679,工作表9!$G$1:$H$142, 2, FALSE)","v":0},0]
[null,null,null,null,null,null,{"$f":"VLOOKUP(F680,工作表9!$G$1:$I$136,3, FALSE)","v":"混合物"},null,{"$f":"VLOOKUP(F680,工作表9!$G$1:$H$142, 2, FALSE)","v":0},0]
[null,null,null,null,null,null,{"$f":"VLOOKUP(F681,工作表9!$G$1:$I$136,3, FALSE)","v":"混合物"},null,{"$f":"VLOOKUP(F681,工作表9!$G$1:$H$142, 2, FALSE)","v":0},0]
[null,null,null,null,null,null,{"$f":"VLOOKUP(F682,工作表9!$G$1:$I$136,3, FALSE)","v":"混合物"},null,{"$f":"VLOOKUP(F682,工作表9!$G$1:$H$142, 2, FALSE)","v":0},0]
[null,null,null,null,null,null,{"$f":"VLOOKUP(F683,工作表9!$G$1:$I$136,3, FALSE)","v":"混合物"},null,{"$f":"VLOOKUP(F683,工作表9!$G$1:$H$142, 2, FALSE)","v":0},0]
[null,null,null,null,null,null,{"$f":"VLOOKUP(F684,工作表9!$G$1:$I$136,3, FALSE)","v":"混合物"},null,{"$f":"VLOOKUP(F684,工作表9!$G$1:$H$142, 2, FALSE)","v":0},0]
[null,null,null,null,null,null,{"$f":"VLOOKUP(F685,工作表9!$G$1:$I$136,3, FALSE)","v":"混合物"},null,{"$f":"VLOOKUP(F685,工作表9!$G$1:$H$142, 2, FALSE)","v":0},0]
[null,null,null,null,null,null,{"$f":"VLOOKUP(F686,工作表9!$G$1:$I$136,3, FALSE)","v":"混合物"},null,{"$f":"VLOOKUP(F686,工作表9!$G$1:$H$142, 2, FALSE)","v":0},0]
[null,null,null,null,null,null,{"$f":"VLOOKUP(F687,工作表9!$G$1:$I$136,3, FALSE)","v":"混合物"},null,{"$f":"VLOOKUP(F687,工作表9!$G$1:$H$142, 2, FALSE)","v":0},0]
[null,null,null,null,null,null,{"$f":"VLOOKUP(F688,工作表9!$G$1:$I$136,3, FALSE)","v":"混合物"},null,{"$f":"VLOOKUP(F688,工作表9!$G$1:$H$142, 2, FALSE)","v":0},0]
[null,null,null,null,null,null,{"$f":"VLOOKUP(F689,工作表9!$G$1:$I$136,3, FALSE)","v":"混合物"},null,{"$f":"VLOOKUP(F689,工作表9!$G$1:$H$142, 2, FALSE)","v":0},0]
[null,null,null,null,null,null,{"$f":"VLOOKUP(F690,工作表9!$G$1:$I$136,3, FALSE)","v":"混合物"},null,{"$f":"VLOOKUP(F690,工作表9!$G$1:$H$142, 2, FALSE)","v":0},0]
[null,null,null,null,null,null,{"$f":"VLOOKUP(F691,工作表9!$G$1:$I$136,3, FALSE)","v":"混合物"},null,{"$f":"VLOOKUP(F691,工作表9!$G$1:$H$142, 2, FALSE)","v":0},0]
[null,null,null,null,null,null,{"$f":"VLOOKUP(F692,工作表9!$G$1:$I$136,3, FALSE)","v":"混合物"},null,{"$f":"VLOOKUP(F692,工作表9!$G$1:$H$142, 2, FALSE)","v":0},0]
[null,null,null,null,null,null,{"$f":"VLOOKUP(F693,工作表9!$G$1:$I$136,3, FALSE)","v":"混合物"},null,{"$f":"VLOOKUP(F693,工作表9!$G$1:$H$142, 2, FALSE)","v":0},0]
[null,null,null,null,null,null,{"$f":"VLOOKUP(F694,工作表9!$G$1:$I$136,3, FALSE)","v":"混合物"},null,{"$f":"VLOOKUP(F694,工作表9!$G$1:$H$142, 2, FALSE)","v":0},0]
[null,null,null,null,null,null,{"$f":"VLOOKUP(F695,工作表9!$G$1:$I$136,3, FALSE)","v":"混合物"},null,{"$f":"VLOOKUP(F695,工作表9!$G$1:$H$142, 2, FALSE)","v":0},0]
[null,null,null,null,null,null,{"$f":"VLOOKUP(F696,工作表9!$G$1:$I$136,3, FALSE)","v":"混合物"},null,{"$f":"VLOOKUP(F696,工作表9!$G$1:$H$142, 2, FALSE)","v":0},0]
[null,null,null,null,null,null,{"$f":"VLOOKUP(F697,工作表9!$G$1:$I$136,3, FALSE)","v":"混合物"},null,{"$f":"VLOOKUP(F697,工作表9!$G$1:$H$142, 2, FALSE)","v":0},0]
[null,null,null,null,null,null,{"$f":"VLOOKUP(F698,工作表9!$G$1:$I$136,3, FALSE)","v":"混合物"},null,{"$f":"VLOOKUP(F698,工作表9!$G$1:$H$142, 2, FALSE)","v":0},0]
[null,null,null,null,null,null,{"$f":"VLOOKUP(F699,工作表9!$G$1:$I$136,3, FALSE)","v":"混合物"},null,{"$f":"VLOOKUP(F699,工作表9!$G$1:$H$142, 2, FALSE)","v":0},0]
[null,null,null,null,null,null,{"$f":"VLOOKUP(F700,工作表9!$G$1:$I$136,3, FALSE)","v":"混合物"},null,{"$f":"VLOOKUP(F700,工作表9!$G$1:$H$142, 2, FALSE)","v":0},0]
[null,null,null,null,null,null,{"$f":"VLOOKUP(F701,工作表9!$G$1:$I$136,3, FALSE)","v":"混合物"},null,{"$f":"VLOOKUP(F701,工作表9!$G$1:$H$142, 2, FALSE)","v":0},0]
[null,null,null,null,null,null,{"$f":"VLOOKUP(F702,工作表9!$G$1:$I$136,3, FALSE)","v":"混合物"},null,{"$f":"VLOOKUP(F702,工作表9!$G$1:$H$142, 2, FALSE)","v":0},0]
[null,null,null,null,null,null,{"$f":"VLOOKUP(F703,工作表9!$G$1:$I$136,3, FALSE)","v":"混合物"},null,{"$f":"VLOOKUP(F703,工作表9!$G$1:$H$142, 2, FALSE)","v":0},0]
[null,null,null,null,null,null,{"$f":"VLOOKUP(F704,工作表9!$G$1:$I$136,3, FALSE)","v":"混合物"},null,{"$f":"VLOOKUP(F704,工作表9!$G$1:$H$142, 2, FALSE)","v":0},0]
[null,null,null,null,null,null,{"$f":"VLOOKUP(F705,工作表9!$G$1:$I$136,3, FALSE)","v":"混合物"},null,{"$f":"VLOOKUP(F705,工作表9!$G$1:$H$142, 2, FALSE)","v":0},0]
[null,null,null,null,null,null,{"$f":"VLOOKUP(F706,工作表9!$G$1:$I$136,3, FALSE)","v":"混合物"},null,{"$f":"VLOOKUP(F706,工作表9!$G$1:$H$142, 2, FALSE)","v":0},0]
[null,null,null,null,null,null,{"$f":"VLOOKUP(F707,工作表9!$G$1:$I$136,3, FALSE)","v":"混合物"},null,{"$f":"VLOOKUP(F707,工作表9!$G$1:$H$142, 2, FALSE)","v":0},0]
[null,null,null,null,null,null,{"$f":"VLOOKUP(F708,工作表9!$G$1:$I$136,3, FALSE)","v":"混合物"},null,{"$f":"VLOOKUP(F708,工作表9!$G$1:$H$142, 2, FALSE)","v":0},0]
[null,null,null,null,null,null,{"$f":"VLOOKUP(F709,工作表9!$G$1:$I$136,3, FALSE)","v":"混合物"},null,{"$f":"VLOOKUP(F709,工作表9!$G$1:$H$142, 2, FALSE)","v":0},0]
[null,null,null,null,null,null,{"$f":"VLOOKUP(F710,工作表9!$G$1:$I$136,3, FALSE)","v":"混合物"},null,{"$f":"VLOOKUP(F710,工作表9!$G$1:$H$142, 2, FALSE)","v":0},{"$f":"H710*I710","v":0}]
[null,null,null,null,null,null,{"$f":"VLOOKUP(F711,工作表9!$G$1:$I$136,3, FALSE)","v":"混合物"},null,{"$f":"VLOOKUP(F711,工作表9!$G$1:$H$142, 2, FALSE)","v":0},0]
[null,null,null,null,null,null,{"$f":"VLOOKUP(F712,工作表9!$G$1:$I$136,3, FALSE)","v":"混合物"},null,{"$f":"VLOOKUP(F712,工作表9!$G$1:$H$142, 2, FALSE)","v":0},0]
[null,null,null,null,null,null,{"$f":"VLOOKUP(F713,工作表9!$G$1:$I$136,3, FALSE)","v":"混合物"},null,{"$f":"VLOOKUP(F713,工作表9!$G$1:$H$142, 2, FALSE)","v":0},0]
[null,null,null,null,null,null,{"$f":"VLOOKUP(F714,工作表9!$G$1:$I$136,3, FALSE)","v":"混合物"},null,{"$f":"VLOOKUP(F714,工作表9!$G$1:$H$142, 2, FALSE)","v":0},0]
[null,null,null,null,null,null,{"$f":"VLOOKUP(F715,工作表9!$G$1:$I$136,3, FALSE)","v":"混合物"},null,{"$f":"VLOOKUP(F715,工作表9!$G$1:$H$142, 2, FALSE)","v":0},0]
[null,null,null,null,null,null,{"$f":"VLOOKUP(F716,工作表9!$G$1:$I$136,3, FALSE)","v":"混合物"},null,{"$f":"VLOOKUP(F716,工作表9!$G$1:$H$142, 2, FALSE)","v":0},0]
[null,null,null,null,null,null,{"$f":"VLOOKUP(F717,工作表9!$G$1:$I$136,3, FALSE)","v":"混合物"},null,{"$f":"VLOOKUP(F717,工作表9!$G$1:$H$142, 2, FALSE)","v":0},0]
[null,null,null,null,null,null,{"$f":"VLOOKUP(F718,工作表9!$G$1:$I$136,3, FALSE)","v":"混合物"},null,{"$f":"VLOOKUP(F718,工作表9!$G$1:$H$142, 2, FALSE)","v":0},0]
[null,null,null,null,null,null,{"$f":"VLOOKUP(F719,工作表9!$G$1:$I$136,3, FALSE)","v":"混合物"},null,{"$f":"VLOOKUP(F719,工作表9!$G$1:$H$142, 2, FALSE)","v":0},0]
[null,null,null,null,null,null,{"$f":"VLOOKUP(F720,工作表9!$G$1:$I$136,3, FALSE)","v":"混合物"},null,{"$f":"VLOOKUP(F720,工作表9!$G$1:$H$142, 2, FALSE)","v":0},0]
[null,null,null,null,null,null,{"$f":"VLOOKUP(F721,工作表9!$G$1:$I$136,3, FALSE)","v":"混合物"},null,{"$f":"VLOOKUP(F721,工作表9!$G$1:$H$142, 2, FALSE)","v":0},0]
[null,null,null,null,null,null,{"$f":"VLOOKUP(F722,工作表9!$G$1:$I$136,3, FALSE)","v":"混合物"},null,{"$f":"VLOOKUP(F722,工作表9!$G$1:$H$142, 2, FALSE)","v":0},0]
[null,null,null,null,null,null,{"$f":"VLOOKUP(F723,工作表9!$G$1:$I$136,3, FALSE)","v":"混合物"},null,{"$f":"VLOOKUP(F723,工作表9!$G$1:$H$142, 2, FALSE)","v":0},0]
[null,null,null,null,null,null,{"$f":"VLOOKUP(F724,工作表9!$G$1:$I$136,3, FALSE)","v":"混合物"},null,{"$f":"VLOOKUP(F724,工作表9!$G$1:$H$142, 2, FALSE)","v":0},0]
[null,null,null,null,null,null,{"$f":"VLOOKUP(F725,工作表9!$G$1:$I$136,3, FALSE)","v":"混合物"},null,{"$f":"VLOOKUP(F725,工作表9!$G$1:$H$142, 2, FALSE)","v":0},0]
[null,null,null,null,null,null,{"$f":"VLOOKUP(F726,工作表9!$G$1:$I$136,3, FALSE)","v":"混合物"},null,{"$f":"VLOOKUP(F726,工作表9!$G$1:$H$142, 2, FALSE)","v":0},0]
[null,null,null,null,null,null,{"$f":"VLOOKUP(F727,工作表9!$G$1:$I$136,3, FALSE)","v":"混合物"},null,{"$f":"VLOOKUP(F727,工作表9!$G$1:$H$142, 2, FALSE)","v":0},0]
[null,null,null,null,null,null,{"$f":"VLOOKUP(F728,工作表9!$G$1:$I$136,3, FALSE)","v":"混合物"},null,{"$f":"VLOOKUP(F728,工作表9!$G$1:$H$142, 2, FALSE)","v":0},0]
[null,null,null,null,null,null,{"$f":"VLOOKUP(F729,工作表9!$G$1:$I$136,3, FALSE)","v":"混合物"},null,{"$f":"VLOOKUP(F729,工作表9!$G$1:$H$142, 2, FALSE)","v":0},0]
[null,null,null,null,null,null,{"$f":"VLOOKUP(F730,工作表9!$G$1:$I$136,3, FALSE)","v":"混合物"},null,{"$f":"VLOOKUP(F730,工作表9!$G$1:$H$142, 2, FALSE)","v":0},0]
[null,null,null,null,null,null,{"$f":"VLOOKUP(F731,工作表9!$G$1:$I$136,3, FALSE)","v":"混合物"},null,{"$f":"VLOOKUP(F731,工作表9!$G$1:$H$142, 2, FALSE)","v":0},0]
[null,null,null,null,null,null,{"$f":"VLOOKUP(F732,工作表9!$G$1:$I$136,3, FALSE)","v":"混合物"},null,{"$f":"VLOOKUP(F732,工作表9!$G$1:$H$142, 2, FALSE)","v":0},0]
[null,null,null,null,null,null,{"$f":"VLOOKUP(F733,工作表9!$G$1:$I$136,3, FALSE)","v":"混合物"},null,{"$f":"VLOOKUP(F733,工作表9!$G$1:$H$142, 2, FALSE)","v":0},0]
[null,null,null,null,null,null,{"$f":"VLOOKUP(F734,工作表9!$G$1:$I$136,3, FALSE)","v":"混合物"},null,{"$f":"VLOOKUP(F734,工作表9!$G$1:$H$142, 2, FALSE)","v":0},0]
[null,null,null,null,null,null,{"$f":"VLOOKUP(F735,工作表9!$G$1:$I$136,3, FALSE)","v":"混合物"},null,{"$f":"VLOOKUP(F735,工作表9!$G$1:$H$142, 2, FALSE)","v":0},0]
[null,null,null,null,null,null,{"$f":"VLOOKUP(F736,工作表9!$G$1:$I$136,3, FALSE)","v":"混合物"},null,{"$f":"VLOOKUP(F736,工作表9!$G$1:$H$142, 2, FALSE)","v":0},0]
[null,null,null,null,null,null,{"$f":"VLOOKUP(F737,工作表9!$G$1:$I$136,3, FALSE)","v":"混合物"},null,{"$f":"VLOOKUP(F737,工作表9!$G$1:$H$142, 2, FALSE)","v":0},0]
[null,null,null,null,null,null,{"$f":"VLOOKUP(F738,工作表9!$G$1:$I$136,3, FALSE)","v":"混合物"},null,{"$f":"VLOOKUP(F738,工作表9!$G$1:$H$142, 2, FALSE)","v":0},0]
[null,null,null,null,null,null,{"$f":"VLOOKUP(F739,工作表9!$G$1:$I$136,3, FALSE)","v":"混合物"},null,{"$f":"VLOOKUP(F739,工作表9!$G$1:$H$142, 2, FALSE)","v":0},0]
[null,null,null,null,null,null,{"$f":"VLOOKUP(F740,工作表9!$G$1:$I$136,3, FALSE)","v":"混合物"},null,{"$f":"VLOOKUP(F740,工作表9!$G$1:$H$142, 2, FALSE)","v":0},0]
[null,null,null,null,null,null,{"$f":"VLOOKUP(F741,工作表9!$G$1:$I$136,3, FALSE)","v":"混合物"},null,{"$f":"VLOOKUP(F741,工作表9!$G$1:$H$142, 2, FALSE)","v":0},0]
[null,null,null,null,null,null,{"$f":"VLOOKUP(F742,工作表9!$G$1:$I$136,3, FALSE)","v":"混合物"},null,{"$f":"VLOOKUP(F742,工作表9!$G$1:$H$142, 2, FALSE)","v":0},0]
[null,null,null,null,null,null,{"$f":"VLOOKUP(F743,工作表9!$G$1:$I$136,3, FALSE)","v":"混合物"},null,{"$f":"VLOOKUP(F743,工作表9!$G$1:$H$142, 2, FALSE)","v":0},0]
[null,null,null,null,null,null,{"$f":"VLOOKUP(F744,工作表9!$G$1:$I$136,3, FALSE)","v":"混合物"},null,{"$f":"VLOOKUP(F744,工作表9!$G$1:$H$142, 2, FALSE)","v":0},0]
[null,null,null,null,null,null,{"$f":"VLOOKUP(F745,工作表9!$G$1:$I$136,3, FALSE)","v":"混合物"},null,{"$f":"VLOOKUP(F745,工作表9!$G$1:$H$142, 2, FALSE)","v":0},0]
[null,null,null,null,null,null,{"$f":"VLOOKUP(F746,工作表9!$G$1:$I$136,3, FALSE)","v":"混合物"},null,{"$f":"VLOOKUP(F746,工作表9!$G$1:$H$142, 2, FALSE)","v":0},0]
[null,null,null,null,null,null,{"$f":"VLOOKUP(F747,工作表9!$G$1:$I$136,3, FALSE)","v":"混合物"},null,{"$f":"VLOOKUP(F747,工作表9!$G$1:$H$142, 2, FALSE)","v":0},0]
[null,null,null,null,null,null,{"$f":"VLOOKUP(F748,工作表9!$G$1:$I$136,3, FALSE)","v":"混合物"},null,{"$f":"VLOOKUP(F748,工作表9!$G$1:$H$142, 2, FALSE)","v":0},0]
[null,null,null,null,null,null,{"$f":"VLOOKUP(F749,工作表9!$G$1:$I$136,3, FALSE)","v":"混合物"},null,{"$f":"VLOOKUP(F749,工作表9!$G$1:$H$142, 2, FALSE)","v":0},0]
[null,null,null,null,null,null,{"$f":"VLOOKUP(F750,工作表9!$G$1:$I$136,3, FALSE)","v":"混合物"},null,{"$f":"VLOOKUP(F750,工作表9!$G$1:$H$142, 2, FALSE)","v":0},0]
[null,null,null,null,null,null,{"$f":"VLOOKUP(F751,工作表9!$G$1:$I$136,3, FALSE)","v":"混合物"},null,{"$f":"VLOOKUP(F751,工作表9!$G$1:$H$142, 2, FALSE)","v":0},0]
[null,null,null,null,null,null,{"$f":"VLOOKUP(F752,工作表9!$G$1:$I$136,3, FALSE)","v":"混合物"},null,{"$f":"VLOOKUP(F752,工作表9!$G$1:$H$142, 2, FALSE)","v":0},0]
[null,null,null,null,null,null,{"$f":"VLOOKUP(F753,工作表9!$G$1:$I$136,3, FALSE)","v":"混合物"},null,{"$f":"VLOOKUP(F753,工作表9!$G$1:$H$142, 2, FALSE)","v":0},0]
[null,null,null,null,null,null,{"$f":"VLOOKUP(F754,工作表9!$G$1:$I$136,3, FALSE)","v":"混合物"},null,{"$f":"VLOOKUP(F754,工作表9!$G$1:$H$142, 2, FALSE)","v":0},0]
[null,null,null,null,null,null,{"$f":"VLOOKUP(F755,工作表9!$G$1:$I$136,3, FALSE)","v":"混合物"},null,{"$f":"VLOOKUP(F755,工作表9!$G$1:$H$142, 2, FALSE)","v":0},0]
[null,null,null,null,null,null,{"$f":"VLOOKUP(F756,工作表9!$G$1:$I$136,3, FALSE)","v":"混合物"},null,{"$f":"VLOOKUP(F756,工作表9!$G$1:$H$142, 2, FALSE)","v":0},0]
[null,null,null,null,null,null,{"$f":"VLOOKUP(F757,工作表9!$G$1:$I$136,3, FALSE)","v":"混合物"},null,{"$f":"VLOOKUP(F757,工作表9!$G$1:$H$142, 2, FALSE)","v":0},0]
[null,null,null,null,null,null,{"$f":"VLOOKUP(F758,工作表9!$G$1:$I$136,3, FALSE)","v":"混合物"},null,{"$f":"VLOOKUP(F758,工作表9!$G$1:$H$142, 2, FALSE)","v":0},0]
[null,null,null,null,null,null,{"$f":"VLOOKUP(F759,工作表9!$G$1:$I$136,3, FALSE)","v":"混合物"},null,{"$f":"VLOOKUP(F759,工作表9!$G$1:$H$142, 2, FALSE)","v":0},0]
[null,null,null,null,null,null,{"$f":"VLOOKUP(F760,工作表9!$G$1:$I$136,3, FALSE)","v":"混合物"},null,{"$f":"VLOOKUP(F760,工作表9!$G$1:$H$142, 2, FALSE)","v":0},0]
[null,null,null,null,null,null,{"$f":"VLOOKUP(F761,工作表9!$G$1:$I$136,3, FALSE)","v":"混合物"},null,{"$f":"VLOOKUP(F761,工作表9!$G$1:$H$142, 2, FALSE)","v":0},0]
[null,null,null,null,null,null,{"$f":"VLOOKUP(F762,工作表9!$G$1:$I$136,3, FALSE)","v":"混合物"},null,{"$f":"VLOOKUP(F762,工作表9!$G$1:$H$142, 2, FALSE)","v":0},0]
[null,null,null,null,null,null,{"$f":"VLOOKUP(F763,工作表9!$G$1:$I$136,3, FALSE)","v":"混合物"},null,{"$f":"VLOOKUP(F763,工作表9!$G$1:$H$142, 2, FALSE)","v":0},0]
[null,null,null,null,null,null,{"$f":"VLOOKUP(F764,工作表9!$G$1:$I$136,3, FALSE)","v":"混合物"},null,{"$f":"VLOOKUP(F764,工作表9!$G$1:$H$142, 2, FALSE)","v":0},0]
[null,null,null,null,null,null,{"$f":"VLOOKUP(F765,工作表9!$G$1:$I$136,3, FALSE)","v":"混合物"},null,{"$f":"VLOOKUP(F765,工作表9!$G$1:$H$142, 2, FALSE)","v":0},0]
[null,null,null,null,null,null,{"$f":"VLOOKUP(F766,工作表9!$G$1:$I$136,3, FALSE)","v":"混合物"},null,{"$f":"VLOOKUP(F766,工作表9!$G$1:$H$142, 2, FALSE)","v":0},0]
[null,null,null,null,null,null,{"$f":"VLOOKUP(F767,工作表9!$G$1:$I$136,3, FALSE)","v":"混合物"},null,{"$f":"VLOOKUP(F767,工作表9!$G$1:$H$142, 2, FALSE)","v":0},0]
[null,null,null,null,null,null,{"$f":"VLOOKUP(F768,工作表9!$G$1:$I$136,3, FALSE)","v":"混合物"},null,{"$f":"VLOOKUP(F768,工作表9!$G$1:$H$142, 2, FALSE)","v":0},0]
[null,null,null,null,null,null,{"$f":"VLOOKUP(F769,工作表9!$G$1:$I$136,3, FALSE)","v":"混合物"},null,{"$f":"VLOOKUP(F769,工作表9!$G$1:$H$142, 2, FALSE)","v":0},0]
[null,null,null,null,null,null,{"$f":"VLOOKUP(F770,工作表9!$G$1:$I$136,3, FALSE)","v":"混合物"},null,{"$f":"VLOOKUP(F770,工作表9!$G$1:$H$142, 2, FALSE)","v":0},0]
[null,null,null,null,null,null,{"$f":"VLOOKUP(F771,工作表9!$G$1:$I$136,3, FALSE)","v":"混合物"},null,{"$f":"VLOOKUP(F771,工作表9!$G$1:$H$142, 2, FALSE)","v":0},0]
[null,null,null,null,null,null,{"$f":"VLOOKUP(F772,工作表9!$G$1:$I$136,3, FALSE)","v":"混合物"},null,{"$f":"VLOOKUP(F772,工作表9!$G$1:$H$142, 2, FALSE)","v":0},0]
[null,null,null,null,null,null,{"$f":"VLOOKUP(F773,工作表9!$G$1:$I$136,3, FALSE)","v":"混合物"},null,{"$f":"VLOOKUP(F773,工作表9!$G$1:$H$142, 2, FALSE)","v":0},0]
[null,null,null,null,null,null,{"$f":"VLOOKUP(F774,工作表9!$G$1:$I$136,3, FALSE)","v":"混合物"},null,{"$f":"VLOOKUP(F774,工作表9!$G$1:$H$142, 2, FALSE)","v":0},{"$f":"H774*I774","v":0}]
[null,null,null,null,null,null,{"$f":"VLOOKUP(F775,工作表9!$G$1:$I$136,3, FALSE)","v":"混合物"},null,{"$f":"VLOOKUP(F775,工作表9!$G$1:$H$142, 2, FALSE)","v":0},0]
[null,null,null,null,null,null,{"$f":"VLOOKUP(F776,工作表9!$G$1:$I$136,3, FALSE)","v":"混合物"},null,{"$f":"VLOOKUP(F776,工作表9!$G$1:$H$142, 2, FALSE)","v":0},0]
[null,null,null,null,null,null,{"$f":"VLOOKUP(F777,工作表9!$G$1:$I$136,3, FALSE)","v":"混合物"},null,{"$f":"VLOOKUP(F777,工作表9!$G$1:$H$142, 2, FALSE)","v":0},0]
[null,null,null,null,null,null,{"$f":"VLOOKUP(F778,工作表9!$G$1:$I$136,3, FALSE)","v":"混合物"},null,{"$f":"VLOOKUP(F778,工作表9!$G$1:$H$142, 2, FALSE)","v":0},0]
[null,null,null,null,null,null,{"$f":"VLOOKUP(F779,工作表9!$G$1:$I$136,3, FALSE)","v":"混合物"},null,{"$f":"VLOOKUP(F779,工作表9!$G$1:$H$142, 2, FALSE)","v":0},0]
[null,null,null,null,null,null,{"$f":"VLOOKUP(F780,工作表9!$G$1:$I$136,3, FALSE)","v":"混合物"},null,{"$f":"VLOOKUP(F780,工作表9!$G$1:$H$142, 2, FALSE)","v":0},0]
[null,null,null,null,null,null,{"$f":"VLOOKUP(F781,工作表9!$G$1:$I$136,3, FALSE)","v":"混合物"},null,{"$f":"VLOOKUP(F781,工作表9!$G$1:$H$142, 2, FALSE)","v":0},0]
[null,null,null,null,null,null,{"$f":"VLOOKUP(F782,工作表9!$G$1:$I$136,3, FALSE)","v":"混合物"},null,{"$f":"VLOOKUP(F782,工作表9!$G$1:$H$142, 2, FALSE)","v":0},0]
[null,null,null,null,null,null,{"$f":"VLOOKUP(F783,工作表9!$G$1:$I$136,3, FALSE)","v":"混合物"},null,{"$f":"VLOOKUP(F783,工作表9!$G$1:$H$142, 2, FALSE)","v":0},0]
[null,null,null,null,null,null,{"$f":"VLOOKUP(F784,工作表9!$G$1:$I$136,3, FALSE)","v":"混合物"},null,{"$f":"VLOOKUP(F784,工作表9!$G$1:$H$142, 2, FALSE)","v":0},0]
[null,null,null,null,null,null,{"$f":"VLOOKUP(F785,工作表9!$G$1:$I$136,3, FALSE)","v":"混合物"},null,{"$f":"VLOOKUP(F785,工作表9!$G$1:$H$142, 2, FALSE)","v":0},0]
[null,null,null,null,null,null,{"$f":"VLOOKUP(F786,工作表9!$G$1:$I$136,3, FALSE)","v":"混合物"},null,{"$f":"VLOOKUP(F786,工作表9!$G$1:$H$142, 2, FALSE)","v":0},0]
[null,null,null,null,null,null,{"$f":"VLOOKUP(F787,工作表9!$G$1:$I$136,3, FALSE)","v":"混合物"},null,{"$f":"VLOOKUP(F787,工作表9!$G$1:$H$142, 2, FALSE)","v":0},0]
[null,null,null,null,null,null,{"$f":"VLOOKUP(F788,工作表9!$G$1:$I$136,3, FALSE)","v":"混合物"},null,{"$f":"VLOOKUP(F788,工作表9!$G$1:$H$142, 2, FALSE)","v":0},0]
[null,null,null,null,null,null,{"$f":"VLOOKUP(F789,工作表9!$G$1:$I$136,3, FALSE)","v":"混合物"},null,{"$f":"VLOOKUP(F789,工作表9!$G$1:$H$142, 2, FALSE)","v":0},0]
[null,null,null,null,null,null,{"$f":"VLOOKUP(F790,工作表9!$G$1:$I$136,3, FALSE)","v":"混合物"},null,{"$f":"VLOOKUP(F790,工作表9!$G$1:$H$142, 2, FALSE)","v":0},0]
[null,null,null,null,null,null,{"$f":"VLOOKUP(F791,工作表9!$G$1:$I$136,3, FALSE)","v":"混合物"},null,{"$f":"VLOOKUP(F791,工作表9!$G$1:$H$142, 2, FALSE)","v":0},0]
[null,null,null,null,null,null,{"$f":"VLOOKUP(F792,工作表9!$G$1:$I$136,3, FALSE)","v":"混合物"},null,{"$f":"VLOOKUP(F792,工作表9!$G$1:$H$142, 2, FALSE)","v":0},0]
[null,null,null,null,null,null,{"$f":"VLOOKUP(F793,工作表9!$G$1:$I$136,3, FALSE)","v":"混合物"},null,{"$f":"VLOOKUP(F793,工作表9!$G$1:$H$142, 2, FALSE)","v":0},0]
[null,null,null,null,null,null,{"$f":"VLOOKUP(F794,工作表9!$G$1:$I$136,3, FALSE)","v":"混合物"},null,{"$f":"VLOOKUP(F794,工作表9!$G$1:$H$142, 2, FALSE)","v":0},0]
[null,null,null,null,null,null,{"$f":"VLOOKUP(F795,工作表9!$G$1:$I$136,3, FALSE)","v":"混合物"},null,{"$f":"VLOOKUP(F795,工作表9!$G$1:$H$142, 2, FALSE)","v":0},0]
[null,null,null,null,null,null,{"$f":"VLOOKUP(F796,工作表9!$G$1:$I$136,3, FALSE)","v":"混合物"},null,{"$f":"VLOOKUP(F796,工作表9!$G$1:$H$142, 2, FALSE)","v":0},0]
[null,null,null,null,null,null,{"$f":"VLOOKUP(F797,工作表9!$G$1:$I$136,3, FALSE)","v":"混合物"},null,{"$f":"VLOOKUP(F797,工作表9!$G$1:$H$142, 2, FALSE)","v":0},0]
[null,null,null,null,null,null,{"$f":"VLOOKUP(F798,工作表9!$G$1:$I$136,3, FALSE)","v":"混合物"},null,{"$f":"VLOOKUP(F798,工作表9!$G$1:$H$142, 2, FALSE)","v":0},0]
[null,null,null,null,null,null,{"$f":"VLOOKUP(F799,工作表9!$G$1:$I$136,3, FALSE)","v":"混合物"},null,{"$f":"VLOOKUP(F799,工作表9!$G$1:$H$142, 2, FALSE)","v":0},0]
[null,null,null,null,null,null,{"$f":"VLOOKUP(F800,工作表9!$G$1:$I$136,3, FALSE)","v":"混合物"},null,{"$f":"VLOOKUP(F800,工作表9!$G$1:$H$142, 2, FALSE)","v":0},0]
[null,null,null,null,null,null,{"$f":"VLOOKUP(F801,工作表9!$G$1:$I$136,3, FALSE)","v":"混合物"},null,{"$f":"VLOOKUP(F801,工作表9!$G$1:$H$142, 2, FALSE)","v":0},0]
[null,null,null,null,null,null,{"$f":"VLOOKUP(F802,工作表9!$G$1:$I$136,3, FALSE)","v":"混合物"},null,{"$f":"VLOOKUP(F802,工作表9!$G$1:$H$142, 2, FALSE)","v":0},0]
[null,null,null,null,null,null,{"$f":"VLOOKUP(F803,工作表9!$G$1:$I$136,3, FALSE)","v":"混合物"},null,{"$f":"VLOOKUP(F803,工作表9!$G$1:$H$142, 2, FALSE)","v":0},0]
[null,null,null,null,null,null,{"$f":"VLOOKUP(F804,工作表9!$G$1:$I$136,3, FALSE)","v":"混合物"},null,{"$f":"VLOOKUP(F804,工作表9!$G$1:$H$142, 2, FALSE)","v":0},0]
[null,null,null,null,null,null,{"$f":"VLOOKUP(F805,工作表9!$G$1:$I$136,3, FALSE)","v":"混合物"},null,{"$f":"VLOOKUP(F805,工作表9!$G$1:$H$142, 2, FALSE)","v":0},0]
[null,null,null,null,null,null,{"$f":"VLOOKUP(F806,工作表9!$G$1:$I$136,3, FALSE)","v":"混合物"},null,{"$f":"VLOOKUP(F806,工作表9!$G$1:$H$142, 2, FALSE)","v":0},0]
[null,null,null,null,null,null,{"$f":"VLOOKUP(F807,工作表9!$G$1:$I$136,3, FALSE)","v":"混合物"},null,{"$f":"VLOOKUP(F807,工作表9!$G$1:$H$142, 2, FALSE)","v":0},0]
[null,null,null,null,null,null,{"$f":"VLOOKUP(F808,工作表9!$G$1:$I$136,3, FALSE)","v":"混合物"},null,{"$f":"VLOOKUP(F808,工作表9!$G$1:$H$142, 2, FALSE)","v":0},0]
[null,null,null,null,null,null,{"$f":"VLOOKUP(F809,工作表9!$G$1:$I$136,3, FALSE)","v":"混合物"},null,{"$f":"VLOOKUP(F809,工作表9!$G$1:$H$142, 2, FALSE)","v":0},0]
[null,null,null,null,null,null,{"$f":"VLOOKUP(F810,工作表9!$G$1:$I$136,3, FALSE)","v":"混合物"},null,{"$f":"VLOOKUP(F810,工作表9!$G$1:$H$142, 2, FALSE)","v":0},0]
[null,null,null,null,null,null,{"$f":"VLOOKUP(F811,工作表9!$G$1:$I$136,3, FALSE)","v":"混合物"},null,{"$f":"VLOOKUP(F811,工作表9!$G$1:$H$142, 2, FALSE)","v":0},0]
[null,null,null,null,null,null,{"$f":"VLOOKUP(F812,工作表9!$G$1:$I$136,3, FALSE)","v":"混合物"},null,{"$f":"VLOOKUP(F812,工作表9!$G$1:$H$142, 2, FALSE)","v":0},0]
[null,null,null,null,null,null,{"$f":"VLOOKUP(F813,工作表9!$G$1:$I$136,3, FALSE)","v":"混合物"},null,{"$f":"VLOOKUP(F813,工作表9!$G$1:$H$142, 2, FALSE)","v":0},0]
[null,null,null,null,null,null,{"$f":"VLOOKUP(F814,工作表9!$G$1:$I$136,3, FALSE)","v":"混合物"},null,{"$f":"VLOOKUP(F814,工作表9!$G$1:$H$142, 2, FALSE)","v":0},0]
[null,null,null,null,null,null,{"$f":"VLOOKUP(F815,工作表9!$G$1:$I$136,3, FALSE)","v":"混合物"},null,{"$f":"VLOOKUP(F815,工作表9!$G$1:$H$142, 2, FALSE)","v":0},0]
[null,null,null,null,null,null,{"$f":"VLOOKUP(F816,工作表9!$G$1:$I$136,3, FALSE)","v":"混合物"},null,{"$f":"VLOOKUP(F816,工作表9!$G$1:$H$142, 2, FALSE)","v":0},0]
[null,null,null,null,null,null,{"$f":"VLOOKUP(F817,工作表9!$G$1:$I$136,3, FALSE)","v":"混合物"},null,{"$f":"VLOOKUP(F817,工作表9!$G$1:$H$142, 2, FALSE)","v":0},0]
[null,null,null,null,null,null,{"$f":"VLOOKUP(F818,工作表9!$G$1:$I$136,3, FALSE)","v":"混合物"},null,{"$f":"VLOOKUP(F818,工作表9!$G$1:$H$142, 2, FALSE)","v":0},0]
[null,null,null,null,null,null,{"$f":"VLOOKUP(F819,工作表9!$G$1:$I$136,3, FALSE)","v":"混合物"},null,{"$f":"VLOOKUP(F819,工作表9!$G$1:$H$142, 2, FALSE)","v":0},0]
[null,null,null,null,null,null,{"$f":"VLOOKUP(F820,工作表9!$G$1:$I$136,3, FALSE)","v":"混合物"},null,{"$f":"VLOOKUP(F820,工作表9!$G$1:$H$142, 2, FALSE)","v":0},0]
[null,null,null,null,null,null,{"$f":"VLOOKUP(F821,工作表9!$G$1:$I$136,3, FALSE)","v":"混合物"},null,{"$f":"VLOOKUP(F821,工作表9!$G$1:$H$142, 2, FALSE)","v":0},0]
[null,null,null,null,null,null,{"$f":"VLOOKUP(F822,工作表9!$G$1:$I$136,3, FALSE)","v":"混合物"},null,{"$f":"VLOOKUP(F822,工作表9!$G$1:$H$142, 2, FALSE)","v":0},0]
[null,null,null,null,null,null,{"$f":"VLOOKUP(F823,工作表9!$G$1:$I$136,3, FALSE)","v":"混合物"},null,{"$f":"VLOOKUP(F823,工作表9!$G$1:$H$142, 2, FALSE)","v":0},0]
[null,null,null,null,null,null,{"$f":"VLOOKUP(F824,工作表9!$G$1:$I$136,3, FALSE)","v":"混合物"},null,{"$f":"VLOOKUP(F824,工作表9!$G$1:$H$142, 2, FALSE)","v":0},0]
[null,null,null,null,null,null,{"$f":"VLOOKUP(F825,工作表9!$G$1:$I$136,3, FALSE)","v":"混合物"},null,{"$f":"VLOOKUP(F825,工作表9!$G$1:$H$142, 2, FALSE)","v":0},0]
[null,null,null,null,null,null,{"$f":"VLOOKUP(F826,工作表9!$G$1:$I$136,3, FALSE)","v":"混合物"},null,{"$f":"VLOOKUP(F826,工作表9!$G$1:$H$142, 2, FALSE)","v":0},0]
[null,null,null,null,null,null,{"$f":"VLOOKUP(F827,工作表9!$G$1:$I$136,3, FALSE)","v":"混合物"},null,{"$f":"VLOOKUP(F827,工作表9!$G$1:$H$142, 2, FALSE)","v":0},0]
[null,null,null,null,null,null,{"$f":"VLOOKUP(F828,工作表9!$G$1:$I$136,3, FALSE)","v":"混合物"},null,{"$f":"VLOOKUP(F828,工作表9!$G$1:$H$142, 2, FALSE)","v":0},0]
[null,null,null,null,null,null,{"$f":"VLOOKUP(F829,工作表9!$G$1:$I$136,3, FALSE)","v":"混合物"},null,{"$f":"VLOOKUP(F829,工作表9!$G$1:$H$142, 2, FALSE)","v":0},0]
[null,null,null,null,null,null,{"$f":"VLOOKUP(F830,工作表9!$G$1:$I$136,3, FALSE)","v":"混合物"},null,{"$f":"VLOOKUP(F830,工作表9!$G$1:$H$142, 2, FALSE)","v":0},0]
[null,null,null,null,null,null,{"$f":"VLOOKUP(F831,工作表9!$G$1:$I$136,3, FALSE)","v":"混合物"},null,{"$f":"VLOOKUP(F831,工作表9!$G$1:$H$142, 2, FALSE)","v":0},0]
[null,null,null,null,null,null,{"$f":"VLOOKUP(F832,工作表9!$G$1:$I$136,3, FALSE)","v":"混合物"},null,{"$f":"VLOOKUP(F832,工作表9!$G$1:$H$142, 2, FALSE)","v":0},0]
[null,null,null,null,null,null,{"$f":"VLOOKUP(F833,工作表9!$G$1:$I$136,3, FALSE)","v":"混合物"},null,{"$f":"VLOOKUP(F833,工作表9!$G$1:$H$142, 2, FALSE)","v":0},0]
[null,null,null,null,null,null,{"$f":"VLOOKUP(F834,工作表9!$G$1:$I$136,3, FALSE)","v":"混合物"},null,{"$f":"VLOOKUP(F834,工作表9!$G$1:$H$142, 2, FALSE)","v":0},0]
[null,null,null,null,null,null,{"$f":"VLOOKUP(F835,工作表9!$G$1:$I$136,3, FALSE)","v":"混合物"},null,{"$f":"VLOOKUP(F835,工作表9!$G$1:$H$142, 2, FALSE)","v":0},0]
[null,null,null,null,null,null,{"$f":"VLOOKUP(F836,工作表9!$G$1:$I$136,3, FALSE)","v":"混合物"},null,{"$f":"VLOOKUP(F836,工作表9!$G$1:$H$142, 2, FALSE)","v":0},0]
[null,null,null,null,null,null,{"$f":"VLOOKUP(F837,工作表9!$G$1:$I$136,3, FALSE)","v":"混合物"},null,{"$f":"VLOOKUP(F837,工作表9!$G$1:$H$142, 2, FALSE)","v":0},0]
[null,null,null,null,null,null,{"$f":"VLOOKUP(F838,工作表9!$G$1:$I$136,3, FALSE)","v":"混合物"},null,{"$f":"VLOOKUP(F838,工作表9!$G$1:$H$142, 2, FALSE)","v":0},{"$f":"H838*I838","v":0}]
[null,null,null,null,null,null,{"$f":"VLOOKUP(F839,工作表9!$G$1:$I$136,3, FALSE)","v":"混合物"},null,{"$f":"VLOOKUP(F839,工作表9!$G$1:$H$142, 2, FALSE)","v":0},0]
[null,null,null,null,null,null,{"$f":"VLOOKUP(F840,工作表9!$G$1:$I$136,3, FALSE)","v":"混合物"},null,{"$f":"VLOOKUP(F840,工作表9!$G$1:$H$142, 2, FALSE)","v":0},0]
[null,null,null,null,null,null,{"$f":"VLOOKUP(F841,工作表9!$G$1:$I$136,3, FALSE)","v":"混合物"},null,{"$f":"VLOOKUP(F841,工作表9!$G$1:$H$142, 2, FALSE)","v":0},0]
[null,null,null,null,null,null,{"$f":"VLOOKUP(F842,工作表9!$G$1:$I$136,3, FALSE)","v":"混合物"},null,{"$f":"VLOOKUP(F842,工作表9!$G$1:$H$142, 2, FALSE)","v":0},0]
[null,null,null,null,null,null,{"$f":"VLOOKUP(F843,工作表9!$G$1:$I$136,3, FALSE)","v":"混合物"},null,{"$f":"VLOOKUP(F843,工作表9!$G$1:$H$142, 2, FALSE)","v":0},0]
[null,null,null,null,null,null,{"$f":"VLOOKUP(F844,工作表9!$G$1:$I$136,3, FALSE)","v":"混合物"},null,{"$f":"VLOOKUP(F844,工作表9!$G$1:$H$142, 2, FALSE)","v":0},0]
[null,null,null,null,null,null,{"$f":"VLOOKUP(F845,工作表9!$G$1:$I$136,3, FALSE)","v":"混合物"},null,{"$f":"VLOOKUP(F845,工作表9!$G$1:$H$142, 2, FALSE)","v":0},0]
[null,null,null,null,null,null,{"$f":"VLOOKUP(F846,工作表9!$G$1:$I$136,3, FALSE)","v":"混合物"},null,{"$f":"VLOOKUP(F846,工作表9!$G$1:$H$142, 2, FALSE)","v":0},0]
[null,null,null,null,null,null,{"$f":"VLOOKUP(F847,工作表9!$G$1:$I$136,3, FALSE)","v":"混合物"},null,{"$f":"VLOOKUP(F847,工作表9!$G$1:$H$142, 2, FALSE)","v":0},0]
[null,null,null,null,null,null,{"$f":"VLOOKUP(F848,工作表9!$G$1:$I$136,3, FALSE)","v":"混合物"},null,{"$f":"VLOOKUP(F848,工作表9!$G$1:$H$142, 2, FALSE)","v":0},0]
[null,null,null,null,null,null,{"$f":"VLOOKUP(F849,工作表9!$G$1:$I$136,3, FALSE)","v":"混合物"},null,{"$f":"VLOOKUP(F849,工作表9!$G$1:$H$142, 2, FALSE)","v":0},0]
[null,null,null,null,null,null,{"$f":"VLOOKUP(F850,工作表9!$G$1:$I$136,3, FALSE)","v":"混合物"},null,{"$f":"VLOOKUP(F850,工作表9!$G$1:$H$142, 2, FALSE)","v":0},0]
[null,null,null,null,null,null,{"$f":"VLOOKUP(F851,工作表9!$G$1:$I$136,3, FALSE)","v":"混合物"},null,{"$f":"VLOOKUP(F851,工作表9!$G$1:$H$142, 2, FALSE)","v":0},0]
[null,null,null,null,null,null,{"$f":"VLOOKUP(F852,工作表9!$G$1:$I$136,3, FALSE)","v":"混合物"},null,{"$f":"VLOOKUP(F852,工作表9!$G$1:$H$142, 2, FALSE)","v":0},0]
[null,null,null,null,null,null,{"$f":"VLOOKUP(F853,工作表9!$G$1:$I$136,3, FALSE)","v":"混合物"},null,{"$f":"VLOOKUP(F853,工作表9!$G$1:$H$142, 2, FALSE)","v":0},0]
[null,null,null,null,null,null,{"$f":"VLOOKUP(F854,工作表9!$G$1:$I$136,3, FALSE)","v":"混合物"},null,{"$f":"VLOOKUP(F854,工作表9!$G$1:$H$142, 2, FALSE)","v":0},0]
[null,null,null,null,null,null,{"$f":"VLOOKUP(F855,工作表9!$G$1:$I$136,3, FALSE)","v":"混合物"},null,{"$f":"VLOOKUP(F855,工作表9!$G$1:$H$142, 2, FALSE)","v":0},0]
[null,null,null,null,null,null,{"$f":"VLOOKUP(F856,工作表9!$G$1:$I$136,3, FALSE)","v":"混合物"},null,{"$f":"VLOOKUP(F856,工作表9!$G$1:$H$142, 2, FALSE)","v":0},0]
[null,null,null,null,null,null,{"$f":"VLOOKUP(F857,工作表9!$G$1:$I$136,3, FALSE)","v":"混合物"},null,{"$f":"VLOOKUP(F857,工作表9!$G$1:$H$142, 2, FALSE)","v":0},0]
[null,null,null,null,null,null,{"$f":"VLOOKUP(F858,工作表9!$G$1:$I$136,3, FALSE)","v":"混合物"},null,{"$f":"VLOOKUP(F858,工作表9!$G$1:$H$142, 2, FALSE)","v":0},0]
[null,null,null,null,null,null,{"$f":"VLOOKUP(F859,工作表9!$G$1:$I$136,3, FALSE)","v":"混合物"},null,{"$f":"VLOOKUP(F859,工作表9!$G$1:$H$142, 2, FALSE)","v":0},0]
[null,null,null,null,null,null,{"$f":"VLOOKUP(F860,工作表9!$G$1:$I$136,3, FALSE)","v":"混合物"},null,{"$f":"VLOOKUP(F860,工作表9!$G$1:$H$142, 2, FALSE)","v":0},0]
[null,null,null,null,null,null,{"$f":"VLOOKUP(F861,工作表9!$G$1:$I$136,3, FALSE)","v":"混合物"},null,{"$f":"VLOOKUP(F861,工作表9!$G$1:$H$142, 2, FALSE)","v":0},0]
[null,null,null,null,null,null,{"$f":"VLOOKUP(F862,工作表9!$G$1:$I$136,3, FALSE)","v":"混合物"},null,{"$f":"VLOOKUP(F862,工作表9!$G$1:$H$142, 2, FALSE)","v":0},0]
[null,null,null,null,null,null,{"$f":"VLOOKUP(F863,工作表9!$G$1:$I$136,3, FALSE)","v":"混合物"},null,{"$f":"VLOOKUP(F863,工作表9!$G$1:$H$142, 2, FALSE)","v":0},0]
[null,null,null,null,null,null,{"$f":"VLOOKUP(F864,工作表9!$G$1:$I$136,3, FALSE)","v":"混合物"},null,{"$f":"VLOOKUP(F864,工作表9!$G$1:$H$142, 2, FALSE)","v":0},0]
[null,null,null,null,null,null,{"$f":"VLOOKUP(F865,工作表9!$G$1:$I$136,3, FALSE)","v":"混合物"},null,{"$f":"VLOOKUP(F865,工作表9!$G$1:$H$142, 2, FALSE)","v":0},0]
[null,null,null,null,null,null,{"$f":"VLOOKUP(F866,工作表9!$G$1:$I$136,3, FALSE)","v":"混合物"},null,{"$f":"VLOOKUP(F866,工作表9!$G$1:$H$142, 2, FALSE)","v":0},0]
[null,null,null,null,null,null,{"$f":"VLOOKUP(F867,工作表9!$G$1:$I$136,3, FALSE)","v":"混合物"},null,{"$f":"VLOOKUP(F867,工作表9!$G$1:$H$142, 2, FALSE)","v":0},0]
[null,null,null,null,null,null,{"$f":"VLOOKUP(F868,工作表9!$G$1:$I$136,3, FALSE)","v":"混合物"},null,{"$f":"VLOOKUP(F868,工作表9!$G$1:$H$142, 2, FALSE)","v":0},0]
[null,null,null,null,null,null,{"$f":"VLOOKUP(F869,工作表9!$G$1:$I$136,3, FALSE)","v":"混合物"},null,{"$f":"VLOOKUP(F869,工作表9!$G$1:$H$142, 2, FALSE)","v":0},0]
[null,null,null,null,null,null,{"$f":"VLOOKUP(F870,工作表9!$G$1:$I$136,3, FALSE)","v":"混合物"},null,{"$f":"VLOOKUP(F870,工作表9!$G$1:$H$142, 2, FALSE)","v":0},0]
[null,null,null,null,null,null,{"$f":"VLOOKUP(F871,工作表9!$G$1:$I$136,3, FALSE)","v":"混合物"},null,{"$f":"VLOOKUP(F871,工作表9!$G$1:$H$142, 2, FALSE)","v":0},0]
[null,null,null,null,null,null,{"$f":"VLOOKUP(F872,工作表9!$G$1:$I$136,3, FALSE)","v":"混合物"},null,{"$f":"VLOOKUP(F872,工作表9!$G$1:$H$142, 2, FALSE)","v":0},0]
[null,null,null,null,null,null,{"$f":"VLOOKUP(F873,工作表9!$G$1:$I$136,3, FALSE)","v":"混合物"},null,{"$f":"VLOOKUP(F873,工作表9!$G$1:$H$142, 2, FALSE)","v":0},0]
[null,null,null,null,null,null,{"$f":"VLOOKUP(F874,工作表9!$G$1:$I$136,3, FALSE)","v":"混合物"},null,{"$f":"VLOOKUP(F874,工作表9!$G$1:$H$142, 2, FALSE)","v":0},0]
[null,null,null,null,null,null,{"$f":"VLOOKUP(F875,工作表9!$G$1:$I$136,3, FALSE)","v":"混合物"},null,{"$f":"VLOOKUP(F875,工作表9!$G$1:$H$142, 2, FALSE)","v":0},0]
[null,null,null,null,null,null,{"$f":"VLOOKUP(F876,工作表9!$G$1:$I$136,3, FALSE)","v":"混合物"},null,{"$f":"VLOOKUP(F876,工作表9!$G$1:$H$142, 2, FALSE)","v":0},0]
[null,null,null,null,null,null,{"$f":"VLOOKUP(F877,工作表9!$G$1:$I$136,3, FALSE)","v":"混合物"},null,{"$f":"VLOOKUP(F877,工作表9!$G$1:$H$142, 2, FALSE)","v":0},0]
[null,null,null,null,null,null,{"$f":"VLOOKUP(F878,工作表9!$G$1:$I$136,3, FALSE)","v":"混合物"},null,{"$f":"VLOOKUP(F878,工作表9!$G$1:$H$142, 2, FALSE)","v":0},0]
[null,null,null,null,null,null,{"$f":"VLOOKUP(F879,工作表9!$G$1:$I$136,3, FALSE)","v":"混合物"},null,{"$f":"VLOOKUP(F879,工作表9!$G$1:$H$142, 2, FALSE)","v":0},0]
[null,null,null,null,null,null,{"$f":"VLOOKUP(F880,工作表9!$G$1:$I$136,3, FALSE)","v":"混合物"},null,{"$f":"VLOOKUP(F880,工作表9!$G$1:$H$142, 2, FALSE)","v":0},0]
[null,null,null,null,null,null,{"$f":"VLOOKUP(F881,工作表9!$G$1:$I$136,3, FALSE)","v":"混合物"},null,{"$f":"VLOOKUP(F881,工作表9!$G$1:$H$142, 2, FALSE)","v":0},0]
[null,null,null,null,null,null,{"$f":"VLOOKUP(F882,工作表9!$G$1:$I$136,3, FALSE)","v":"混合物"},null,{"$f":"VLOOKUP(F882,工作表9!$G$1:$H$142, 2, FALSE)","v":0},0]
[null,null,null,null,null,null,{"$f":"VLOOKUP(F883,工作表9!$G$1:$I$136,3, FALSE)","v":"混合物"},null,{"$f":"VLOOKUP(F883,工作表9!$G$1:$H$142, 2, FALSE)","v":0},0]
[null,null,null,null,null,null,{"$f":"VLOOKUP(F884,工作表9!$G$1:$I$136,3, FALSE)","v":"混合物"},null,{"$f":"VLOOKUP(F884,工作表9!$G$1:$H$142, 2, FALSE)","v":0},0]
[null,null,null,null,null,null,{"$f":"VLOOKUP(F885,工作表9!$G$1:$I$136,3, FALSE)","v":"混合物"},null,{"$f":"VLOOKUP(F885,工作表9!$G$1:$H$142, 2, FALSE)","v":0},0]
[null,null,null,null,null,null,{"$f":"VLOOKUP(F886,工作表9!$G$1:$I$136,3, FALSE)","v":"混合物"},null,{"$f":"VLOOKUP(F886,工作表9!$G$1:$H$142, 2, FALSE)","v":0},0]
[null,null,null,null,null,null,{"$f":"VLOOKUP(F887,工作表9!$G$1:$I$136,3, FALSE)","v":"混合物"},null,{"$f":"VLOOKUP(F887,工作表9!$G$1:$H$142, 2, FALSE)","v":0},0]
[null,null,null,null,null,null,{"$f":"VLOOKUP(F888,工作表9!$G$1:$I$136,3, FALSE)","v":"混合物"},null,{"$f":"VLOOKUP(F888,工作表9!$G$1:$H$142, 2, FALSE)","v":0},0]
[null,null,null,null,null,null,{"$f":"VLOOKUP(F889,工作表9!$G$1:$I$136,3, FALSE)","v":"混合物"},null,{"$f":"VLOOKUP(F889,工作表9!$G$1:$H$142, 2, FALSE)","v":0},0]
[null,null,null,null,null,null,{"$f":"VLOOKUP(F890,工作表9!$G$1:$I$136,3, FALSE)","v":"混合物"},null,{"$f":"VLOOKUP(F890,工作表9!$G$1:$H$142, 2, FALSE)","v":0},0]
[null,null,null,null,null,null,{"$f":"VLOOKUP(F891,工作表9!$G$1:$I$136,3, FALSE)","v":"混合物"},null,{"$f":"VLOOKUP(F891,工作表9!$G$1:$H$142, 2, FALSE)","v":0},0]
[null,null,null,null,null,null,{"$f":"VLOOKUP(F892,工作表9!$G$1:$I$136,3, FALSE)","v":"混合物"},null,{"$f":"VLOOKUP(F892,工作表9!$G$1:$H$142, 2, FALSE)","v":0},0]
[null,null,null,null,null,null,{"$f":"VLOOKUP(F893,工作表9!$G$1:$I$136,3, FALSE)","v":"混合物"},null,{"$f":"VLOOKUP(F893,工作表9!$G$1:$H$142, 2, FALSE)","v":0},0]
[null,null,null,null,null,null,{"$f":"VLOOKUP(F894,工作表9!$G$1:$I$136,3, FALSE)","v":"混合物"},null,{"$f":"VLOOKUP(F894,工作表9!$G$1:$H$142, 2, FALSE)","v":0},0]
[null,null,null,null,null,null,{"$f":"VLOOKUP(F895,工作表9!$G$1:$I$136,3, FALSE)","v":"混合物"},null,{"$f":"VLOOKUP(F895,工作表9!$G$1:$H$142, 2, FALSE)","v":0},0]
[null,null,null,null,null,null,{"$f":"VLOOKUP(F896,工作表9!$G$1:$I$136,3, FALSE)","v":"混合物"},null,{"$f":"VLOOKUP(F896,工作表9!$G$1:$H$142, 2, FALSE)","v":0},0]
[null,null,null,null,null,null,{"$f":"VLOOKUP(F897,工作表9!$G$1:$I$136,3, FALSE)","v":"混合物"},null,{"$f":"VLOOKUP(F897,工作表9!$G$1:$H$142, 2, FALSE)","v":0},0]
[null,null,null,null,null,null,{"$f":"VLOOKUP(F898,工作表9!$G$1:$I$136,3, FALSE)","v":"混合物"},null,{"$f":"VLOOKUP(F898,工作表9!$G$1:$H$142, 2, FALSE)","v":0},0]
[null,null,null,null,null,null,{"$f":"VLOOKUP(F899,工作表9!$G$1:$I$136,3, FALSE)","v":"混合物"},null,{"$f":"VLOOKUP(F899,工作表9!$G$1:$H$142, 2, FALSE)","v":0},0]
[null,null,null,null,null,null,{"$f":"VLOOKUP(F900,工作表9!$G$1:$I$136,3, FALSE)","v":"混合物"},null,{"$f":"VLOOKUP(F900,工作表9!$G$1:$H$142, 2, FALSE)","v":0},0]
[null,null,null,null,null,null,{"$f":"VLOOKUP(F901,工作表9!$G$1:$I$136,3, FALSE)","v":"混合物"},null,{"$f":"VLOOKUP(F901,工作表9!$G$1:$H$142, 2, FALSE)","v":0},0]
[null,null,null,null,null,null,{"$f":"VLOOKUP(F902,工作表9!$G$1:$I$136,3, FALSE)","v":"混合物"},null,{"$f":"VLOOKUP(F902,工作表9!$G$1:$H$142, 2, FALSE)","v":0},{"$f":"H902*I902","v":0}]
[null,null,null,null,null,null,{"$f":"VLOOKUP(F903,工作表9!$G$1:$I$136,3, FALSE)","v":"混合物"},null,{"$f":"VLOOKUP(F903,工作表9!$G$1:$H$142, 2, FALSE)","v":0},0]
[null,null,null,null,null,null,{"$f":"VLOOKUP(F904,工作表9!$G$1:$I$136,3, FALSE)","v":"混合物"},null,{"$f":"VLOOKUP(F904,工作表9!$G$1:$H$142, 2, FALSE)","v":0},0]
[null,null,null,null,null,null,{"$f":"VLOOKUP(F905,工作表9!$G$1:$I$136,3, FALSE)","v":"混合物"},null,{"$f":"VLOOKUP(F905,工作表9!$G$1:$H$142, 2, FALSE)","v":0},0]
[null,null,null,null,null,null,{"$f":"VLOOKUP(F906,工作表9!$G$1:$I$136,3, FALSE)","v":"混合物"},null,{"$f":"VLOOKUP(F906,工作表9!$G$1:$H$142, 2, FALSE)","v":0},0]
[null,null,null,null,null,null,{"$f":"VLOOKUP(F907,工作表9!$G$1:$I$136,3, FALSE)","v":"混合物"},null,{"$f":"VLOOKUP(F907,工作表9!$G$1:$H$142, 2, FALSE)","v":0},0]
[null,null,null,null,null,null,{"$f":"VLOOKUP(F908,工作表9!$G$1:$I$136,3, FALSE)","v":"混合物"},null,{"$f":"VLOOKUP(F908,工作表9!$G$1:$H$142, 2, FALSE)","v":0},0]
[null,null,null,null,null,null,{"$f":"VLOOKUP(F909,工作表9!$G$1:$I$136,3, FALSE)","v":"混合物"},null,{"$f":"VLOOKUP(F909,工作表9!$G$1:$H$142, 2, FALSE)","v":0},0]
[null,null,null,null,null,null,{"$f":"VLOOKUP(F910,工作表9!$G$1:$I$136,3, FALSE)","v":"混合物"},null,{"$f":"VLOOKUP(F910,工作表9!$G$1:$H$142, 2, FALSE)","v":0},0]
[null,null,null,null,null,null,{"$f":"VLOOKUP(F911,工作表9!$G$1:$I$136,3, FALSE)","v":"混合物"},null,{"$f":"VLOOKUP(F911,工作表9!$G$1:$H$142, 2, FALSE)","v":0},0]
[null,null,null,null,null,null,{"$f":"VLOOKUP(F912,工作表9!$G$1:$I$136,3, FALSE)","v":"混合物"},null,{"$f":"VLOOKUP(F912,工作表9!$G$1:$H$142, 2, FALSE)","v":0},0]
[null,null,null,null,null,null,{"$f":"VLOOKUP(F913,工作表9!$G$1:$I$136,3, FALSE)","v":"混合物"},null,{"$f":"VLOOKUP(F913,工作表9!$G$1:$H$142, 2, FALSE)","v":0},0]
[null,null,null,null,null,null,{"$f":"VLOOKUP(F914,工作表9!$G$1:$I$136,3, FALSE)","v":"混合物"},null,{"$f":"VLOOKUP(F914,工作表9!$G$1:$H$142, 2, FALSE)","v":0},0]
[null,null,null,null,null,null,{"$f":"VLOOKUP(F915,工作表9!$G$1:$I$136,3, FALSE)","v":"混合物"},null,{"$f":"VLOOKUP(F915,工作表9!$G$1:$H$142, 2, FALSE)","v":0},0]
[null,null,null,null,null,null,{"$f":"VLOOKUP(F916,工作表9!$G$1:$I$136,3, FALSE)","v":"混合物"},null,{"$f":"VLOOKUP(F916,工作表9!$G$1:$H$142, 2, FALSE)","v":0},0]
[null,null,null,null,null,null,{"$f":"VLOOKUP(F917,工作表9!$G$1:$I$136,3, FALSE)","v":"混合物"},null,{"$f":"VLOOKUP(F917,工作表9!$G$1:$H$142, 2, FALSE)","v":0},0]
[null,null,null,null,null,null,{"$f":"VLOOKUP(F918,工作表9!$G$1:$I$136,3, FALSE)","v":"混合物"},null,{"$f":"VLOOKUP(F918,工作表9!$G$1:$H$142, 2, FALSE)","v":0},0]
[null,null,null,null,null,null,{"$f":"VLOOKUP(F919,工作表9!$G$1:$I$136,3, FALSE)","v":"混合物"},null,{"$f":"VLOOKUP(F919,工作表9!$G$1:$H$142, 2, FALSE)","v":0},0]
[null,null,null,null,null,null,{"$f":"VLOOKUP(F920,工作表9!$G$1:$I$136,3, FALSE)","v":"混合物"},null,{"$f":"VLOOKUP(F920,工作表9!$G$1:$H$142, 2, FALSE)","v":0},0]
[null,null,null,null,null,null,{"$f":"VLOOKUP(F921,工作表9!$G$1:$I$136,3, FALSE)","v":"混合物"},null,{"$f":"VLOOKUP(F921,工作表9!$G$1:$H$142, 2, FALSE)","v":0},0]
[null,null,null,null,null,null,{"$f":"VLOOKUP(F922,工作表9!$G$1:$I$136,3, FALSE)","v":"混合物"},null,{"$f":"VLOOKUP(F922,工作表9!$G$1:$H$142, 2, FALSE)","v":0},0]
[null,null,null,null,null,null,{"$f":"VLOOKUP(F923,工作表9!$G$1:$I$136,3, FALSE)","v":"混合物"},null,{"$f":"VLOOKUP(F923,工作表9!$G$1:$H$142, 2, FALSE)","v":0},0]
[null,null,null,null,null,null,{"$f":"VLOOKUP(F924,工作表9!$G$1:$I$136,3, FALSE)","v":"混合物"},null,{"$f":"VLOOKUP(F924,工作表9!$G$1:$H$142, 2, FALSE)","v":0},0]
[null,null,null,null,null,null,{"$f":"VLOOKUP(F925,工作表9!$G$1:$I$136,3, FALSE)","v":"混合物"},null,{"$f":"VLOOKUP(F925,工作表9!$G$1:$H$142, 2, FALSE)","v":0},0]
[null,null,null,null,null,null,{"$f":"VLOOKUP(F926,工作表9!$G$1:$I$136,3, FALSE)","v":"混合物"},null,{"$f":"VLOOKUP(F926,工作表9!$G$1:$H$142, 2, FALSE)","v":0},0]
[null,null,null,null,null,null,{"$f":"VLOOKUP(F927,工作表9!$G$1:$I$136,3, FALSE)","v":"混合物"},null,{"$f":"VLOOKUP(F927,工作表9!$G$1:$H$142, 2, FALSE)","v":0},0]
[null,null,null,null,null,null,{"$f":"VLOOKUP(F928,工作表9!$G$1:$I$136,3, FALSE)","v":"混合物"},null,{"$f":"VLOOKUP(F928,工作表9!$G$1:$H$142, 2, FALSE)","v":0},0]
[null,null,null,null,null,null,{"$f":"VLOOKUP(F929,工作表9!$G$1:$I$136,3, FALSE)","v":"混合物"},null,{"$f":"VLOOKUP(F929,工作表9!$G$1:$H$142, 2, FALSE)","v":0},0]
[null,null,null,null,null,null,{"$f":"VLOOKUP(F930,工作表9!$G$1:$I$136,3, FALSE)","v":"混合物"},null,{"$f":"VLOOKUP(F930,工作表9!$G$1:$H$142, 2, FALSE)","v":0},0]
[null,null,null,null,null,null,{"$f":"VLOOKUP(F931,工作表9!$G$1:$I$136,3, FALSE)","v":"混合物"},null,{"$f":"VLOOKUP(F931,工作表9!$G$1:$H$142, 2, FALSE)","v":0},0]
[null,null,null,null,null,null,{"$f":"VLOOKUP(F932,工作表9!$G$1:$I$136,3, FALSE)","v":"混合物"},null,{"$f":"VLOOKUP(F932,工作表9!$G$1:$H$142, 2, FALSE)","v":0},0]
[null,null,null,null,null,null,{"$f":"VLOOKUP(F933,工作表9!$G$1:$I$136,3, FALSE)","v":"混合物"},null,{"$f":"VLOOKUP(F933,工作表9!$G$1:$H$142, 2, FALSE)","v":0},0]
[null,null,null,null,null,null,{"$f":"VLOOKUP(F934,工作表9!$G$1:$I$136,3, FALSE)","v":"混合物"},null,{"$f":"VLOOKUP(F934,工作表9!$G$1:$H$142, 2, FALSE)","v":0},0]
[null,null,null,null,null,null,{"$f":"VLOOKUP(F935,工作表9!$G$1:$I$136,3, FALSE)","v":"混合物"},null,{"$f":"VLOOKUP(F935,工作表9!$G$1:$H$142, 2, FALSE)","v":0},0]
[null,null,null,null,null,null,{"$f":"VLOOKUP(F936,工作表9!$G$1:$I$136,3, FALSE)","v":"混合物"},null,{"$f":"VLOOKUP(F936,工作表9!$G$1:$H$142, 2, FALSE)","v":0},0]
[null,null,null,null,null,null,{"$f":"VLOOKUP(F937,工作表9!$G$1:$I$136,3, FALSE)","v":"混合物"},null,{"$f":"VLOOKUP(F937,工作表9!$G$1:$H$142, 2, FALSE)","v":0},0]
[null,null,null,null,null,null,{"$f":"VLOOKUP(F938,工作表9!$G$1:$I$136,3, FALSE)","v":"混合物"},null,{"$f":"VLOOKUP(F938,工作表9!$G$1:$H$142, 2, FALSE)","v":0},0]
[null,null,null,null,null,null,{"$f":"VLOOKUP(F939,工作表9!$G$1:$I$136,3, FALSE)","v":"混合物"},null,{"$f":"VLOOKUP(F939,工作表9!$G$1:$H$142, 2, FALSE)","v":0},0]
[null,null,null,null,null,null,{"$f":"VLOOKUP(F940,工作表9!$G$1:$I$136,3, FALSE)","v":"混合物"},null,{"$f":"VLOOKUP(F940,工作表9!$G$1:$H$142, 2, FALSE)","v":0},0]
[null,null,null,null,null,null,{"$f":"VLOOKUP(F941,工作表9!$G$1:$I$136,3, FALSE)","v":"混合物"},null,{"$f":"VLOOKUP(F941,工作表9!$G$1:$H$142, 2, FALSE)","v":0},0]
[null,null,null,null,null,null,{"$f":"VLOOKUP(F942,工作表9!$G$1:$I$136,3, FALSE)","v":"混合物"},null,{"$f":"VLOOKUP(F942,工作表9!$G$1:$H$142, 2, FALSE)","v":0},0]
[null,null,null,null,null,null,{"$f":"VLOOKUP(F943,工作表9!$G$1:$I$136,3, FALSE)","v":"混合物"},null,{"$f":"VLOOKUP(F943,工作表9!$G$1:$H$142, 2, FALSE)","v":0},0]
[null,null,null,null,null,null,{"$f":"VLOOKUP(F944,工作表9!$G$1:$I$136,3, FALSE)","v":"混合物"},null,{"$f":"VLOOKUP(F944,工作表9!$G$1:$H$142, 2, FALSE)","v":0},0]
[null,null,null,null,null,null,{"$f":"VLOOKUP(F945,工作表9!$G$1:$I$136,3, FALSE)","v":"混合物"},null,{"$f":"VLOOKUP(F945,工作表9!$G$1:$H$142, 2, FALSE)","v":0},0]
[null,null,null,null,null,null,{"$f":"VLOOKUP(F946,工作表9!$G$1:$I$136,3, FALSE)","v":"混合物"},null,{"$f":"VLOOKUP(F946,工作表9!$G$1:$H$142, 2, FALSE)","v":0},0]
[null,null,null,null,null,null,{"$f":"VLOOKUP(F947,工作表9!$G$1:$I$136,3, FALSE)","v":"混合物"},null,{"$f":"VLOOKUP(F947,工作表9!$G$1:$H$142, 2, FALSE)","v":0},0]
[null,null,null,null,null,null,{"$f":"VLOOKUP(F948,工作表9!$G$1:$I$136,3, FALSE)","v":"混合物"},null,{"$f":"VLOOKUP(F948,工作表9!$G$1:$H$142, 2, FALSE)","v":0},0]
[null,null,null,null,null,null,{"$f":"VLOOKUP(F949,工作表9!$G$1:$I$136,3, FALSE)","v":"混合物"},null,{"$f":"VLOOKUP(F949,工作表9!$G$1:$H$142, 2, FALSE)","v":0},0]
[null,null,null,null,null,null,{"$f":"VLOOKUP(F950,工作表9!$G$1:$I$136,3, FALSE)","v":"混合物"},null,{"$f":"VLOOKUP(F950,工作表9!$G$1:$H$142, 2, FALSE)","v":0},0]
[null,null,null,null,null,null,{"$f":"VLOOKUP(F951,工作表9!$G$1:$I$136,3, FALSE)","v":"混合物"},null,{"$f":"VLOOKUP(F951,工作表9!$G$1:$H$142, 2, FALSE)","v":0},0]
[null,null,null,null,null,null,{"$f":"VLOOKUP(F952,工作表9!$G$1:$I$136,3, FALSE)","v":"混合物"},null,{"$f":"VLOOKUP(F952,工作表9!$G$1:$H$142, 2, FALSE)","v":0},0]
[null,null,null,null,null,null,{"$f":"VLOOKUP(F953,工作表9!$G$1:$I$136,3, FALSE)","v":"混合物"},null,{"$f":"VLOOKUP(F953,工作表9!$G$1:$H$142, 2, FALSE)","v":0},0]
[null,null,null,null,null,null,{"$f":"VLOOKUP(F954,工作表9!$G$1:$I$136,3, FALSE)","v":"混合物"},null,{"$f":"VLOOKUP(F954,工作表9!$G$1:$H$142, 2, FALSE)","v":0},0]
[null,null,null,null,null,null,{"$f":"VLOOKUP(F955,工作表9!$G$1:$I$136,3, FALSE)","v":"混合物"},null,{"$f":"VLOOKUP(F955,工作表9!$G$1:$H$142, 2, FALSE)","v":0},0]
[null,null,null,null,null,null,{"$f":"VLOOKUP(F956,工作表9!$G$1:$I$136,3, FALSE)","v":"混合物"},null,{"$f":"VLOOKUP(F956,工作表9!$G$1:$H$142, 2, FALSE)","v":0},0]
[null,null,null,null,null,null,{"$f":"VLOOKUP(F957,工作表9!$G$1:$I$136,3, FALSE)","v":"混合物"},null,{"$f":"VLOOKUP(F957,工作表9!$G$1:$H$142, 2, FALSE)","v":0},0]
[null,null,null,null,null,null,{"$f":"VLOOKUP(F958,工作表9!$G$1:$I$136,3, FALSE)","v":"混合物"},null,{"$f":"VLOOKUP(F958,工作表9!$G$1:$H$142, 2, FALSE)","v":0},0]
[null,null,null,null,null,null,{"$f":"VLOOKUP(F959,工作表9!$G$1:$I$136,3, FALSE)","v":"混合物"},null,{"$f":"VLOOKUP(F959,工作表9!$G$1:$H$142, 2, FALSE)","v":0},0]
[null,null,null,null,null,null,{"$f":"VLOOKUP(F960,工作表9!$G$1:$I$136,3, FALSE)","v":"混合物"},null,{"$f":"VLOOKUP(F960,工作表9!$G$1:$H$142, 2, FALSE)","v":0},0]
[null,null,null,null,null,null,{"$f":"VLOOKUP(F961,工作表9!$G$1:$I$136,3, FALSE)","v":"混合物"},null,{"$f":"VLOOKUP(F961,工作表9!$G$1:$H$142, 2, FALSE)","v":0},0]
[null,null,null,null,null,null,{"$f":"VLOOKUP(F962,工作表9!$G$1:$I$136,3, FALSE)","v":"混合物"},null,{"$f":"VLOOKUP(F962,工作表9!$G$1:$H$142, 2, FALSE)","v":0},0]
[null,null,null,null,null,null,{"$f":"VLOOKUP(F963,工作表9!$G$1:$I$136,3, FALSE)","v":"混合物"},null,{"$f":"VLOOKUP(F963,工作表9!$G$1:$H$142, 2, FALSE)","v":0},0]
[null,null,null,null,null,null,{"$f":"VLOOKUP(F964,工作表9!$G$1:$I$136,3, FALSE)","v":"混合物"},null,{"$f":"VLOOKUP(F964,工作表9!$G$1:$H$142, 2, FALSE)","v":0},0]
[null,null,null,null,null,null,{"$f":"VLOOKUP(F965,工作表9!$G$1:$I$136,3, FALSE)","v":"混合物"},null,{"$f":"VLOOKUP(F965,工作表9!$G$1:$H$142, 2, FALSE)","v":0},0]
[null,null,null,null,null,null,{"$f":"VLOOKUP(F966,工作表9!$G$1:$I$136,3, FALSE)","v":"混合物"},null,{"$f":"VLOOKUP(F966,工作表9!$G$1:$H$142, 2, FALSE)","v":0},{"$f":"H966*I966","v":0}]
[null,null,null,null,null,null,{"$f":"VLOOKUP(F967,工作表9!$G$1:$I$136,3, FALSE)","v":"混合物"},null,{"$f":"VLOOKUP(F967,工作表9!$G$1:$H$142, 2, FALSE)","v":0},0]
[null,null,null,null,null,null,{"$f":"VLOOKUP(F968,工作表9!$G$1:$I$136,3, FALSE)","v":"混合物"},null,{"$f":"VLOOKUP(F968,工作表9!$G$1:$H$142, 2, FALSE)","v":0},0]
[null,null,null,null,null,null,{"$f":"VLOOKUP(F969,工作表9!$G$1:$I$136,3, FALSE)","v":"混合物"},null,{"$f":"VLOOKUP(F969,工作表9!$G$1:$H$142, 2, FALSE)","v":0},0]
[null,null,null,null,null,null,{"$f":"VLOOKUP(F970,工作表9!$G$1:$I$136,3, FALSE)","v":"混合物"},null,{"$f":"VLOOKUP(F970,工作表9!$G$1:$H$142, 2, FALSE)","v":0},0]
[null,null,null,null,null,null,{"$f":"VLOOKUP(F971,工作表9!$G$1:$I$136,3, FALSE)","v":"混合物"},null,{"$f":"VLOOKUP(F971,工作表9!$G$1:$H$142, 2, FALSE)","v":0},0]
[null,null,null,null,null,null,{"$f":"VLOOKUP(F972,工作表9!$G$1:$I$136,3, FALSE)","v":"混合物"},null,{"$f":"VLOOKUP(F972,工作表9!$G$1:$H$142, 2, FALSE)","v":0},0]
[null,null,null,null,null,null,{"$f":"VLOOKUP(F973,工作表9!$G$1:$I$136,3, FALSE)","v":"混合物"},null,{"$f":"VLOOKUP(F973,工作表9!$G$1:$H$142, 2, FALSE)","v":0},0]
[null,null,null,null,null,null,{"$f":"VLOOKUP(F974,工作表9!$G$1:$I$136,3, FALSE)","v":"混合物"},null,{"$f":"VLOOKUP(F974,工作表9!$G$1:$H$142, 2, FALSE)","v":0},0]
[null,null,null,null,null,null,{"$f":"VLOOKUP(F975,工作表9!$G$1:$I$136,3, FALSE)","v":"混合物"},null,{"$f":"VLOOKUP(F975,工作表9!$G$1:$H$142, 2, FALSE)","v":0},0]
[null,null,null,null,null,null,{"$f":"VLOOKUP(F976,工作表9!$G$1:$I$136,3, FALSE)","v":"混合物"},null,{"$f":"VLOOKUP(F976,工作表9!$G$1:$H$142, 2, FALSE)","v":0},0]
[null,null,null,null,null,null,{"$f":"VLOOKUP(F977,工作表9!$G$1:$I$136,3, FALSE)","v":"混合物"},null,{"$f":"VLOOKUP(F977,工作表9!$G$1:$H$142, 2, FALSE)","v":0},0]
[null,null,null,null,null,null,{"$f":"VLOOKUP(F978,工作表9!$G$1:$I$136,3, FALSE)","v":"混合物"},null,{"$f":"VLOOKUP(F978,工作表9!$G$1:$H$142, 2, FALSE)","v":0},0]
[null,null,null,null,null,null,{"$f":"VLOOKUP(F979,工作表9!$G$1:$I$136,3, FALSE)","v":"混合物"},null,{"$f":"VLOOKUP(F979,工作表9!$G$1:$H$142, 2, FALSE)","v":0},0]
[null,null,null,null,null,null,{"$f":"VLOOKUP(F980,工作表9!$G$1:$I$136,3, FALSE)","v":"混合物"},null,{"$f":"VLOOKUP(F980,工作表9!$G$1:$H$142, 2, FALSE)","v":0},0]
[null,null,null,null,null,null,{"$f":"VLOOKUP(F981,工作表9!$G$1:$I$136,3, FALSE)","v":"混合物"},null,{"$f":"VLOOKUP(F981,工作表9!$G$1:$H$142, 2, FALSE)","v":0},0]
[null,null,null,null,null,null,{"$f":"VLOOKUP(F982,工作表9!$G$1:$I$136,3, FALSE)","v":"混合物"},null,{"$f":"VLOOKUP(F982,工作表9!$G$1:$H$142, 2, FALSE)","v":0},0]
[null,null,null,null,null,null,{"$f":"VLOOKUP(F983,工作表9!$G$1:$I$136,3, FALSE)","v":"混合物"},null,{"$f":"VLOOKUP(F983,工作表9!$G$1:$H$142, 2, FALSE)","v":0},0]
[null,null,null,null,null,null,{"$f":"VLOOKUP(F984,工作表9!$G$1:$I$136,3, FALSE)","v":"混合物"},null,{"$f":"VLOOKUP(F984,工作表9!$G$1:$H$142, 2, FALSE)","v":0},0]
[null,null,null,null,null,null,{"$f":"VLOOKUP(F985,工作表9!$G$1:$I$136,3, FALSE)","v":"混合物"},null,{"$f":"VLOOKUP(F985,工作表9!$G$1:$H$142, 2, FALSE)","v":0},0]
[null,null,null,null,null,null,{"$f":"VLOOKUP(F986,工作表9!$G$1:$I$136,3, FALSE)","v":"混合物"},null,{"$f":"VLOOKUP(F986,工作表9!$G$1:$H$142, 2, FALSE)","v":0},0]
[null,null,null,null,null,null,{"$f":"VLOOKUP(F987,工作表9!$G$1:$I$136,3, FALSE)","v":"混合物"},null,{"$f":"VLOOKUP(F987,工作表9!$G$1:$H$142, 2, FALSE)","v":0},0]
[null,null,null,null,null,null,{"$f":"VLOOKUP(F988,工作表9!$G$1:$I$136,3, FALSE)","v":"混合物"},null,{"$f":"VLOOKUP(F988,工作表9!$G$1:$H$142, 2, FALSE)","v":0},0]
[null,null,null,null,null,null,{"$f":"VLOOKUP(F989,工作表9!$G$1:$I$136,3, FALSE)","v":"混合物"},null,{"$f":"VLOOKUP(F989,工作表9!$G$1:$H$142, 2, FALSE)","v":0},0]
[null,null,null,null,null,null,{"$f":"VLOOKUP(F990,工作表9!$G$1:$I$136,3, FALSE)","v":"混合物"},null,{"$f":"VLOOKUP(F990,工作表9!$G$1:$H$142, 2, FALSE)","v":0},0]
[null,null,null,null,null,null,{"$f":"VLOOKUP(F991,工作表9!$G$1:$I$136,3, FALSE)","v":"混合物"},null,{"$f":"VLOOKUP(F991,工作表9!$G$1:$H$142, 2, FALSE)","v":0},0]
[null,null,null,null,null,null,{"$f":"VLOOKUP(F992,工作表9!$G$1:$I$136,3, FALSE)","v":"混合物"},null,{"$f":"VLOOKUP(F992,工作表9!$G$1:$H$142, 2, FALSE)","v":0},0]
[null,null,null,null,null,null,{"$f":"VLOOKUP(F993,工作表9!$G$1:$I$136,3, FALSE)","v":"混合物"},null,{"$f":"VLOOKUP(F993,工作表9!$G$1:$H$142, 2, FALSE)","v":0},0]
[null,null,null,null,null,null,{"$f":"VLOOKUP(F994,工作表9!$G$1:$I$136,3, FALSE)","v":"混合物"},null,{"$f":"VLOOKUP(F994,工作表9!$G$1:$H$142, 2, FALSE)","v":0},0]
[null,null,null,null,null,null,{"$f":"VLOOKUP(F995,工作表9!$G$1:$I$136,3, FALSE)","v":"混合物"},null,{"$f":"VLOOKUP(F995,工作表9!$G$1:$H$142, 2, FALSE)","v":0},0]
[null,null,null,null,null,null,{"$f":"VLOOKUP(F996,工作表9!$G$1:$I$136,3, FALSE)","v":"混合物"},null,{"$f":"VLOOKUP(F996,工作表9!$G$1:$H$142, 2, FALSE)","v":0},0]
[null,null,null,null,null,null,{"$f":"VLOOKUP(F997,工作表9!$G$1:$I$136,3, FALSE)","v":"混合物"},null,{"$f":"VLOOKUP(F997,工作表9!$G$1:$H$142, 2, FALSE)","v":0},0]
[null,null,null,null,null,null,{"$f":"VLOOKUP(F998,工作表9!$G$1:$I$136,3, FALSE)","v":"混合物"},null,{"$f":"VLOOKUP(F998,工作表9!$G$1:$H$142, 2, FALSE)","v":0},0]
[null,null,null,null,null,null,{"$f":"VLOOKUP(F999,工作表9!$G$1:$I$136,3, FALSE)","v":"混合物"},null,{"$f":"VLOOKUP(F999,工作表9!$G$1:$H$142, 2, FALSE)","v":0},0]
[null,null,null,null,null,null,{"$f":"VLOOKUP(F1000,工作表9!$G$1:$I$136,3, FALSE)","v":"混合物"},null,{"$f":"VLOOKUP(F1000,工作表9!$G$1:$H$142, 2, FALSE)","v":0},0]
["備註：","＊    請參考附件：冷媒GWP值"]

{"sheet":"110年氫氟碳（HFCs）之國內採購統計申報表","index":4,"n_rows":1001,"n_cols":10,"rows_kept":1001,"cut":false,"hidden":false,"merged":[[0,0,0,1],[0,2,0,5],[1,6,3,6],[1,0,3,0],[1,1,3,1],[1,3,3,3],[1,4,3,4],[1,5,3,5],[1,2,3,2]]}
["申報年份",null,"            110         年",null,null,null,"請記得檢附採購發票影本"]
["編號","採購發票編號","供應廠商統一編號","供應廠商名稱","商品名稱","冷媒編號\n請填寫號碼即可，毋須填寫R-","物質類別","採購量","GWP*","公噸CO2eq"]
[null,null,null,null,null,null,null,"（公噸）",null,"C=A*B"]
[null,null,null,null,null,null,null,"A","B"]
["範例 1","UZ07990000","02750961","AA","R23",23,{"$f":"VLOOKUP(F5,工作表9!$G$1:$I$136,3, FALSE)","v":"純物質"},50,{"$f":"VLOOKUP(F5,工作表9!$G$1:$H$142, 2, FALSE)","v":14800},{"$f":"H5*I5","v":740000}]
["範例 2","UZ07990000","02750961","AA","R134a","134a",{"$f":"VLOOKUP(F6,工作表9!$G$1:$I$136,3, FALSE)","v":"純物質"},100,{"$f":"VLOOKUP(F6,工作表9!$G$1:$H$142, 2, FALSE)","v":1430},{"$f":"H6*I6","v":143000}]
[null,null,null,null,null,null,{"$f":"VLOOKUP(F7,工作表9!$G$1:$I$136,3, FALSE)","v":"混合物"},null,{"$f":"VLOOKUP(F7,工作表9!$G$1:$H$142, 2, FALSE)","v":0},0]
[null,null,null,null,null,null,{"$f":"VLOOKUP(F8,工作表9!$G$1:$I$136,3, FALSE)","v":"混合物"},null,{"$f":"VLOOKUP(F8,工作表9!$G$1:$H$142, 2, FALSE)","v":0},0]
[null,null,null,null,null,null,{"$f":"VLOOKUP(F9,工作表9!$G$1:$I$136,3, FALSE)","v":"混合物"},null,{"$f":"VLOOKUP(F9,工作表9!$G$1:$H$142, 2, FALSE)","v":0},0]
[null,null,null,null,null,null,{"$f":"VLOOKUP(F10,工作表9!$G$1:$I$136,3, FALSE)","v":"混合物"},null,{"$f":"VLOOKUP(F10,工作表9!$G$1:$H$142, 2, FALSE)","v":0},0]
[null,null,null,null,null,null,{"$f":"VLOOKUP(F11,工作表9!$G$1:$I$136,3, FALSE)","v":"混合物"},null,{"$f":"VLOOKUP(F11,工作表9!$G$1:$H$142, 2, FALSE)","v":0},0]
[null,null,null,null,null,null,{"$f":"VLOOKUP(F12,工作表9!$G$1:$I$136,3, FALSE)","v":"混合物"},null,{"$f":"VLOOKUP(F12,工作表9!$G$1:$H$142, 2, FALSE)","v":0},0]
[null,null,null,null,null,null,{"$f":"VLOOKUP(F13,工作表9!$G$1:$I$136,3, FALSE)","v":"混合物"},null,{"$f":"VLOOKUP(F13,工作表9!$G$1:$H$142, 2, FALSE)","v":0},0]
[null,null,null,null,null,null,{"$f":"VLOOKUP(F14,工作表9!$G$1:$I$136,3, FALSE)","v":"混合物"},null,{"$f":"VLOOKUP(F14,工作表9!$G$1:$H$142, 2, FALSE)","v":0},0]
[null,null,null,null,null,null,{"$f":"VLOOKUP(F15,工作表9!$G$1:$I$136,3, FALSE)","v":"混合物"},null,{"$f":"VLOOKUP(F15,工作表9!$G$1:$H$142, 2, FALSE)","v":0},0]
[null,null,null,null,null,null,{"$f":"VLOOKUP(F16,工作表9!$G$1:$I$136,3, FALSE)","v":"混合物"},null,{"$f":"VLOOKUP(F16,工作表9!$G$1:$H$142, 2, FALSE)","v":0},0]
[null,null,null,null,null,null,{"$f":"VLOOKUP(F17,工作表9!$G$1:$I$136,3, FALSE)","v":"混合物"},null,{"$f":"VLOOKUP(F17,工作表9!$G$1:$H$142, 2, FALSE)","v":0},0]
[null,null,null,null,null,null,{"$f":"VLOOKUP(F18,工作表9!$G$1:$I$136,3, FALSE)","v":"混合物"},null,{"$f":"VLOOKUP(F18,工作表9!$G$1:$H$142, 2, FALSE)","v":0},0]
[null,null,null,null,null,null,{"$f":"VLOOKUP(F19,工作表9!$G$1:$I$136,3, FALSE)","v":"混合物"},null,{"$f":"VLOOKUP(F19,工作表9!$G$1:$H$142, 2, FALSE)","v":0},0]
[null,null,null,null,null,null,{"$f":"VLOOKUP(F20,工作表9!$G$1:$I$136,3, FALSE)","v":"混合物"},null,{"$f":"VLOOKUP(F20,工作表9!$G$1:$H$142, 2, FALSE)","v":0},0]
[null,null,null,null,null,null,{"$f":"VLOOKUP(F21,工作表9!$G$1:$I$136,3, FALSE)","v":"混合物"},null,{"$f":"VLOOKUP(F21,工作表9!$G$1:$H$142, 2, FALSE)","v":0},0]
[null,null,null,null,null,null,{"$f":"VLOOKUP(F22,工作表9!$G$1:$I$136,3, FALSE)","v":"混合物"},null,{"$f":"VLOOKUP(F22,工作表9!$G$1:$H$142, 2, FALSE)","v":0},0]
[null,null,null,null,null,null,{"$f":"VLOOKUP(F23,工作表9!$G$1:$I$136,3, FALSE)","v":"混合物"},null,{"$f":"VLOOKUP(F23,工作表9!$G$1:$H$142, 2, FALSE)","v":0},0]
[null,null,null,null,null,null,{"$f":"VLOOKUP(F24,工作表9!$G$1:$I$136,3, FALSE)","v":"混合物"},null,{"$f":"VLOOKUP(F24,工作表9!$G$1:$H$142, 2, FALSE)","v":0},0]
[null,null,null,null,null,null,{"$f":"VLOOKUP(F25,工作表9!$G$1:$I$136,3, FALSE)","v":"混合物"},null,{"$f":"VLOOKUP(F25,工作表9!$G$1:$H$142, 2, FALSE)","v":0},0]
[null,null,null,null,null,null,{"$f":"VLOOKUP(F26,工作表9!$G$1:$I$136,3, FALSE)","v":"混合物"},null,{"$f":"VLOOKUP(F26,工作表9!$G$1:$H$142, 2, FALSE)","v":0},0]
[null,null,null,null,null,null,{"$f":"VLOOKUP(F27,工作表9!$G$1:$I$136,3, FALSE)","v":"混合物"},null,{"$f":"VLOOKUP(F27,工作表9!$G$1:$H$142, 2, FALSE)","v":0},0]
[null,null,null,null,null,null,{"$f":"VLOOKUP(F28,工作表9!$G$1:$I$136,3, FALSE)","v":"混合物"},null,{"$f":"VLOOKUP(F28,工作表9!$G$1:$H$142, 2, FALSE)","v":0},0]
[null,null,null,null,null,null,{"$f":"VLOOKUP(F29,工作表9!$G$1:$I$136,3, FALSE)","v":"混合物"},null,{"$f":"VLOOKUP(F29,工作表9!$G$1:$H$142, 2, FALSE)","v":0},0]
[null,null,null,null,null,null,{"$f":"VLOOKUP(F30,工作表9!$G$1:$I$136,3, FALSE)","v":"混合物"},null,{"$f":"VLOOKUP(F30,工作表9!$G$1:$H$142, 2, FALSE)","v":0},0]
[null,null,null,null,null,null,{"$f":"VLOOKUP(F31,工作表9!$G$1:$I$136,3, FALSE)","v":"混合物"},null,{"$f":"VLOOKUP(F31,工作表9!$G$1:$H$142, 2, FALSE)","v":0},0]
[null,null,null,null,null,null,{"$f":"VLOOKUP(F32,工作表9!$G$1:$I$136,3, FALSE)","v":"混合物"},null,{"$f":"VLOOKUP(F32,工作表9!$G$1:$H$142, 2, FALSE)","v":0},0]
[null,null,null,null,null,null,{"$f":"VLOOKUP(F33,工作表9!$G$1:$I$136,3, FALSE)","v":"混合物"},null,{"$f":"VLOOKUP(F33,工作表9!$G$1:$H$142, 2, FALSE)","v":0},0]
[null,null,null,null,null,null,{"$f":"VLOOKUP(F34,工作表9!$G$1:$I$136,3, FALSE)","v":"混合物"},null,{"$f":"VLOOKUP(F34,工作表9!$G$1:$H$142, 2, FALSE)","v":0},0]
[null,null,null,null,null,null,{"$f":"VLOOKUP(F35,工作表9!$G$1:$I$136,3, FALSE)","v":"混合物"},null,{"$f":"VLOOKUP(F35,工作表9!$G$1:$H$142, 2, FALSE)","v":0},0]
[null,null,null,null,null,null,{"$f":"VLOOKUP(F36,工作表9!$G$1:$I$136,3, FALSE)","v":"混合物"},null,{"$f":"VLOOKUP(F36,工作表9!$G$1:$H$142, 2, FALSE)","v":0},0]
[null,null,null,null,null,null,{"$f":"VLOOKUP(F37,工作表9!$G$1:$I$136,3, FALSE)","v":"混合物"},null,{"$f":"VLOOKUP(F37,工作表9!$G$1:$H$142, 2, FALSE)","v":0},0]
[null,null,null,null,null,null,{"$f":"VLOOKUP(F38,工作表9!$G$1:$I$136,3, FALSE)","v":"混合物"},null,{"$f":"VLOOKUP(F38,工作表9!$G$1:$H$142, 2, FALSE)","v":0},0]
[null,null,null,null,null,null,{"$f":"VLOOKUP(F39,工作表9!$G$1:$I$136,3, FALSE)","v":"混合物"},null,{"$f":"VLOOKUP(F39,工作表9!$G$1:$H$142, 2, FALSE)","v":0},0]
[null,null,null,null,null,null,{"$f":"VLOOKUP(F40,工作表9!$G$1:$I$136,3, FALSE)","v":"混合物"},null,{"$f":"VLOOKUP(F40,工作表9!$G$1:$H$142, 2, FALSE)","v":0},0]
[null,null,null,null,null,null,{"$f":"VLOOKUP(F41,工作表9!$G$1:$I$136,3, FALSE)","v":"混合物"},null,{"$f":"VLOOKUP(F41,工作表9!$G$1:$H$142, 2, FALSE)","v":0},0]
[null,null,null,null,null,null,{"$f":"VLOOKUP(F42,工作表9!$G$1:$I$136,3, FALSE)","v":"混合物"},null,{"$f":"VLOOKUP(F42,工作表9!$G$1:$H$142, 2, FALSE)","v":0},0]
[null,null,null,null,null,null,{"$f":"VLOOKUP(F43,工作表9!$G$1:$I$136,3, FALSE)","v":"混合物"},null,{"$f":"VLOOKUP(F43,工作表9!$G$1:$H$142, 2, FALSE)","v":0},0]
[null,null,null,null,null,null,{"$f":"VLOOKUP(F44,工作表9!$G$1:$I$136,3, FALSE)","v":"混合物"},null,{"$f":"VLOOKUP(F44,工作表9!$G$1:$H$142, 2, FALSE)","v":0},0]
[null,null,null,null,null,null,{"$f":"VLOOKUP(F45,工作表9!$G$1:$I$136,3, FALSE)","v":"混合物"},null,{"$f":"VLOOKUP(F45,工作表9!$G$1:$H$142, 2, FALSE)","v":0},0]
[null,null,null,null,null,null,{"$f":"VLOOKUP(F46,工作表9!$G$1:$I$136,3, FALSE)","v":"混合物"},null,{"$f":"VLOOKUP(F46,工作表9!$G$1:$H$142, 2, FALSE)","v":0},0]
[null,null,null,null,null,null,{"$f":"VLOOKUP(F47,工作表9!$G$1:$I$136,3, FALSE)","v":"混合物"},null,{"$f":"VLOOKUP(F47,工作表9!$G$1:$H$142, 2, FALSE)","v":0},0]
[null,null,null,null,null,null,{"$f":"VLOOKUP(F48,工作表9!$G$1:$I$136,3, FALSE)","v":"混合物"},null,{"$f":"VLOOKUP(F48,工作表9!$G$1:$H$142, 2, FALSE)","v":0},0]
[null,null,null,null,null,null,{"$f":"VLOOKUP(F49,工作表9!$G$1:$I$136,3, FALSE)","v":"混合物"},null,{"$f":"VLOOKUP(F49,工作表9!$G$1:$H$142, 2, FALSE)","v":0},0]
[null,null,null,null,null,null,{"$f":"VLOOKUP(F50,工作表9!$G$1:$I$136,3, FALSE)","v":"混合物"},null,{"$f":"VLOOKUP(F50,工作表9!$G$1:$H$142, 2, FALSE)","v":0},0]
[null,null,null,null,null,null,{"$f":"VLOOKUP(F51,工作表9!$G$1:$I$136,3, FALSE)","v":"混合物"},null,{"$f":"VLOOKUP(F51,工作表9!$G$1:$H$142, 2, FALSE)","v":0},0]
[null,null,null,null,null,null,{"$f":"VLOOKUP(F52,工作表9!$G$1:$I$136,3, FALSE)","v":"混合物"},null,{"$f":"VLOOKUP(F52,工作表9!$G$1:$H$142, 2, FALSE)","v":0},0]
[null,null,null,null,null,null,{"$f":"VLOOKUP(F53,工作表9!$G$1:$I$136,3, FALSE)","v":"混合物"},null,{"$f":"VLOOKUP(F53,工作表9!$G$1:$H$142, 2, FALSE)","v":0},0]
[null,null,null,null,null,null,{"$f":"VLOOKUP(F54,工作表9!$G$1:$I$136,3, FALSE)","v":"混合物"},null,{"$f":"VLOOKUP(F54,工作表9!$G$1:$H$142, 2, FALSE)","v":0},0]
[null,null,null,null,null,null,{"$f":"VLOOKUP(F55,工作表9!$G$1:$I$136,3, FALSE)","v":"混合物"},null,{"$f":"VLOOKUP(F55,工作表9!$G$1:$H$142, 2, FALSE)","v":0},0]
[null,null,null,null,null,null,{"$f":"VLOOKUP(F56,工作表9!$G$1:$I$136,3, FALSE)","v":"混合物"},null,{"$f":"VLOOKUP(F56,工作表9!$G$1:$H$142, 2, FALSE)","v":0},0]
[null,null,null,null,null,null,{"$f":"VLOOKUP(F57,工作表9!$G$1:$I$136,3, FALSE)","v":"混合物"},null,{"$f":"VLOOKUP(F57,工作表9!$G$1:$H$142, 2, FALSE)","v":0},0]
[null,null,null,null,null,null,{"$f":"VLOOKUP(F58,工作表9!$G$1:$I$136,3, FALSE)","v":"混合物"},null,{"$f":"VLOOKUP(F58,工作表9!$G$1:$H$142, 2, FALSE)","v":0},0]
[null,null,null,null,null,null,{"$f":"VLOOKUP(F59,工作表9!$G$1:$I$136,3, FALSE)","v":"混合物"},null,{"$f":"VLOOKUP(F59,工作表9!$G$1:$H$142, 2, FALSE)","v":0},0]
[null,null,null,null,null,null,{"$f":"VLOOKUP(F60,工作表9!$G$1:$I$136,3, FALSE)","v":"混合物"},null,{"$f":"VLOOKUP(F60,工作表9!$G$1:$H$142, 2, FALSE)","v":0},0]
[null,null,null,null,null,null,{"$f":"VLOOKUP(F61,工作表9!$G$1:$I$136,3, FALSE)","v":"混合物"},null,{"$f":"VLOOKUP(F61,工作表9!$G$1:$H$142, 2, FALSE)","v":0},0]
[null,null,null,null,null,null,{"$f":"VLOOKUP(F62,工作表9!$G$1:$I$136,3, FALSE)","v":"混合物"},null,{"$f":"VLOOKUP(F62,工作表9!$G$1:$H$142, 2, FALSE)","v":0},0]
[null,null,null,null,null,null,{"$f":"VLOOKUP(F63,工作表9!$G$1:$I$136,3, FALSE)","v":"混合物"},null,{"$f":"VLOOKUP(F63,工作表9!$G$1:$H$142, 2, FALSE)","v":0},0]
[null,null,null,null,null,null,{"$f":"VLOOKUP(F64,工作表9!$G$1:$I$136,3, FALSE)","v":"混合物"},null,{"$f":"VLOOKUP(F64,工作表9!$G$1:$H$142, 2, FALSE)","v":0},0]
[null,null,null,null,null,null,{"$f":"VLOOKUP(F65,工作表9!$G$1:$I$136,3, FALSE)","v":"混合物"},null,{"$f":"VLOOKUP(F65,工作表9!$G$1:$H$142, 2, FALSE)","v":0},0]
[null,null,null,null,null,null,{"$f":"VLOOKUP(F66,工作表9!$G$1:$I$136,3, FALSE)","v":"混合物"},null,{"$f":"VLOOKUP(F66,工作表9!$G$1:$H$142, 2, FALSE)","v":0},0]
[null,null,null,null,null,null,{"$f":"VLOOKUP(F67,工作表9!$G$1:$I$136,3, FALSE)","v":"混合物"},null,{"$f":"VLOOKUP(F67,工作表9!$G$1:$H$142, 2, FALSE)","v":0},0]
[null,null,null,null,null,null,{"$f":"VLOOKUP(F68,工作表9!$G$1:$I$136,3, FALSE)","v":"混合物"},null,{"$f":"VLOOKUP(F68,工作表9!$G$1:$H$142, 2, FALSE)","v":0},0]
[null,null,null,null,null,null,{"$f":"VLOOKUP(F69,工作表9!$G$1:$I$136,3, FALSE)","v":"混合物"},null,{"$f":"VLOOKUP(F69,工作表9!$G$1:$H$142, 2, FALSE)","v":0},0]
[null,null,null,null,null,null,{"$f":"VLOOKUP(F70,工作表9!$G$1:$I$136,3, FALSE)","v":"混合物"},null,{"$f":"VLOOKUP(F70,工作表9!$G$1:$H$142, 2, FALSE)","v":0},{"$f":"H70*I70","v":0}]
[null,null,null,null,null,null,{"$f":"VLOOKUP(F71,工作表9!$G$1:$I$136,3, FALSE)","v":"混合物"},null,{"$f":"VLOOKUP(F71,工作表9!$G$1:$H$142, 2, FALSE)","v":0},0]
[null,null,null,null,null,null,{"$f":"VLOOKUP(F72,工作表9!$G$1:$I$136,3, FALSE)","v":"混合物"},null,{"$f":"VLOOKUP(F72,工作表9!$G$1:$H$142, 2, FALSE)","v":0},0]
[null,null,null,null,null,null,{"$f":"VLOOKUP(F73,工作表9!$G$1:$I$136,3, FALSE)","v":"混合物"},null,{"$f":"VLOOKUP(F73,工作表9!$G$1:$H$142, 2, FALSE)","v":0},0]
[null,null,null,null,null,null,{"$f":"VLOOKUP(F74,工作表9!$G$1:$I$136,3, FALSE)","v":"混合物"},null,{"$f":"VLOOKUP(F74,工作表9!$G$1:$H$142, 2, FALSE)","v":0},0]
[null,null,null,null,null,null,{"$f":"VLOOKUP(F75,工作表9!$G$1:$I$136,3, FALSE)","v":"混合物"},null,{"$f":"VLOOKUP(F75,工作表9!$G$1:$H$142, 2, FALSE)","v":0},0]
[null,null,null,null,null,null,{"$f":"VLOOKUP(F76,工作表9!$G$1:$I$136,3, FALSE)","v":"混合物"},null,{"$f":"VLOOKUP(F76,工作表9!$G$1:$H$142, 2, FALSE)","v":0},0]
[null,null,null,null,null,null,{"$f":"VLOOKUP(F77,工作表9!$G$1:$I$136,3, FALSE)","v":"混合物"},null,{"$f":"VLOOKUP(F77,工作表9!$G$1:$H$142, 2, FALSE)","v":0},0]
[null,null,null,null,null,null,{"$f":"VLOOKUP(F78,工作表9!$G$1:$I$136,3, FALSE)","v":"混合物"},null,{"$f":"VLOOKUP(F78,工作表9!$G$1:$H$142, 2, FALSE)","v":0},0]
[null,null,null,null,null,null,{"$f":"VLOOKUP(F79,工作表9!$G$1:$I$136,3, FALSE)","v":"混合物"},null,{"$f":"VLOOKUP(F79,工作表9!$G$1:$H$142, 2, FALSE)","v":0},0]
[null,null,null,null,null,null,{"$f":"VLOOKUP(F80,工作表9!$G$1:$I$136,3, FALSE)","v":"混合物"},null,{"$f":"VLOOKUP(F80,工作表9!$G$1:$H$142, 2, FALSE)","v":0},0]
[null,null,null,null,null,null,{"$f":"VLOOKUP(F81,工作表9!$G$1:$I$136,3, FALSE)","v":"混合物"},null,{"$f":"VLOOKUP(F81,工作表9!$G$1:$H$142, 2, FALSE)","v":0},0]
[null,null,null,null,null,null,{"$f":"VLOOKUP(F82,工作表9!$G$1:$I$136,3, FALSE)","v":"混合物"},null,{"$f":"VLOOKUP(F82,工作表9!$G$1:$H$142, 2, FALSE)","v":0},0]
[null,null,null,null,null,null,{"$f":"VLOOKUP(F83,工作表9!$G$1:$I$136,3, FALSE)","v":"混合物"},null,{"$f":"VLOOKUP(F83,工作表9!$G$1:$H$142, 2, FALSE)","v":0},0]
[null,null,null,null,null,null,{"$f":"VLOOKUP(F84,工作表9!$G$1:$I$136,3, FALSE)","v":"混合物"},null,{"$f":"VLOOKUP(F84,工作表9!$G$1:$H$142, 2, FALSE)","v":0},0]
[null,null,null,null,null,null,{"$f":"VLOOKUP(F85,工作表9!$G$1:$I$136,3, FALSE)","v":"混合物"},null,{"$f":"VLOOKUP(F85,工作表9!$G$1:$H$142, 2, FALSE)","v":0},0]
[null,null,null,null,null,null,{"$f":"VLOOKUP(F86,工作表9!$G$1:$I$136,3, FALSE)","v":"混合物"},null,{"$f":"VLOOKUP(F86,工作表9!$G$1:$H$142, 2, FALSE)","v":0},0]
[null,null,null,null,null,null,{"$f":"VLOOKUP(F87,工作表9!$G$1:$I$136,3, FALSE)","v":"混合物"},null,{"$f":"VLOOKUP(F87,工作表9!$G$1:$H$142, 2, FALSE)","v":0},0]
[null,null,null,null,null,null,{"$f":"VLOOKUP(F88,工作表9!$G$1:$I$136,3, FALSE)","v":"混合物"},null,{"$f":"VLOOKUP(F88,工作表9!$G$1:$H$142, 2, FALSE)","v":0},0]
[null,null,null,null,null,null,{"$f":"VLOOKUP(F89,工作表9!$G$1:$I$136,3, FALSE)","v":"混合物"},null,{"$f":"VLOOKUP(F89,工作表9!$G$1:$H$142, 2, FALSE)","v":0},0]
[null,null,null,null,null,null,{"$f":"VLOOKUP(F90,工作表9!$G$1:$I$136,3, FALSE)","v":"混合物"},null,{"$f":"VLOOKUP(F90,工作表9!$G$1:$H$142, 2, FALSE)","v":0},0]
[null,null,null,null,null,null,{"$f":"VLOOKUP(F91,工作表9!$G$1:$I$136,3, FALSE)","v":"混合物"},null,{"$f":"VLOOKUP(F91,工作表9!$G$1:$H$142, 2, FALSE)","v":0},0]
[null,null,null,null,null,null,{"$f":"VLOOKUP(F92,工作表9!$G$1:$I$136,3, FALSE)","v":"混合物"},null,{"$f":"VLOOKUP(F92,工作表9!$G$1:$H$142, 2, FALSE)","v":0},0]
[null,null,null,null,null,null,{"$f":"VLOOKUP(F93,工作表9!$G$1:$I$136,3, FALSE)","v":"混合物"},null,{"$f":"VLOOKUP(F93,工作表9!$G$1:$H$142, 2, FALSE)","v":0},0]
[null,null,null,null,null,null,{"$f":"VLOOKUP(F94,工作表9!$G$1:$I$136,3, FALSE)","v":"混合物"},null,{"$f":"VLOOKUP(F94,工作表9!$G$1:$H$142, 2, FALSE)","v":0},0]
[null,null,null,null,null,null,{"$f":"VLOOKUP(F95,工作表9!$G$1:$I$136,3, FALSE)","v":"混合物"},null,{"$f":"VLOOKUP(F95,工作表9!$G$1:$H$142, 2, FALSE)","v":0},0]
[null,null,null,null,null,null,{"$f":"VLOOKUP(F96,工作表9!$G$1:$I$136,3, FALSE)","v":"混合物"},null,{"$f":"VLOOKUP(F96,工作表9!$G$1:$H$142, 2, FALSE)","v":0},0]
[null,null,null,null,null,null,{"$f":"VLOOKUP(F97,工作表9!$G$1:$I$136,3, FALSE)","v":"混合物"},null,{"$f":"VLOOKUP(F97,工作表9!$G$1:$H$142, 2, FALSE)","v":0},0]
[null,null,null,null,null,null,{"$f":"VLOOKUP(F98,工作表9!$G$1:$I$136,3, FALSE)","v":"混合物"},null,{"$f":"VLOOKUP(F98,工作表9!$G$1:$H$142, 2, FALSE)","v":0},0]
[null,null,null,null,null,null,{"$f":"VLOOKUP(F99,工作表9!$G$1:$I$136,3, FALSE)","v":"混合物"},null,{"$f":"VLOOKUP(F99,工作表9!$G$1:$H$142, 2, FALSE)","v":0},0]
[null,null,null,null,null,null,{"$f":"VLOOKUP(F100,工作表9!$G$1:$I$136,3, FALSE)","v":"混合物"},null,{"$f":"VLOOKUP(F100,工作表9!$G$1:$H$142, 2, FALSE)","v":0},0]
[null,null,null,null,null,null,{"$f":"VLOOKUP(F101,工作表9!$G$1:$I$136,3, FALSE)","v":"混合物"},null,{"$f":"VLOOKUP(F101,工作表9!$G$1:$H$142, 2, FALSE)","v":0},0]
[null,null,null,null,null,null,{"$f":"VLOOKUP(F102,工作表9!$G$1:$I$136,3, FALSE)","v":"混合物"},null,{"$f":"VLOOKUP(F102,工作表9!$G$1:$H$142, 2, FALSE)","v":0},0]
[null,null,null,null,null,null,{"$f":"VLOOKUP(F103,工作表9!$G$1:$I$136,3, FALSE)","v":"混合物"},null,{"$f":"VLOOKUP(F103,工作表9!$G$1:$H$142, 2, FALSE)","v":0},0]
[null,null,null,null,null,null,{"$f":"VLOOKUP(F104,工作表9!$G$1:$I$136,3, FALSE)","v":"混合物"},null,{"$f":"VLOOKUP(F104,工作表9!$G$1:$H$142, 2, FALSE)","v":0},0]
[null,null,null,null,null,null,{"$f":"VLOOKUP(F105,工作表9!$G$1:$I$136,3, FALSE)","v":"混合物"},null,{"$f":"VLOOKUP(F105,工作表9!$G$1:$H$142, 2, FALSE)","v":0},0]
[null,null,null,null,null,null,{"$f":"VLOOKUP(F106,工作表9!$G$1:$I$136,3, FALSE)","v":"混合物"},null,{"$f":"VLOOKUP(F106,工作表9!$G$1:$H$142, 2, FALSE)","v":0},0]
[null,null,null,null,null,null,{"$f":"VLOOKUP(F107,工作表9!$G$1:$I$136,3, FALSE)","v":"混合物"},null,{"$f":"VLOOKUP(F107,工作表9!$G$1:$H$142, 2, FALSE)","v":0},0]
[null,null,null,null,null,null,{"$f":"VLOOKUP(F108,工作表9!$G$1:$I$136,3, FALSE)","v":"混合物"},null,{"$f":"VLOOKUP(F108,工作表9!$G$1:$H$142, 2, FALSE)","v":0},0]
[null,null,null,null,null,null,{"$f":"VLOOKUP(F109,工作表9!$G$1:$I$136,3, FALSE)","v":"混合物"},null,{"$f":"VLOOKUP(F109,工作表9!$G$1:$H$142, 2, FALSE)","v":0},0]
[null,null,null,null,null,null,{"$f":"VLOOKUP(F110,工作表9!$G$1:$I$136,3, FALSE)","v":"混合物"},null,{"$f":"VLOOKUP(F110,工作表9!$G$1:$H$142, 2, FALSE)","v":0},0]
[null,null,null,null,null,null,{"$f":"VLOOKUP(F111,工作表9!$G$1:$I$136,3, FALSE)","v":"混合物"},null,{"$f":"VLOOKUP(F111,工作表9!$G$1:$H$142, 2, FALSE)","v":0},0]
[null,null,null,null,null,null,{"$f":"VLOOKUP(F112,工作表9!$G$1:$I$136,3, FALSE)","v":"混合物"},null,{"$f":"VLOOKUP(F112,工作表9!$G$1:$H$142, 2, FALSE)","v":0},0]
[null,null,null,null,null,null,{"$f":"VLOOKUP(F113,工作表9!$G$1:$I$136,3, FALSE)","v":"混合物"},null,{"$f":"VLOOKUP(F113,工作表9!$G$1:$H$142, 2, FALSE)","v":0},0]
[null,null,null,null,null,null,{"$f":"VLOOKUP(F114,工作表9!$G$1:$I$136,3, FALSE)","v":"混合物"},null,{"$f":"VLOOKUP(F114,工作表9!$G$1:$H$142, 2, FALSE)","v":0},0]
[null,null,null,null,null,null,{"$f":"VLOOKUP(F115,工作表9!$G$1:$I$136,3, FALSE)","v":"混合物"},null,{"$f":"VLOOKUP(F115,工作表9!$G$1:$H$142, 2, FALSE)","v":0},0]
[null,null,null,null,null,null,{"$f":"VLOOKUP(F116,工作表9!$G$1:$I$136,3, FALSE)","v":"混合物"},null,{"$f":"VLOOKUP(F116,工作表9!$G$1:$H$142, 2, FALSE)","v":0},0]
[null,null,null,null,null,null,{"$f":"VLOOKUP(F117,工作表9!$G$1:$I$136,3, FALSE)","v":"混合物"},null,{"$f":"VLOOKUP(F117,工作表9!$G$1:$H$142, 2, FALSE)","v":0},0]
[null,null,null,null,null,null,{"$f":"VLOOKUP(F118,工作表9!$G$1:$I$136,3, FALSE)","v":"混合物"},null,{"$f":"VLOOKUP(F118,工作表9!$G$1:$H$142, 2, FALSE)","v":0},0]
[null,null,null,null,null,null,{"$f":"VLOOKUP(F119,工作表9!$G$1:$I$136,3, FALSE)","v":"混合物"},null,{"$f":"VLOOKUP(F119,工作表9!$G$1:$H$142, 2, FALSE)","v":0},0]
[null,null,null,null,null,null,{"$f":"VLOOKUP(F120,工作表9!$G$1:$I$136,3, FALSE)","v":"混合物"},null,{"$f":"VLOOKUP(F120,工作表9!$G$1:$H$142, 2, FALSE)","v":0},0]
[null,null,null,null,null,null,{"$f":"VLOOKUP(F121,工作表9!$G$1:$I$136,3, FALSE)","v":"混合物"},null,{"$f":"VLOOKUP(F121,工作表9!$G$1:$H$142, 2, FALSE)","v":0},0]
[null,null,null,null,null,null,{"$f":"VLOOKUP(F122,工作表9!$G$1:$I$136,3, FALSE)","v":"混合物"},null,{"$f":"VLOOKUP(F122,工作表9!$G$1:$H$142, 2, FALSE)","v":0},0]
[null,null,null,null,null,null,{"$f":"VLOOKUP(F123,工作表9!$G$1:$I$136,3, FALSE)","v":"混合物"},null,{"$f":"VLOOKUP(F123,工作表9!$G$1:$H$142, 2, FALSE)","v":0},0]
[null,null,null,null,null,null,{"$f":"VLOOKUP(F124,工作表9!$G$1:$I$136,3, FALSE)","v":"混合物"},null,{"$f":"VLOOKUP(F124,工作表9!$G$1:$H$142, 2, FALSE)","v":0},0]
[null,null,null,null,null,null,{"$f":"VLOOKUP(F125,工作表9!$G$1:$I$136,3, FALSE)","v":"混合物"},null,{"$f":"VLOOKUP(F125,工作表9!$G$1:$H$142, 2, FALSE)","v":0},0]
[null,null,null,null,null,null,{"$f":"VLOOKUP(F126,工作表9!$G$1:$I$136,3, FALSE)","v":"混合物"},null,{"$f":"VLOOKUP(F126,工作表9!$G$1:$H$142, 2, FALSE)","v":0},0]
[null,null,null,null,null,null,{"$f":"VLOOKUP(F127,工作表9!$G$1:$I$136,3, FALSE)","v":"混合物"},null,{"$f":"VLOOKUP(F127,工作表9!$G$1:$H$142, 2, FALSE)","v":0},0]
[null,null,null,null,null,null,{"$f":"VLOOKUP(F128,工作表9!$G$1:$I$136,3, FALSE)","v":"混合物"},null,{"$f":"VLOOKUP(F128,工作表9!$G$1:$H$142, 2, FALSE)","v":0},0]
[null,null,null,null,null,null,{"$f":"VLOOKUP(F129,工作表9!$G$1:$I$136,3, FALSE)","v":"混合物"},null,{"$f":"VLOOKUP(F129,工作表9!$G$1:$H$142, 2, FALSE)","v":0},0]
[null,null,null,null,null,null,{"$f":"VLOOKUP(F130,工作表9!$G$1:$I$136,3, FALSE)","v":"混合物"},null,{"$f":"VLOOKUP(F130,工作表9!$G$1:$H$142, 2, FALSE)","v":0},0]
[null,null,null,null,null,null,{"$f":"VLOOKUP(F131,工作表9!$G$1:$I$136,3, FALSE)","v":"混合物"},null,{"$f":"VLOOKUP(F131,工作表9!$G$1:$H$142, 2, FALSE)","v":0},0]
[null,null,null,null,null,null,{"$f":"VLOOKUP(F132,工作表9!$G$1:$I$136,3, FALSE)","v":"混合物"},null,{"$f":"VLOOKUP(F132,工作表9!$G$1:$H$142, 2, FALSE)","v":0},0]
[null,null,null,null,null,null,{"$f":"VLOOKUP(F133,工作表9!$G$1:$I$136,3, FALSE)","v":"混合物"},null,{"$f":"VLOOKUP(F133,工作表9!$G$1:$H$142, 2, FALSE)","v":0},0]
[null,null,null,null,null,null,{"$f":"VLOOKUP(F134,工作表9!$G$1:$I$136,3, FALSE)","v":"混合物"},null,{"$f":"VLOOKUP(F134,工作表9!$G$1:$H$142, 2, FALSE)","v":0},{"$f":"H134*I134","v":0}]
[null,null,null,null,null,null,{"$f":"VLOOKUP(F135,工作表9!$G$1:$I$136,3, FALSE)","v":"混合物"},null,{"$f":"VLOOKUP(F135,工作表9!$G$1:$H$142, 2, FALSE)","v":0},0]
[null,null,null,null,null,null,{"$f":"VLOOKUP(F136,工作表9!$G$1:$I$136,3, FALSE)","v":"混合物"},null,{"$f":"VLOOKUP(F136,工作表9!$G$1:$H$142, 2, FALSE)","v":0},0]
[null,null,null,null,null,null,{"$f":"VLOOKUP(F137,工作表9!$G$1:$I$136,3, FALSE)","v":"混合物"},null,{"$f":"VLOOKUP(F137,工作表9!$G$1:$H$142, 2, FALSE)","v":0},0]
[null,null,null,null,null,null,{"$f":"VLOOKUP(F138,工作表9!$G$1:$I$136,3, FALSE)","v":"混合物"},null,{"$f":"VLOOKUP(F138,工作表9!$G$1:$H$142, 2, FALSE)","v":0},0]
[null,null,null,null,null,null,{"$f":"VLOOKUP(F139,工作表9!$G$1:$I$136,3, FALSE)","v":"混合物"},null,{"$f":"VLOOKUP(F139,工作表9!$G$1:$H$142, 2, FALSE)","v":0},0]
[null,null,null,null,null,null,{"$f":"VLOOKUP(F140,工作表9!$G$1:$I$136,3, FALSE)","v":"混合物"},null,{"$f":"VLOOKUP(F140,工作表9!$G$1:$H$142, 2, FALSE)","v":0},0]
[null,null,null,null,null,null,{"$f":"VLOOKUP(F141,工作表9!$G$1:$I$136,3, FALSE)","v":"混合物"},null,{"$f":"VLOOKUP(F141,工作表9!$G$1:$H$142, 2, FALSE)","v":0},0]
[null,null,null,null,null,null,{"$f":"VLOOKUP(F142,工作表9!$G$1:$I$136,3, FALSE)","v":"混合物"},null,{"$f":"VLOOKUP(F142,工作表9!$G$1:$H$142, 2, FALSE)","v":0},0]
[null,null,null,null,null,null,{"$f":"VLOOKUP(F143,工作表9!$G$1:$I$136,3, FALSE)","v":"混合物"},null,{"$f":"VLOOKUP(F143,工作表9!$G$1:$H$142, 2, FALSE)","v":0},0]
[null,null,null,null,null,null,{"$f":"VLOOKUP(F144,工作表9!$G$1:$I$136,3, FALSE)","v":"混合物"},null,{"$f":"VLOOKUP(F144,工作表9!$G$1:$H$142, 2, FALSE)","v":0},0]
[null,null,null,null,null,null,{"$f":"VLOOKUP(F145,工作表9!$G$1:$I$136,3, FALSE)","v":"混合物"},null,{"$f":"VLOOKUP(F145,工作表9!$G$1:$H$142, 2, FALSE)","v":0},0]
[null,null,null,null,null,null,{"$f":"VLOOKUP(F146,工作表9!$G$1:$I$136,3, FALSE)","v":"混合物"},null,{"$f":"VLOOKUP(F146,工作表9!$G$1:$H$142, 2, FALSE)","v":0},0]
[null,null,null,null,null,null,{"$f":"VLOOKUP(F147,工作表9!$G$1:$I$136,3, FALSE)","v":"混合物"},null,{"$f":"VLOOKUP(F147,工作表9!$G$1:$H$142, 2, FALSE)","v":0},0]
[null,null,null,null,null,null,{"$f":"VLOOKUP(F148,工作表9!$G$1:$I$136,3, FALSE)","v":"混合物"},null,{"$f":"VLOOKUP(F148,工作表9!$G$1:$H$142, 2, FALSE)","v":0},0]
[null,null,null,null,null,null,{"$f":"VLOOKUP(F149,工作表9!$G$1:$I$136,3, FALSE)","v":"混合物"},null,{"$f":"VLOOKUP(F149,工作表9!$G$1:$H$142, 2, FALSE)","v":0},0]
[null,null,null,null,null,null,{"$f":"VLOOKUP(F150,工作表9!$G$1:$I$136,3, FALSE)","v":"混合物"},null,{"$f":"VLOOKUP(F150,工作表9!$G$1:$H$142, 2, FALSE)","v":0},0]
[null,null,null,null,null,null,{"$f":"VLOOKUP(F151,工作表9!$G$1:$I$136,3, FALSE)","v":"混合物"},null,{"$f":"VLOOKUP(F151,工作表9!$G$1:$H$142, 2, FALSE)","v":0},0]
[null,null,null,null,null,null,{"$f":"VLOOKUP(F152,工作表9!$G$1:$I$136,3, FALSE)","v":"混合物"},null,{"$f":"VLOOKUP(F152,工作表9!$G$1:$H$142, 2, FALSE)","v":0},0]
[null,null,null,null,null,null,{"$f":"VLOOKUP(F153,工作表9!$G$1:$I$136,3, FALSE)","v":"混合物"},null,{"$f":"VLOOKUP(F153,工作表9!$G$1:$H$142, 2, FALSE)","v":0},0]
[null,null,null,null,null,null,{"$f":"VLOOKUP(F154,工作表9!$G$1:$I$136,3, FALSE)","v":"混合物"},null,{"$f":"VLOOKUP(F154,工作表9!$G$1:$H$142, 2, FALSE)","v":0},0]
[null,null,null,null,null,null,{"$f":"VLOOKUP(F155,工作表9!$G$1:$I$136,3, FALSE)","v":"混合物"},null,{"$f":"VLOOKUP(F155,工作表9!$G$1:$H$142, 2, FALSE)","v":0},0]
[null,null,null,null,null,null,{"$f":"VLOOKUP(F156,工作表9!$G$1:$I$136,3, FALSE)","v":"混合物"},null,{"$f":"VLOOKUP(F156,工作表9!$G$1:$H$142, 2, FALSE)","v":0},0]
[null,null,null,null,null,null,{"$f":"VLOOKUP(F157,工作表9!$G$1:$I$136,3, FALSE)","v":"混合物"},null,{"$f":"VLOOKUP(F157,工作表9!$G$1:$H$142, 2, FALSE)","v":0},0]
[null,null,null,null,null,null,{"$f":"VLOOKUP(F158,工作表9!$G$1:$I$136,3, FALSE)","v":"混合物"},null,{"$f":"VLOOKUP(F158,工作表9!$G$1:$H$142, 2, FALSE)","v":0},0]
[null,null,null,null,null,null,{"$f":"VLOOKUP(F159,工作表9!$G$1:$I$136,3, FALSE)","v":"混合物"},null,{"$f":"VLOOKUP(F159,工作表9!$G$1:$H$142, 2, FALSE)","v":0},0]
[null,null,null,null,null,null,{"$f":"VLOOKUP(F160,工作表9!$G$1:$I$136,3, FALSE)","v":"混合物"},null,{"$f":"VLOOKUP(F160,工作表9!$G$1:$H$142, 2, FALSE)","v":0},0]
[null,null,null,null,null,null,{"$f":"VLOOKUP(F161,工作表9!$G$1:$I$136,3, FALSE)","v":"混合物"},null,{"$f":"VLOOKUP(F161,工作表9!$G$1:$H$142, 2, FALSE)","v":0},0]
[null,null,null,null,null,null,{"$f":"VLOOKUP(F162,工作表9!$G$1:$I$136,3, FALSE)","v":"混合物"},null,{"$f":"VLOOKUP(F162,工作表9!$G$1:$H$142, 2, FALSE)","v":0},0]
[null,null,null,null,null,null,{"$f":"VLOOKUP(F163,工作表9!$G$1:$I$136,3, FALSE)","v":"混合物"},null,{"$f":"VLOOKUP(F163,工作表9!$G$1:$H$142, 2, FALSE)","v":0},0]
[null,null,null,null,null,null,{"$f":"VLOOKUP(F164,工作表9!$G$1:$I$136,3, FALSE)","v":"混合物"},null,{"$f":"VLOOKUP(F164,工作表9!$G$1:$H$142, 2, FALSE)","v":0},0]
[null,null,null,null,null,null,{"$f":"VLOOKUP(F165,工作表9!$G$1:$I$136,3, FALSE)","v":"混合物"},null,{"$f":"VLOOKUP(F165,工作表9!$G$1:$H$142, 2, FALSE)","v":0},0]
[null,null,null,null,null,null,{"$f":"VLOOKUP(F166,工作表9!$G$1:$I$136,3, FALSE)","v":"混合物"},null,{"$f":"VLOOKUP(F166,工作表9!$G$1:$H$142, 2, FALSE)","v":0},0]
[null,null,null,null,null,null,{"$f":"VLOOKUP(F167,工作表9!$G$1:$I$136,3, FALSE)","v":"混合物"},null,{"$f":"VLOOKUP(F167,工作表9!$G$1:$H$142, 2, FALSE)","v":0},0]
[null,null,null,null,null,null,{"$f":"VLOOKUP(F168,工作表9!$G$1:$I$136,3, FALSE)","v":"混合物"},null,{"$f":"VLOOKUP(F168,工作表9!$G$1:$H$142, 2, FALSE)","v":0},0]
[null,null,null,null,null,null,{"$f":"VLOOKUP(F169,工作表9!$G$1:$I$136,3, FALSE)","v":"混合物"},null,{"$f":"VLOOKUP(F169,工作表9!$G$1:$H$142, 2, FALSE)","v":0},0]
[null,null,null,null,null,null,{"$f":"VLOOKUP(F170,工作表9!$G$1:$I$136,3, FALSE)","v":"混合物"},null,{"$f":"VLOOKUP(F170,工作表9!$G$1:$H$142, 2, FALSE)","v":0},0]
[null,null,null,null,null,null,{"$f":"VLOOKUP(F171,工作表9!$G$1:$I$136,3, FALSE)","v":"混合物"},null,{"$f":"VLOOKUP(F171,工作表9!$G$1:$H$142, 2, FALSE)","v":0},0]
[null,null,null,null,null,null,{"$f":"VLOOKUP(F172,工作表9!$G$1:$I$136,3, FALSE)","v":"混合物"},null,{"$f":"VLOOKUP(F172,工作表9!$G$1:$H$142, 2, FALSE)","v":0},0]
[null,null,null,null,null,null,{"$f":"VLOOKUP(F173,工作表9!$G$1:$I$136,3, FALSE)","v":"混合物"},null,{"$f":"VLOOKUP(F173,工作表9!$G$1:$H$142, 2, FALSE)","v":0},0]
[null,null,null,null,null,null,{"$f":"VLOOKUP(F174,工作表9!$G$1:$I$136,3, FALSE)","v":"混合物"},null,{"$f":"VLOOKUP(F174,工作表9!$G$1:$H$142, 2, FALSE)","v":0},0]
[null,null,null,null,null,null,{"$f":"VLOOKUP(F175,工作表9!$G$1:$I$136,3, FALSE)","v":"混合物"},null,{"$f":"VLOOKUP(F175,工作表9!$G$1:$H$142, 2, FALSE)","v":0},0]
[null,null,null,null,null,null,{"$f":"VLOOKUP(F176,工作表9!$G$1:$I$136,3, FALSE)","v":"混合物"},null,{"$f":"VLOOKUP(F176,工作表9!$G$1:$H$142, 2, FALSE)","v":0},0]
[null,null,null,null,null,null,{"$f":"VLOOKUP(F177,工作表9!$G$1:$I$136,3, FALSE)","v":"混合物"},null,{"$f":"VLOOKUP(F177,工作表9!$G$1:$H$142, 2, FALSE)","v":0},0]
[null,null,null,null,null,null,{"$f":"VLOOKUP(F178,工作表9!$G$1:$I$136,3, FALSE)","v":"混合物"},null,{"$f":"VLOOKUP(F178,工作表9!$G$1:$H$142, 2, FALSE)","v":0},0]
[null,null,null,null,null,null,{"$f":"VLOOKUP(F179,工作表9!$G$1:$I$136,3, FALSE)","v":"混合物"},null,{"$f":"VLOOKUP(F179,工作表9!$G$1:$H$142, 2, FALSE)","v":0},0]
[null,null,null,null,null,null,{"$f":"VLOOKUP(F180,工作表9!$G$1:$I$136,3, FALSE)","v":"混合物"},null,{"$f":"VLOOKUP(F180,工作表9!$G$1:$H$142, 2, FALSE)","v":0},0]
[null,null,null,null,null,null,{"$f":"VLOOKUP(F181,工作表9!$G$1:$I$136,3, FALSE)","v":"混合物"},null,{"$f":"VLOOKUP(F181,工作表9!$G$1:$H$142, 2, FALSE)","v":0},0]
[null,null,null,null,null,null,{"$f":"VLOOKUP(F182,工作表9!$G$1:$I$136,3, FALSE)","v":"混合物"},null,{"$f":"VLOOKUP(F182,工作表9!$G$1:$H$142, 2, FALSE)","v":0},0]
[null,null,null,null,null,null,{"$f":"VLOOKUP(F183,工作表9!$G$1:$I$136,3, FALSE)","v":"混合物"},null,{"$f":"VLOOKUP(F183,工作表9!$G$1:$H$142, 2, FALSE)","v":0},0]
[null,null,null,null,null,null,{"$f":"VLOOKUP(F184,工作表9!$G$1:$I$136,3, FALSE)","v":"混合物"},null,{"$f":"VLOOKUP(F184,工作表9!$G$1:$H$142, 2, FALSE)","v":0},0]
[null,null,null,null,null,null,{"$f":"VLOOKUP(F185,工作表9!$G$1:$I$136,3, FALSE)","v":"混合物"},null,{"$f":"VLOOKUP(F185,工作表9!$G$1:$H$142, 2, FALSE)","v":0},0]
[null,null,null,null,null,null,{"$f":"VLOOKUP(F186,工作表9!$G$1:$I$136,3, FALSE)","v":"混合物"},null,{"$f":"VLOOKUP(F186,工作表9!$G$1:$H$142, 2, FALSE)","v":0},0]
[null,null,null,null,null,null,{"$f":"VLOOKUP(F187,工作表9!$G$1:$I$136,3, FALSE)","v":"混合物"},null,{"$f":"VLOOKUP(F187,工作表9!$G$1:$H$142, 2, FALSE)","v":0},0]
[null,null,null,null,null,null,{"$f":"VLOOKUP(F188,工作表9!$G$1:$I$136,3, FALSE)","v":"混合物"},null,{"$f":"VLOOKUP(F188,工作表9!$G$1:$H$142, 2, FALSE)","v":0},0]
[null,null,null,null,null,null,{"$f":"VLOOKUP(F189,工作表9!$G$1:$I$136,3, FALSE)","v":"混合物"},null,{"$f":"VLOOKUP(F189,工作表9!$G$1:$H$142, 2, FALSE)","v":0},0]
[null,null,null,null,null,null,{"$f":"VLOOKUP(F190,工作表9!$G$1:$I$136,3, FALSE)","v":"混合物"},null,{"$f":"VLOOKUP(F190,工作表9!$G$1:$H$142, 2, FALSE)","v":0},0]
[null,null,null,null,null,null,{"$f":"VLOOKUP(F191,工作表9!$G$1:$I$136,3, FALSE)","v":"混合物"},null,{"$f":"VLOOKUP(F191,工作表9!$G$1:$H$142, 2, FALSE)","v":0},0]
[null,null,null,null,null,null,{"$f":"VLOOKUP(F192,工作表9!$G$1:$I$136,3, FALSE)","v":"混合物"},null,{"$f":"VLOOKUP(F192,工作表9!$G$1:$H$142, 2, FALSE)","v":0},0]
[null,null,null,null,null,null,{"$f":"VLOOKUP(F193,工作表9!$G$1:$I$136,3, FALSE)","v":"混合物"},null,{"$f":"VLOOKUP(F193,工作表9!$G$1:$H$142, 2, FALSE)","v":0},0]
[null,null,null,null,null,null,{"$f":"VLOOKUP(F194,工作表9!$G$1:$I$136,3, FALSE)","v":"混合物"},null,{"$f":"VLOOKUP(F194,工作表9!$G$1:$H$142, 2, FALSE)","v":0},0]
[null,null,null,null,null,null,{"$f":"VLOOKUP(F195,工作表9!$G$1:$I$136,3, FALSE)","v":"混合物"},null,{"$f":"VLOOKUP(F195,工作表9!$G$1:$H$142, 2, FALSE)","v":0},0]
[null,null,null,null,null,null,{"$f":"VLOOKUP(F196,工作表9!$G$1:$I$136,3, FALSE)","v":"混合物"},null,{"$f":"VLOOKUP(F196,工作表9!$G$1:$H$142, 2, FALSE)","v":0},0]
[null,null,null,null,null,null,{"$f":"VLOOKUP(F197,工作表9!$G$1:$I$136,3, FALSE)","v":"混合物"},null,{"$f":"VLOOKUP(F197,工作表9!$G$1:$H$142, 2, FALSE)","v":0},0]
[null,null,null,null,null,null,{"$f":"VLOOKUP(F198,工作表9!$G$1:$I$136,3, FALSE)","v":"混合物"},null,{"$f":"VLOOKUP(F198,工作表9!$G$1:$H$142, 2, FALSE)","v":0},{"$f":"H198*I198","v":0}]
[null,null,null,null,null,null,{"$f":"VLOOKUP(F199,工作表9!$G$1:$I$136,3, FALSE)","v":"混合物"},null,{"$f":"VLOOKUP(F199,工作表9!$G$1:$H$142, 2, FALSE)","v":0},0]
[null,null,null,null,null,null,{"$f":"VLOOKUP(F200,工作表9!$G$1:$I$136,3, FALSE)","v":"混合物"},null,{"$f":"VLOOKUP(F200,工作表9!$G$1:$H$142, 2, FALSE)","v":0},0]
[null,null,null,null,null,null,{"$f":"VLOOKUP(F201,工作表9!$G$1:$I$136,3, FALSE)","v":"混合物"},null,{"$f":"VLOOKUP(F201,工作表9!$G$1:$H$142, 2, FALSE)","v":0},0]
[null,null,null,null,null,null,{"$f":"VLOOKUP(F202,工作表9!$G$1:$I$136,3, FALSE)","v":"混合物"},null,{"$f":"VLOOKUP(F202,工作表9!$G$1:$H$142, 2, FALSE)","v":0},0]
[null,null,null,null,null,null,{"$f":"VLOOKUP(F203,工作表9!$G$1:$I$136,3, FALSE)","v":"混合物"},null,{"$f":"VLOOKUP(F203,工作表9!$G$1:$H$142, 2, FALSE)","v":0},0]
[null,null,null,null,null,null,{"$f":"VLOOKUP(F204,工作表9!$G$1:$I$136,3, FALSE)","v":"混合物"},null,{"$f":"VLOOKUP(F204,工作表9!$G$1:$H$142, 2, FALSE)","v":0},0]
[null,null,null,null,null,null,{"$f":"VLOOKUP(F205,工作表9!$G$1:$I$136,3, FALSE)","v":"混合物"},null,{"$f":"VLOOKUP(F205,工作表9!$G$1:$H$142, 2, FALSE)","v":0},0]
[null,null,null,null,null,null,{"$f":"VLOOKUP(F206,工作表9!$G$1:$I$136,3, FALSE)","v":"混合物"},null,{"$f":"VLOOKUP(F206,工作表9!$G$1:$H$142, 2, FALSE)","v":0},0]
[null,null,null,null,null,null,{"$f":"VLOOKUP(F207,工作表9!$G$1:$I$136,3, FALSE)","v":"混合物"},null,{"$f":"VLOOKUP(F207,工作表9!$G$1:$H$142, 2, FALSE)","v":0},0]
[null,null,null,null,null,null,{"$f":"VLOOKUP(F208,工作表9!$G$1:$I$136,3, FALSE)","v":"混合物"},null,{"$f":"VLOOKUP(F208,工作表9!$G$1:$H$142, 2, FALSE)","v":0},0]
[null,null,null,null,null,null,{"$f":"VLOOKUP(F209,工作表9!$G$1:$I$136,3, FALSE)","v":"混合物"},null,{"$f":"VLOOKUP(F209,工作表9!$G$1:$H$142, 2, FALSE)","v":0},0]
[null,null,null,null,null,null,{"$f":"VLOOKUP(F210,工作表9!$G$1:$I$136,3, FALSE)","v":"混合物"},null,{"$f":"VLOOKUP(F210,工作表9!$G$1:$H$142, 2, FALSE)","v":0},0]
[null,null,null,null,null,null,{"$f":"VLOOKUP(F211,工作表9!$G$1:$I$136,3, FALSE)","v":"混合物"},null,{"$f":"VLOOKUP(F211,工作表9!$G$1:$H$142, 2, FALSE)","v":0},0]
[null,null,null,null,null,null,{"$f":"VLOOKUP(F212,工作表9!$G$1:$I$136,3, FALSE)","v":"混合物"},null,{"$f":"VLOOKUP(F212,工作表9!$G$1:$H$142, 2, FALSE)","v":0},0]
[null,null,null,null,null,null,{"$f":"VLOOKUP(F213,工作表9!$G$1:$I$136,3, FALSE)","v":"混合物"},null,{"$f":"VLOOKUP(F213,工作表9!$G$1:$H$142, 2, FALSE)","v":0},0]
[null,null,null,null,null,null,{"$f":"VLOOKUP(F214,工作表9!$G$1:$I$136,3, FALSE)","v":"混合物"},null,{"$f":"VLOOKUP(F214,工作表9!$G$1:$H$142, 2, FALSE)","v":0},0]
[null,null,null,null,null,null,{"$f":"VLOOKUP(F215,工作表9!$G$1:$I$136,3, FALSE)","v":"混合物"},null,{"$f":"VLOOKUP(F215,工作表9!$G$1:$H$142, 2, FALSE)","v":0},0]
[null,null,null,null,null,null,{"$f":"VLOOKUP(F216,工作表9!$G$1:$I$136,3, FALSE)","v":"混合物"},null,{"$f":"VLOOKUP(F216,工作表9!$G$1:$H$142, 2, FALSE)","v":0},0]
[null,null,null,null,null,null,{"$f":"VLOOKUP(F217,工作表9!$G$1:$I$136,3, FALSE)","v":"混合物"},null,{"$f":"VLOOKUP(F217,工作表9!$G$1:$H$142, 2, FALSE)","v":0},0]
[null,null,null,null,null,null,{"$f":"VLOOKUP(F218,工作表9!$G$1:$I$136,3, FALSE)","v":"混合物"},null,{"$f":"VLOOKUP(F218,工作表9!$G$1:$H$142, 2, FALSE)","v":0},0]
[null,null,null,null,null,null,{"$f":"VLOOKUP(F219,工作表9!$G$1:$I$136,3, FALSE)","v":"混合物"},null,{"$f":"VLOOKUP(F219,工作表9!$G$1:$H$142, 2, FALSE)","v":0},0]
[null,null,null,null,null,null,{"$f":"VLOOKUP(F220,工作表9!$G$1:$I$136,3, FALSE)","v":"混合物"},null,{"$f":"VLOOKUP(F220,工作表9!$G$1:$H$142, 2, FALSE)","v":0},0]
[null,null,null,null,null,null,{"$f":"VLOOKUP(F221,工作表9!$G$1:$I$136,3, FALSE)","v":"混合物"},null,{"$f":"VLOOKUP(F221,工作表9!$G$1:$H$142, 2, FALSE)","v":0},0]
[null,null,null,null,null,null,{"$f":"VLOOKUP(F222,工作表9!$G$1:$I$136,3, FALSE)","v":"混合物"},null,{"$f":"VLOOKUP(F222,工作表9!$G$1:$H$142, 2, FALSE)","v":0},0]
[null,null,null,null,null,null,{"$f":"VLOOKUP(F223,工作表9!$G$1:$I$136,3, FALSE)","v":"混合物"},null,{"$f":"VLOOKUP(F223,工作表9!$G$1:$H$142, 2, FALSE)","v":0},0]
[null,null,null,null,null,null,{"$f":"VLOOKUP(F224,工作表9!$G$1:$I$136,3, FALSE)","v":"混合物"},null,{"$f":"VLOOKUP(F224,工作表9!$G$1:$H$142, 2, FALSE)","v":0},0]
[null,null,null,null,null,null,{"$f":"VLOOKUP(F225,工作表9!$G$1:$I$136,3, FALSE)","v":"混合物"},null,{"$f":"VLOOKUP(F225,工作表9!$G$1:$H$142, 2, FALSE)","v":0},0]
[null,null,null,null,null,null,{"$f":"VLOOKUP(F226,工作表9!$G$1:$I$136,3, FALSE)","v":"混合物"},null,{"$f":"VLOOKUP(F226,工作表9!$G$1:$H$142, 2, FALSE)","v":0},0]
[null,null,null,null,null,null,{"$f":"VLOOKUP(F227,工作表9!$G$1:$I$136,3, FALSE)","v":"混合物"},null,{"$f":"VLOOKUP(F227,工作表9!$G$1:$H$142, 2, FALSE)","v":0},0]
[null,null,null,null,null,null,{"$f":"VLOOKUP(F228,工作表9!$G$1:$I$136,3, FALSE)","v":"混合物"},null,{"$f":"VLOOKUP(F228,工作表9!$G$1:$H$142, 2, FALSE)","v":0},0]
[null,null,null,null,null,null,{"$f":"VLOOKUP(F229,工作表9!$G$1:$I$136,3, FALSE)","v":"混合物"},null,{"$f":"VLOOKUP(F229,工作表9!$G$1:$H$142, 2, FALSE)","v":0},0]
[null,null,null,null,null,null,{"$f":"VLOOKUP(F230,工作表9!$G$1:$I$136,3, FALSE)","v":"混合物"},null,{"$f":"VLOOKUP(F230,工作表9!$G$1:$H$142, 2, FALSE)","v":0},0]
[null,null,null,null,null,null,{"$f":"VLOOKUP(F231,工作表9!$G$1:$I$136,3, FALSE)","v":"混合物"},null,{"$f":"VLOOKUP(F231,工作表9!$G$1:$H$142, 2, FALSE)","v":0},0]
[null,null,null,null,null,null,{"$f":"VLOOKUP(F232,工作表9!$G$1:$I$136,3, FALSE)","v":"混合物"},null,{"$f":"VLOOKUP(F232,工作表9!$G$1:$H$142, 2, FALSE)","v":0},0]
[null,null,null,null,null,null,{"$f":"VLOOKUP(F233,工作表9!$G$1:$I$136,3, FALSE)","v":"混合物"},null,{"$f":"VLOOKUP(F233,工作表9!$G$1:$H$142, 2, FALSE)","v":0},0]
[null,null,null,null,null,null,{"$f":"VLOOKUP(F234,工作表9!$G$1:$I$136,3, FALSE)","v":"混合物"},null,{"$f":"VLOOKUP(F234,工作表9!$G$1:$H$142, 2, FALSE)","v":0},0]
[null,null,null,null,null,null,{"$f":"VLOOKUP(F235,工作表9!$G$1:$I$136,3, FALSE)","v":"混合物"},null,{"$f":"VLOOKUP(F235,工作表9!$G$1:$H$142, 2, FALSE)","v":0},0]
[null,null,null,null,null,null,{"$f":"VLOOKUP(F236,工作表9!$G$1:$I$136,3, FALSE)","v":"混合物"},null,{"$f":"VLOOKUP(F236,工作表9!$G$1:$H$142, 2, FALSE)","v":0},0]
[null,null,null,null,null,null,{"$f":"VLOOKUP(F237,工作表9!$G$1:$I$136,3, FALSE)","v":"混合物"},null,{"$f":"VLOOKUP(F237,工作表9!$G$1:$H$142, 2, FALSE)","v":0},0]
[null,null,null,null,null,null,{"$f":"VLOOKUP(F238,工作表9!$G$1:$I$136,3, FALSE)","v":"混合物"},null,{"$f":"VLOOKUP(F238,工作表9!$G$1:$H$142, 2, FALSE)","v":0},0]
[null,null,null,null,null,null,{"$f":"VLOOKUP(F239,工作表9!$G$1:$I$136,3, FALSE)","v":"混合物"},null,{"$f":"VLOOKUP(F239,工作表9!$G$1:$H$142, 2, FALSE)","v":0},0]
[null,null,null,null,null,null,{"$f":"VLOOKUP(F240,工作表9!$G$1:$I$136,3, FALSE)","v":"混合物"},null,{"$f":"VLOOKUP(F240,工作表9!$G$1:$H$142, 2, FALSE)","v":0},0]
[null,null,null,null,null,null,{"$f":"VLOOKUP(F241,工作表9!$G$1:$I$136,3, FALSE)","v":"混合物"},null,{"$f":"VLOOKUP(F241,工作表9!$G$1:$H$142, 2, FALSE)","v":0},0]
[null,null,null,null,null,null,{"$f":"VLOOKUP(F242,工作表9!$G$1:$I$136,3, FALSE)","v":"混合物"},null,{"$f":"VLOOKUP(F242,工作表9!$G$1:$H$142, 2, FALSE)","v":0},0]
[null,null,null,null,null,null,{"$f":"VLOOKUP(F243,工作表9!$G$1:$I$136,3, FALSE)","v":"混合物"},null,{"$f":"VLOOKUP(F243,工作表9!$G$1:$H$142, 2, FALSE)","v":0},0]
[null,null,null,null,null,null,{"$f":"VLOOKUP(F244,工作表9!$G$1:$I$136,3, FALSE)","v":"混合物"},null,{"$f":"VLOOKUP(F244,工作表9!$G$1:$H$142, 2, FALSE)","v":0},0]
[null,null,null,null,null,null,{"$f":"VLOOKUP(F245,工作表9!$G$1:$I$136,3, FALSE)","v":"混合物"},null,{"$f":"VLOOKUP(F245,工作表9!$G$1:$H$142, 2, FALSE)","v":0},0]
[null,null,null,null,null,null,{"$f":"VLOOKUP(F246,工作表9!$G$1:$I$136,3, FALSE)","v":"混合物"},null,{"$f":"VLOOKUP(F246,工作表9!$G$1:$H$142, 2, FALSE)","v":0},0]
[null,null,null,null,null,null,{"$f":"VLOOKUP(F247,工作表9!$G$1:$I$136,3, FALSE)","v":"混合物"},null,{"$f":"VLOOKUP(F247,工作表9!$G$1:$H$142, 2, FALSE)","v":0},0]
[null,null,null,null,null,null,{"$f":"VLOOKUP(F248,工作表9!$G$1:$I$136,3, FALSE)","v":"混合物"},null,{"$f":"VLOOKUP(F248,工作表9!$G$1:$H$142, 2, FALSE)","v":0},0]
[null,null,null,null,null,null,{"$f":"VLOOKUP(F249,工作表9!$G$1:$I$136,3, FALSE)","v":"混合物"},null,{"$f":"VLOOKUP(F249,工作表9!$G$1:$H$142, 2, FALSE)","v":0},0]
[null,null,null,null,null,null,{"$f":"VLOOKUP(F250,工作表9!$G$1:$I$136,3, FALSE)","v":"混合物"},null,{"$f":"VLOOKUP(F250,工作表9!$G$1:$H$142, 2, FALSE)","v":0},0]
[null,null,null,null,null,null,{"$f":"VLOOKUP(F251,工作表9!$G$1:$I$136,3, FALSE)","v":"混合物"},null,{"$f":"VLOOKUP(F251,工作表9!$G$1:$H$142, 2, FALSE)","v":0},0]
[null,null,null,null,null,null,{"$f":"VLOOKUP(F252,工作表9!$G$1:$I$136,3, FALSE)","v":"混合物"},null,{"$f":"VLOOKUP(F252,工作表9!$G$1:$H$142, 2, FALSE)","v":0},0]
[null,null,null,null,null,null,{"$f":"VLOOKUP(F253,工作表9!$G$1:$I$136,3, FALSE)","v":"混合物"},null,{"$f":"VLOOKUP(F253,工作表9!$G$1:$H$142, 2, FALSE)","v":0},0]
[null,null,null,null,null,null,{"$f":"VLOOKUP(F254,工作表9!$G$1:$I$136,3, FALSE)","v":"混合物"},null,{"$f":"VLOOKUP(F254,工作表9!$G$1:$H$142, 2, FALSE)","v":0},0]
[null,null,null,null,null,null,{"$f":"VLOOKUP(F255,工作表9!$G$1:$I$136,3, FALSE)","v":"混合物"},null,{"$f":"VLOOKUP(F255,工作表9!$G$1:$H$142, 2, FALSE)","v":0},0]
[null,null,null,null,null,null,{"$f":"VLOOKUP(F256,工作表9!$G$1:$I$136,3, FALSE)","v":"混合物"},null,{"$f":"VLOOKUP(F256,工作表9!$G$1:$H$142, 2, FALSE)","v":0},0]
[null,null,null,null,null,null,{"$f":"VLOOKUP(F257,工作表9!$G$1:$I$136,3, FALSE)","v":"混合物"},null,{"$f":"VLOOKUP(F257,工作表9!$G$1:$H$142, 2, FALSE)","v":0},0]
[null,null,null,null,null,null,{"$f":"VLOOKUP(F258,工作表9!$G$1:$I$136,3, FALSE)","v":"混合物"},null,{"$f":"VLOOKUP(F258,工作表9!$G$1:$H$142, 2, FALSE)","v":0},0]
[null,null,null,null,null,null,{"$f":"VLOOKUP(F259,工作表9!$G$1:$I$136,3, FALSE)","v":"混合物"},null,{"$f":"VLOOKUP(F259,工作表9!$G$1:$H$142, 2, FALSE)","v":0},0]
[null,null,null,null,null,null,{"$f":"VLOOKUP(F260,工作表9!$G$1:$I$136,3, FALSE)","v":"混合物"},null,{"$f":"VLOOKUP(F260,工作表9!$G$1:$H$142, 2, FALSE)","v":0},0]
[null,null,null,null,null,null,{"$f":"VLOOKUP(F261,工作表9!$G$1:$I$136,3, FALSE)","v":"混合物"},null,{"$f":"VLOOKUP(F261,工作表9!$G$1:$H$142, 2, FALSE)","v":0},0]
[null,null,null,null,null,null,{"$f":"VLOOKUP(F262,工作表9!$G$1:$I$136,3, FALSE)","v":"混合物"},null,{"$f":"VLOOKUP(F262,工作表9!$G$1:$H$142, 2, FALSE)","v":0},{"$f":"H262*I262","v":0}]
[null,null,null,null,null,null,{"$f":"VLOOKUP(F263,工作表9!$G$1:$I$136,3, FALSE)","v":"混合物"},null,{"$f":"VLOOKUP(F263,工作表9!$G$1:$H$142, 2, FALSE)","v":0},0]
[null,null,null,null,null,null,{"$f":"VLOOKUP(F264,工作表9!$G$1:$I$136,3, FALSE)","v":"混合物"},null,{"$f":"VLOOKUP(F264,工作表9!$G$1:$H$142, 2, FALSE)","v":0},0]
[null,null,null,null,null,null,{"$f":"VLOOKUP(F265,工作表9!$G$1:$I$136,3, FALSE)","v":"混合物"},null,{"$f":"VLOOKUP(F265,工作表9!$G$1:$H$142, 2, FALSE)","v":0},0]
[null,null,null,null,null,null,{"$f":"VLOOKUP(F266,工作表9!$G$1:$I$136,3, FALSE)","v":"混合物"},null,{"$f":"VLOOKUP(F266,工作表9!$G$1:$H$142, 2, FALSE)","v":0},0]
[null,null,null,null,null,null,{"$f":"VLOOKUP(F267,工作表9!$G$1:$I$136,3, FALSE)","v":"混合物"},null,{"$f":"VLOOKUP(F267,工作表9!$G$1:$H$142, 2, FALSE)","v":0},0]
[null,null,null,null,null,null,{"$f":"VLOOKUP(F268,工作表9!$G$1:$I$136,3, FALSE)","v":"混合物"},null,{"$f":"VLOOKUP(F268,工作表9!$G$1:$H$142, 2, FALSE)","v":0},0]
[null,null,null,null,null,null,{"$f":"VLOOKUP(F269,工作表9!$G$1:$I$136,3, FALSE)","v":"混合物"},null,{"$f":"VLOOKUP(F269,工作表9!$G$1:$H$142, 2, FALSE)","v":0},0]
[null,null,null,null,null,null,{"$f":"VLOOKUP(F270,工作表9!$G$1:$I$136,3, FALSE)","v":"混合物"},null,{"$f":"VLOOKUP(F270,工作表9!$G$1:$H$142, 2, FALSE)","v":0},0]
[null,null,null,null,null,null,{"$f":"VLOOKUP(F271,工作表9!$G$1:$I$136,3, FALSE)","v":"混合物"},null,{"$f":"VLOOKUP(F271,工作表9!$G$1:$H$142, 2, FALSE)","v":0},0]
[null,null,null,null,null,null,{"$f":"VLOOKUP(F272,工作表9!$G$1:$I$136,3, FALSE)","v":"混合物"},null,{"$f":"VLOOKUP(F272,工作表9!$G$1:$H$142, 2, FALSE)","v":0},0]
[null,null,null,null,null,null,{"$f":"VLOOKUP(F273,工作表9!$G$1:$I$136,3, FALSE)","v":"混合物"},null,{"$f":"VLOOKUP(F273,工作表9!$G$1:$H$142, 2, FALSE)","v":0},0]
[null,null,null,null,null,null,{"$f":"VLOOKUP(F274,工作表9!$G$1:$I$136,3, FALSE)","v":"混合物"},null,{"$f":"VLOOKUP(F274,工作表9!$G$1:$H$142, 2, FALSE)","v":0},0]
[null,null,null,null,null,null,{"$f":"VLOOKUP(F275,工作表9!$G$1:$I$136,3, FALSE)","v":"混合物"},null,{"$f":"VLOOKUP(F275,工作表9!$G$1:$H$142, 2, FALSE)","v":0},0]
[null,null,null,null,null,null,{"$f":"VLOOKUP(F276,工作表9!$G$1:$I$136,3, FALSE)","v":"混合物"},null,{"$f":"VLOOKUP(F276,工作表9!$G$1:$H$142, 2, FALSE)","v":0},0]
[null,null,null,null,null,null,{"$f":"VLOOKUP(F277,工作表9!$G$1:$I$136,3, FALSE)","v":"混合物"},null,{"$f":"VLOOKUP(F277,工作表9!$G$1:$H$142, 2, FALSE)","v":0},0]
[null,null,null,null,null,null,{"$f":"VLOOKUP(F278,工作表9!$G$1:$I$136,3, FALSE)","v":"混合物"},null,{"$f":"VLOOKUP(F278,工作表9!$G$1:$H$142, 2, FALSE)","v":0},0]
[null,null,null,null,null,null,{"$f":"VLOOKUP(F279,工作表9!$G$1:$I$136,3, FALSE)","v":"混合物"},null,{"$f":"VLOOKUP(F279,工作表9!$G$1:$H$142, 2, FALSE)","v":0},0]
[null,null,null,null,null,null,{"$f":"VLOOKUP(F280,工作表9!$G$1:$I$136,3, FALSE)","v":"混合物"},null,{"$f":"VLOOKUP(F280,工作表9!$G$1:$H$142, 2, FALSE)","v":0},0]
[null,null,null,null,null,null,{"$f":"VLOOKUP(F281,工作表9!$G$1:$I$136,3, FALSE)","v":"混合物"},null,{"$f":"VLOOKUP(F281,工作表9!$G$1:$H$142, 2, FALSE)","v":0},0]
[null,null,null,null,null,null,{"$f":"VLOOKUP(F282,工作表9!$G$1:$I$136,3, FALSE)","v":"混合物"},null,{"$f":"VLOOKUP(F282,工作表9!$G$1:$H$142, 2, FALSE)","v":0},0]
[null,null,null,null,null,null,{"$f":"VLOOKUP(F283,工作表9!$G$1:$I$136,3, FALSE)","v":"混合物"},null,{"$f":"VLOOKUP(F283,工作表9!$G$1:$H$142, 2, FALSE)","v":0},0]
[null,null,null,null,null,null,{"$f":"VLOOKUP(F284,工作表9!$G$1:$I$136,3, FALSE)","v":"混合物"},null,{"$f":"VLOOKUP(F284,工作表9!$G$1:$H$142, 2, FALSE)","v":0},0]
[null,null,null,null,null,null,{"$f":"VLOOKUP(F285,工作表9!$G$1:$I$136,3, FALSE)","v":"混合物"},null,{"$f":"VLOOKUP(F285,工作表9!$G$1:$H$142, 2, FALSE)","v":0},0]
[null,null,null,null,null,null,{"$f":"VLOOKUP(F286,工作表9!$G$1:$I$136,3, FALSE)","v":"混合物"},null,{"$f":"VLOOKUP(F286,工作表9!$G$1:$H$142, 2, FALSE)","v":0},0]
[null,null,null,null,null,null,{"$f":"VLOOKUP(F287,工作表9!$G$1:$I$136,3, FALSE)","v":"混合物"},null,{"$f":"VLOOKUP(F287,工作表9!$G$1:$H$142, 2, FALSE)","v":0},0]
[null,null,null,null,null,null,{"$f":"VLOOKUP(F288,工作表9!$G$1:$I$136,3, FALSE)","v":"混合物"},null,{"$f":"VLOOKUP(F288,工作表9!$G$1:$H$142, 2, FALSE)","v":0},0]
[null,null,null,null,null,null,{"$f":"VLOOKUP(F289,工作表9!$G$1:$I$136,3, FALSE)","v":"混合物"},null,{"$f":"VLOOKUP(F289,工作表9!$G$1:$H$142, 2, FALSE)","v":0},0]
[null,null,null,null,null,null,{"$f":"VLOOKUP(F290,工作表9!$G$1:$I$136,3, FALSE)","v":"混合物"},null,{"$f":"VLOOKUP(F290,工作表9!$G$1:$H$142, 2, FALSE)","v":0},0]
[null,null,null,null,null,null,{"$f":"VLOOKUP(F291,工作表9!$G$1:$I$136,3, FALSE)","v":"混合物"},null,{"$f":"VLOOKUP(F291,工作表9!$G$1:$H$142, 2, FALSE)","v":0},0]
[null,null,null,null,null,null,{"$f":"VLOOKUP(F292,工作表9!$G$1:$I$136,3, FALSE)","v":"混合物"},null,{"$f":"VLOOKUP(F292,工作表9!$G$1:$H$142, 2, FALSE)","v":0},0]
[null,null,null,null,null,null,{"$f":"VLOOKUP(F293,工作表9!$G$1:$I$136,3, FALSE)","v":"混合物"},null,{"$f":"VLOOKUP(F293,工作表9!$G$1:$H$142, 2, FALSE)","v":0},0]
[null,null,null,null,null,null,{"$f":"VLOOKUP(F294,工作表9!$G$1:$I$136,3, FALSE)","v":"混合物"},null,{"$f":"VLOOKUP(F294,工作表9!$G$1:$H$142, 2, FALSE)","v":0},0]
[null,null,null,null,null,null,{"$f":"VLOOKUP(F295,工作表9!$G$1:$I$136,3, FALSE)","v":"混合物"},null,{"$f":"VLOOKUP(F295,工作表9!$G$1:$H$142, 2, FALSE)","v":0},0]
[null,null,null,null,null,null,{"$f":"VLOOKUP(F296,工作表9!$G$1:$I$136,3, FALSE)","v":"混合物"},null,{"$f":"VLOOKUP(F296,工作表9!$G$1:$H$142, 2, FALSE)","v":0},0]
[null,null,null,null,null,null,{"$f":"VLOOKUP(F297,工作表9!$G$1:$I$136,3, FALSE)","v":"混合物"},null,{"$f":"VLOOKUP(F297,工作表9!$G$1:$H$142, 2, FALSE)","v":0},0]
[null,null,null,null,null,null,{"$f":"VLOOKUP(F298,工作表9!$G$1:$I$136,3, FALSE)","v":"混合物"},null,{"$f":"VLOOKUP(F298,工作表9!$G$1:$H$142, 2, FALSE)","v":0},0]
[null,null,null,null,null,null,{"$f":"VLOOKUP(F299,工作表9!$G$1:$I$136,3, FALSE)","v":"混合物"},null,{"$f":"VLOOKUP(F299,工作表9!$G$1:$H$142, 2, FALSE)","v":0},0]
[null,null,null,null,null,null,{"$f":"VLOOKUP(F300,工作表9!$G$1:$I$136,3, FALSE)","v":"混合物"},null,{"$f":"VLOOKUP(F300,工作表9!$G$1:$H$142, 2, FALSE)","v":0},0]
[null,null,null,null,null,null,{"$f":"VLOOKUP(F301,工作表9!$G$1:$I$136,3, FALSE)","v":"混合物"},null,{"$f":"VLOOKUP(F301,工作表9!$G$1:$H$142, 2, FALSE)","v":0},0]
[null,null,null,null,null,null,{"$f":"VLOOKUP(F302,工作表9!$G$1:$I$136,3, FALSE)","v":"混合物"},null,{"$f":"VLOOKUP(F302,工作表9!$G$1:$H$142, 2, FALSE)","v":0},0]
[null,null,null,null,null,null,{"$f":"VLOOKUP(F303,工作表9!$G$1:$I$136,3, FALSE)","v":"混合物"},null,{"$f":"VLOOKUP(F303,工作表9!$G$1:$H$142, 2, FALSE)","v":0},0]
[null,null,null,null,null,null,{"$f":"VLOOKUP(F304,工作表9!$G$1:$I$136,3, FALSE)","v":"混合物"},null,{"$f":"VLOOKUP(F304,工作表9!$G$1:$H$142, 2, FALSE)","v":0},0]
[null,null,null,null,null,null,{"$f":"VLOOKUP(F305,工作表9!$G$1:$I$136,3, FALSE)","v":"混合物"},null,{"$f":"VLOOKUP(F305,工作表9!$G$1:$H$142, 2, FALSE)","v":0},0]
[null,null,null,null,null,null,{"$f":"VLOOKUP(F306,工作表9!$G$1:$I$136,3, FALSE)","v":"混合物"},null,{"$f":"VLOOKUP(F306,工作表9!$G$1:$H$142, 2, FALSE)","v":0},0]
[null,null,null,null,null,null,{"$f":"VLOOKUP(F307,工作表9!$G$1:$I$136,3, FALSE)","v":"混合物"},null,{"$f":"VLOOKUP(F307,工作表9!$G$1:$H$142, 2, FALSE)","v":0},0]
[null,null,null,null,null,null,{"$f":"VLOOKUP(F308,工作表9!$G$1:$I$136,3, FALSE)","v":"混合物"},null,{"$f":"VLOOKUP(F308,工作表9!$G$1:$H$142, 2, FALSE)","v":0},0]
[null,null,null,null,null,null,{"$f":"VLOOKUP(F309,工作表9!$G$1:$I$136,3, FALSE)","v":"混合物"},null,{"$f":"VLOOKUP(F309,工作表9!$G$1:$H$142, 2, FALSE)","v":0},0]
[null,null,null,null,null,null,{"$f":"VLOOKUP(F310,工作表9!$G$1:$I$136,3, FALSE)","v":"混合物"},null,{"$f":"VLOOKUP(F310,工作表9!$G$1:$H$142, 2, FALSE)","v":0},0]
[null,null,null,null,null,null,{"$f":"VLOOKUP(F311,工作表9!$G$1:$I$136,3, FALSE)","v":"混合物"},null,{"$f":"VLOOKUP(F311,工作表9!$G$1:$H$142, 2, FALSE)","v":0},0]
[null,null,null,null,null,null,{"$f":"VLOOKUP(F312,工作表9!$G$1:$I$136,3, FALSE)","v":"混合物"},null,{"$f":"VLOOKUP(F312,工作表9!$G$1:$H$142, 2, FALSE)","v":0},0]
[null,null,null,null,null,null,{"$f":"VLOOKUP(F313,工作表9!$G$1:$I$136,3, FALSE)","v":"混合物"},null,{"$f":"VLOOKUP(F313,工作表9!$G$1:$H$142, 2, FALSE)","v":0},0]
[null,null,null,null,null,null,{"$f":"VLOOKUP(F314,工作表9!$G$1:$I$136,3, FALSE)","v":"混合物"},null,{"$f":"VLOOKUP(F314,工作表9!$G$1:$H$142, 2, FALSE)","v":0},0]
[null,null,null,null,null,null,{"$f":"VLOOKUP(F315,工作表9!$G$1:$I$136,3, FALSE)","v":"混合物"},null,{"$f":"VLOOKUP(F315,工作表9!$G$1:$H$142, 2, FALSE)","v":0},0]
[null,null,null,null,null,null,{"$f":"VLOOKUP(F316,工作表9!$G$1:$I$136,3, FALSE)","v":"混合物"},null,{"$f":"VLOOKUP(F316,工作表9!$G$1:$H$142, 2, FALSE)","v":0},0]
[null,null,null,null,null,null,{"$f":"VLOOKUP(F317,工作表9!$G$1:$I$136,3, FALSE)","v":"混合物"},null,{"$f":"VLOOKUP(F317,工作表9!$G$1:$H$142, 2, FALSE)","v":0},0]
[null,null,null,null,null,null,{"$f":"VLOOKUP(F318,工作表9!$G$1:$I$136,3, FALSE)","v":"混合物"},null,{"$f":"VLOOKUP(F318,工作表9!$G$1:$H$142, 2, FALSE)","v":0},0]
[null,null,null,null,null,null,{"$f":"VLOOKUP(F319,工作表9!$G$1:$I$136,3, FALSE)","v":"混合物"},null,{"$f":"VLOOKUP(F319,工作表9!$G$1:$H$142, 2, FALSE)","v":0},0]
[null,null,null,null,null,null,{"$f":"VLOOKUP(F320,工作表9!$G$1:$I$136,3, FALSE)","v":"混合物"},null,{"$f":"VLOOKUP(F320,工作表9!$G$1:$H$142, 2, FALSE)","v":0},0]
[null,null,null,null,null,null,{"$f":"VLOOKUP(F321,工作表9!$G$1:$I$136,3, FALSE)","v":"混合物"},null,{"$f":"VLOOKUP(F321,工作表9!$G$1:$H$142, 2, FALSE)","v":0},0]
[null,null,null,null,null,null,{"$f":"VLOOKUP(F322,工作表9!$G$1:$I$136,3, FALSE)","v":"混合物"},null,{"$f":"VLOOKUP(F322,工作表9!$G$1:$H$142, 2, FALSE)","v":0},0]
[null,null,null,null,null,null,{"$f":"VLOOKUP(F323,工作表9!$G$1:$I$136,3, FALSE)","v":"混合物"},null,{"$f":"VLOOKUP(F323,工作表9!$G$1:$H$142, 2, FALSE)","v":0},0]
[null,null,null,null,null,null,{"$f":"VLOOKUP(F324,工作表9!$G$1:$I$136,3, FALSE)","v":"混合物"},null,{"$f":"VLOOKUP(F324,工作表9!$G$1:$H$142, 2, FALSE)","v":0},0]
[null,null,null,null,null,null,{"$f":"VLOOKUP(F325,工作表9!$G$1:$I$136,3, FALSE)","v":"混合物"},null,{"$f":"VLOOKUP(F325,工作表9!$G$1:$H$142, 2, FALSE)","v":0},0]
[null,null,null,null,null,null,{"$f":"VLOOKUP(F326,工作表9!$G$1:$I$136,3, FALSE)","v":"混合物"},null,{"$f":"VLOOKUP(F326,工作表9!$G$1:$H$142, 2, FALSE)","v":0},{"$f":"H326*I326","v":0}]
[null,null,null,null,null,null,{"$f":"VLOOKUP(F327,工作表9!$G$1:$I$136,3, FALSE)","v":"混合物"},null,{"$f":"VLOOKUP(F327,工作表9!$G$1:$H$142, 2, FALSE)","v":0},0]
[null,null,null,null,null,null,{"$f":"VLOOKUP(F328,工作表9!$G$1:$I$136,3, FALSE)","v":"混合物"},null,{"$f":"VLOOKUP(F328,工作表9!$G$1:$H$142, 2, FALSE)","v":0},0]
[null,null,null,null,null,null,{"$f":"VLOOKUP(F329,工作表9!$G$1:$I$136,3, FALSE)","v":"混合物"},null,{"$f":"VLOOKUP(F329,工作表9!$G$1:$H$142, 2, FALSE)","v":0},0]
[null,null,null,null,null,null,{"$f":"VLOOKUP(F330,工作表9!$G$1:$I$136,3, FALSE)","v":"混合物"},null,{"$f":"VLOOKUP(F330,工作表9!$G$1:$H$142, 2, FALSE)","v":0},0]
[null,null,null,null,null,null,{"$f":"VLOOKUP(F331,工作表9!$G$1:$I$136,3, FALSE)","v":"混合物"},null,{"$f":"VLOOKUP(F331,工作表9!$G$1:$H$142, 2, FALSE)","v":0},0]
[null,null,null,null,null,null,{"$f":"VLOOKUP(F332,工作表9!$G$1:$I$136,3, FALSE)","v":"混合物"},null,{"$f":"VLOOKUP(F332,工作表9!$G$1:$H$142, 2, FALSE)","v":0},0]
[null,null,null,null,null,null,{"$f":"VLOOKUP(F333,工作表9!$G$1:$I$136,3, FALSE)","v":"混合物"},null,{"$f":"VLOOKUP(F333,工作表9!$G$1:$H$142, 2, FALSE)","v":0},0]
[null,null,null,null,null,null,{"$f":"VLOOKUP(F334,工作表9!$G$1:$I$136,3, FALSE)","v":"混合物"},null,{"$f":"VLOOKUP(F334,工作表9!$G$1:$H$142, 2, FALSE)","v":0},0]
[null,null,null,null,null,null,{"$f":"VLOOKUP(F335,工作表9!$G$1:$I$136,3, FALSE)","v":"混合物"},null,{"$f":"VLOOKUP(F335,工作表9!$G$1:$H$142, 2, FALSE)","v":0},0]
[null,null,null,null,null,null,{"$f":"VLOOKUP(F336,工作表9!$G$1:$I$136,3, FALSE)","v":"混合物"},null,{"$f":"VLOOKUP(F336,工作表9!$G$1:$H$142, 2, FALSE)","v":0},0]
[null,null,null,null,null,null,{"$f":"VLOOKUP(F337,工作表9!$G$1:$I$136,3, FALSE)","v":"混合物"},null,{"$f":"VLOOKUP(F337,工作表9!$G$1:$H$142, 2, FALSE)","v":0},0]
[null,null,null,null,null,null,{"$f":"VLOOKUP(F338,工作表9!$G$1:$I$136,3, FALSE)","v":"混合物"},null,{"$f":"VLOOKUP(F338,工作表9!$G$1:$H$142, 2, FALSE)","v":0},0]
[null,null,null,null,null,null,{"$f":"VLOOKUP(F339,工作表9!$G$1:$I$136,3, FALSE)","v":"混合物"},null,{"$f":"VLOOKUP(F339,工作表9!$G$1:$H$142, 2, FALSE)","v":0},0]
[null,null,null,null,null,null,{"$f":"VLOOKUP(F340,工作表9!$G$1:$I$136,3, FALSE)","v":"混合物"},null,{"$f":"VLOOKUP(F340,工作表9!$G$1:$H$142, 2, FALSE)","v":0},0]
[null,null,null,null,null,null,{"$f":"VLOOKUP(F341,工作表9!$G$1:$I$136,3, FALSE)","v":"混合物"},null,{"$f":"VLOOKUP(F341,工作表9!$G$1:$H$142, 2, FALSE)","v":0},0]
[null,null,null,null,null,null,{"$f":"VLOOKUP(F342,工作表9!$G$1:$I$136,3, FALSE)","v":"混合物"},null,{"$f":"VLOOKUP(F342,工作表9!$G$1:$H$142, 2, FALSE)","v":0},0]
[null,null,null,null,null,null,{"$f":"VLOOKUP(F343,工作表9!$G$1:$I$136,3, FALSE)","v":"混合物"},null,{"$f":"VLOOKUP(F343,工作表9!$G$1:$H$142, 2, FALSE)","v":0},0]
[null,null,null,null,null,null,{"$f":"VLOOKUP(F344,工作表9!$G$1:$I$136,3, FALSE)","v":"混合物"},null,{"$f":"VLOOKUP(F344,工作表9!$G$1:$H$142, 2, FALSE)","v":0},0]
[null,null,null,null,null,null,{"$f":"VLOOKUP(F345,工作表9!$G$1:$I$136,3, FALSE)","v":"混合物"},null,{"$f":"VLOOKUP(F345,工作表9!$G$1:$H$142, 2, FALSE)","v":0},0]
[null,null,null,null,null,null,{"$f":"VLOOKUP(F346,工作表9!$G$1:$I$136,3, FALSE)","v":"混合物"},null,{"$f":"VLOOKUP(F346,工作表9!$G$1:$H$142, 2, FALSE)","v":0},0]
[null,null,null,null,null,null,{"$f":"VLOOKUP(F347,工作表9!$G$1:$I$136,3, FALSE)","v":"混合物"},null,{"$f":"VLOOKUP(F347,工作表9!$G$1:$H$142, 2, FALSE)","v":0},0]
[null,null,null,null,null,null,{"$f":"VLOOKUP(F348,工作表9!$G$1:$I$136,3, FALSE)","v":"混合物"},null,{"$f":"VLOOKUP(F348,工作表9!$G$1:$H$142, 2, FALSE)","v":0},0]
[null,null,null,null,null,null,{"$f":"VLOOKUP(F349,工作表9!$G$1:$I$136,3, FALSE)","v":"混合物"},null,{"$f":"VLOOKUP(F349,工作表9!$G$1:$H$142, 2, FALSE)","v":0},0]
[null,null,null,null,null,null,{"$f":"VLOOKUP(F350,工作表9!$G$1:$I$136,3, FALSE)","v":"混合物"},null,{"$f":"VLOOKUP(F350,工作表9!$G$1:$H$142, 2, FALSE)","v":0},0]
[null,null,null,null,null,null,{"$f":"VLOOKUP(F351,工作表9!$G$1:$I$136,3, FALSE)","v":"混合物"},null,{"$f":"VLOOKUP(F351,工作表9!$G$1:$H$142, 2, FALSE)","v":0},0]
[null,null,null,null,null,null,{"$f":"VLOOKUP(F352,工作表9!$G$1:$I$136,3, FALSE)","v":"混合物"},null,{"$f":"VLOOKUP(F352,工作表9!$G$1:$H$142, 2, FALSE)","v":0},0]
[null,null,null,null,null,null,{"$f":"VLOOKUP(F353,工作表9!$G$1:$I$136,3, FALSE)","v":"混合物"},null,{"$f":"VLOOKUP(F353,工作表9!$G$1:$H$142, 2, FALSE)","v":0},0]
[null,null,null,null,null,null,{"$f":"VLOOKUP(F354,工作表9!$G$1:$I$136,3, FALSE)","v":"混合物"},null,{"$f":"VLOOKUP(F354,工作表9!$G$1:$H$142, 2, FALSE)","v":0},0]
[null,null,null,null,null,null,{"$f":"VLOOKUP(F355,工作表9!$G$1:$I$136,3, FALSE)","v":"混合物"},null,{"$f":"VLOOKUP(F355,工作表9!$G$1:$H$142, 2, FALSE)","v":0},0]
[null,null,null,null,null,null,{"$f":"VLOOKUP(F356,工作表9!$G$1:$I$136,3, FALSE)","v":"混合物"},null,{"$f":"VLOOKUP(F356,工作表9!$G$1:$H$142, 2, FALSE)","v":0},0]
[null,null,null,null,null,null,{"$f":"VLOOKUP(F357,工作表9!$G$1:$I$136,3, FALSE)","v":"混合物"},null,{"$f":"VLOOKUP(F357,工作表9!$G$1:$H$142, 2, FALSE)","v":0},0]
[null,null,null,null,null,null,{"$f":"VLOOKUP(F358,工作表9!$G$1:$I$136,3, FALSE)","v":"混合物"},null,{"$f":"VLOOKUP(F358,工作表9!$G$1:$H$142, 2, FALSE)","v":0},0]
[null,null,null,null,null,null,{"$f":"VLOOKUP(F359,工作表9!$G$1:$I$136,3, FALSE)","v":"混合物"},null,{"$f":"VLOOKUP(F359,工作表9!$G$1:$H$142, 2, FALSE)","v":0},0]
[null,null,null,null,null,null,{"$f":"VLOOKUP(F360,工作表9!$G$1:$I$136,3, FALSE)","v":"混合物"},null,{"$f":"VLOOKUP(F360,工作表9!$G$1:$H$142, 2, FALSE)","v":0},0]
[null,null,null,null,null,null,{"$f":"VLOOKUP(F361,工作表9!$G$1:$I$136,3, FALSE)","v":"混合物"},null,{"$f":"VLOOKUP(F361,工作表9!$G$1:$H$142, 2, FALSE)","v":0},0]
[null,null,null,null,null,null,{"$f":"VLOOKUP(F362,工作表9!$G$1:$I$136,3, FALSE)","v":"混合物"},null,{"$f":"VLOOKUP(F362,工作表9!$G$1:$H$142, 2, FALSE)","v":0},0]
[null,null,null,null,null,null,{"$f":"VLOOKUP(F363,工作表9!$G$1:$I$136,3, FALSE)","v":"混合物"},null,{"$f":"VLOOKUP(F363,工作表9!$G$1:$H$142, 2, FALSE)","v":0},0]
[null,null,null,null,null,null,{"$f":"VLOOKUP(F364,工作表9!$G$1:$I$136,3, FALSE)","v":"混合物"},null,{"$f":"VLOOKUP(F364,工作表9!$G$1:$H$142, 2, FALSE)","v":0},0]
[null,null,null,null,null,null,{"$f":"VLOOKUP(F365,工作表9!$G$1:$I$136,3, FALSE)","v":"混合物"},null,{"$f":"VLOOKUP(F365,工作表9!$G$1:$H$142, 2, FALSE)","v":0},0]
[null,null,null,null,null,null,{"$f":"VLOOKUP(F366,工作表9!$G$1:$I$136,3, FALSE)","v":"混合物"},null,{"$f":"VLOOKUP(F366,工作表9!$G$1:$H$142, 2, FALSE)","v":0},0]
[null,null,null,null,null,null,{"$f":"VLOOKUP(F367,工作表9!$G$1:$I$136,3, FALSE)","v":"混合物"},null,{"$f":"VLOOKUP(F367,工作表9!$G$1:$H$142, 2, FALSE)","v":0},0]
[null,null,null,null,null,null,{"$f":"VLOOKUP(F368,工作表9!$G$1:$I$136,3, FALSE)","v":"混合物"},null,{"$f":"VLOOKUP(F368,工作表9!$G$1:$H$142, 2, FALSE)","v":0},0]
[null,null,null,null,null,null,{"$f":"VLOOKUP(F369,工作表9!$G$1:$I$136,3, FALSE)","v":"混合物"},null,{"$f":"VLOOKUP(F369,工作表9!$G$1:$H$142, 2, FALSE)","v":0},0]
[null,null,null,null,null,null,{"$f":"VLOOKUP(F370,工作表9!$G$1:$I$136,3, FALSE)","v":"混合物"},null,{"$f":"VLOOKUP(F370,工作表9!$G$1:$H$142, 2, FALSE)","v":0},0]
[null,null,null,null,null,null,{"$f":"VLOOKUP(F371,工作表9!$G$1:$I$136,3, FALSE)","v":"混合物"},null,{"$f":"VLOOKUP(F371,工作表9!$G$1:$H$142, 2, FALSE)","v":0},0]
[null,null,null,null,null,null,{"$f":"VLOOKUP(F372,工作表9!$G$1:$I$136,3, FALSE)","v":"混合物"},null,{"$f":"VLOOKUP(F372,工作表9!$G$1:$H$142, 2, FALSE)","v":0},0]
[null,null,null,null,null,null,{"$f":"VLOOKUP(F373,工作表9!$G$1:$I$136,3, FALSE)","v":"混合物"},null,{"$f":"VLOOKUP(F373,工作表9!$G$1:$H$142, 2, FALSE)","v":0},0]
[null,null,null,null,null,null,{"$f":"VLOOKUP(F374,工作表9!$G$1:$I$136,3, FALSE)","v":"混合物"},null,{"$f":"VLOOKUP(F374,工作表9!$G$1:$H$142, 2, FALSE)","v":0},0]
[null,null,null,null,null,null,{"$f":"VLOOKUP(F375,工作表9!$G$1:$I$136,3, FALSE)","v":"混合物"},null,{"$f":"VLOOKUP(F375,工作表9!$G$1:$H$142, 2, FALSE)","v":0},0]
[null,null,null,null,null,null,{"$f":"VLOOKUP(F376,工作表9!$G$1:$I$136,3, FALSE)","v":"混合物"},null,{"$f":"VLOOKUP(F376,工作表9!$G$1:$H$142, 2, FALSE)","v":0},0]
[null,null,null,null,null,null,{"$f":"VLOOKUP(F377,工作表9!$G$1:$I$136,3, FALSE)","v":"混合物"},null,{"$f":"VLOOKUP(F377,工作表9!$G$1:$H$142, 2, FALSE)","v":0},0]
[null,null,null,null,null,null,{"$f":"VLOOKUP(F378,工作表9!$G$1:$I$136,3, FALSE)","v":"混合物"},null,{"$f":"VLOOKUP(F378,工作表9!$G$1:$H$142, 2, FALSE)","v":0},0]
[null,null,null,null,null,null,{"$f":"VLOOKUP(F379,工作表9!$G$1:$I$136,3, FALSE)","v":"混合物"},null,{"$f":"VLOOKUP(F379,工作表9!$G$1:$H$142, 2, FALSE)","v":0},0]
[null,null,null,null,null,null,{"$f":"VLOOKUP(F380,工作表9!$G$1:$I$136,3, FALSE)","v":"混合物"},null,{"$f":"VLOOKUP(F380,工作表9!$G$1:$H$142, 2, FALSE)","v":0},0]
[null,null,null,null,null,null,{"$f":"VLOOKUP(F381,工作表9!$G$1:$I$136,3, FALSE)","v":"混合物"},null,{"$f":"VLOOKUP(F381,工作表9!$G$1:$H$142, 2, FALSE)","v":0},0]
[null,null,null,null,null,null,{"$f":"VLOOKUP(F382,工作表9!$G$1:$I$136,3, FALSE)","v":"混合物"},null,{"$f":"VLOOKUP(F382,工作表9!$G$1:$H$142, 2, FALSE)","v":0},0]
[null,null,null,null,null,null,{"$f":"VLOOKUP(F383,工作表9!$G$1:$I$136,3, FALSE)","v":"混合物"},null,{"$f":"VLOOKUP(F383,工作表9!$G$1:$H$142, 2, FALSE)","v":0},0]
[null,null,null,null,null,null,{"$f":"VLOOKUP(F384,工作表9!$G$1:$I$136,3, FALSE)","v":"混合物"},null,{"$f":"VLOOKUP(F384,工作表9!$G$1:$H$142, 2, FALSE)","v":0},0]
[null,null,null,null,null,null,{"$f":"VLOOKUP(F385,工作表9!$G$1:$I$136,3, FALSE)","v":"混合物"},null,{"$f":"VLOOKUP(F385,工作表9!$G$1:$H$142, 2, FALSE)","v":0},0]
[null,null,null,null,null,null,{"$f":"VLOOKUP(F386,工作表9!$G$1:$I$136,3, FALSE)","v":"混合物"},null,{"$f":"VLOOKUP(F386,工作表9!$G$1:$H$142, 2, FALSE)","v":0},0]
[null,null,null,null,null,null,{"$f":"VLOOKUP(F387,工作表9!$G$1:$I$136,3, FALSE)","v":"混合物"},null,{"$f":"VLOOKUP(F387,工作表9!$G$1:$H$142, 2, FALSE)","v":0},0]
[null,null,null,null,null,null,{"$f":"VLOOKUP(F388,工作表9!$G$1:$I$136,3, FALSE)","v":"混合物"},null,{"$f":"VLOOKUP(F388,工作表9!$G$1:$H$142, 2, FALSE)","v":0},0]
[null,null,null,null,null,null,{"$f":"VLOOKUP(F389,工作表9!$G$1:$I$136,3, FALSE)","v":"混合物"},null,{"$f":"VLOOKUP(F389,工作表9!$G$1:$H$142, 2, FALSE)","v":0},0]
[null,null,null,null,null,null,{"$f":"VLOOKUP(F390,工作表9!$G$1:$I$136,3, FALSE)","v":"混合物"},null,{"$f":"VLOOKUP(F390,工作表9!$G$1:$H$142, 2, FALSE)","v":0},{"$f":"H390*I390","v":0}]
[null,null,null,null,null,null,{"$f":"VLOOKUP(F391,工作表9!$G$1:$I$136,3, FALSE)","v":"混合物"},null,{"$f":"VLOOKUP(F391,工作表9!$G$1:$H$142, 2, FALSE)","v":0},0]
[null,null,null,null,null,null,{"$f":"VLOOKUP(F392,工作表9!$G$1:$I$136,3, FALSE)","v":"混合物"},null,{"$f":"VLOOKUP(F392,工作表9!$G$1:$H$142, 2, FALSE)","v":0},0]
[null,null,null,null,null,null,{"$f":"VLOOKUP(F393,工作表9!$G$1:$I$136,3, FALSE)","v":"混合物"},null,{"$f":"VLOOKUP(F393,工作表9!$G$1:$H$142, 2, FALSE)","v":0},0]
[null,null,null,null,null,null,{"$f":"VLOOKUP(F394,工作表9!$G$1:$I$136,3, FALSE)","v":"混合物"},null,{"$f":"VLOOKUP(F394,工作表9!$G$1:$H$142, 2, FALSE)","v":0},0]
[null,null,null,null,null,null,{"$f":"VLOOKUP(F395,工作表9!$G$1:$I$136,3, FALSE)","v":"混合物"},null,{"$f":"VLOOKUP(F395,工作表9!$G$1:$H$142, 2, FALSE)","v":0},0]
[null,null,null,null,null,null,{"$f":"VLOOKUP(F396,工作表9!$G$1:$I$136,3, FALSE)","v":"混合物"},null,{"$f":"VLOOKUP(F396,工作表9!$G$1:$H$142, 2, FALSE)","v":0},0]
[null,null,null,null,null,null,{"$f":"VLOOKUP(F397,工作表9!$G$1:$I$136,3, FALSE)","v":"混合物"},null,{"$f":"VLOOKUP(F397,工作表9!$G$1:$H$142, 2, FALSE)","v":0},0]
[null,null,null,null,null,null,{"$f":"VLOOKUP(F398,工作表9!$G$1:$I$136,3, FALSE)","v":"混合物"},null,{"$f":"VLOOKUP(F398,工作表9!$G$1:$H$142, 2, FALSE)","v":0},0]
[null,null,null,null,null,null,{"$f":"VLOOKUP(F399,工作表9!$G$1:$I$136,3, FALSE)","v":"混合物"},null,{"$f":"VLOOKUP(F399,工作表9!$G$1:$H$142, 2, FALSE)","v":0},0]
[null,null,null,null,null,null,{"$f":"VLOOKUP(F400,工作表9!$G$1:$I$136,3, FALSE)","v":"混合物"},null,{"$f":"VLOOKUP(F400,工作表9!$G$1:$H$142, 2, FALSE)","v":0},0]
[null,null,null,null,null,null,{"$f":"VLOOKUP(F401,工作表9!$G$1:$I$136,3, FALSE)","v":"混合物"},null,{"$f":"VLOOKUP(F401,工作表9!$G$1:$H$142, 2, FALSE)","v":0},0]
[null,null,null,null,null,null,{"$f":"VLOOKUP(F402,工作表9!$G$1:$I$136,3, FALSE)","v":"混合物"},null,{"$f":"VLOOKUP(F402,工作表9!$G$1:$H$142, 2, FALSE)","v":0},0]
[null,null,null,null,null,null,{"$f":"VLOOKUP(F403,工作表9!$G$1:$I$136,3, FALSE)","v":"混合物"},null,{"$f":"VLOOKUP(F403,工作表9!$G$1:$H$142, 2, FALSE)","v":0},0]
[null,null,null,null,null,null,{"$f":"VLOOKUP(F404,工作表9!$G$1:$I$136,3, FALSE)","v":"混合物"},null,{"$f":"VLOOKUP(F404,工作表9!$G$1:$H$142, 2, FALSE)","v":0},0]
[null,null,null,null,null,null,{"$f":"VLOOKUP(F405,工作表9!$G$1:$I$136,3, FALSE)","v":"混合物"},null,{"$f":"VLOOKUP(F405,工作表9!$G$1:$H$142, 2, FALSE)","v":0},0]
[null,null,null,null,null,null,{"$f":"VLOOKUP(F406,工作表9!$G$1:$I$136,3, FALSE)","v":"混合物"},null,{"$f":"VLOOKUP(F406,工作表9!$G$1:$H$142, 2, FALSE)","v":0},0]
[null,null,null,null,null,null,{"$f":"VLOOKUP(F407,工作表9!$G$1:$I$136,3, FALSE)","v":"混合物"},null,{"$f":"VLOOKUP(F407,工作表9!$G$1:$H$142, 2, FALSE)","v":0},0]
[null,null,null,null,null,null,{"$f":"VLOOKUP(F408,工作表9!$G$1:$I$136,3, FALSE)","v":"混合物"},null,{"$f":"VLOOKUP(F408,工作表9!$G$1:$H$142, 2, FALSE)","v":0},0]
[null,null,null,null,null,null,{"$f":"VLOOKUP(F409,工作表9!$G$1:$I$136,3, FALSE)","v":"混合物"},null,{"$f":"VLOOKUP(F409,工作表9!$G$1:$H$142, 2, FALSE)","v":0},0]
[null,null,null,null,null,null,{"$f":"VLOOKUP(F410,工作表9!$G$1:$I$136,3, FALSE)","v":"混合物"},null,{"$f":"VLOOKUP(F410,工作表9!$G$1:$H$142, 2, FALSE)","v":0},0]
[null,null,null,null,null,null,{"$f":"VLOOKUP(F411,工作表9!$G$1:$I$136,3, FALSE)","v":"混合物"},null,{"$f":"VLOOKUP(F411,工作表9!$G$1:$H$142, 2, FALSE)","v":0},0]
[null,null,null,null,null,null,{"$f":"VLOOKUP(F412,工作表9!$G$1:$I$136,3, FALSE)","v":"混合物"},null,{"$f":"VLOOKUP(F412,工作表9!$G$1:$H$142, 2, FALSE)","v":0},0]
[null,null,null,null,null,null,{"$f":"VLOOKUP(F413,工作表9!$G$1:$I$136,3, FALSE)","v":"混合物"},null,{"$f":"VLOOKUP(F413,工作表9!$G$1:$H$142, 2, FALSE)","v":0},0]
[null,null,null,null,null,null,{"$f":"VLOOKUP(F414,工作表9!$G$1:$I$136,3, FALSE)","v":"混合物"},null,{"$f":"VLOOKUP(F414,工作表9!$G$1:$H$142, 2, FALSE)","v":0},0]
[null,null,null,null,null,null,{"$f":"VLOOKUP(F415,工作表9!$G$1:$I$136,3, FALSE)","v":"混合物"},null,{"$f":"VLOOKUP(F415,工作表9!$G$1:$H$142, 2, FALSE)","v":0},0]
[null,null,null,null,null,null,{"$f":"VLOOKUP(F416,工作表9!$G$1:$I$136,3, FALSE)","v":"混合物"},null,{"$f":"VLOOKUP(F416,工作表9!$G$1:$H$142, 2, FALSE)","v":0},0]
[null,null,null,null,null,null,{"$f":"VLOOKUP(F417,工作表9!$G$1:$I$136,3, FALSE)","v":"混合物"},null,{"$f":"VLOOKUP(F417,工作表9!$G$1:$H$142, 2, FALSE)","v":0},0]
[null,null,null,null,null,null,{"$f":"VLOOKUP(F418,工作表9!$G$1:$I$136,3, FALSE)","v":"混合物"},null,{"$f":"VLOOKUP(F418,工作表9!$G$1:$H$142, 2, FALSE)","v":0},0]
[null,null,null,null,null,null,{"$f":"VLOOKUP(F419,工作表9!$G$1:$I$136,3, FALSE)","v":"混合物"},null,{"$f":"VLOOKUP(F419,工作表9!$G$1:$H$142, 2, FALSE)","v":0},0]
[null,null,null,null,null,null,{"$f":"VLOOKUP(F420,工作表9!$G$1:$I$136,3, FALSE)","v":"混合物"},null,{"$f":"VLOOKUP(F420,工作表9!$G$1:$H$142, 2, FALSE)","v":0},0]
[null,null,null,null,null,null,{"$f":"VLOOKUP(F421,工作表9!$G$1:$I$136,3, FALSE)","v":"混合物"},null,{"$f":"VLOOKUP(F421,工作表9!$G$1:$H$142, 2, FALSE)","v":0},0]
[null,null,null,null,null,null,{"$f":"VLOOKUP(F422,工作表9!$G$1:$I$136,3, FALSE)","v":"混合物"},null,{"$f":"VLOOKUP(F422,工作表9!$G$1:$H$142, 2, FALSE)","v":0},0]
[null,null,null,null,null,null,{"$f":"VLOOKUP(F423,工作表9!$G$1:$I$136,3, FALSE)","v":"混合物"},null,{"$f":"VLOOKUP(F423,工作表9!$G$1:$H$142, 2, FALSE)","v":0},0]
[null,null,null,null,null,null,{"$f":"VLOOKUP(F424,工作表9!$G$1:$I$136,3, FALSE)","v":"混合物"},null,{"$f":"VLOOKUP(F424,工作表9!$G$1:$H$142, 2, FALSE)","v":0},0]
[null,null,null,null,null,null,{"$f":"VLOOKUP(F425,工作表9!$G$1:$I$136,3, FALSE)","v":"混合物"},null,{"$f":"VLOOKUP(F425,工作表9!$G$1:$H$142, 2, FALSE)","v":0},0]
[null,null,null,null,null,null,{"$f":"VLOOKUP(F426,工作表9!$G$1:$I$136,3, FALSE)","v":"混合物"},null,{"$f":"VLOOKUP(F426,工作表9!$G$1:$H$142, 2, FALSE)","v":0},0]
[null,null,null,null,null,null,{"$f":"VLOOKUP(F427,工作表9!$G$1:$I$136,3, FALSE)","v":"混合物"},null,{"$f":"VLOOKUP(F427,工作表9!$G$1:$H$142, 2, FALSE)","v":0},0]
[null,null,null,null,null,null,{"$f":"VLOOKUP(F428,工作表9!$G$1:$I$136,3, FALSE)","v":"混合物"},null,{"$f":"VLOOKUP(F428,工作表9!$G$1:$H$142, 2, FALSE)","v":0},0]
[null,null,null,null,null,null,{"$f":"VLOOKUP(F429,工作表9!$G$1:$I$136,3, FALSE)","v":"混合物"},null,{"$f":"VLOOKUP(F429,工作表9!$G$1:$H$142, 2, FALSE)","v":0},0]
[null,null,null,null,null,null,{"$f":"VLOOKUP(F430,工作表9!$G$1:$I$136,3, FALSE)","v":"混合物"},null,{"$f":"VLOOKUP(F430,工作表9!$G$1:$H$142, 2, FALSE)","v":0},0]
[null,null,null,null,null,null,{"$f":"VLOOKUP(F431,工作表9!$G$1:$I$136,3, FALSE)","v":"混合物"},null,{"$f":"VLOOKUP(F431,工作表9!$G$1:$H$142, 2, FALSE)","v":0},0]
[null,null,null,null,null,null,{"$f":"VLOOKUP(F432,工作表9!$G$1:$I$136,3, FALSE)","v":"混合物"},null,{"$f":"VLOOKUP(F432,工作表9!$G$1:$H$142, 2, FALSE)","v":0},0]
[null,null,null,null,null,null,{"$f":"VLOOKUP(F433,工作表9!$G$1:$I$136,3, FALSE)","v":"混合物"},null,{"$f":"VLOOKUP(F433,工作表9!$G$1:$H$142, 2, FALSE)","v":0},0]
[null,null,null,null,null,null,{"$f":"VLOOKUP(F434,工作表9!$G$1:$I$136,3, FALSE)","v":"混合物"},null,{"$f":"VLOOKUP(F434,工作表9!$G$1:$H$142, 2, FALSE)","v":0},0]
[null,null,null,null,null,null,{"$f":"VLOOKUP(F435,工作表9!$G$1:$I$136,3, FALSE)","v":"混合物"},null,{"$f":"VLOOKUP(F435,工作表9!$G$1:$H$142, 2, FALSE)","v":0},0]
[null,null,null,null,null,null,{"$f":"VLOOKUP(F436,工作表9!$G$1:$I$136,3, FALSE)","v":"混合物"},null,{"$f":"VLOOKUP(F436,工作表9!$G$1:$H$142, 2, FALSE)","v":0},0]
[null,null,null,null,null,null,{"$f":"VLOOKUP(F437,工作表9!$G$1:$I$136,3, FALSE)","v":"混合物"},null,{"$f":"VLOOKUP(F437,工作表9!$G$1:$H$142, 2, FALSE)","v":0},0]
[null,null,null,null,null,null,{"$f":"VLOOKUP(F438,工作表9!$G$1:$I$136,3, FALSE)","v":"混合物"},null,{"$f":"VLOOKUP(F438,工作表9!$G$1:$H$142, 2, FALSE)","v":0},0]
[null,null,null,null,null,null,{"$f":"VLOOKUP(F439,工作表9!$G$1:$I$136,3, FALSE)","v":"混合物"},null,{"$f":"VLOOKUP(F439,工作表9!$G$1:$H$142, 2, FALSE)","v":0},0]
[null,null,null,null,null,null,{"$f":"VLOOKUP(F440,工作表9!$G$1:$I$136,3, FALSE)","v":"混合物"},null,{"$f":"VLOOKUP(F440,工作表9!$G$1:$H$142, 2, FALSE)","v":0},0]
[null,null,null,null,null,null,{"$f":"VLOOKUP(F441,工作表9!$G$1:$I$136,3, FALSE)","v":"混合物"},null,{"$f":"VLOOKUP(F441,工作表9!$G$1:$H$142, 2, FALSE)","v":0},0]
[null,null,null,null,null,null,{"$f":"VLOOKUP(F442,工作表9!$G$1:$I$136,3, FALSE)","v":"混合物"},null,{"$f":"VLOOKUP(F442,工作表9!$G$1:$H$142, 2, FALSE)","v":0},0]
[null,null,null,null,null,null,{"$f":"VLOOKUP(F443,工作表9!$G$1:$I$136,3, FALSE)","v":"混合物"},null,{"$f":"VLOOKUP(F443,工作表9!$G$1:$H$142, 2, FALSE)","v":0},0]
[null,null,null,null,null,null,{"$f":"VLOOKUP(F444,工作表9!$G$1:$I$136,3, FALSE)","v":"混合物"},null,{"$f":"VLOOKUP(F444,工作表9!$G$1:$H$142, 2, FALSE)","v":0},0]
[null,null,null,null,null,null,{"$f":"VLOOKUP(F445,工作表9!$G$1:$I$136,3, FALSE)","v":"混合物"},null,{"$f":"VLOOKUP(F445,工作表9!$G$1:$H$142, 2, FALSE)","v":0},0]
[null,null,null,null,null,null,{"$f":"VLOOKUP(F446,工作表9!$G$1:$I$136,3, FALSE)","v":"混合物"},null,{"$f":"VLOOKUP(F446,工作表9!$G$1:$H$142, 2, FALSE)","v":0},0]
[null,null,null,null,null,null,{"$f":"VLOOKUP(F447,工作表9!$G$1:$I$136,3, FALSE)","v":"混合物"},null,{"$f":"VLOOKUP(F447,工作表9!$G$1:$H$142, 2, FALSE)","v":0},0]
[null,null,null,null,null,null,{"$f":"VLOOKUP(F448,工作表9!$G$1:$I$136,3, FALSE)","v":"混合物"},null,{"$f":"VLOOKUP(F448,工作表9!$G$1:$H$142, 2, FALSE)","v":0},0]
[null,null,null,null,null,null,{"$f":"VLOOKUP(F449,工作表9!$G$1:$I$136,3, FALSE)","v":"混合物"},null,{"$f":"VLOOKUP(F449,工作表9!$G$1:$H$142, 2, FALSE)","v":0},0]
[null,null,null,null,null,null,{"$f":"VLOOKUP(F450,工作表9!$G$1:$I$136,3, FALSE)","v":"混合物"},null,{"$f":"VLOOKUP(F450,工作表9!$G$1:$H$142, 2, FALSE)","v":0},0]
[null,null,null,null,null,null,{"$f":"VLOOKUP(F451,工作表9!$G$1:$I$136,3, FALSE)","v":"混合物"},null,{"$f":"VLOOKUP(F451,工作表9!$G$1:$H$142, 2, FALSE)","v":0},0]
[null,null,null,null,null,null,{"$f":"VLOOKUP(F452,工作表9!$G$1:$I$136,3, FALSE)","v":"混合物"},null,{"$f":"VLOOKUP(F452,工作表9!$G$1:$H$142, 2, FALSE)","v":0},0]
[null,null,null,null,null,null,{"$f":"VLOOKUP(F453,工作表9!$G$1:$I$136,3, FALSE)","v":"混合物"},null,{"$f":"VLOOKUP(F453,工作表9!$G$1:$H$142, 2, FALSE)","v":0},0]
[null,null,null,null,null,null,{"$f":"VLOOKUP(F454,工作表9!$G$1:$I$136,3, FALSE)","v":"混合物"},null,{"$f":"VLOOKUP(F454,工作表9!$G$1:$H$142, 2, FALSE)","v":0},{"$f":"H454*I454","v":0}]
[null,null,null,null,null,null,{"$f":"VLOOKUP(F455,工作表9!$G$1:$I$136,3, FALSE)","v":"混合物"},null,{"$f":"VLOOKUP(F455,工作表9!$G$1:$H$142, 2, FALSE)","v":0},0]
[null,null,null,null,null,null,{"$f":"VLOOKUP(F456,工作表9!$G$1:$I$136,3, FALSE)","v":"混合物"},null,{"$f":"VLOOKUP(F456,工作表9!$G$1:$H$142, 2, FALSE)","v":0},0]
[null,null,null,null,null,null,{"$f":"VLOOKUP(F457,工作表9!$G$1:$I$136,3, FALSE)","v":"混合物"},null,{"$f":"VLOOKUP(F457,工作表9!$G$1:$H$142, 2, FALSE)","v":0},0]
[null,null,null,null,null,null,{"$f":"VLOOKUP(F458,工作表9!$G$1:$I$136,3, FALSE)","v":"混合物"},null,{"$f":"VLOOKUP(F458,工作表9!$G$1:$H$142, 2, FALSE)","v":0},0]
[null,null,null,null,null,null,{"$f":"VLOOKUP(F459,工作表9!$G$1:$I$136,3, FALSE)","v":"混合物"},null,{"$f":"VLOOKUP(F459,工作表9!$G$1:$H$142, 2, FALSE)","v":0},0]
[null,null,null,null,null,null,{"$f":"VLOOKUP(F460,工作表9!$G$1:$I$136,3, FALSE)","v":"混合物"},null,{"$f":"VLOOKUP(F460,工作表9!$G$1:$H$142, 2, FALSE)","v":0},0]
[null,null,null,null,null,null,{"$f":"VLOOKUP(F461,工作表9!$G$1:$I$136,3, FALSE)","v":"混合物"},null,{"$f":"VLOOKUP(F461,工作表9!$G$1:$H$142, 2, FALSE)","v":0},0]
[null,null,null,null,null,null,{"$f":"VLOOKUP(F462,工作表9!$G$1:$I$136,3, FALSE)","v":"混合物"},null,{"$f":"VLOOKUP(F462,工作表9!$G$1:$H$142, 2, FALSE)","v":0},0]
[null,null,null,null,null,null,{"$f":"VLOOKUP(F463,工作表9!$G$1:$I$136,3, FALSE)","v":"混合物"},null,{"$f":"VLOOKUP(F463,工作表9!$G$1:$H$142, 2, FALSE)","v":0},0]
[null,null,null,null,null,null,{"$f":"VLOOKUP(F464,工作表9!$G$1:$I$136,3, FALSE)","v":"混合物"},null,{"$f":"VLOOKUP(F464,工作表9!$G$1:$H$142, 2, FALSE)","v":0},0]
[null,null,null,null,null,null,{"$f":"VLOOKUP(F465,工作表9!$G$1:$I$136,3, FALSE)","v":"混合物"},null,{"$f":"VLOOKUP(F465,工作表9!$G$1:$H$142, 2, FALSE)","v":0},0]
[null,null,null,null,null,null,{"$f":"VLOOKUP(F466,工作表9!$G$1:$I$136,3, FALSE)","v":"混合物"},null,{"$f":"VLOOKUP(F466,工作表9!$G$1:$H$142, 2, FALSE)","v":0},0]
[null,null,null,null,null,null,{"$f":"VLOOKUP(F467,工作表9!$G$1:$I$136,3, FALSE)","v":"混合物"},null,{"$f":"VLOOKUP(F467,工作表9!$G$1:$H$142, 2, FALSE)","v":0},0]
[null,null,null,null,null,null,{"$f":"VLOOKUP(F468,工作表9!$G$1:$I$136,3, FALSE)","v":"混合物"},null,{"$f":"VLOOKUP(F468,工作表9!$G$1:$H$142, 2, FALSE)","v":0},0]
[null,null,null,null,null,null,{"$f":"VLOOKUP(F469,工作表9!$G$1:$I$136,3, FALSE)","v":"混合物"},null,{"$f":"VLOOKUP(F469,工作表9!$G$1:$H$142, 2, FALSE)","v":0},0]
[null,null,null,null,null,null,{"$f":"VLOOKUP(F470,工作表9!$G$1:$I$136,3, FALSE)","v":"混合物"},null,{"$f":"VLOOKUP(F470,工作表9!$G$1:$H$142, 2, FALSE)","v":0},0]
[null,null,null,null,null,null,{"$f":"VLOOKUP(F471,工作表9!$G$1:$I$136,3, FALSE)","v":"混合物"},null,{"$f":"VLOOKUP(F471,工作表9!$G$1:$H$142, 2, FALSE)","v":0},0]
[null,null,null,null,null,null,{"$f":"VLOOKUP(F472,工作表9!$G$1:$I$136,3, FALSE)","v":"混合物"},null,{"$f":"VLOOKUP(F472,工作表9!$G$1:$H$142, 2, FALSE)","v":0},0]
[null,null,null,null,null,null,{"$f":"VLOOKUP(F473,工作表9!$G$1:$I$136,3, FALSE)","v":"混合物"},null,{"$f":"VLOOKUP(F473,工作表9!$G$1:$H$142, 2, FALSE)","v":0},0]
[null,null,null,null,null,null,{"$f":"VLOOKUP(F474,工作表9!$G$1:$I$136,3, FALSE)","v":"混合物"},null,{"$f":"VLOOKUP(F474,工作表9!$G$1:$H$142, 2, FALSE)","v":0},0]
[null,null,null,null,null,null,{"$f":"VLOOKUP(F475,工作表9!$G$1:$I$136,3, FALSE)","v":"混合物"},null,{"$f":"VLOOKUP(F475,工作表9!$G$1:$H$142, 2, FALSE)","v":0},0]
[null,null,null,null,null,null,{"$f":"VLOOKUP(F476,工作表9!$G$1:$I$136,3, FALSE)","v":"混合物"},null,{"$f":"VLOOKUP(F476,工作表9!$G$1:$H$142, 2, FALSE)","v":0},0]
[null,null,null,null,null,null,{"$f":"VLOOKUP(F477,工作表9!$G$1:$I$136,3, FALSE)","v":"混合物"},null,{"$f":"VLOOKUP(F477,工作表9!$G$1:$H$142, 2, FALSE)","v":0},0]
[null,null,null,null,null,null,{"$f":"VLOOKUP(F478,工作表9!$G$1:$I$136,3, FALSE)","v":"混合物"},null,{"$f":"VLOOKUP(F478,工作表9!$G$1:$H$142, 2, FALSE)","v":0},0]
[null,null,null,null,null,null,{"$f":"VLOOKUP(F479,工作表9!$G$1:$I$136,3, FALSE)","v":"混合物"},null,{"$f":"VLOOKUP(F479,工作表9!$G$1:$H$142, 2, FALSE)","v":0},0]
[null,null,null,null,null,null,{"$f":"VLOOKUP(F480,工作表9!$G$1:$I$136,3, FALSE)","v":"混合物"},null,{"$f":"VLOOKUP(F480,工作表9!$G$1:$H$142, 2, FALSE)","v":0},0]
[null,null,null,null,null,null,{"$f":"VLOOKUP(F481,工作表9!$G$1:$I$136,3, FALSE)","v":"混合物"},null,{"$f":"VLOOKUP(F481,工作表9!$G$1:$H$142, 2, FALSE)","v":0},0]
[null,null,null,null,null,null,{"$f":"VLOOKUP(F482,工作表9!$G$1:$I$136,3, FALSE)","v":"混合物"},null,{"$f":"VLOOKUP(F482,工作表9!$G$1:$H$142, 2, FALSE)","v":0},0]
[null,null,null,null,null,null,{"$f":"VLOOKUP(F483,工作表9!$G$1:$I$136,3, FALSE)","v":"混合物"},null,{"$f":"VLOOKUP(F483,工作表9!$G$1:$H$142, 2, FALSE)","v":0},0]
[null,null,null,null,null,null,{"$f":"VLOOKUP(F484,工作表9!$G$1:$I$136,3, FALSE)","v":"混合物"},null,{"$f":"VLOOKUP(F484,工作表9!$G$1:$H$142, 2, FALSE)","v":0},0]
[null,null,null,null,null,null,{"$f":"VLOOKUP(F485,工作表9!$G$1:$I$136,3, FALSE)","v":"混合物"},null,{"$f":"VLOOKUP(F485,工作表9!$G$1:$H$142, 2, FALSE)","v":0},0]
[null,null,null,null,null,null,{"$f":"VLOOKUP(F486,工作表9!$G$1:$I$136,3, FALSE)","v":"混合物"},null,{"$f":"VLOOKUP(F486,工作表9!$G$1:$H$142, 2, FALSE)","v":0},0]
[null,null,null,null,null,null,{"$f":"VLOOKUP(F487,工作表9!$G$1:$I$136,3, FALSE)","v":"混合物"},null,{"$f":"VLOOKUP(F487,工作表9!$G$1:$H$142, 2, FALSE)","v":0},0]
[null,null,null,null,null,null,{"$f":"VLOOKUP(F488,工作表9!$G$1:$I$136,3, FALSE)","v":"混合物"},null,{"$f":"VLOOKUP(F488,工作表9!$G$1:$H$142, 2, FALSE)","v":0},0]
[null,null,null,null,null,null,{"$f":"VLOOKUP(F489,工作表9!$G$1:$I$136,3, FALSE)","v":"混合物"},null,{"$f":"VLOOKUP(F489,工作表9!$G$1:$H$142, 2, FALSE)","v":0},0]
[null,null,null,null,null,null,{"$f":"VLOOKUP(F490,工作表9!$G$1:$I$136,3, FALSE)","v":"混合物"},null,{"$f":"VLOOKUP(F490,工作表9!$G$1:$H$142, 2, FALSE)","v":0},0]
[null,null,null,null,null,null,{"$f":"VLOOKUP(F491,工作表9!$G$1:$I$136,3, FALSE)","v":"混合物"},null,{"$f":"VLOOKUP(F491,工作表9!$G$1:$H$142, 2, FALSE)","v":0},0]
[null,null,null,null,null,null,{"$f":"VLOOKUP(F492,工作表9!$G$1:$I$136,3, FALSE)","v":"混合物"},null,{"$f":"VLOOKUP(F492,工作表9!$G$1:$H$142, 2, FALSE)","v":0},0]
[null,null,null,null,null,null,{"$f":"VLOOKUP(F493,工作表9!$G$1:$I$136,3, FALSE)","v":"混合物"},null,{"$f":"VLOOKUP(F493,工作表9!$G$1:$H$142, 2, FALSE)","v":0},0]
[null,null,null,null,null,null,{"$f":"VLOOKUP(F494,工作表9!$G$1:$I$136,3, FALSE)","v":"混合物"},null,{"$f":"VLOOKUP(F494,工作表9!$G$1:$H$142, 2, FALSE)","v":0},0]
[null,null,null,null,null,null,{"$f":"VLOOKUP(F495,工作表9!$G$1:$I$136,3, FALSE)","v":"混合物"},null,{"$f":"VLOOKUP(F495,工作表9!$G$1:$H$142, 2, FALSE)","v":0},0]
[null,null,null,null,null,null,{"$f":"VLOOKUP(F496,工作表9!$G$1:$I$136,3, FALSE)","v":"混合物"},null,{"$f":"VLOOKUP(F496,工作表9!$G$1:$H$142, 2, FALSE)","v":0},0]
[null,null,null,null,null,null,{"$f":"VLOOKUP(F497,工作表9!$G$1:$I$136,3, FALSE)","v":"混合物"},null,{"$f":"VLOOKUP(F497,工作表9!$G$1:$H$142, 2, FALSE)","v":0},0]
[null,null,null,null,null,null,{"$f":"VLOOKUP(F498,工作表9!$G$1:$I$136,3, FALSE)","v":"混合物"},null,{"$f":"VLOOKUP(F498,工作表9!$G$1:$H$142, 2, FALSE)","v":0},0]
[null,null,null,null,null,null,{"$f":"VLOOKUP(F499,工作表9!$G$1:$I$136,3, FALSE)","v":"混合物"},null,{"$f":"VLOOKUP(F499,工作表9!$G$1:$H$142, 2, FALSE)","v":0},0]
[null,null,null,null,null,null,{"$f":"VLOOKUP(F500,工作表9!$G$1:$I$136,3, FALSE)","v":"混合物"},null,{"$f":"VLOOKUP(F500,工作表9!$G$1:$H$142, 2, FALSE)","v":0},0]
[null,null,null,null,null,null,{"$f":"VLOOKUP(F501,工作表9!$G$1:$I$136,3, FALSE)","v":"混合物"},null,{"$f":"VLOOKUP(F501,工作表9!$G$1:$H$142, 2, FALSE)","v":0},0]
[null,null,null,null,null,null,{"$f":"VLOOKUP(F502,工作表9!$G$1:$I$136,3, FALSE)","v":"混合物"},null,{"$f":"VLOOKUP(F502,工作表9!$G$1:$H$142, 2, FALSE)","v":0},0]
[null,null,null,null,null,null,{"$f":"VLOOKUP(F503,工作表9!$G$1:$I$136,3, FALSE)","v":"混合物"},null,{"$f":"VLOOKUP(F503,工作表9!$G$1:$H$142, 2, FALSE)","v":0},0]
[null,null,null,null,null,null,{"$f":"VLOOKUP(F504,工作表9!$G$1:$I$136,3, FALSE)","v":"混合物"},null,{"$f":"VLOOKUP(F504,工作表9!$G$1:$H$142, 2, FALSE)","v":0},0]
[null,null,null,null,null,null,{"$f":"VLOOKUP(F505,工作表9!$G$1:$I$136,3, FALSE)","v":"混合物"},null,{"$f":"VLOOKUP(F505,工作表9!$G$1:$H$142, 2, FALSE)","v":0},0]
[null,null,null,null,null,null,{"$f":"VLOOKUP(F506,工作表9!$G$1:$I$136,3, FALSE)","v":"混合物"},null,{"$f":"VLOOKUP(F506,工作表9!$G$1:$H$142, 2, FALSE)","v":0},0]
[null,null,null,null,null,null,{"$f":"VLOOKUP(F507,工作表9!$G$1:$I$136,3, FALSE)","v":"混合物"},null,{"$f":"VLOOKUP(F507,工作表9!$G$1:$H$142, 2, FALSE)","v":0},0]
[null,null,null,null,null,null,{"$f":"VLOOKUP(F508,工作表9!$G$1:$I$136,3, FALSE)","v":"混合物"},null,{"$f":"VLOOKUP(F508,工作表9!$G$1:$H$142, 2, FALSE)","v":0},0]
[null,null,null,null,null,null,{"$f":"VLOOKUP(F509,工作表9!$G$1:$I$136,3, FALSE)","v":"混合物"},null,{"$f":"VLOOKUP(F509,工作表9!$G$1:$H$142, 2, FALSE)","v":0},0]
[null,null,null,null,null,null,{"$f":"VLOOKUP(F510,工作表9!$G$1:$I$136,3, FALSE)","v":"混合物"},null,{"$f":"VLOOKUP(F510,工作表9!$G$1:$H$142, 2, FALSE)","v":0},0]
[null,null,null,null,null,null,{"$f":"VLOOKUP(F511,工作表9!$G$1:$I$136,3, FALSE)","v":"混合物"},null,{"$f":"VLOOKUP(F511,工作表9!$G$1:$H$142, 2, FALSE)","v":0},0]
[null,null,null,null,null,null,{"$f":"VLOOKUP(F512,工作表9!$G$1:$I$136,3, FALSE)","v":"混合物"},null,{"$f":"VLOOKUP(F512,工作表9!$G$1:$H$142, 2, FALSE)","v":0},0]
[null,null,null,null,null,null,{"$f":"VLOOKUP(F513,工作表9!$G$1:$I$136,3, FALSE)","v":"混合物"},null,{"$f":"VLOOKUP(F513,工作表9!$G$1:$H$142, 2, FALSE)","v":0},0]
[null,null,null,null,null,null,{"$f":"VLOOKUP(F514,工作表9!$G$1:$I$136,3, FALSE)","v":"混合物"},null,{"$f":"VLOOKUP(F514,工作表9!$G$1:$H$142, 2, FALSE)","v":0},0]
[null,null,null,null,null,null,{"$f":"VLOOKUP(F515,工作表9!$G$1:$I$136,3, FALSE)","v":"混合物"},null,{"$f":"VLOOKUP(F515,工作表9!$G$1:$H$142, 2, FALSE)","v":0},0]
[null,null,null,null,null,null,{"$f":"VLOOKUP(F516,工作表9!$G$1:$I$136,3, FALSE)","v":"混合物"},null,{"$f":"VLOOKUP(F516,工作表9!$G$1:$H$142, 2, FALSE)","v":0},0]
[null,null,null,null,null,null,{"$f":"VLOOKUP(F517,工作表9!$G$1:$I$136,3, FALSE)","v":"混合物"},null,{"$f":"VLOOKUP(F517,工作表9!$G$1:$H$142, 2, FALSE)","v":0},0]
[null,null,null,null,null,null,{"$f":"VLOOKUP(F518,工作表9!$G$1:$I$136,3, FALSE)","v":"混合物"},null,{"$f":"VLOOKUP(F518,工作表9!$G$1:$H$142, 2, FALSE)","v":0},{"$f":"H518*I518","v":0}]
[null,null,null,null,null,null,{"$f":"VLOOKUP(F519,工作表9!$G$1:$I$136,3, FALSE)","v":"混合物"},null,{"$f":"VLOOKUP(F519,工作表9!$G$1:$H$142, 2, FALSE)","v":0},0]
[null,null,null,null,null,null,{"$f":"VLOOKUP(F520,工作表9!$G$1:$I$136,3, FALSE)","v":"混合物"},null,{"$f":"VLOOKUP(F520,工作表9!$G$1:$H$142, 2, FALSE)","v":0},0]
[null,null,null,null,null,null,{"$f":"VLOOKUP(F521,工作表9!$G$1:$I$136,3, FALSE)","v":"混合物"},null,{"$f":"VLOOKUP(F521,工作表9!$G$1:$H$142, 2, FALSE)","v":0},0]
[null,null,null,null,null,null,{"$f":"VLOOKUP(F522,工作表9!$G$1:$I$136,3, FALSE)","v":"混合物"},null,{"$f":"VLOOKUP(F522,工作表9!$G$1:$H$142, 2, FALSE)","v":0},0]
[null,null,null,null,null,null,{"$f":"VLOOKUP(F523,工作表9!$G$1:$I$136,3, FALSE)","v":"混合物"},null,{"$f":"VLOOKUP(F523,工作表9!$G$1:$H$142, 2, FALSE)","v":0},0]
[null,null,null,null,null,null,{"$f":"VLOOKUP(F524,工作表9!$G$1:$I$136,3, FALSE)","v":"混合物"},null,{"$f":"VLOOKUP(F524,工作表9!$G$1:$H$142, 2, FALSE)","v":0},0]
[null,null,null,null,null,null,{"$f":"VLOOKUP(F525,工作表9!$G$1:$I$136,3, FALSE)","v":"混合物"},null,{"$f":"VLOOKUP(F525,工作表9!$G$1:$H$142, 2, FALSE)","v":0},0]
[null,null,null,null,null,null,{"$f":"VLOOKUP(F526,工作表9!$G$1:$I$136,3, FALSE)","v":"混合物"},null,{"$f":"VLOOKUP(F526,工作表9!$G$1:$H$142, 2, FALSE)","v":0},0]
[null,null,null,null,null,null,{"$f":"VLOOKUP(F527,工作表9!$G$1:$I$136,3, FALSE)","v":"混合物"},null,{"$f":"VLOOKUP(F527,工作表9!$G$1:$H$142, 2, FALSE)","v":0},0]
[null,null,null,null,null,null,{"$f":"VLOOKUP(F528,工作表9!$G$1:$I$136,3, FALSE)","v":"混合物"},null,{"$f":"VLOOKUP(F528,工作表9!$G$1:$H$142, 2, FALSE)","v":0},0]
[null,null,null,null,null,null,{"$f":"VLOOKUP(F529,工作表9!$G$1:$I$136,3, FALSE)","v":"混合物"},null,{"$f":"VLOOKUP(F529,工作表9!$G$1:$H$142, 2, FALSE)","v":0},0]
[null,null,null,null,null,null,{"$f":"VLOOKUP(F530,工作表9!$G$1:$I$136,3, FALSE)","v":"混合物"},null,{"$f":"VLOOKUP(F530,工作表9!$G$1:$H$142, 2, FALSE)","v":0},0]
[null,null,null,null,null,null,{"$f":"VLOOKUP(F531,工作表9!$G$1:$I$136,3, FALSE)","v":"混合物"},null,{"$f":"VLOOKUP(F531,工作表9!$G$1:$H$142, 2, FALSE)","v":0},0]
[null,null,null,null,null,null,{"$f":"VLOOKUP(F532,工作表9!$G$1:$I$136,3, FALSE)","v":"混合物"},null,{"$f":"VLOOKUP(F532,工作表9!$G$1:$H$142, 2, FALSE)","v":0},0]
[null,null,null,null,null,null,{"$f":"VLOOKUP(F533,工作表9!$G$1:$I$136,3, FALSE)","v":"混合物"},null,{"$f":"VLOOKUP(F533,工作表9!$G$1:$H$142, 2, FALSE)","v":0},0]
[null,null,null,null,null,null,{"$f":"VLOOKUP(F534,工作表9!$G$1:$I$136,3, FALSE)","v":"混合物"},null,{"$f":"VLOOKUP(F534,工作表9!$G$1:$H$142, 2, FALSE)","v":0},0]
[null,null,null,null,null,null,{"$f":"VLOOKUP(F535,工作表9!$G$1:$I$136,3, FALSE)","v":"混合物"},null,{"$f":"VLOOKUP(F535,工作表9!$G$1:$H$142, 2, FALSE)","v":0},0]
[null,null,null,null,null,null,{"$f":"VLOOKUP(F536,工作表9!$G$1:$I$136,3, FALSE)","v":"混合物"},null,{"$f":"VLOOKUP(F536,工作表9!$G$1:$H$142, 2, FALSE)","v":0},0]
[null,null,null,null,null,null,{"$f":"VLOOKUP(F537,工作表9!$G$1:$I$136,3, FALSE)","v":"混合物"},null,{"$f":"VLOOKUP(F537,工作表9!$G$1:$H$142, 2, FALSE)","v":0},0]
[null,null,null,null,null,null,{"$f":"VLOOKUP(F538,工作表9!$G$1:$I$136,3, FALSE)","v":"混合物"},null,{"$f":"VLOOKUP(F538,工作表9!$G$1:$H$142, 2, FALSE)","v":0},0]
[null,null,null,null,null,null,{"$f":"VLOOKUP(F539,工作表9!$G$1:$I$136,3, FALSE)","v":"混合物"},null,{"$f":"VLOOKUP(F539,工作表9!$G$1:$H$142, 2, FALSE)","v":0},0]
[null,null,null,null,null,null,{"$f":"VLOOKUP(F540,工作表9!$G$1:$I$136,3, FALSE)","v":"混合物"},null,{"$f":"VLOOKUP(F540,工作表9!$G$1:$H$142, 2, FALSE)","v":0},0]
[null,null,null,null,null,null,{"$f":"VLOOKUP(F541,工作表9!$G$1:$I$136,3, FALSE)","v":"混合物"},null,{"$f":"VLOOKUP(F541,工作表9!$G$1:$H$142, 2, FALSE)","v":0},0]
[null,null,null,null,null,null,{"$f":"VLOOKUP(F542,工作表9!$G$1:$I$136,3, FALSE)","v":"混合物"},null,{"$f":"VLOOKUP(F542,工作表9!$G$1:$H$142, 2, FALSE)","v":0},0]
[null,null,null,null,null,null,{"$f":"VLOOKUP(F543,工作表9!$G$1:$I$136,3, FALSE)","v":"混合物"},null,{"$f":"VLOOKUP(F543,工作表9!$G$1:$H$142, 2, FALSE)","v":0},0]
[null,null,null,null,null,null,{"$f":"VLOOKUP(F544,工作表9!$G$1:$I$136,3, FALSE)","v":"混合物"},null,{"$f":"VLOOKUP(F544,工作表9!$G$1:$H$142, 2, FALSE)","v":0},0]
[null,null,null,null,null,null,{"$f":"VLOOKUP(F545,工作表9!$G$1:$I$136,3, FALSE)","v":"混合物"},null,{"$f":"VLOOKUP(F545,工作表9!$G$1:$H$142, 2, FALSE)","v":0},0]
[null,null,null,null,null,null,{"$f":"VLOOKUP(F546,工作表9!$G$1:$I$136,3, FALSE)","v":"混合物"},null,{"$f":"VLOOKUP(F546,工作表9!$G$1:$H$142, 2, FALSE)","v":0},0]
[null,null,null,null,null,null,{"$f":"VLOOKUP(F547,工作表9!$G$1:$I$136,3, FALSE)","v":"混合物"},null,{"$f":"VLOOKUP(F547,工作表9!$G$1:$H$142, 2, FALSE)","v":0},0]
[null,null,null,null,null,null,{"$f":"VLOOKUP(F548,工作表9!$G$1:$I$136,3, FALSE)","v":"混合物"},null,{"$f":"VLOOKUP(F548,工作表9!$G$1:$H$142, 2, FALSE)","v":0},0]
[null,null,null,null,null,null,{"$f":"VLOOKUP(F549,工作表9!$G$1:$I$136,3, FALSE)","v":"混合物"},null,{"$f":"VLOOKUP(F549,工作表9!$G$1:$H$142, 2, FALSE)","v":0},0]
[null,null,null,null,null,null,{"$f":"VLOOKUP(F550,工作表9!$G$1:$I$136,3, FALSE)","v":"混合物"},null,{"$f":"VLOOKUP(F550,工作表9!$G$1:$H$142, 2, FALSE)","v":0},0]
[null,null,null,null,null,null,{"$f":"VLOOKUP(F551,工作表9!$G$1:$I$136,3, FALSE)","v":"混合物"},null,{"$f":"VLOOKUP(F551,工作表9!$G$1:$H$142, 2, FALSE)","v":0},0]
[null,null,null,null,null,null,{"$f":"VLOOKUP(F552,工作表9!$G$1:$I$136,3, FALSE)","v":"混合物"},null,{"$f":"VLOOKUP(F552,工作表9!$G$1:$H$142, 2, FALSE)","v":0},0]
[null,null,null,null,null,null,{"$f":"VLOOKUP(F553,工作表9!$G$1:$I$136,3, FALSE)","v":"混合物"},null,{"$f":"VLOOKUP(F553,工作表9!$G$1:$H$142, 2, FALSE)","v":0},0]
[null,null,null,null,null,null,{"$f":"VLOOKUP(F554,工作表9!$G$1:$I$136,3, FALSE)","v":"混合物"},null,{"$f":"VLOOKUP(F554,工作表9!$G$1:$H$142, 2, FALSE)","v":0},0]
[null,null,null,null,null,null,{"$f":"VLOOKUP(F555,工作表9!$G$1:$I$136,3, FALSE)","v":"混合物"},null,{"$f":"VLOOKUP(F555,工作表9!$G$1:$H$142, 2, FALSE)","v":0},0]
[null,null,null,null,null,null,{"$f":"VLOOKUP(F556,工作表9!$G$1:$I$136,3, FALSE)","v":"混合物"},null,{"$f":"VLOOKUP(F556,工作表9!$G$1:$H$142, 2, FALSE)","v":0},0]
[null,null,null,null,null,null,{"$f":"VLOOKUP(F557,工作表9!$G$1:$I$136,3, FALSE)","v":"混合物"},null,{"$f":"VLOOKUP(F557,工作表9!$G$1:$H$142, 2, FALSE)","v":0},0]
[null,null,null,null,null,null,{"$f":"VLOOKUP(F558,工作表9!$G$1:$I$136,3, FALSE)","v":"混合物"},null,{"$f":"VLOOKUP(F558,工作表9!$G$1:$H$142, 2, FALSE)","v":0},0]
[null,null,null,null,null,null,{"$f":"VLOOKUP(F559,工作表9!$G$1:$I$136,3, FALSE)","v":"混合物"},null,{"$f":"VLOOKUP(F559,工作表9!$G$1:$H$142, 2, FALSE)","v":0},0]
[null,null,null,null,null,null,{"$f":"VLOOKUP(F560,工作表9!$G$1:$I$136,3, FALSE)","v":"混合物"},null,{"$f":"VLOOKUP(F560,工作表9!$G$1:$H$142, 2, FALSE)","v":0},0]
[null,null,null,null,null,null,{"$f":"VLOOKUP(F561,工作表9!$G$1:$I$136,3, FALSE)","v":"混合物"},null,{"$f":"VLOOKUP(F561,工作表9!$G$1:$H$142, 2, FALSE)","v":0},0]
[null,null,null,null,null,null,{"$f":"VLOOKUP(F562,工作表9!$G$1:$I$136,3, FALSE)","v":"混合物"},null,{"$f":"VLOOKUP(F562,工作表9!$G$1:$H$142, 2, FALSE)","v":0},0]
[null,null,null,null,null,null,{"$f":"VLOOKUP(F563,工作表9!$G$1:$I$136,3, FALSE)","v":"混合物"},null,{"$f":"VLOOKUP(F563,工作表9!$G$1:$H$142, 2, FALSE)","v":0},0]
[null,null,null,null,null,null,{"$f":"VLOOKUP(F564,工作表9!$G$1:$I$136,3, FALSE)","v":"混合物"},null,{"$f":"VLOOKUP(F564,工作表9!$G$1:$H$142, 2, FALSE)","v":0},0]
[null,null,null,null,null,null,{"$f":"VLOOKUP(F565,工作表9!$G$1:$I$136,3, FALSE)","v":"混合物"},null,{"$f":"VLOOKUP(F565,工作表9!$G$1:$H$142, 2, FALSE)","v":0},0]
[null,null,null,null,null,null,{"$f":"VLOOKUP(F566,工作表9!$G$1:$I$136,3, FALSE)","v":"混合物"},null,{"$f":"VLOOKUP(F566,工作表9!$G$1:$H$142, 2, FALSE)","v":0},0]
[null,null,null,null,null,null,{"$f":"VLOOKUP(F567,工作表9!$G$1:$I$136,3, FALSE)","v":"混合物"},null,{"$f":"VLOOKUP(F567,工作表9!$G$1:$H$142, 2, FALSE)","v":0},0]
[null,null,null,null,null,null,{"$f":"VLOOKUP(F568,工作表9!$G$1:$I$136,3, FALSE)","v":"混合物"},null,{"$f":"VLOOKUP(F568,工作表9!$G$1:$H$142, 2, FALSE)","v":0},0]
[null,null,null,null,null,null,{"$f":"VLOOKUP(F569,工作表9!$G$1:$I$136,3, FALSE)","v":"混合物"},null,{"$f":"VLOOKUP(F569,工作表9!$G$1:$H$142, 2, FALSE)","v":0},0]
[null,null,null,null,null,null,{"$f":"VLOOKUP(F570,工作表9!$G$1:$I$136,3, FALSE)","v":"混合物"},null,{"$f":"VLOOKUP(F570,工作表9!$G$1:$H$142, 2, FALSE)","v":0},0]
[null,null,null,null,null,null,{"$f":"VLOOKUP(F571,工作表9!$G$1:$I$136,3, FALSE)","v":"混合物"},null,{"$f":"VLOOKUP(F571,工作表9!$G$1:$H$142, 2, FALSE)","v":0},0]
[null,null,null,null,null,null,{"$f":"VLOOKUP(F572,工作表9!$G$1:$I$136,3, FALSE)","v":"混合物"},null,{"$f":"VLOOKUP(F572,工作表9!$G$1:$H$142, 2, FALSE)","v":0},0]
[null,null,null,null,null,null,{"$f":"VLOOKUP(F573,工作表9!$G$1:$I$136,3, FALSE)","v":"混合物"},null,{"$f":"VLOOKUP(F573,工作表9!$G$1:$H$142, 2, FALSE)","v":0},0]
[null,null,null,null,null,null,{"$f":"VLOOKUP(F574,工作表9!$G$1:$I$136,3, FALSE)","v":"混合物"},null,{"$f":"VLOOKUP(F574,工作表9!$G$1:$H$142, 2, FALSE)","v":0},0]
[null,null,null,null,null,null,{"$f":"VLOOKUP(F575,工作表9!$G$1:$I$136,3, FALSE)","v":"混合物"},null,{"$f":"VLOOKUP(F575,工作表9!$G$1:$H$142, 2, FALSE)","v":0},0]
[null,null,null,null,null,null,{"$f":"VLOOKUP(F576,工作表9!$G$1:$I$136,3, FALSE)","v":"混合物"},null,{"$f":"VLOOKUP(F576,工作表9!$G$1:$H$142, 2, FALSE)","v":0},0]
[null,null,null,null,null,null,{"$f":"VLOOKUP(F577,工作表9!$G$1:$I$136,3, FALSE)","v":"混合物"},null,{"$f":"VLOOKUP(F577,工作表9!$G$1:$H$142, 2, FALSE)","v":0},0]
[null,null,null,null,null,null,{"$f":"VLOOKUP(F578,工作表9!$G$1:$I$136,3, FALSE)","v":"混合物"},null,{"$f":"VLOOKUP(F578,工作表9!$G$1:$H$142, 2, FALSE)","v":0},0]
[null,null,null,null,null,null,{"$f":"VLOOKUP(F579,工作表9!$G$1:$I$136,3, FALSE)","v":"混合物"},null,{"$f":"VLOOKUP(F579,工作表9!$G$1:$H$142, 2, FALSE)","v":0},0]
[null,null,null,null,null,null,{"$f":"VLOOKUP(F580,工作表9!$G$1:$I$136,3, FALSE)","v":"混合物"},null,{"$f":"VLOOKUP(F580,工作表9!$G$1:$H$142, 2, FALSE)","v":0},0]
[null,null,null,null,null,null,{"$f":"VLOOKUP(F581,工作表9!$G$1:$I$136,3, FALSE)","v":"混合物"},null,{"$f":"VLOOKUP(F581,工作表9!$G$1:$H$142, 2, FALSE)","v":0},0]
[null,null,null,null,null,null,{"$f":"VLOOKUP(F582,工作表9!$G$1:$I$136,3, FALSE)","v":"混合物"},null,{"$f":"VLOOKUP(F582,工作表9!$G$1:$H$142, 2, FALSE)","v":0},{"$f":"H582*I582","v":0}]
[null,null,null,null,null,null,{"$f":"VLOOKUP(F583,工作表9!$G$1:$I$136,3, FALSE)","v":"混合物"},null,{"$f":"VLOOKUP(F583,工作表9!$G$1:$H$142, 2, FALSE)","v":0},0]
[null,null,null,null,null,null,{"$f":"VLOOKUP(F584,工作表9!$G$1:$I$136,3, FALSE)","v":"混合物"},null,{"$f":"VLOOKUP(F584,工作表9!$G$1:$H$142, 2, FALSE)","v":0},0]
[null,null,null,null,null,null,{"$f":"VLOOKUP(F585,工作表9!$G$1:$I$136,3, FALSE)","v":"混合物"},null,{"$f":"VLOOKUP(F585,工作表9!$G$1:$H$142, 2, FALSE)","v":0},0]
[null,null,null,null,null,null,{"$f":"VLOOKUP(F586,工作表9!$G$1:$I$136,3, FALSE)","v":"混合物"},null,{"$f":"VLOOKUP(F586,工作表9!$G$1:$H$142, 2, FALSE)","v":0},0]
[null,null,null,null,null,null,{"$f":"VLOOKUP(F587,工作表9!$G$1:$I$136,3, FALSE)","v":"混合物"},null,{"$f":"VLOOKUP(F587,工作表9!$G$1:$H$142, 2, FALSE)","v":0},0]
[null,null,null,null,null,null,{"$f":"VLOOKUP(F588,工作表9!$G$1:$I$136,3, FALSE)","v":"混合物"},null,{"$f":"VLOOKUP(F588,工作表9!$G$1:$H$142, 2, FALSE)","v":0},0]
[null,null,null,null,null,null,{"$f":"VLOOKUP(F589,工作表9!$G$1:$I$136,3, FALSE)","v":"混合物"},null,{"$f":"VLOOKUP(F589,工作表9!$G$1:$H$142, 2, FALSE)","v":0},0]
[null,null,null,null,null,null,{"$f":"VLOOKUP(F590,工作表9!$G$1:$I$136,3, FALSE)","v":"混合物"},null,{"$f":"VLOOKUP(F590,工作表9!$G$1:$H$142, 2, FALSE)","v":0},0]
[null,null,null,null,null,null,{"$f":"VLOOKUP(F591,工作表9!$G$1:$I$136,3, FALSE)","v":"混合物"},null,{"$f":"VLOOKUP(F591,工作表9!$G$1:$H$142, 2, FALSE)","v":0},0]
[null,null,null,null,null,null,{"$f":"VLOOKUP(F592,工作表9!$G$1:$I$136,3, FALSE)","v":"混合物"},null,{"$f":"VLOOKUP(F592,工作表9!$G$1:$H$142, 2, FALSE)","v":0},0]
[null,null,null,null,null,null,{"$f":"VLOOKUP(F593,工作表9!$G$1:$I$136,3, FALSE)","v":"混合物"},null,{"$f":"VLOOKUP(F593,工作表9!$G$1:$H$142, 2, FALSE)","v":0},0]
[null,null,null,null,null,null,{"$f":"VLOOKUP(F594,工作表9!$G$1:$I$136,3, FALSE)","v":"混合物"},null,{"$f":"VLOOKUP(F594,工作表9!$G$1:$H$142, 2, FALSE)","v":0},0]
[null,null,null,null,null,null,{"$f":"VLOOKUP(F595,工作表9!$G$1:$I$136,3, FALSE)","v":"混合物"},null,{"$f":"VLOOKUP(F595,工作表9!$G$1:$H$142, 2, FALSE)","v":0},0]
[null,null,null,null,null,null,{"$f":"VLOOKUP(F596,工作表9!$G$1:$I$136,3, FALSE)","v":"混合物"},null,{"$f":"VLOOKUP(F596,工作表9!$G$1:$H$142, 2, FALSE)","v":0},0]
[null,null,null,null,null,null,{"$f":"VLOOKUP(F597,工作表9!$G$1:$I$136,3, FALSE)","v":"混合物"},null,{"$f":"VLOOKUP(F597,工作表9!$G$1:$H$142, 2, FALSE)","v":0},0]
[null,null,null,null,null,null,{"$f":"VLOOKUP(F598,工作表9!$G$1:$I$136,3, FALSE)","v":"混合物"},null,{"$f":"VLOOKUP(F598,工作表9!$G$1:$H$142, 2, FALSE)","v":0},0]
[null,null,null,null,null,null,{"$f":"VLOOKUP(F599,工作表9!$G$1:$I$136,3, FALSE)","v":"混合物"},null,{"$f":"VLOOKUP(F599,工作表9!$G$1:$H$142, 2, FALSE)","v":0},0]
[null,null,null,null,null,null,{"$f":"VLOOKUP(F600,工作表9!$G$1:$I$136,3, FALSE)","v":"混合物"},null,{"$f":"VLOOKUP(F600,工作表9!$G$1:$H$142, 2, FALSE)","v":0},0]
[null,null,null,null,null,null,{"$f":"VLOOKUP(F601,工作表9!$G$1:$I$136,3, FALSE)","v":"混合物"},null,{"$f":"VLOOKUP(F601,工作表9!$G$1:$H$142, 2, FALSE)","v":0},0]
[null,null,null,null,null,null,{"$f":"VLOOKUP(F602,工作表9!$G$1:$I$136,3, FALSE)","v":"混合物"},null,{"$f":"VLOOKUP(F602,工作表9!$G$1:$H$142, 2, FALSE)","v":0},0]
[null,null,null,null,null,null,{"$f":"VLOOKUP(F603,工作表9!$G$1:$I$136,3, FALSE)","v":"混合物"},null,{"$f":"VLOOKUP(F603,工作表9!$G$1:$H$142, 2, FALSE)","v":0},0]
[null,null,null,null,null,null,{"$f":"VLOOKUP(F604,工作表9!$G$1:$I$136,3, FALSE)","v":"混合物"},null,{"$f":"VLOOKUP(F604,工作表9!$G$1:$H$142, 2, FALSE)","v":0},0]
[null,null,null,null,null,null,{"$f":"VLOOKUP(F605,工作表9!$G$1:$I$136,3, FALSE)","v":"混合物"},null,{"$f":"VLOOKUP(F605,工作表9!$G$1:$H$142, 2, FALSE)","v":0},0]
[null,null,null,null,null,null,{"$f":"VLOOKUP(F606,工作表9!$G$1:$I$136,3, FALSE)","v":"混合物"},null,{"$f":"VLOOKUP(F606,工作表9!$G$1:$H$142, 2, FALSE)","v":0},0]
[null,null,null,null,null,null,{"$f":"VLOOKUP(F607,工作表9!$G$1:$I$136,3, FALSE)","v":"混合物"},null,{"$f":"VLOOKUP(F607,工作表9!$G$1:$H$142, 2, FALSE)","v":0},0]
[null,null,null,null,null,null,{"$f":"VLOOKUP(F608,工作表9!$G$1:$I$136,3, FALSE)","v":"混合物"},null,{"$f":"VLOOKUP(F608,工作表9!$G$1:$H$142, 2, FALSE)","v":0},0]
[null,null,null,null,null,null,{"$f":"VLOOKUP(F609,工作表9!$G$1:$I$136,3, FALSE)","v":"混合物"},null,{"$f":"VLOOKUP(F609,工作表9!$G$1:$H$142, 2, FALSE)","v":0},0]
[null,null,null,null,null,null,{"$f":"VLOOKUP(F610,工作表9!$G$1:$I$136,3, FALSE)","v":"混合物"},null,{"$f":"VLOOKUP(F610,工作表9!$G$1:$H$142, 2, FALSE)","v":0},0]
[null,null,null,null,null,null,{"$f":"VLOOKUP(F611,工作表9!$G$1:$I$136,3, FALSE)","v":"混合物"},null,{"$f":"VLOOKUP(F611,工作表9!$G$1:$H$142, 2, FALSE)","v":0},0]
[null,null,null,null,null,null,{"$f":"VLOOKUP(F612,工作表9!$G$1:$I$136,3, FALSE)","v":"混合物"},null,{"$f":"VLOOKUP(F612,工作表9!$G$1:$H$142, 2, FALSE)","v":0},0]
[null,null,null,null,null,null,{"$f":"VLOOKUP(F613,工作表9!$G$1:$I$136,3, FALSE)","v":"混合物"},null,{"$f":"VLOOKUP(F613,工作表9!$G$1:$H$142, 2, FALSE)","v":0},0]
[null,null,null,null,null,null,{"$f":"VLOOKUP(F614,工作表9!$G$1:$I$136,3, FALSE)","v":"混合物"},null,{"$f":"VLOOKUP(F614,工作表9!$G$1:$H$142, 2, FALSE)","v":0},0]
[null,null,null,null,null,null,{"$f":"VLOOKUP(F615,工作表9!$G$1:$I$136,3, FALSE)","v":"混合物"},null,{"$f":"VLOOKUP(F615,工作表9!$G$1:$H$142, 2, FALSE)","v":0},0]
[null,null,null,null,null,null,{"$f":"VLOOKUP(F616,工作表9!$G$1:$I$136,3, FALSE)","v":"混合物"},null,{"$f":"VLOOKUP(F616,工作表9!$G$1:$H$142, 2, FALSE)","v":0},0]
[null,null,null,null,null,null,{"$f":"VLOOKUP(F617,工作表9!$G$1:$I$136,3, FALSE)","v":"混合物"},null,{"$f":"VLOOKUP(F617,工作表9!$G$1:$H$142, 2, FALSE)","v":0},0]
[null,null,null,null,null,null,{"$f":"VLOOKUP(F618,工作表9!$G$1:$I$136,3, FALSE)","v":"混合物"},null,{"$f":"VLOOKUP(F618,工作表9!$G$1:$H$142, 2, FALSE)","v":0},0]
[null,null,null,null,null,null,{"$f":"VLOOKUP(F619,工作表9!$G$1:$I$136,3, FALSE)","v":"混合物"},null,{"$f":"VLOOKUP(F619,工作表9!$G$1:$H$142, 2, FALSE)","v":0},0]
[null,null,null,null,null,null,{"$f":"VLOOKUP(F620,工作表9!$G$1:$I$136,3, FALSE)","v":"混合物"},null,{"$f":"VLOOKUP(F620,工作表9!$G$1:$H$142, 2, FALSE)","v":0},0]
[null,null,null,null,null,null,{"$f":"VLOOKUP(F621,工作表9!$G$1:$I$136,3, FALSE)","v":"混合物"},null,{"$f":"VLOOKUP(F621,工作表9!$G$1:$H$142, 2, FALSE)","v":0},0]
[null,null,null,null,null,null,{"$f":"VLOOKUP(F622,工作表9!$G$1:$I$136,3, FALSE)","v":"混合物"},null,{"$f":"VLOOKUP(F622,工作表9!$G$1:$H$142, 2, FALSE)","v":0},0]
[null,null,null,null,null,null,{"$f":"VLOOKUP(F623,工作表9!$G$1:$I$136,3, FALSE)","v":"混合物"},null,{"$f":"VLOOKUP(F623,工作表9!$G$1:$H$142, 2, FALSE)","v":0},0]
[null,null,null,null,null,null,{"$f":"VLOOKUP(F624,工作表9!$G$1:$I$136,3, FALSE)","v":"混合物"},null,{"$f":"VLOOKUP(F624,工作表9!$G$1:$H$142, 2, FALSE)","v":0},0]
[null,null,null,null,null,null,{"$f":"VLOOKUP(F625,工作表9!$G$1:$I$136,3, FALSE)","v":"混合物"},null,{"$f":"VLOOKUP(F625,工作表9!$G$1:$H$142, 2, FALSE)","v":0},0]
[null,null,null,null,null,null,{"$f":"VLOOKUP(F626,工作表9!$G$1:$I$136,3, FALSE)","v":"混合物"},null,{"$f":"VLOOKUP(F626,工作表9!$G$1:$H$142, 2, FALSE)","v":0},0]
[null,null,null,null,null,null,{"$f":"VLOOKUP(F627,工作表9!$G$1:$I$136,3, FALSE)","v":"混合物"},null,{"$f":"VLOOKUP(F627,工作表9!$G$1:$H$142, 2, FALSE)","v":0},0]
[null,null,null,null,null,null,{"$f":"VLOOKUP(F628,工作表9!$G$1:$I$136,3, FALSE)","v":"混合物"},null,{"$f":"VLOOKUP(F628,工作表9!$G$1:$H$142, 2, FALSE)","v":0},0]
[null,null,null,null,null,null,{"$f":"VLOOKUP(F629,工作表9!$G$1:$I$136,3, FALSE)","v":"混合物"},null,{"$f":"VLOOKUP(F629,工作表9!$G$1:$H$142, 2, FALSE)","v":0},0]
[null,null,null,null,null,null,{"$f":"VLOOKUP(F630,工作表9!$G$1:$I$136,3, FALSE)","v":"混合物"},null,{"$f":"VLOOKUP(F630,工作表9!$G$1:$H$142, 2, FALSE)","v":0},0]
[null,null,null,null,null,null,{"$f":"VLOOKUP(F631,工作表9!$G$1:$I$136,3, FALSE)","v":"混合物"},null,{"$f":"VLOOKUP(F631,工作表9!$G$1:$H$142, 2, FALSE)","v":0},0]
[null,null,null,null,null,null,{"$f":"VLOOKUP(F632,工作表9!$G$1:$I$136,3, FALSE)","v":"混合物"},null,{"$f":"VLOOKUP(F632,工作表9!$G$1:$H$142, 2, FALSE)","v":0},0]
[null,null,null,null,null,null,{"$f":"VLOOKUP(F633,工作表9!$G$1:$I$136,3, FALSE)","v":"混合物"},null,{"$f":"VLOOKUP(F633,工作表9!$G$1:$H$142, 2, FALSE)","v":0},0]
[null,null,null,null,null,null,{"$f":"VLOOKUP(F634,工作表9!$G$1:$I$136,3, FALSE)","v":"混合物"},null,{"$f":"VLOOKUP(F634,工作表9!$G$1:$H$142, 2, FALSE)","v":0},0]
[null,null,null,null,null,null,{"$f":"VLOOKUP(F635,工作表9!$G$1:$I$136,3, FALSE)","v":"混合物"},null,{"$f":"VLOOKUP(F635,工作表9!$G$1:$H$142, 2, FALSE)","v":0},0]
[null,null,null,null,null,null,{"$f":"VLOOKUP(F636,工作表9!$G$1:$I$136,3, FALSE)","v":"混合物"},null,{"$f":"VLOOKUP(F636,工作表9!$G$1:$H$142, 2, FALSE)","v":0},0]
[null,null,null,null,null,null,{"$f":"VLOOKUP(F637,工作表9!$G$1:$I$136,3, FALSE)","v":"混合物"},null,{"$f":"VLOOKUP(F637,工作表9!$G$1:$H$142, 2, FALSE)","v":0},0]
[null,null,null,null,null,null,{"$f":"VLOOKUP(F638,工作表9!$G$1:$I$136,3, FALSE)","v":"混合物"},null,{"$f":"VLOOKUP(F638,工作表9!$G$1:$H$142, 2, FALSE)","v":0},0]
[null,null,null,null,null,null,{"$f":"VLOOKUP(F639,工作表9!$G$1:$I$136,3, FALSE)","v":"混合物"},null,{"$f":"VLOOKUP(F639,工作表9!$G$1:$H$142, 2, FALSE)","v":0},0]
[null,null,null,null,null,null,{"$f":"VLOOKUP(F640,工作表9!$G$1:$I$136,3, FALSE)","v":"混合物"},null,{"$f":"VLOOKUP(F640,工作表9!$G$1:$H$142, 2, FALSE)","v":0},0]
[null,null,null,null,null,null,{"$f":"VLOOKUP(F641,工作表9!$G$1:$I$136,3, FALSE)","v":"混合物"},null,{"$f":"VLOOKUP(F641,工作表9!$G$1:$H$142, 2, FALSE)","v":0},0]
[null,null,null,null,null,null,{"$f":"VLOOKUP(F642,工作表9!$G$1:$I$136,3, FALSE)","v":"混合物"},null,{"$f":"VLOOKUP(F642,工作表9!$G$1:$H$142, 2, FALSE)","v":0},0]
[null,null,null,null,null,null,{"$f":"VLOOKUP(F643,工作表9!$G$1:$I$136,3, FALSE)","v":"混合物"},null,{"$f":"VLOOKUP(F643,工作表9!$G$1:$H$142, 2, FALSE)","v":0},0]
[null,null,null,null,null,null,{"$f":"VLOOKUP(F644,工作表9!$G$1:$I$136,3, FALSE)","v":"混合物"},null,{"$f":"VLOOKUP(F644,工作表9!$G$1:$H$142, 2, FALSE)","v":0},0]
[null,null,null,null,null,null,{"$f":"VLOOKUP(F645,工作表9!$G$1:$I$136,3, FALSE)","v":"混合物"},null,{"$f":"VLOOKUP(F645,工作表9!$G$1:$H$142, 2, FALSE)","v":0},0]
[null,null,null,null,null,null,{"$f":"VLOOKUP(F646,工作表9!$G$1:$I$136,3, FALSE)","v":"混合物"},null,{"$f":"VLOOKUP(F646,工作表9!$G$1:$H$142, 2, FALSE)","v":0},{"$f":"H646*I646","v":0}]
[null,null,null,null,null,null,{"$f":"VLOOKUP(F647,工作表9!$G$1:$I$136,3, FALSE)","v":"混合物"},null,{"$f":"VLOOKUP(F647,工作表9!$G$1:$H$142, 2, FALSE)","v":0},0]
[null,null,null,null,null,null,{"$f":"VLOOKUP(F648,工作表9!$G$1:$I$136,3, FALSE)","v":"混合物"},null,{"$f":"VLOOKUP(F648,工作表9!$G$1:$H$142, 2, FALSE)","v":0},0]
[null,null,null,null,null,null,{"$f":"VLOOKUP(F649,工作表9!$G$1:$I$136,3, FALSE)","v":"混合物"},null,{"$f":"VLOOKUP(F649,工作表9!$G$1:$H$142, 2, FALSE)","v":0},0]
[null,null,null,null,null,null,{"$f":"VLOOKUP(F650,工作表9!$G$1:$I$136,3, FALSE)","v":"混合物"},null,{"$f":"VLOOKUP(F650,工作表9!$G$1:$H$142, 2, FALSE)","v":0},0]
[null,null,null,null,null,null,{"$f":"VLOOKUP(F651,工作表9!$G$1:$I$136,3, FALSE)","v":"混合物"},null,{"$f":"VLOOKUP(F651,工作表9!$G$1:$H$142, 2, FALSE)","v":0},0]
[null,null,null,null,null,null,{"$f":"VLOOKUP(F652,工作表9!$G$1:$I$136,3, FALSE)","v":"混合物"},null,{"$f":"VLOOKUP(F652,工作表9!$G$1:$H$142, 2, FALSE)","v":0},0]
[null,null,null,null,null,null,{"$f":"VLOOKUP(F653,工作表9!$G$1:$I$136,3, FALSE)","v":"混合物"},null,{"$f":"VLOOKUP(F653,工作表9!$G$1:$H$142, 2, FALSE)","v":0},0]
[null,null,null,null,null,null,{"$f":"VLOOKUP(F654,工作表9!$G$1:$I$136,3, FALSE)","v":"混合物"},null,{"$f":"VLOOKUP(F654,工作表9!$G$1:$H$142, 2, FALSE)","v":0},0]
[null,null,null,null,null,null,{"$f":"VLOOKUP(F655,工作表9!$G$1:$I$136,3, FALSE)","v":"混合物"},null,{"$f":"VLOOKUP(F655,工作表9!$G$1:$H$142, 2, FALSE)","v":0},0]
[null,null,null,null,null,null,{"$f":"VLOOKUP(F656,工作表9!$G$1:$I$136,3, FALSE)","v":"混合物"},null,{"$f":"VLOOKUP(F656,工作表9!$G$1:$H$142, 2, FALSE)","v":0},0]
[null,null,null,null,null,null,{"$f":"VLOOKUP(F657,工作表9!$G$1:$I$136,3, FALSE)","v":"混合物"},null,{"$f":"VLOOKUP(F657,工作表9!$G$1:$H$142, 2, FALSE)","v":0},0]
[null,null,null,null,null,null,{"$f":"VLOOKUP(F658,工作表9!$G$1:$I$136,3, FALSE)","v":"混合物"},null,{"$f":"VLOOKUP(F658,工作表9!$G$1:$H$142, 2, FALSE)","v":0},0]
[null,null,null,null,null,null,{"$f":"VLOOKUP(F659,工作表9!$G$1:$I$136,3, FALSE)","v":"混合物"},null,{"$f":"VLOOKUP(F659,工作表9!$G$1:$H$142, 2, FALSE)","v":0},0]
[null,null,null,null,null,null,{"$f":"VLOOKUP(F660,工作表9!$G$1:$I$136,3, FALSE)","v":"混合物"},null,{"$f":"VLOOKUP(F660,工作表9!$G$1:$H$142, 2, FALSE)","v":0},0]
[null,null,null,null,null,null,{"$f":"VLOOKUP(F661,工作表9!$G$1:$I$136,3, FALSE)","v":"混合物"},null,{"$f":"VLOOKUP(F661,工作表9!$G$1:$H$142, 2, FALSE)","v":0},0]
[null,null,null,null,null,null,{"$f":"VLOOKUP(F662,工作表9!$G$1:$I$136,3, FALSE)","v":"混合物"},null,{"$f":"VLOOKUP(F662,工作表9!$G$1:$H$142, 2, FALSE)","v":0},0]
[null,null,null,null,null,null,{"$f":"VLOOKUP(F663,工作表9!$G$1:$I$136,3, FALSE)","v":"混合物"},null,{"$f":"VLOOKUP(F663,工作表9!$G$1:$H$142, 2, FALSE)","v":0},0]
[null,null,null,null,null,null,{"$f":"VLOOKUP(F664,工作表9!$G$1:$I$136,3, FALSE)","v":"混合物"},null,{"$f":"VLOOKUP(F664,工作表9!$G$1:$H$142, 2, FALSE)","v":0},0]
[null,null,null,null,null,null,{"$f":"VLOOKUP(F665,工作表9!$G$1:$I$136,3, FALSE)","v":"混合物"},null,{"$f":"VLOOKUP(F665,工作表9!$G$1:$H$142, 2, FALSE)","v":0},0]
[null,null,null,null,null,null,{"$f":"VLOOKUP(F666,工作表9!$G$1:$I$136,3, FALSE)","v":"混合物"},null,{"$f":"VLOOKUP(F666,工作表9!$G$1:$H$142, 2, FALSE)","v":0},0]
[null,null,null,null,null,null,{"$f":"VLOOKUP(F667,工作表9!$G$1:$I$136,3, FALSE)","v":"混合物"},null,{"$f":"VLOOKUP(F667,工作表9!$G$1:$H$142, 2, FALSE)","v":0},0]
[null,null,null,null,null,null,{"$f":"VLOOKUP(F668,工作表9!$G$1:$I$136,3, FALSE)","v":"混合物"},null,{"$f":"VLOOKUP(F668,工作表9!$G$1:$H$142, 2, FALSE)","v":0},0]
[null,null,null,null,null,null,{"$f":"VLOOKUP(F669,工作表9!$G$1:$I$136,3, FALSE)","v":"混合物"},null,{"$f":"VLOOKUP(F669,工作表9!$G$1:$H$142, 2, FALSE)","v":0},0]
[null,null,null,null,null,null,{"$f":"VLOOKUP(F670,工作表9!$G$1:$I$136,3, FALSE)","v":"混合物"},null,{"$f":"VLOOKUP(F670,工作表9!$G$1:$H$142, 2, FALSE)","v":0},0]
[null,null,null,null,null,null,{"$f":"VLOOKUP(F671,工作表9!$G$1:$I$136,3, FALSE)","v":"混合物"},null,{"$f":"VLOOKUP(F671,工作表9!$G$1:$H$142, 2, FALSE)","v":0},0]
[null,null,null,null,null,null,{"$f":"VLOOKUP(F672,工作表9!$G$1:$I$136,3, FALSE)","v":"混合物"},null,{"$f":"VLOOKUP(F672,工作表9!$G$1:$H$142, 2, FALSE)","v":0},0]
[null,null,null,null,null,null,{"$f":"VLOOKUP(F673,工作表9!$G$1:$I$136,3, FALSE)","v":"混合物"},null,{"$f":"VLOOKUP(F673,工作表9!$G$1:$H$142, 2, FALSE)","v":0},0]
[null,null,null,null,null,null,{"$f":"VLOOKUP(F674,工作表9!$G$1:$I$136,3, FALSE)","v":"混合物"},null,{"$f":"VLOOKUP(F674,工作表9!$G$1:$H$142, 2, FALSE)","v":0},0]
[null,null,null,null,null,null,{"$f":"VLOOKUP(F675,工作表9!$G$1:$I$136,3, FALSE)","v":"混合物"},null,{"$f":"VLOOKUP(F675,工作表9!$G$1:$H$142, 2, FALSE)","v":0},0]
[null,null,null,null,null,null,{"$f":"VLOOKUP(F676,工作表9!$G$1:$I$136,3, FALSE)","v":"混合物"},null,{"$f":"VLOOKUP(F676,工作表9!$G$1:$H$142, 2, FALSE)","v":0},0]
[null,null,null,null,null,null,{"$f":"VLOOKUP(F677,工作表9!$G$1:$I$136,3, FALSE)","v":"混合物"},null,{"$f":"VLOOKUP(F677,工作表9!$G$1:$H$142, 2, FALSE)","v":0},0]
[null,null,null,null,null,null,{"$f":"VLOOKUP(F678,工作表9!$G$1:$I$136,3, FALSE)","v":"混合物"},null,{"$f":"VLOOKUP(F678,工作表9!$G$1:$H$142, 2, FALSE)","v":0},0]
[null,null,null,null,null,null,{"$f":"VLOOKUP(F679,工作表9!$G$1:$I$136,3, FALSE)","v":"混合物"},null,{"$f":"VLOOKUP(F679,工作表9!$G$1:$H$142, 2, FALSE)","v":0},0]
[null,null,null,null,null,null,{"$f":"VLOOKUP(F680,工作表9!$G$1:$I$136,3, FALSE)","v":"混合物"},null,{"$f":"VLOOKUP(F680,工作表9!$G$1:$H$142, 2, FALSE)","v":0},0]
[null,null,null,null,null,null,{"$f":"VLOOKUP(F681,工作表9!$G$1:$I$136,3, FALSE)","v":"混合物"},null,{"$f":"VLOOKUP(F681,工作表9!$G$1:$H$142, 2, FALSE)","v":0},0]
[null,null,null,null,null,null,{"$f":"VLOOKUP(F682,工作表9!$G$1:$I$136,3, FALSE)","v":"混合物"},null,{"$f":"VLOOKUP(F682,工作表9!$G$1:$H$142, 2, FALSE)","v":0},0]
[null,null,null,null,null,null,{"$f":"VLOOKUP(F683,工作表9!$G$1:$I$136,3, FALSE)","v":"混合物"},null,{"$f":"VLOOKUP(F683,工作表9!$G$1:$H$142, 2, FALSE)","v":0},0]
[null,null,null,null,null,null,{"$f":"VLOOKUP(F684,工作表9!$G$1:$I$136,3, FALSE)","v":"混合物"},null,{"$f":"VLOOKUP(F684,工作表9!$G$1:$H$142, 2, FALSE)","v":0},0]
[null,null,null,null,null,null,{"$f":"VLOOKUP(F685,工作表9!$G$1:$I$136,3, FALSE)","v":"混合物"},null,{"$f":"VLOOKUP(F685,工作表9!$G$1:$H$142, 2, FALSE)","v":0},0]
[null,null,null,null,null,null,{"$f":"VLOOKUP(F686,工作表9!$G$1:$I$136,3, FALSE)","v":"混合物"},null,{"$f":"VLOOKUP(F686,工作表9!$G$1:$H$142, 2, FALSE)","v":0},0]
[null,null,null,null,null,null,{"$f":"VLOOKUP(F687,工作表9!$G$1:$I$136,3, FALSE)","v":"混合物"},null,{"$f":"VLOOKUP(F687,工作表9!$G$1:$H$142, 2, FALSE)","v":0},0]
[null,null,null,null,null,null,{"$f":"VLOOKUP(F688,工作表9!$G$1:$I$136,3, FALSE)","v":"混合物"},null,{"$f":"VLOOKUP(F688,工作表9!$G$1:$H$142, 2, FALSE)","v":0},0]
[null,null,null,null,null,null,{"$f":"VLOOKUP(F689,工作表9!$G$1:$I$136,3, FALSE)","v":"混合物"},null,{"$f":"VLOOKUP(F689,工作表9!$G$1:$H$142, 2, FALSE)","v":0},0]
[null,null,null,null,null,null,{"$f":"VLOOKUP(F690,工作表9!$G$1:$I$136,3, FALSE)","v":"混合物"},null,{"$f":"VLOOKUP(F690,工作表9!$G$1:$H$142, 2, FALSE)","v":0},0]
[null,null,null,null,null,null,{"$f":"VLOOKUP(F691,工作表9!$G$1:$I$136,3, FALSE)","v":"混合物"},null,{"$f":"VLOOKUP(F691,工作表9!$G$1:$H$142, 2, FALSE)","v":0},0]
[null,null,null,null,null,null,{"$f":"VLOOKUP(F692,工作表9!$G$1:$I$136,3, FALSE)","v":"混合物"},null,{"$f":"VLOOKUP(F692,工作表9!$G$1:$H$142, 2, FALSE)","v":0},0]
[null,null,null,null,null,null,{"$f":"VLOOKUP(F693,工作表9!$G$1:$I$136,3, FALSE)","v":"混合物"},null,{"$f":"VLOOKUP(F693,工作表9!$G$1:$H$142, 2, FALSE)","v":0},0]
[null,null,null,null,null,null,{"$f":"VLOOKUP(F694,工作表9!$G$1:$I$136,3, FALSE)","v":"混合物"},null,{"$f":"VLOOKUP(F694,工作表9!$G$1:$H$142, 2, FALSE)","v":0},0]
[null,null,null,null,null,null,{"$f":"VLOOKUP(F695,工作表9!$G$1:$I$136,3, FALSE)","v":"混合物"},null,{"$f":"VLOOKUP(F695,工作表9!$G$1:$H$142, 2, FALSE)","v":0},0]
[null,null,null,null,null,null,{"$f":"VLOOKUP(F696,工作表9!$G$1:$I$136,3, FALSE)","v":"混合物"},null,{"$f":"VLOOKUP(F696,工作表9!$G$1:$H$142, 2, FALSE)","v":0},0]
[null,null,null,null,null,null,{"$f":"VLOOKUP(F697,工作表9!$G$1:$I$136,3, FALSE)","v":"混合物"},null,{"$f":"VLOOKUP(F697,工作表9!$G$1:$H$142, 2, FALSE)","v":0},0]
[null,null,null,null,null,null,{"$f":"VLOOKUP(F698,工作表9!$G$1:$I$136,3, FALSE)","v":"混合物"},null,{"$f":"VLOOKUP(F698,工作表9!$G$1:$H$142, 2, FALSE)","v":0},0]
[null,null,null,null,null,null,{"$f":"VLOOKUP(F699,工作表9!$G$1:$I$136,3, FALSE)","v":"混合物"},null,{"$f":"VLOOKUP(F699,工作表9!$G$1:$H$142, 2, FALSE)","v":0},0]
[null,null,null,null,null,null,{"$f":"VLOOKUP(F700,工作表9!$G$1:$I$136,3, FALSE)","v":"混合物"},null,{"$f":"VLOOKUP(F700,工作表9!$G$1:$H$142, 2, FALSE)","v":0},0]
[null,null,null,null,null,null,{"$f":"VLOOKUP(F701,工作表9!$G$1:$I$136,3, FALSE)","v":"混合物"},null,{"$f":"VLOOKUP(F701,工作表9!$G$1:$H$142, 2, FALSE)","v":0},0]
[null,null,null,null,null,null,{"$f":"VLOOKUP(F702,工作表9!$G$1:$I$136,3, FALSE)","v":"混合物"},null,{"$f":"VLOOKUP(F702,工作表9!$G$1:$H$142, 2, FALSE)","v":0},0]
[null,null,null,null,null,null,{"$f":"VLOOKUP(F703,工作表9!$G$1:$I$136,3, FALSE)","v":"混合物"},null,{"$f":"VLOOKUP(F703,工作表9!$G$1:$H$142, 2, FALSE)","v":0},0]
[null,null,null,null,null,null,{"$f":"VLOOKUP(F704,工作表9!$G$1:$I$136,3, FALSE)","v":"混合物"},null,{"$f":"VLOOKUP(F704,工作表9!$G$1:$H$142, 2, FALSE)","v":0},0]
[null,null,null,null,null,null,{"$f":"VLOOKUP(F705,工作表9!$G$1:$I$136,3, FALSE)","v":"混合物"},null,{"$f":"VLOOKUP(F705,工作表9!$G$1:$H$142, 2, FALSE)","v":0},0]
[null,null,null,null,null,null,{"$f":"VLOOKUP(F706,工作表9!$G$1:$I$136,3, FALSE)","v":"混合物"},null,{"$f":"VLOOKUP(F706,工作表9!$G$1:$H$142, 2, FALSE)","v":0},0]
[null,null,null,null,null,null,{"$f":"VLOOKUP(F707,工作表9!$G$1:$I$136,3, FALSE)","v":"混合物"},null,{"$f":"VLOOKUP(F707,工作表9!$G$1:$H$142, 2, FALSE)","v":0},0]
[null,null,null,null,null,null,{"$f":"VLOOKUP(F708,工作表9!$G$1:$I$136,3, FALSE)","v":"混合物"},null,{"$f":"VLOOKUP(F708,工作表9!$G$1:$H$142, 2, FALSE)","v":0},0]
[null,null,null,null,null,null,{"$f":"VLOOKUP(F709,工作表9!$G$1:$I$136,3, FALSE)","v":"混合物"},null,{"$f":"VLOOKUP(F709,工作表9!$G$1:$H$142, 2, FALSE)","v":0},0]
[null,null,null,null,null,null,{"$f":"VLOOKUP(F710,工作表9!$G$1:$I$136,3, FALSE)","v":"混合物"},null,{"$f":"VLOOKUP(F710,工作表9!$G$1:$H$142, 2, FALSE)","v":0},{"$f":"H710*I710","v":0}]
[null,null,null,null,null,null,{"$f":"VLOOKUP(F711,工作表9!$G$1:$I$136,3, FALSE)","v":"混合物"},null,{"$f":"VLOOKUP(F711,工作表9!$G$1:$H$142, 2, FALSE)","v":0},0]
[null,null,null,null,null,null,{"$f":"VLOOKUP(F712,工作表9!$G$1:$I$136,3, FALSE)","v":"混合物"},null,{"$f":"VLOOKUP(F712,工作表9!$G$1:$H$142, 2, FALSE)","v":0},0]
[null,null,null,null,null,null,{"$f":"VLOOKUP(F713,工作表9!$G$1:$I$136,3, FALSE)","v":"混合物"},null,{"$f":"VLOOKUP(F713,工作表9!$G$1:$H$142, 2, FALSE)","v":0},0]
[null,null,null,null,null,null,{"$f":"VLOOKUP(F714,工作表9!$G$1:$I$136,3, FALSE)","v":"混合物"},null,{"$f":"VLOOKUP(F714,工作表9!$G$1:$H$142, 2, FALSE)","v":0},0]
[null,null,null,null,null,null,{"$f":"VLOOKUP(F715,工作表9!$G$1:$I$136,3, FALSE)","v":"混合物"},null,{"$f":"VLOOKUP(F715,工作表9!$G$1:$H$142, 2, FALSE)","v":0},0]
[null,null,null,null,null,null,{"$f":"VLOOKUP(F716,工作表9!$G$1:$I$136,3, FALSE)","v":"混合物"},null,{"$f":"VLOOKUP(F716,工作表9!$G$1:$H$142, 2, FALSE)","v":0},0]
[null,null,null,null,null,null,{"$f":"VLOOKUP(F717,工作表9!$G$1:$I$136,3, FALSE)","v":"混合物"},null,{"$f":"VLOOKUP(F717,工作表9!$G$1:$H$142, 2, FALSE)","v":0},0]
[null,null,null,null,null,null,{"$f":"VLOOKUP(F718,工作表9!$G$1:$I$136,3, FALSE)","v":"混合物"},null,{"$f":"VLOOKUP(F718,工作表9!$G$1:$H$142, 2, FALSE)","v":0},0]
[null,null,null,null,null,null,{"$f":"VLOOKUP(F719,工作表9!$G$1:$I$136,3, FALSE)","v":"混合物"},null,{"$f":"VLOOKUP(F719,工作表9!$G$1:$H$142, 2, FALSE)","v":0},0]
[null,null,null,null,null,null,{"$f":"VLOOKUP(F720,工作表9!$G$1:$I$136,3, FALSE)","v":"混合物"},null,{"$f":"VLOOKUP(F720,工作表9!$G$1:$H$142, 2, FALSE)","v":0},0]
[null,null,null,null,null,null,{"$f":"VLOOKUP(F721,工作表9!$G$1:$I$136,3, FALSE)","v":"混合物"},null,{"$f":"VLOOKUP(F721,工作表9!$G$1:$H$142, 2, FALSE)","v":0},0]
[null,null,null,null,null,null,{"$f":"VLOOKUP(F722,工作表9!$G$1:$I$136,3, FALSE)","v":"混合物"},null,{"$f":"VLOOKUP(F722,工作表9!$G$1:$H$142, 2, FALSE)","v":0},0]
[null,null,null,null,null,null,{"$f":"VLOOKUP(F723,工作表9!$G$1:$I$136,3, FALSE)","v":"混合物"},null,{"$f":"VLOOKUP(F723,工作表9!$G$1:$H$142, 2, FALSE)","v":0},0]
[null,null,null,null,null,null,{"$f":"VLOOKUP(F724,工作表9!$G$1:$I$136,3, FALSE)","v":"混合物"},null,{"$f":"VLOOKUP(F724,工作表9!$G$1:$H$142, 2, FALSE)","v":0},0]
[null,null,null,null,null,null,{"$f":"VLOOKUP(F725,工作表9!$G$1:$I$136,3, FALSE)","v":"混合物"},null,{"$f":"VLOOKUP(F725,工作表9!$G$1:$H$142, 2, FALSE)","v":0},0]
[null,null,null,null,null,null,{"$f":"VLOOKUP(F726,工作表9!$G$1:$I$136,3, FALSE)","v":"混合物"},null,{"$f":"VLOOKUP(F726,工作表9!$G$1:$H$142, 2, FALSE)","v":0},0]
[null,null,null,null,null,null,{"$f":"VLOOKUP(F727,工作表9!$G$1:$I$136,3, FALSE)","v":"混合物"},null,{"$f":"VLOOKUP(F727,工作表9!$G$1:$H$142, 2, FALSE)","v":0},0]
[null,null,null,null,null,null,{"$f":"VLOOKUP(F728,工作表9!$G$1:$I$136,3, FALSE)","v":"混合物"},null,{"$f":"VLOOKUP(F728,工作表9!$G$1:$H$142, 2, FALSE)","v":0},0]
[null,null,null,null,null,null,{"$f":"VLOOKUP(F729,工作表9!$G$1:$I$136,3, FALSE)","v":"混合物"},null,{"$f":"VLOOKUP(F729,工作表9!$G$1:$H$142, 2, FALSE)","v":0},0]
[null,null,null,null,null,null,{"$f":"VLOOKUP(F730,工作表9!$G$1:$I$136,3, FALSE)","v":"混合物"},null,{"$f":"VLOOKUP(F730,工作表9!$G$1:$H$142, 2, FALSE)","v":0},0]
[null,null,null,null,null,null,{"$f":"VLOOKUP(F731,工作表9!$G$1:$I$136,3, FALSE)","v":"混合物"},null,{"$f":"VLOOKUP(F731,工作表9!$G$1:$H$142, 2, FALSE)","v":0},0]
[null,null,null,null,null,null,{"$f":"VLOOKUP(F732,工作表9!$G$1:$I$136,3, FALSE)","v":"混合物"},null,{"$f":"VLOOKUP(F732,工作表9!$G$1:$H$142, 2, FALSE)","v":0},0]
[null,null,null,null,null,null,{"$f":"VLOOKUP(F733,工作表9!$G$1:$I$136,3, FALSE)","v":"混合物"},null,{"$f":"VLOOKUP(F733,工作表9!$G$1:$H$142, 2, FALSE)","v":0},0]
[null,null,null,null,null,null,{"$f":"VLOOKUP(F734,工作表9!$G$1:$I$136,3, FALSE)","v":"混合物"},null,{"$f":"VLOOKUP(F734,工作表9!$G$1:$H$142, 2, FALSE)","v":0},0]
[null,null,null,null,null,null,{"$f":"VLOOKUP(F735,工作表9!$G$1:$I$136,3, FALSE)","v":"混合物"},null,{"$f":"VLOOKUP(F735,工作表9!$G$1:$H$142, 2, FALSE)","v":0},0]
[null,null,null,null,null,null,{"$f":"VLOOKUP(F736,工作表9!$G$1:$I$136,3, FALSE)","v":"混合物"},null,{"$f":"VLOOKUP(F736,工作表9!$G$1:$H$142, 2, FALSE)","v":0},0]
[null,null,null,null,null,null,{"$f":"VLOOKUP(F737,工作表9!$G$1:$I$136,3, FALSE)","v":"混合物"},null,{"$f":"VLOOKUP(F737,工作表9!$G$1:$H$142, 2, FALSE)","v":0},0]
[null,null,null,null,null,null,{"$f":"VLOOKUP(F738,工作表9!$G$1:$I$136,3, FALSE)","v":"混合物"},null,{"$f":"VLOOKUP(F738,工作表9!$G$1:$H$142, 2, FALSE)","v":0},0]
[null,null,null,null,null,null,{"$f":"VLOOKUP(F739,工作表9!$G$1:$I$136,3, FALSE)","v":"混合物"},null,{"$f":"VLOOKUP(F739,工作表9!$G$1:$H$142, 2, FALSE)","v":0},0]
[null,null,null,null,null,null,{"$f":"VLOOKUP(F740,工作表9!$G$1:$I$136,3, FALSE)","v":"混合物"},null,{"$f":"VLOOKUP(F740,工作表9!$G$1:$H$142, 2, FALSE)","v":0},0]
[null,null,null,null,null,null,{"$f":"VLOOKUP(F741,工作表9!$G$1:$I$136,3, FALSE)","v":"混合物"},null,{"$f":"VLOOKUP(F741,工作表9!$G$1:$H$142, 2, FALSE)","v":0},0]
[null,null,null,null,null,null,{"$f":"VLOOKUP(F742,工作表9!$G$1:$I$136,3, FALSE)","v":"混合物"},null,{"$f":"VLOOKUP(F742,工作表9!$G$1:$H$142, 2, FALSE)","v":0},0]
[null,null,null,null,null,null,{"$f":"VLOOKUP(F743,工作表9!$G$1:$I$136,3, FALSE)","v":"混合物"},null,{"$f":"VLOOKUP(F743,工作表9!$G$1:$H$142, 2, FALSE)","v":0},0]
[null,null,null,null,null,null,{"$f":"VLOOKUP(F744,工作表9!$G$1:$I$136,3, FALSE)","v":"混合物"},null,{"$f":"VLOOKUP(F744,工作表9!$G$1:$H$142, 2, FALSE)","v":0},0]
[null,null,null,null,null,null,{"$f":"VLOOKUP(F745,工作表9!$G$1:$I$136,3, FALSE)","v":"混合物"},null,{"$f":"VLOOKUP(F745,工作表9!$G$1:$H$142, 2, FALSE)","v":0},0]
[null,null,null,null,null,null,{"$f":"VLOOKUP(F746,工作表9!$G$1:$I$136,3, FALSE)","v":"混合物"},null,{"$f":"VLOOKUP(F746,工作表9!$G$1:$H$142, 2, FALSE)","v":0},0]
[null,null,null,null,null,null,{"$f":"VLOOKUP(F747,工作表9!$G$1:$I$136,3, FALSE)","v":"混合物"},null,{"$f":"VLOOKUP(F747,工作表9!$G$1:$H$142, 2, FALSE)","v":0},0]
[null,null,null,null,null,null,{"$f":"VLOOKUP(F748,工作表9!$G$1:$I$136,3, FALSE)","v":"混合物"},null,{"$f":"VLOOKUP(F748,工作表9!$G$1:$H$142, 2, FALSE)","v":0},0]
[null,null,null,null,null,null,{"$f":"VLOOKUP(F749,工作表9!$G$1:$I$136,3, FALSE)","v":"混合物"},null,{"$f":"VLOOKUP(F749,工作表9!$G$1:$H$142, 2, FALSE)","v":0},0]
[null,null,null,null,null,null,{"$f":"VLOOKUP(F750,工作表9!$G$1:$I$136,3, FALSE)","v":"混合物"},null,{"$f":"VLOOKUP(F750,工作表9!$G$1:$H$142, 2, FALSE)","v":0},0]
[null,null,null,null,null,null,{"$f":"VLOOKUP(F751,工作表9!$G$1:$I$136,3, FALSE)","v":"混合物"},null,{"$f":"VLOOKUP(F751,工作表9!$G$1:$H$142, 2, FALSE)","v":0},0]
[null,null,null,null,null,null,{"$f":"VLOOKUP(F752,工作表9!$G$1:$I$136,3, FALSE)","v":"混合物"},null,{"$f":"VLOOKUP(F752,工作表9!$G$1:$H$142, 2, FALSE)","v":0},0]
[null,null,null,null,null,null,{"$f":"VLOOKUP(F753,工作表9!$G$1:$I$136,3, FALSE)","v":"混合物"},null,{"$f":"VLOOKUP(F753,工作表9!$G$1:$H$142, 2, FALSE)","v":0},0]
[null,null,null,null,null,null,{"$f":"VLOOKUP(F754,工作表9!$G$1:$I$136,3, FALSE)","v":"混合物"},null,{"$f":"VLOOKUP(F754,工作表9!$G$1:$H$142, 2, FALSE)","v":0},0]
[null,null,null,null,null,null,{"$f":"VLOOKUP(F755,工作表9!$G$1:$I$136,3, FALSE)","v":"混合物"},null,{"$f":"VLOOKUP(F755,工作表9!$G$1:$H$142, 2, FALSE)","v":0},0]
[null,null,null,null,null,null,{"$f":"VLOOKUP(F756,工作表9!$G$1:$I$136,3, FALSE)","v":"混合物"},null,{"$f":"VLOOKUP(F756,工作表9!$G$1:$H$142, 2, FALSE)","v":0},0]
[null,null,null,null,null,null,{"$f":"VLOOKUP(F757,工作表9!$G$1:$I$136,3, FALSE)","v":"混合物"},null,{"$f":"VLOOKUP(F757,工作表9!$G$1:$H$142, 2, FALSE)","v":0},0]
[null,null,null,null,null,null,{"$f":"VLOOKUP(F758,工作表9!$G$1:$I$136,3, FALSE)","v":"混合物"},null,{"$f":"VLOOKUP(F758,工作表9!$G$1:$H$142, 2, FALSE)","v":0},0]
[null,null,null,null,null,null,{"$f":"VLOOKUP(F759,工作表9!$G$1:$I$136,3, FALSE)","v":"混合物"},null,{"$f":"VLOOKUP(F759,工作表9!$G$1:$H$142, 2, FALSE)","v":0},0]
[null,null,null,null,null,null,{"$f":"VLOOKUP(F760,工作表9!$G$1:$I$136,3, FALSE)","v":"混合物"},null,{"$f":"VLOOKUP(F760,工作表9!$G$1:$H$142, 2, FALSE)","v":0},0]
[null,null,null,null,null,null,{"$f":"VLOOKUP(F761,工作表9!$G$1:$I$136,3, FALSE)","v":"混合物"},null,{"$f":"VLOOKUP(F761,工作表9!$G$1:$H$142, 2, FALSE)","v":0},0]
[null,null,null,null,null,null,{"$f":"VLOOKUP(F762,工作表9!$G$1:$I$136,3, FALSE)","v":"混合物"},null,{"$f":"VLOOKUP(F762,工作表9!$G$1:$H$142, 2, FALSE)","v":0},0]
[null,null,null,null,null,null,{"$f":"VLOOKUP(F763,工作表9!$G$1:$I$136,3, FALSE)","v":"混合物"},null,{"$f":"VLOOKUP(F763,工作表9!$G$1:$H$142, 2, FALSE)","v":0},0]
[null,null,null,null,null,null,{"$f":"VLOOKUP(F764,工作表9!$G$1:$I$136,3, FALSE)","v":"混合物"},null,{"$f":"VLOOKUP(F764,工作表9!$G$1:$H$142, 2, FALSE)","v":0},0]
[null,null,null,null,null,null,{"$f":"VLOOKUP(F765,工作表9!$G$1:$I$136,3, FALSE)","v":"混合物"},null,{"$f":"VLOOKUP(F765,工作表9!$G$1:$H$142, 2, FALSE)","v":0},0]
[null,null,null,null,null,null,{"$f":"VLOOKUP(F766,工作表9!$G$1:$I$136,3, FALSE)","v":"混合物"},null,{"$f":"VLOOKUP(F766,工作表9!$G$1:$H$142, 2, FALSE)","v":0},0]
[null,null,null,null,null,null,{"$f":"VLOOKUP(F767,工作表9!$G$1:$I$136,3, FALSE)","v":"混合物"},null,{"$f":"VLOOKUP(F767,工作表9!$G$1:$H$142, 2, FALSE)","v":0},0]
[null,null,null,null,null,null,{"$f":"VLOOKUP(F768,工作表9!$G$1:$I$136,3, FALSE)","v":"混合物"},null,{"$f":"VLOOKUP(F768,工作表9!$G$1:$H$142, 2, FALSE)","v":0},0]
[null,null,null,null,null,null,{"$f":"VLOOKUP(F769,工作表9!$G$1:$I$136,3, FALSE)","v":"混合物"},null,{"$f":"VLOOKUP(F769,工作表9!$G$1:$H$142, 2, FALSE)","v":0},0]
[null,null,null,null,null,null,{"$f":"VLOOKUP(F770,工作表9!$G$1:$I$136,3, FALSE)","v":"混合物"},null,{"$f":"VLOOKUP(F770,工作表9!$G$1:$H$142, 2, FALSE)","v":0},0]
[null,null,null,null,null,null,{"$f":"VLOOKUP(F771,工作表9!$G$1:$I$136,3, FALSE)","v":"混合物"},null,{"$f":"VLOOKUP(F771,工作表9!$G$1:$H$142, 2, FALSE)","v":0},0]
[null,null,null,null,null,null,{"$f":"VLOOKUP(F772,工作表9!$G$1:$I$136,3, FALSE)","v":"混合物"},null,{"$f":"VLOOKUP(F772,工作表9!$G$1:$H$142, 2, FALSE)","v":0},0]
[null,null,null,null,null,null,{"$f":"VLOOKUP(F773,工作表9!$G$1:$I$136,3, FALSE)","v":"混合物"},null,{"$f":"VLOOKUP(F773,工作表9!$G$1:$H$142, 2, FALSE)","v":0},0]
[null,null,null,null,null,null,{"$f":"VLOOKUP(F774,工作表9!$G$1:$I$136,3, FALSE)","v":"混合物"},null,{"$f":"VLOOKUP(F774,工作表9!$G$1:$H$142, 2, FALSE)","v":0},{"$f":"H774*I774","v":0}]
[null,null,null,null,null,null,{"$f":"VLOOKUP(F775,工作表9!$G$1:$I$136,3, FALSE)","v":"混合物"},null,{"$f":"VLOOKUP(F775,工作表9!$G$1:$H$142, 2, FALSE)","v":0},0]
[null,null,null,null,null,null,{"$f":"VLOOKUP(F776,工作表9!$G$1:$I$136,3, FALSE)","v":"混合物"},null,{"$f":"VLOOKUP(F776,工作表9!$G$1:$H$142, 2, FALSE)","v":0},0]
[null,null,null,null,null,null,{"$f":"VLOOKUP(F777,工作表9!$G$1:$I$136,3, FALSE)","v":"混合物"},null,{"$f":"VLOOKUP(F777,工作表9!$G$1:$H$142, 2, FALSE)","v":0},0]
[null,null,null,null,null,null,{"$f":"VLOOKUP(F778,工作表9!$G$1:$I$136,3, FALSE)","v":"混合物"},null,{"$f":"VLOOKUP(F778,工作表9!$G$1:$H$142, 2, FALSE)","v":0},0]
[null,null,null,null,null,null,{"$f":"VLOOKUP(F779,工作表9!$G$1:$I$136,3, FALSE)","v":"混合物"},null,{"$f":"VLOOKUP(F779,工作表9!$G$1:$H$142, 2, FALSE)","v":0},0]
[null,null,null,null,null,null,{"$f":"VLOOKUP(F780,工作表9!$G$1:$I$136,3, FALSE)","v":"混合物"},null,{"$f":"VLOOKUP(F780,工作表9!$G$1:$H$142, 2, FALSE)","v":0},0]
[null,null,null,null,null,null,{"$f":"VLOOKUP(F781,工作表9!$G$1:$I$136,3, FALSE)","v":"混合物"},null,{"$f":"VLOOKUP(F781,工作表9!$G$1:$H$142, 2, FALSE)","v":0},0]
[null,null,null,null,null,null,{"$f":"VLOOKUP(F782,工作表9!$G$1:$I$136,3, FALSE)","v":"混合物"},null,{"$f":"VLOOKUP(F782,工作表9!$G$1:$H$142, 2, FALSE)","v":0},0]
[null,null,null,null,null,null,{"$f":"VLOOKUP(F783,工作表9!$G$1:$I$136,3, FALSE)","v":"混合物"},null,{"$f":"VLOOKUP(F783,工作表9!$G$1:$H$142, 2, FALSE)","v":0},0]
[null,null,null,null,null,null,{"$f":"VLOOKUP(F784,工作表9!$G$1:$I$136,3, FALSE)","v":"混合物"},null,{"$f":"VLOOKUP(F784,工作表9!$G$1:$H$142, 2, FALSE)","v":0},0]
[null,null,null,null,null,null,{"$f":"VLOOKUP(F785,工作表9!$G$1:$I$136,3, FALSE)","v":"混合物"},null,{"$f":"VLOOKUP(F785,工作表9!$G$1:$H$142, 2, FALSE)","v":0},0]
[null,null,null,null,null,null,{"$f":"VLOOKUP(F786,工作表9!$G$1:$I$136,3, FALSE)","v":"混合物"},null,{"$f":"VLOOKUP(F786,工作表9!$G$1:$H$142, 2, FALSE)","v":0},0]
[null,null,null,null,null,null,{"$f":"VLOOKUP(F787,工作表9!$G$1:$I$136,3, FALSE)","v":"混合物"},null,{"$f":"VLOOKUP(F787,工作表9!$G$1:$H$142, 2, FALSE)","v":0},0]
[null,null,null,null,null,null,{"$f":"VLOOKUP(F788,工作表9!$G$1:$I$136,3, FALSE)","v":"混合物"},null,{"$f":"VLOOKUP(F788,工作表9!$G$1:$H$142, 2, FALSE)","v":0},0]
[null,null,null,null,null,null,{"$f":"VLOOKUP(F789,工作表9!$G$1:$I$136,3, FALSE)","v":"混合物"},null,{"$f":"VLOOKUP(F789,工作表9!$G$1:$H$142, 2, FALSE)","v":0},0]
[null,null,null,null,null,null,{"$f":"VLOOKUP(F790,工作表9!$G$1:$I$136,3, FALSE)","v":"混合物"},null,{"$f":"VLOOKUP(F790,工作表9!$G$1:$H$142, 2, FALSE)","v":0},0]
[null,null,null,null,null,null,{"$f":"VLOOKUP(F791,工作表9!$G$1:$I$136,3, FALSE)","v":"混合物"},null,{"$f":"VLOOKUP(F791,工作表9!$G$1:$H$142, 2, FALSE)","v":0},0]
[null,null,null,null,null,null,{"$f":"VLOOKUP(F792,工作表9!$G$1:$I$136,3, FALSE)","v":"混合物"},null,{"$f":"VLOOKUP(F792,工作表9!$G$1:$H$142, 2, FALSE)","v":0},0]
[null,null,null,null,null,null,{"$f":"VLOOKUP(F793,工作表9!$G$1:$I$136,3, FALSE)","v":"混合物"},null,{"$f":"VLOOKUP(F793,工作表9!$G$1:$H$142, 2, FALSE)","v":0},0]
[null,null,null,null,null,null,{"$f":"VLOOKUP(F794,工作表9!$G$1:$I$136,3, FALSE)","v":"混合物"},null,{"$f":"VLOOKUP(F794,工作表9!$G$1:$H$142, 2, FALSE)","v":0},0]
[null,null,null,null,null,null,{"$f":"VLOOKUP(F795,工作表9!$G$1:$I$136,3, FALSE)","v":"混合物"},null,{"$f":"VLOOKUP(F795,工作表9!$G$1:$H$142, 2, FALSE)","v":0},0]
[null,null,null,null,null,null,{"$f":"VLOOKUP(F796,工作表9!$G$1:$I$136,3, FALSE)","v":"混合物"},null,{"$f":"VLOOKUP(F796,工作表9!$G$1:$H$142, 2, FALSE)","v":0},0]
[null,null,null,null,null,null,{"$f":"VLOOKUP(F797,工作表9!$G$1:$I$136,3, FALSE)","v":"混合物"},null,{"$f":"VLOOKUP(F797,工作表9!$G$1:$H$142, 2, FALSE)","v":0},0]
[null,null,null,null,null,null,{"$f":"VLOOKUP(F798,工作表9!$G$1:$I$136,3, FALSE)","v":"混合物"},null,{"$f":"VLOOKUP(F798,工作表9!$G$1:$H$142, 2, FALSE)","v":0},0]
[null,null,null,null,null,null,{"$f":"VLOOKUP(F799,工作表9!$G$1:$I$136,3, FALSE)","v":"混合物"},null,{"$f":"VLOOKUP(F799,工作表9!$G$1:$H$142, 2, FALSE)","v":0},0]
[null,null,null,null,null,null,{"$f":"VLOOKUP(F800,工作表9!$G$1:$I$136,3, FALSE)","v":"混合物"},null,{"$f":"VLOOKUP(F800,工作表9!$G$1:$H$142, 2, FALSE)","v":0},0]
[null,null,null,null,null,null,{"$f":"VLOOKUP(F801,工作表9!$G$1:$I$136,3, FALSE)","v":"混合物"},null,{"$f":"VLOOKUP(F801,工作表9!$G$1:$H$142, 2, FALSE)","v":0},0]
[null,null,null,null,null,null,{"$f":"VLOOKUP(F802,工作表9!$G$1:$I$136,3, FALSE)","v":"混合物"},null,{"$f":"VLOOKUP(F802,工作表9!$G$1:$H$142, 2, FALSE)","v":0},0]
[null,null,null,null,null,null,{"$f":"VLOOKUP(F803,工作表9!$G$1:$I$136,3, FALSE)","v":"混合物"},null,{"$f":"VLOOKUP(F803,工作表9!$G$1:$H$142, 2, FALSE)","v":0},0]
[null,null,null,null,null,null,{"$f":"VLOOKUP(F804,工作表9!$G$1:$I$136,3, FALSE)","v":"混合物"},null,{"$f":"VLOOKUP(F804,工作表9!$G$1:$H$142, 2, FALSE)","v":0},0]
[null,null,null,null,null,null,{"$f":"VLOOKUP(F805,工作表9!$G$1:$I$136,3, FALSE)","v":"混合物"},null,{"$f":"VLOOKUP(F805,工作表9!$G$1:$H$142, 2, FALSE)","v":0},0]
[null,null,null,null,null,null,{"$f":"VLOOKUP(F806,工作表9!$G$1:$I$136,3, FALSE)","v":"混合物"},null,{"$f":"VLOOKUP(F806,工作表9!$G$1:$H$142, 2, FALSE)","v":0},0]
[null,null,null,null,null,null,{"$f":"VLOOKUP(F807,工作表9!$G$1:$I$136,3, FALSE)","v":"混合物"},null,{"$f":"VLOOKUP(F807,工作表9!$G$1:$H$142, 2, FALSE)","v":0},0]
[null,null,null,null,null,null,{"$f":"VLOOKUP(F808,工作表9!$G$1:$I$136,3, FALSE)","v":"混合物"},null,{"$f":"VLOOKUP(F808,工作表9!$G$1:$H$142, 2, FALSE)","v":0},0]
[null,null,null,null,null,null,{"$f":"VLOOKUP(F809,工作表9!$G$1:$I$136,3, FALSE)","v":"混合物"},null,{"$f":"VLOOKUP(F809,工作表9!$G$1:$H$142, 2, FALSE)","v":0},0]
[null,null,null,null,null,null,{"$f":"VLOOKUP(F810,工作表9!$G$1:$I$136,3, FALSE)","v":"混合物"},null,{"$f":"VLOOKUP(F810,工作表9!$G$1:$H$142, 2, FALSE)","v":0},0]
[null,null,null,null,null,null,{"$f":"VLOOKUP(F811,工作表9!$G$1:$I$136,3, FALSE)","v":"混合物"},null,{"$f":"VLOOKUP(F811,工作表9!$G$1:$H$142, 2, FALSE)","v":0},0]
[null,null,null,null,null,null,{"$f":"VLOOKUP(F812,工作表9!$G$1:$I$136,3, FALSE)","v":"混合物"},null,{"$f":"VLOOKUP(F812,工作表9!$G$1:$H$142, 2, FALSE)","v":0},0]
[null,null,null,null,null,null,{"$f":"VLOOKUP(F813,工作表9!$G$1:$I$136,3, FALSE)","v":"混合物"},null,{"$f":"VLOOKUP(F813,工作表9!$G$1:$H$142, 2, FALSE)","v":0},0]
[null,null,null,null,null,null,{"$f":"VLOOKUP(F814,工作表9!$G$1:$I$136,3, FALSE)","v":"混合物"},null,{"$f":"VLOOKUP(F814,工作表9!$G$1:$H$142, 2, FALSE)","v":0},0]
[null,null,null,null,null,null,{"$f":"VLOOKUP(F815,工作表9!$G$1:$I$136,3, FALSE)","v":"混合物"},null,{"$f":"VLOOKUP(F815,工作表9!$G$1:$H$142, 2, FALSE)","v":0},0]
[null,null,null,null,null,null,{"$f":"VLOOKUP(F816,工作表9!$G$1:$I$136,3, FALSE)","v":"混合物"},null,{"$f":"VLOOKUP(F816,工作表9!$G$1:$H$142, 2, FALSE)","v":0},0]
[null,null,null,null,null,null,{"$f":"VLOOKUP(F817,工作表9!$G$1:$I$136,3, FALSE)","v":"混合物"},null,{"$f":"VLOOKUP(F817,工作表9!$G$1:$H$142, 2, FALSE)","v":0},0]
[null,null,null,null,null,null,{"$f":"VLOOKUP(F818,工作表9!$G$1:$I$136,3, FALSE)","v":"混合物"},null,{"$f":"VLOOKUP(F818,工作表9!$G$1:$H$142, 2, FALSE)","v":0},0]
[null,null,null,null,null,null,{"$f":"VLOOKUP(F819,工作表9!$G$1:$I$136,3, FALSE)","v":"混合物"},null,{"$f":"VLOOKUP(F819,工作表9!$G$1:$H$142, 2, FALSE)","v":0},0]
[null,null,null,null,null,null,{"$f":"VLOOKUP(F820,工作表9!$G$1:$I$136,3, FALSE)","v":"混合物"},null,{"$f":"VLOOKUP(F820,工作表9!$G$1:$H$142, 2, FALSE)","v":0},0]
[null,null,null,null,null,null,{"$f":"VLOOKUP(F821,工作表9!$G$1:$I$136,3, FALSE)","v":"混合物"},null,{"$f":"VLOOKUP(F821,工作表9!$G$1:$H$142, 2, FALSE)","v":0},0]
[null,null,null,null,null,null,{"$f":"VLOOKUP(F822,工作表9!$G$1:$I$136,3, FALSE)","v":"混合物"},null,{"$f":"VLOOKUP(F822,工作表9!$G$1:$H$142, 2, FALSE)","v":0},0]
[null,null,null,null,null,null,{"$f":"VLOOKUP(F823,工作表9!$G$1:$I$136,3, FALSE)","v":"混合物"},null,{"$f":"VLOOKUP(F823,工作表9!$G$1:$H$142, 2, FALSE)","v":0},0]
[null,null,null,null,null,null,{"$f":"VLOOKUP(F824,工作表9!$G$1:$I$136,3, FALSE)","v":"混合物"},null,{"$f":"VLOOKUP(F824,工作表9!$G$1:$H$142, 2, FALSE)","v":0},0]
[null,null,null,null,null,null,{"$f":"VLOOKUP(F825,工作表9!$G$1:$I$136,3, FALSE)","v":"混合物"},null,{"$f":"VLOOKUP(F825,工作表9!$G$1:$H$142, 2, FALSE)","v":0},0]
[null,null,null,null,null,null,{"$f":"VLOOKUP(F826,工作表9!$G$1:$I$136,3, FALSE)","v":"混合物"},null,{"$f":"VLOOKUP(F826,工作表9!$G$1:$H$142, 2, FALSE)","v":0},0]
[null,null,null,null,null,null,{"$f":"VLOOKUP(F827,工作表9!$G$1:$I$136,3, FALSE)","v":"混合物"},null,{"$f":"VLOOKUP(F827,工作表9!$G$1:$H$142, 2, FALSE)","v":0},0]
[null,null,null,null,null,null,{"$f":"VLOOKUP(F828,工作表9!$G$1:$I$136,3, FALSE)","v":"混合物"},null,{"$f":"VLOOKUP(F828,工作表9!$G$1:$H$142, 2, FALSE)","v":0},0]
[null,null,null,null,null,null,{"$f":"VLOOKUP(F829,工作表9!$G$1:$I$136,3, FALSE)","v":"混合物"},null,{"$f":"VLOOKUP(F829,工作表9!$G$1:$H$142, 2, FALSE)","v":0},0]
[null,null,null,null,null,null,{"$f":"VLOOKUP(F830,工作表9!$G$1:$I$136,3, FALSE)","v":"混合物"},null,{"$f":"VLOOKUP(F830,工作表9!$G$1:$H$142, 2, FALSE)","v":0},0]
[null,null,null,null,null,null,{"$f":"VLOOKUP(F831,工作表9!$G$1:$I$136,3, FALSE)","v":"混合物"},null,{"$f":"VLOOKUP(F831,工作表9!$G$1:$H$142, 2, FALSE)","v":0},0]
[null,null,null,null,null,null,{"$f":"VLOOKUP(F832,工作表9!$G$1:$I$136,3, FALSE)","v":"混合物"},null,{"$f":"VLOOKUP(F832,工作表9!$G$1:$H$142, 2, FALSE)","v":0},0]
[null,null,null,null,null,null,{"$f":"VLOOKUP(F833,工作表9!$G$1:$I$136,3, FALSE)","v":"混合物"},null,{"$f":"VLOOKUP(F833,工作表9!$G$1:$H$142, 2, FALSE)","v":0},0]
[null,null,null,null,null,null,{"$f":"VLOOKUP(F834,工作表9!$G$1:$I$136,3, FALSE)","v":"混合物"},null,{"$f":"VLOOKUP(F834,工作表9!$G$1:$H$142, 2, FALSE)","v":0},0]
[null,null,null,null,null,null,{"$f":"VLOOKUP(F835,工作表9!$G$1:$I$136,3, FALSE)","v":"混合物"},null,{"$f":"VLOOKUP(F835,工作表9!$G$1:$H$142, 2, FALSE)","v":0},0]
[null,null,null,null,null,null,{"$f":"VLOOKUP(F836,工作表9!$G$1:$I$136,3, FALSE)","v":"混合物"},null,{"$f":"VLOOKUP(F836,工作表9!$G$1:$H$142, 2, FALSE)","v":0},0]
[null,null,null,null,null,null,{"$f":"VLOOKUP(F837,工作表9!$G$1:$I$136,3, FALSE)","v":"混合物"},null,{"$f":"VLOOKUP(F837,工作表9!$G$1:$H$142, 2, FALSE)","v":0},0]
[null,null,null,null,null,null,{"$f":"VLOOKUP(F838,工作表9!$G$1:$I$136,3, FALSE)","v":"混合物"},null,{"$f":"VLOOKUP(F838,工作表9!$G$1:$H$142, 2, FALSE)","v":0},{"$f":"H838*I838","v":0}]
[null,null,null,null,null,null,{"$f":"VLOOKUP(F839,工作表9!$G$1:$I$136,3, FALSE)","v":"混合物"},null,{"$f":"VLOOKUP(F839,工作表9!$G$1:$H$142, 2, FALSE)","v":0},0]
[null,null,null,null,null,null,{"$f":"VLOOKUP(F840,工作表9!$G$1:$I$136,3, FALSE)","v":"混合物"},null,{"$f":"VLOOKUP(F840,工作表9!$G$1:$H$142, 2, FALSE)","v":0},0]
[null,null,null,null,null,null,{"$f":"VLOOKUP(F841,工作表9!$G$1:$I$136,3, FALSE)","v":"混合物"},null,{"$f":"VLOOKUP(F841,工作表9!$G$1:$H$142, 2, FALSE)","v":0},0]
[null,null,null,null,null,null,{"$f":"VLOOKUP(F842,工作表9!$G$1:$I$136,3, FALSE)","v":"混合物"},null,{"$f":"VLOOKUP(F842,工作表9!$G$1:$H$142, 2, FALSE)","v":0},0]
[null,null,null,null,null,null,{"$f":"VLOOKUP(F843,工作表9!$G$1:$I$136,3, FALSE)","v":"混合物"},null,{"$f":"VLOOKUP(F843,工作表9!$G$1:$H$142, 2, FALSE)","v":0},0]
[null,null,null,null,null,null,{"$f":"VLOOKUP(F844,工作表9!$G$1:$I$136,3, FALSE)","v":"混合物"},null,{"$f":"VLOOKUP(F844,工作表9!$G$1:$H$142, 2, FALSE)","v":0},0]
[null,null,null,null,null,null,{"$f":"VLOOKUP(F845,工作表9!$G$1:$I$136,3, FALSE)","v":"混合物"},null,{"$f":"VLOOKUP(F845,工作表9!$G$1:$H$142, 2, FALSE)","v":0},0]
[null,null,null,null,null,null,{"$f":"VLOOKUP(F846,工作表9!$G$1:$I$136,3, FALSE)","v":"混合物"},null,{"$f":"VLOOKUP(F846,工作表9!$G$1:$H$142, 2, FALSE)","v":0},0]
[null,null,null,null,null,null,{"$f":"VLOOKUP(F847,工作表9!$G$1:$I$136,3, FALSE)","v":"混合物"},null,{"$f":"VLOOKUP(F847,工作表9!$G$1:$H$142, 2, FALSE)","v":0},0]
[null,null,null,null,null,null,{"$f":"VLOOKUP(F848,工作表9!$G$1:$I$136,3, FALSE)","v":"混合物"},null,{"$f":"VLOOKUP(F848,工作表9!$G$1:$H$142, 2, FALSE)","v":0},0]
[null,null,null,null,null,null,{"$f":"VLOOKUP(F849,工作表9!$G$1:$I$136,3, FALSE)","v":"混合物"},null,{"$f":"VLOOKUP(F849,工作表9!$G$1:$H$142, 2, FALSE)","v":0},0]
[null,null,null,null,null,null,{"$f":"VLOOKUP(F850,工作表9!$G$1:$I$136,3, FALSE)","v":"混合物"},null,{"$f":"VLOOKUP(F850,工作表9!$G$1:$H$142, 2, FALSE)","v":0},0]
[null,null,null,null,null,null,{"$f":"VLOOKUP(F851,工作表9!$G$1:$I$136,3, FALSE)","v":"混合物"},null,{"$f":"VLOOKUP(F851,工作表9!$G$1:$H$142, 2, FALSE)","v":0},0]
[null,null,null,null,null,null,{"$f":"VLOOKUP(F852,工作表9!$G$1:$I$136,3, FALSE)","v":"混合物"},null,{"$f":"VLOOKUP(F852,工作表9!$G$1:$H$142, 2, FALSE)","v":0},0]
[null,null,null,null,null,null,{"$f":"VLOOKUP(F853,工作表9!$G$1:$I$136,3, FALSE)","v":"混合物"},null,{"$f":"VLOOKUP(F853,工作表9!$G$1:$H$142, 2, FALSE)","v":0},0]
[null,null,null,null,null,null,{"$f":"VLOOKUP(F854,工作表9!$G$1:$I$136,3, FALSE)","v":"混合物"},null,{"$f":"VLOOKUP(F854,工作表9!$G$1:$H$142, 2, FALSE)","v":0},0]
[null,null,null,null,null,null,{"$f":"VLOOKUP(F855,工作表9!$G$1:$I$136,3, FALSE)","v":"混合物"},null,{"$f":"VLOOKUP(F855,工作表9!$G$1:$H$142, 2, FALSE)","v":0},0]
[null,null,null,null,null,null,{"$f":"VLOOKUP(F856,工作表9!$G$1:$I$136,3, FALSE)","v":"混合物"},null,{"$f":"VLOOKUP(F856,工作表9!$G$1:$H$142, 2, FALSE)","v":0},0]
[null,null,null,null,null,null,{"$f":"VLOOKUP(F857,工作表9!$G$1:$I$136,3, FALSE)","v":"混合物"},null,{"$f":"VLOOKUP(F857,工作表9!$G$1:$H$142, 2, FALSE)","v":0},0]
[null,null,null,null,null,null,{"$f":"VLOOKUP(F858,工作表9!$G$1:$I$136,3, FALSE)","v":"混合物"},null,{"$f":"VLOOKUP(F858,工作表9!$G$1:$H$142, 2, FALSE)","v":0},0]
[null,null,null,null,null,null,{"$f":"VLOOKUP(F859,工作表9!$G$1:$I$136,3, FALSE)","v":"混合物"},null,{"$f":"VLOOKUP(F859,工作表9!$G$1:$H$142, 2, FALSE)","v":0},0]
[null,null,null,null,null,null,{"$f":"VLOOKUP(F860,工作表9!$G$1:$I$136,3, FALSE)","v":"混合物"},null,{"$f":"VLOOKUP(F860,工作表9!$G$1:$H$142, 2, FALSE)","v":0},0]
[null,null,null,null,null,null,{"$f":"VLOOKUP(F861,工作表9!$G$1:$I$136,3, FALSE)","v":"混合物"},null,{"$f":"VLOOKUP(F861,工作表9!$G$1:$H$142, 2, FALSE)","v":0},0]
[null,null,null,null,null,null,{"$f":"VLOOKUP(F862,工作表9!$G$1:$I$136,3, FALSE)","v":"混合物"},null,{"$f":"VLOOKUP(F862,工作表9!$G$1:$H$142, 2, FALSE)","v":0},0]
[null,null,null,null,null,null,{"$f":"VLOOKUP(F863,工作表9!$G$1:$I$136,3, FALSE)","v":"混合物"},null,{"$f":"VLOOKUP(F863,工作表9!$G$1:$H$142, 2, FALSE)","v":0},0]
[null,null,null,null,null,null,{"$f":"VLOOKUP(F864,工作表9!$G$1:$I$136,3, FALSE)","v":"混合物"},null,{"$f":"VLOOKUP(F864,工作表9!$G$1:$H$142, 2, FALSE)","v":0},0]
[null,null,null,null,null,null,{"$f":"VLOOKUP(F865,工作表9!$G$1:$I$136,3, FALSE)","v":"混合物"},null,{"$f":"VLOOKUP(F865,工作表9!$G$1:$H$142, 2, FALSE)","v":0},0]
[null,null,null,null,null,null,{"$f":"VLOOKUP(F866,工作表9!$G$1:$I$136,3, FALSE)","v":"混合物"},null,{"$f":"VLOOKUP(F866,工作表9!$G$1:$H$142, 2, FALSE)","v":0},0]
[null,null,null,null,null,null,{"$f":"VLOOKUP(F867,工作表9!$G$1:$I$136,3, FALSE)","v":"混合物"},null,{"$f":"VLOOKUP(F867,工作表9!$G$1:$H$142, 2, FALSE)","v":0},0]
[null,null,null,null,null,null,{"$f":"VLOOKUP(F868,工作表9!$G$1:$I$136,3, FALSE)","v":"混合物"},null,{"$f":"VLOOKUP(F868,工作表9!$G$1:$H$142, 2, FALSE)","v":0},0]
[null,null,null,null,null,null,{"$f":"VLOOKUP(F869,工作表9!$G$1:$I$136,3, FALSE)","v":"混合物"},null,{"$f":"VLOOKUP(F869,工作表9!$G$1:$H$142, 2, FALSE)","v":0},0]
[null,null,null,null,null,null,{"$f":"VLOOKUP(F870,工作表9!$G$1:$I$136,3, FALSE)","v":"混合物"},null,{"$f":"VLOOKUP(F870,工作表9!$G$1:$H$142, 2, FALSE)","v":0},0]
[null,null,null,null,null,null,{"$f":"VLOOKUP(F871,工作表9!$G$1:$I$136,3, FALSE)","v":"混合物"},null,{"$f":"VLOOKUP(F871,工作表9!$G$1:$H$142, 2, FALSE)","v":0},0]
[null,null,null,null,null,null,{"$f":"VLOOKUP(F872,工作表9!$G$1:$I$136,3, FALSE)","v":"混合物"},null,{"$f":"VLOOKUP(F872,工作表9!$G$1:$H$142, 2, FALSE)","v":0},0]
[null,null,null,null,null,null,{"$f":"VLOOKUP(F873,工作表9!$G$1:$I$136,3, FALSE)","v":"混合物"},null,{"$f":"VLOOKUP(F873,工作表9!$G$1:$H$142, 2, FALSE)","v":0},0]
[null,null,null,null,null,null,{"$f":"VLOOKUP(F874,工作表9!$G$1:$I$136,3, FALSE)","v":"混合物"},null,{"$f":"VLOOKUP(F874,工作表9!$G$1:$H$142, 2, FALSE)","v":0},0]
[null,null,null,null,null,null,{"$f":"VLOOKUP(F875,工作表9!$G$1:$I$136,3, FALSE)","v":"混合物"},null,{"$f":"VLOOKUP(F875,工作表9!$G$1:$H$142, 2, FALSE)","v":0},0]
[null,null,null,null,null,null,{"$f":"VLOOKUP(F876,工作表9!$G$1:$I$136,3, FALSE)","v":"混合物"},null,{"$f":"VLOOKUP(F876,工作表9!$G$1:$H$142, 2, FALSE)","v":0},0]
[null,null,null,null,null,null,{"$f":"VLOOKUP(F877,工作表9!$G$1:$I$136,3, FALSE)","v":"混合物"},null,{"$f":"VLOOKUP(F877,工作表9!$G$1:$H$142, 2, FALSE)","v":0},0]
[null,null,null,null,null,null,{"$f":"VLOOKUP(F878,工作表9!$G$1:$I$136,3, FALSE)","v":"混合物"},null,{"$f":"VLOOKUP(F878,工作表9!$G$1:$H$142, 2, FALSE)","v":0},0]
[null,null,null,null,null,null,{"$f":"VLOOKUP(F879,工作表9!$G$1:$I$136,3, FALSE)","v":"混合物"},null,{"$f":"VLOOKUP(F879,工作表9!$G$1:$H$142, 2, FALSE)","v":0},0]
[null,null,null,null,null,null,{"$f":"VLOOKUP(F880,工作表9!$G$1:$I$136,3, FALSE)","v":"混合物"},null,{"$f":"VLOOKUP(F880,工作表9!$G$1:$H$142, 2, FALSE)","v":0},0]
[null,null,null,null,null,null,{"$f":"VLOOKUP(F881,工作表9!$G$1:$I$136,3, FALSE)","v":"混合物"},null,{"$f":"VLOOKUP(F881,工作表9!$G$1:$H$142, 2, FALSE)","v":0},0]
[null,null,null,null,null,null,{"$f":"VLOOKUP(F882,工作表9!$G$1:$I$136,3, FALSE)","v":"混合物"},null,{"$f":"VLOOKUP(F882,工作表9!$G$1:$H$142, 2, FALSE)","v":0},0]
[null,null,null,null,null,null,{"$f":"VLOOKUP(F883,工作表9!$G$1:$I$136,3, FALSE)","v":"混合物"},null,{"$f":"VLOOKUP(F883,工作表9!$G$1:$H$142, 2, FALSE)","v":0},0]
[null,null,null,null,null,null,{"$f":"VLOOKUP(F884,工作表9!$G$1:$I$136,3, FALSE)","v":"混合物"},null,{"$f":"VLOOKUP(F884,工作表9!$G$1:$H$142, 2, FALSE)","v":0},0]
[null,null,null,null,null,null,{"$f":"VLOOKUP(F885,工作表9!$G$1:$I$136,3, FALSE)","v":"混合物"},null,{"$f":"VLOOKUP(F885,工作表9!$G$1:$H$142, 2, FALSE)","v":0},0]
[null,null,null,null,null,null,{"$f":"VLOOKUP(F886,工作表9!$G$1:$I$136,3, FALSE)","v":"混合物"},null,{"$f":"VLOOKUP(F886,工作表9!$G$1:$H$142, 2, FALSE)","v":0},0]
[null,null,null,null,null,null,{"$f":"VLOOKUP(F887,工作表9!$G$1:$I$136,3, FALSE)","v":"混合物"},null,{"$f":"VLOOKUP(F887,工作表9!$G$1:$H$142, 2, FALSE)","v":0},0]
[null,null,null,null,null,null,{"$f":"VLOOKUP(F888,工作表9!$G$1:$I$136,3, FALSE)","v":"混合物"},null,{"$f":"VLOOKUP(F888,工作表9!$G$1:$H$142, 2, FALSE)","v":0},0]
[null,null,null,null,null,null,{"$f":"VLOOKUP(F889,工作表9!$G$1:$I$136,3, FALSE)","v":"混合物"},null,{"$f":"VLOOKUP(F889,工作表9!$G$1:$H$142, 2, FALSE)","v":0},0]
[null,null,null,null,null,null,{"$f":"VLOOKUP(F890,工作表9!$G$1:$I$136,3, FALSE)","v":"混合物"},null,{"$f":"VLOOKUP(F890,工作表9!$G$1:$H$142, 2, FALSE)","v":0},0]
[null,null,null,null,null,null,{"$f":"VLOOKUP(F891,工作表9!$G$1:$I$136,3, FALSE)","v":"混合物"},null,{"$f":"VLOOKUP(F891,工作表9!$G$1:$H$142, 2, FALSE)","v":0},0]
[null,null,null,null,null,null,{"$f":"VLOOKUP(F892,工作表9!$G$1:$I$136,3, FALSE)","v":"混合物"},null,{"$f":"VLOOKUP(F892,工作表9!$G$1:$H$142, 2, FALSE)","v":0},0]
[null,null,null,null,null,null,{"$f":"VLOOKUP(F893,工作表9!$G$1:$I$136,3, FALSE)","v":"混合物"},null,{"$f":"VLOOKUP(F893,工作表9!$G$1:$H$142, 2, FALSE)","v":0},0]
[null,null,null,null,null,null,{"$f":"VLOOKUP(F894,工作表9!$G$1:$I$136,3, FALSE)","v":"混合物"},null,{"$f":"VLOOKUP(F894,工作表9!$G$1:$H$142, 2, FALSE)","v":0},0]
[null,null,null,null,null,null,{"$f":"VLOOKUP(F895,工作表9!$G$1:$I$136,3, FALSE)","v":"混合物"},null,{"$f":"VLOOKUP(F895,工作表9!$G$1:$H$142, 2, FALSE)","v":0},0]
[null,null,null,null,null,null,{"$f":"VLOOKUP(F896,工作表9!$G$1:$I$136,3, FALSE)","v":"混合物"},null,{"$f":"VLOOKUP(F896,工作表9!$G$1:$H$142, 2, FALSE)","v":0},0]
[null,null,null,null,null,null,{"$f":"VLOOKUP(F897,工作表9!$G$1:$I$136,3, FALSE)","v":"混合物"},null,{"$f":"VLOOKUP(F897,工作表9!$G$1:$H$142, 2, FALSE)","v":0},0]
[null,null,null,null,null,null,{"$f":"VLOOKUP(F898,工作表9!$G$1:$I$136,3, FALSE)","v":"混合物"},null,{"$f":"VLOOKUP(F898,工作表9!$G$1:$H$142, 2, FALSE)","v":0},0]
[null,null,null,null,null,null,{"$f":"VLOOKUP(F899,工作表9!$G$1:$I$136,3, FALSE)","v":"混合物"},null,{"$f":"VLOOKUP(F899,工作表9!$G$1:$H$142, 2, FALSE)","v":0},0]
[null,null,null,null,null,null,{"$f":"VLOOKUP(F900,工作表9!$G$1:$I$136,3, FALSE)","v":"混合物"},null,{"$f":"VLOOKUP(F900,工作表9!$G$1:$H$142, 2, FALSE)","v":0},0]
[null,null,null,null,null,null,{"$f":"VLOOKUP(F901,工作表9!$G$1:$I$136,3, FALSE)","v":"混合物"},null,{"$f":"VLOOKUP(F901,工作表9!$G$1:$H$142, 2, FALSE)","v":0},0]
[null,null,null,null,null,null,{"$f":"VLOOKUP(F902,工作表9!$G$1:$I$136,3, FALSE)","v":"混合物"},null,{"$f":"VLOOKUP(F902,工作表9!$G$1:$H$142, 2, FALSE)","v":0},{"$f":"H902*I902","v":0}]
[null,null,null,null,null,null,{"$f":"VLOOKUP(F903,工作表9!$G$1:$I$136,3, FALSE)","v":"混合物"},null,{"$f":"VLOOKUP(F903,工作表9!$G$1:$H$142, 2, FALSE)","v":0},0]
[null,null,null,null,null,null,{"$f":"VLOOKUP(F904,工作表9!$G$1:$I$136,3, FALSE)","v":"混合物"},null,{"$f":"VLOOKUP(F904,工作表9!$G$1:$H$142, 2, FALSE)","v":0},0]
[null,null,null,null,null,null,{"$f":"VLOOKUP(F905,工作表9!$G$1:$I$136,3, FALSE)","v":"混合物"},null,{"$f":"VLOOKUP(F905,工作表9!$G$1:$H$142, 2, FALSE)","v":0},0]
[null,null,null,null,null,null,{"$f":"VLOOKUP(F906,工作表9!$G$1:$I$136,3, FALSE)","v":"混合物"},null,{"$f":"VLOOKUP(F906,工作表9!$G$1:$H$142, 2, FALSE)","v":0},0]
[null,null,null,null,null,null,{"$f":"VLOOKUP(F907,工作表9!$G$1:$I$136,3, FALSE)","v":"混合物"},null,{"$f":"VLOOKUP(F907,工作表9!$G$1:$H$142, 2, FALSE)","v":0},0]
[null,null,null,null,null,null,{"$f":"VLOOKUP(F908,工作表9!$G$1:$I$136,3, FALSE)","v":"混合物"},null,{"$f":"VLOOKUP(F908,工作表9!$G$1:$H$142, 2, FALSE)","v":0},0]
[null,null,null,null,null,null,{"$f":"VLOOKUP(F909,工作表9!$G$1:$I$136,3, FALSE)","v":"混合物"},null,{"$f":"VLOOKUP(F909,工作表9!$G$1:$H$142, 2, FALSE)","v":0},0]
[null,null,null,null,null,null,{"$f":"VLOOKUP(F910,工作表9!$G$1:$I$136,3, FALSE)","v":"混合物"},null,{"$f":"VLOOKUP(F910,工作表9!$G$1:$H$142, 2, FALSE)","v":0},0]
[null,null,null,null,null,null,{"$f":"VLOOKUP(F911,工作表9!$G$1:$I$136,3, FALSE)","v":"混合物"},null,{"$f":"VLOOKUP(F911,工作表9!$G$1:$H$142, 2, FALSE)","v":0},0]
[null,null,null,null,null,null,{"$f":"VLOOKUP(F912,工作表9!$G$1:$I$136,3, FALSE)","v":"混合物"},null,{"$f":"VLOOKUP(F912,工作表9!$G$1:$H$142, 2, FALSE)","v":0},0]
[null,null,null,null,null,null,{"$f":"VLOOKUP(F913,工作表9!$G$1:$I$136,3, FALSE)","v":"混合物"},null,{"$f":"VLOOKUP(F913,工作表9!$G$1:$H$142, 2, FALSE)","v":0},0]
[null,null,null,null,null,null,{"$f":"VLOOKUP(F914,工作表9!$G$1:$I$136,3, FALSE)","v":"混合物"},null,{"$f":"VLOOKUP(F914,工作表9!$G$1:$H$142, 2, FALSE)","v":0},0]
[null,null,null,null,null,null,{"$f":"VLOOKUP(F915,工作表9!$G$1:$I$136,3, FALSE)","v":"混合物"},null,{"$f":"VLOOKUP(F915,工作表9!$G$1:$H$142, 2, FALSE)","v":0},0]
[null,null,null,null,null,null,{"$f":"VLOOKUP(F916,工作表9!$G$1:$I$136,3, FALSE)","v":"混合物"},null,{"$f":"VLOOKUP(F916,工作表9!$G$1:$H$142, 2, FALSE)","v":0},0]
[null,null,null,null,null,null,{"$f":"VLOOKUP(F917,工作表9!$G$1:$I$136,3, FALSE)","v":"混合物"},null,{"$f":"VLOOKUP(F917,工作表9!$G$1:$H$142, 2, FALSE)","v":0},0]
[null,null,null,null,null,null,{"$f":"VLOOKUP(F918,工作表9!$G$1:$I$136,3, FALSE)","v":"混合物"},null,{"$f":"VLOOKUP(F918,工作表9!$G$1:$H$142, 2, FALSE)","v":0},0]
[null,null,null,null,null,null,{"$f":"VLOOKUP(F919,工作表9!$G$1:$I$136,3, FALSE)","v":"混合物"},null,{"$f":"VLOOKUP(F919,工作表9!$G$1:$H$142, 2, FALSE)","v":0},0]
[null,null,null,null,null,null,{"$f":"VLOOKUP(F920,工作表9!$G$1:$I$136,3, FALSE)","v":"混合物"},null,{"$f":"VLOOKUP(F920,工作表9!$G$1:$H$142, 2, FALSE)","v":0},0]
[null,null,null,null,null,null,{"$f":"VLOOKUP(F921,工作表9!$G$1:$I$136,3, FALSE)","v":"混合物"},null,{"$f":"VLOOKUP(F921,工作表9!$G$1:$H$142, 2, FALSE)","v":0},0]
[null,null,null,null,null,null,{"$f":"VLOOKUP(F922,工作表9!$G$1:$I$136,3, FALSE)","v":"混合物"},null,{"$f":"VLOOKUP(F922,工作表9!$G$1:$H$142, 2, FALSE)","v":0},0]
[null,null,null,null,null,null,{"$f":"VLOOKUP(F923,工作表9!$G$1:$I$136,3, FALSE)","v":"混合物"},null,{"$f":"VLOOKUP(F923,工作表9!$G$1:$H$142, 2, FALSE)","v":0},0]
[null,null,null,null,null,null,{"$f":"VLOOKUP(F924,工作表9!$G$1:$I$136,3, FALSE)","v":"混合物"},null,{"$f":"VLOOKUP(F924,工作表9!$G$1:$H$142, 2, FALSE)","v":0},0]
[null,null,null,null,null,null,{"$f":"VLOOKUP(F925,工作表9!$G$1:$I$136,3, FALSE)","v":"混合物"},null,{"$f":"VLOOKUP(F925,工作表9!$G$1:$H$142, 2, FALSE)","v":0},0]
[null,null,null,null,null,null,{"$f":"VLOOKUP(F926,工作表9!$G$1:$I$136,3, FALSE)","v":"混合物"},null,{"$f":"VLOOKUP(F926,工作表9!$G$1:$H$142, 2, FALSE)","v":0},0]
[null,null,null,null,null,null,{"$f":"VLOOKUP(F927,工作表9!$G$1:$I$136,3, FALSE)","v":"混合物"},null,{"$f":"VLOOKUP(F927,工作表9!$G$1:$H$142, 2, FALSE)","v":0},0]
[null,null,null,null,null,null,{"$f":"VLOOKUP(F928,工作表9!$G$1:$I$136,3, FALSE)","v":"混合物"},null,{"$f":"VLOOKUP(F928,工作表9!$G$1:$H$142, 2, FALSE)","v":0},0]
[null,null,null,null,null,null,{"$f":"VLOOKUP(F929,工作表9!$G$1:$I$136,3, FALSE)","v":"混合物"},null,{"$f":"VLOOKUP(F929,工作表9!$G$1:$H$142, 2, FALSE)","v":0},0]
[null,null,null,null,null,null,{"$f":"VLOOKUP(F930,工作表9!$G$1:$I$136,3, FALSE)","v":"混合物"},null,{"$f":"VLOOKUP(F930,工作表9!$G$1:$H$142, 2, FALSE)","v":0},0]
[null,null,null,null,null,null,{"$f":"VLOOKUP(F931,工作表9!$G$1:$I$136,3, FALSE)","v":"混合物"},null,{"$f":"VLOOKUP(F931,工作表9!$G$1:$H$142, 2, FALSE)","v":0},0]
[null,null,null,null,null,null,{"$f":"VLOOKUP(F932,工作表9!$G$1:$I$136,3, FALSE)","v":"混合物"},null,{"$f":"VLOOKUP(F932,工作表9!$G$1:$H$142, 2, FALSE)","v":0},0]
[null,null,null,null,null,null,{"$f":"VLOOKUP(F933,工作表9!$G$1:$I$136,3, FALSE)","v":"混合物"},null,{"$f":"VLOOKUP(F933,工作表9!$G$1:$H$142, 2, FALSE)","v":0},0]
[null,null,null,null,null,null,{"$f":"VLOOKUP(F934,工作表9!$G$1:$I$136,3, FALSE)","v":"混合物"},null,{"$f":"VLOOKUP(F934,工作表9!$G$1:$H$142, 2, FALSE)","v":0},0]
[null,null,null,null,null,null,{"$f":"VLOOKUP(F935,工作表9!$G$1:$I$136,3, FALSE)","v":"混合物"},null,{"$f":"VLOOKUP(F935,工作表9!$G$1:$H$142, 2, FALSE)","v":0},0]
[null,null,null,null,null,null,{"$f":"VLOOKUP(F936,工作表9!$G$1:$I$136,3, FALSE)","v":"混合物"},null,{"$f":"VLOOKUP(F936,工作表9!$G$1:$H$142, 2, FALSE)","v":0},0]
[null,null,null,null,null,null,{"$f":"VLOOKUP(F937,工作表9!$G$1:$I$136,3, FALSE)","v":"混合物"},null,{"$f":"VLOOKUP(F937,工作表9!$G$1:$H$142, 2, FALSE)","v":0},0]
[null,null,null,null,null,null,{"$f":"VLOOKUP(F938,工作表9!$G$1:$I$136,3, FALSE)","v":"混合物"},null,{"$f":"VLOOKUP(F938,工作表9!$G$1:$H$142, 2, FALSE)","v":0},0]
[null,null,null,null,null,null,{"$f":"VLOOKUP(F939,工作表9!$G$1:$I$136,3, FALSE)","v":"混合物"},null,{"$f":"VLOOKUP(F939,工作表9!$G$1:$H$142, 2, FALSE)","v":0},0]
[null,null,null,null,null,null,{"$f":"VLOOKUP(F940,工作表9!$G$1:$I$136,3, FALSE)","v":"混合物"},null,{"$f":"VLOOKUP(F940,工作表9!$G$1:$H$142, 2, FALSE)","v":0},0]
[null,null,null,null,null,null,{"$f":"VLOOKUP(F941,工作表9!$G$1:$I$136,3, FALSE)","v":"混合物"},null,{"$f":"VLOOKUP(F941,工作表9!$G$1:$H$142, 2, FALSE)","v":0},0]
[null,null,null,null,null,null,{"$f":"VLOOKUP(F942,工作表9!$G$1:$I$136,3, FALSE)","v":"混合物"},null,{"$f":"VLOOKUP(F942,工作表9!$G$1:$H$142, 2, FALSE)","v":0},0]
[null,null,null,null,null,null,{"$f":"VLOOKUP(F943,工作表9!$G$1:$I$136,3, FALSE)","v":"混合物"},null,{"$f":"VLOOKUP(F943,工作表9!$G$1:$H$142, 2, FALSE)","v":0},0]
[null,null,null,null,null,null,{"$f":"VLOOKUP(F944,工作表9!$G$1:$I$136,3, FALSE)","v":"混合物"},null,{"$f":"VLOOKUP(F944,工作表9!$G$1:$H$142, 2, FALSE)","v":0},0]
[null,null,null,null,null,null,{"$f":"VLOOKUP(F945,工作表9!$G$1:$I$136,3, FALSE)","v":"混合物"},null,{"$f":"VLOOKUP(F945,工作表9!$G$1:$H$142, 2, FALSE)","v":0},0]
[null,null,null,null,null,null,{"$f":"VLOOKUP(F946,工作表9!$G$1:$I$136,3, FALSE)","v":"混合物"},null,{"$f":"VLOOKUP(F946,工作表9!$G$1:$H$142, 2, FALSE)","v":0},0]
[null,null,null,null,null,null,{"$f":"VLOOKUP(F947,工作表9!$G$1:$I$136,3, FALSE)","v":"混合物"},null,{"$f":"VLOOKUP(F947,工作表9!$G$1:$H$142, 2, FALSE)","v":0},0]
[null,null,null,null,null,null,{"$f":"VLOOKUP(F948,工作表9!$G$1:$I$136,3, FALSE)","v":"混合物"},null,{"$f":"VLOOKUP(F948,工作表9!$G$1:$H$142, 2, FALSE)","v":0},0]
[null,null,null,null,null,null,{"$f":"VLOOKUP(F949,工作表9!$G$1:$I$136,3, FALSE)","v":"混合物"},null,{"$f":"VLOOKUP(F949,工作表9!$G$1:$H$142, 2, FALSE)","v":0},0]
[null,null,null,null,null,null,{"$f":"VLOOKUP(F950,工作表9!$G$1:$I$136,3, FALSE)","v":"混合物"},null,{"$f":"VLOOKUP(F950,工作表9!$G$1:$H$142, 2, FALSE)","v":0},0]
[null,null,null,null,null,null,{"$f":"VLOOKUP(F951,工作表9!$G$1:$I$136,3, FALSE)","v":"混合物"},null,{"$f":"VLOOKUP(F951,工作表9!$G$1:$H$142, 2, FALSE)","v":0},0]
[null,null,null,null,null,null,{"$f":"VLOOKUP(F952,工作表9!$G$1:$I$136,3, FALSE)","v":"混合物"},null,{"$f":"VLOOKUP(F952,工作表9!$G$1:$H$142, 2, FALSE)","v":0},0]
[null,null,null,null,null,null,{"$f":"VLOOKUP(F953,工作表9!$G$1:$I$136,3, FALSE)","v":"混合物"},null,{"$f":"VLOOKUP(F953,工作表9!$G$1:$H$142, 2, FALSE)","v":0},0]
[null,null,null,null,null,null,{"$f":"VLOOKUP(F954,工作表9!$G$1:$I$136,3, FALSE)","v":"混合物"},null,{"$f":"VLOOKUP(F954,工作表9!$G$1:$H$142, 2, FALSE)","v":0},0]
[null,null,null,null,null,null,{"$f":"VLOOKUP(F955,工作表9!$G$1:$I$136,3, FALSE)","v":"混合物"},null,{"$f":"VLOOKUP(F955,工作表9!$G$1:$H$142, 2, FALSE)","v":0},0]
[null,null,null,null,null,null,{"$f":"VLOOKUP(F956,工作表9!$G$1:$I$136,3, FALSE)","v":"混合物"},null,{"$f":"VLOOKUP(F956,工作表9!$G$1:$H$142, 2, FALSE)","v":0},0]
[null,null,null,null,null,null,{"$f":"VLOOKUP(F957,工作表9!$G$1:$I$136,3, FALSE)","v":"混合物"},null,{"$f":"VLOOKUP(F957,工作表9!$G$1:$H$142, 2, FALSE)","v":0},0]
[null,null,null,null,null,null,{"$f":"VLOOKUP(F958,工作表9!$G$1:$I$136,3, FALSE)","v":"混合物"},null,{"$f":"VLOOKUP(F958,工作表9!$G$1:$H$142, 2, FALSE)","v":0},0]
[null,null,null,null,null,null,{"$f":"VLOOKUP(F959,工作表9!$G$1:$I$136,3, FALSE)","v":"混合物"},null,{"$f":"VLOOKUP(F959,工作表9!$G$1:$H$142, 2, FALSE)","v":0},0]
[null,null,null,null,null,null,{"$f":"VLOOKUP(F960,工作表9!$G$1:$I$136,3, FALSE)","v":"混合物"},null,{"$f":"VLOOKUP(F960,工作表9!$G$1:$H$142, 2, FALSE)","v":0},0]
[null,null,null,null,null,null,{"$f":"VLOOKUP(F961,工作表9!$G$1:$I$136,3, FALSE)","v":"混合物"},null,{"$f":"VLOOKUP(F961,工作表9!$G$1:$H$142, 2, FALSE)","v":0},0]
[null,null,null,null,null,null,{"$f":"VLOOKUP(F962,工作表9!$G$1:$I$136,3, FALSE)","v":"混合物"},null,{"$f":"VLOOKUP(F962,工作表9!$G$1:$H$142, 2, FALSE)","v":0},0]
[null,null,null,null,null,null,{"$f":"VLOOKUP(F963,工作表9!$G$1:$I$136,3, FALSE)","v":"混合物"},null,{"$f":"VLOOKUP(F963,工作表9!$G$1:$H$142, 2, FALSE)","v":0},0]
[null,null,null,null,null,null,{"$f":"VLOOKUP(F964,工作表9!$G$1:$I$136,3, FALSE)","v":"混合物"},null,{"$f":"VLOOKUP(F964,工作表9!$G$1:$H$142, 2, FALSE)","v":0},0]
[null,null,null,null,null,null,{"$f":"VLOOKUP(F965,工作表9!$G$1:$I$136,3, FALSE)","v":"混合物"},null,{"$f":"VLOOKUP(F965,工作表9!$G$1:$H$142, 2, FALSE)","v":0},0]
[null,null,null,null,null,null,{"$f":"VLOOKUP(F966,工作表9!$G$1:$I$136,3, FALSE)","v":"混合物"},null,{"$f":"VLOOKUP(F966,工作表9!$G$1:$H$142, 2, FALSE)","v":0},{"$f":"H966*I966","v":0}]
[null,null,null,null,null,null,{"$f":"VLOOKUP(F967,工作表9!$G$1:$I$136,3, FALSE)","v":"混合物"},null,{"$f":"VLOOKUP(F967,工作表9!$G$1:$H$142, 2, FALSE)","v":0},0]
[null,null,null,null,null,null,{"$f":"VLOOKUP(F968,工作表9!$G$1:$I$136,3, FALSE)","v":"混合物"},null,{"$f":"VLOOKUP(F968,工作表9!$G$1:$H$142, 2, FALSE)","v":0},0]
[null,null,null,null,null,null,{"$f":"VLOOKUP(F969,工作表9!$G$1:$I$136,3, FALSE)","v":"混合物"},null,{"$f":"VLOOKUP(F969,工作表9!$G$1:$H$142, 2, FALSE)","v":0},0]
[null,null,null,null,null,null,{"$f":"VLOOKUP(F970,工作表9!$G$1:$I$136,3, FALSE)","v":"混合物"},null,{"$f":"VLOOKUP(F970,工作表9!$G$1:$H$142, 2, FALSE)","v":0},0]
[null,null,null,null,null,null,{"$f":"VLOOKUP(F971,工作表9!$G$1:$I$136,3, FALSE)","v":"混合物"},null,{"$f":"VLOOKUP(F971,工作表9!$G$1:$H$142, 2, FALSE)","v":0},0]
[null,null,null,null,null,null,{"$f":"VLOOKUP(F972,工作表9!$G$1:$I$136,3, FALSE)","v":"混合物"},null,{"$f":"VLOOKUP(F972,工作表9!$G$1:$H$142, 2, FALSE)","v":0},0]
[null,null,null,null,null,null,{"$f":"VLOOKUP(F973,工作表9!$G$1:$I$136,3, FALSE)","v":"混合物"},null,{"$f":"VLOOKUP(F973,工作表9!$G$1:$H$142, 2, FALSE)","v":0},0]
[null,null,null,null,null,null,{"$f":"VLOOKUP(F974,工作表9!$G$1:$I$136,3, FALSE)","v":"混合物"},null,{"$f":"VLOOKUP(F974,工作表9!$G$1:$H$142, 2, FALSE)","v":0},0]
[null,null,null,null,null,null,{"$f":"VLOOKUP(F975,工作表9!$G$1:$I$136,3, FALSE)","v":"混合物"},null,{"$f":"VLOOKUP(F975,工作表9!$G$1:$H$142, 2, FALSE)","v":0},0]
[null,null,null,null,null,null,{"$f":"VLOOKUP(F976,工作表9!$G$1:$I$136,3, FALSE)","v":"混合物"},null,{"$f":"VLOOKUP(F976,工作表9!$G$1:$H$142, 2, FALSE)","v":0},0]
[null,null,null,null,null,null,{"$f":"VLOOKUP(F977,工作表9!$G$1:$I$136,3, FALSE)","v":"混合物"},null,{"$f":"VLOOKUP(F977,工作表9!$G$1:$H$142, 2, FALSE)","v":0},0]
[null,null,null,null,null,null,{"$f":"VLOOKUP(F978,工作表9!$G$1:$I$136,3, FALSE)","v":"混合物"},null,{"$f":"VLOOKUP(F978,工作表9!$G$1:$H$142, 2, FALSE)","v":0},0]
[null,null,null,null,null,null,{"$f":"VLOOKUP(F979,工作表9!$G$1:$I$136,3, FALSE)","v":"混合物"},null,{"$f":"VLOOKUP(F979,工作表9!$G$1:$H$142, 2, FALSE)","v":0},0]
[null,null,null,null,null,null,{"$f":"VLOOKUP(F980,工作表9!$G$1:$I$136,3, FALSE)","v":"混合物"},null,{"$f":"VLOOKUP(F980,工作表9!$G$1:$H$142, 2, FALSE)","v":0},0]
[null,null,null,null,null,null,{"$f":"VLOOKUP(F981,工作表9!$G$1:$I$136,3, FALSE)","v":"混合物"},null,{"$f":"VLOOKUP(F981,工作表9!$G$1:$H$142, 2, FALSE)","v":0},0]
[null,null,null,null,null,null,{"$f":"VLOOKUP(F982,工作表9!$G$1:$I$136,3, FALSE)","v":"混合物"},null,{"$f":"VLOOKUP(F982,工作表9!$G$1:$H$142, 2, FALSE)","v":0},0]
[null,null,null,null,null,null,{"$f":"VLOOKUP(F983,工作表9!$G$1:$I$136,3, FALSE)","v":"混合物"},null,{"$f":"VLOOKUP(F983,工作表9!$G$1:$H$142, 2, FALSE)","v":0},0]
[null,null,null,null,null,null,{"$f":"VLOOKUP(F984,工作表9!$G$1:$I$136,3, FALSE)","v":"混合物"},null,{"$f":"VLOOKUP(F984,工作表9!$G$1:$H$142, 2, FALSE)","v":0},0]
[null,null,null,null,null,null,{"$f":"VLOOKUP(F985,工作表9!$G$1:$I$136,3, FALSE)","v":"混合物"},null,{"$f":"VLOOKUP(F985,工作表9!$G$1:$H$142, 2, FALSE)","v":0},0]
[null,null,null,null,null,null,{"$f":"VLOOKUP(F986,工作表9!$G$1:$I$136,3, FALSE)","v":"混合物"},null,{"$f":"VLOOKUP(F986,工作表9!$G$1:$H$142, 2, FALSE)","v":0},0]
[null,null,null,null,null,null,{"$f":"VLOOKUP(F987,工作表9!$G$1:$I$136,3, FALSE)","v":"混合物"},null,{"$f":"VLOOKUP(F987,工作表9!$G$1:$H$142, 2, FALSE)","v":0},0]
[null,null,null,null,null,null,{"$f":"VLOOKUP(F988,工作表9!$G$1:$I$136,3, FALSE)","v":"混合物"},null,{"$f":"VLOOKUP(F988,工作表9!$G$1:$H$142, 2, FALSE)","v":0},0]
[null,null,null,null,null,null,{"$f":"VLOOKUP(F989,工作表9!$G$1:$I$136,3, FALSE)","v":"混合物"},null,{"$f":"VLOOKUP(F989,工作表9!$G$1:$H$142, 2, FALSE)","v":0},0]
[null,null,null,null,null,null,{"$f":"VLOOKUP(F990,工作表9!$G$1:$I$136,3, FALSE)","v":"混合物"},null,{"$f":"VLOOKUP(F990,工作表9!$G$1:$H$142, 2, FALSE)","v":0},0]
[null,null,null,null,null,null,{"$f":"VLOOKUP(F991,工作表9!$G$1:$I$136,3, FALSE)","v":"混合物"},null,{"$f":"VLOOKUP(F991,工作表9!$G$1:$H$142, 2, FALSE)","v":0},0]
[null,null,null,null,null,null,{"$f":"VLOOKUP(F992,工作表9!$G$1:$I$136,3, FALSE)","v":"混合物"},null,{"$f":"VLOOKUP(F992,工作表9!$G$1:$H$142, 2, FALSE)","v":0},0]
[null,null,null,null,null,null,{"$f":"VLOOKUP(F993,工作表9!$G$1:$I$136,3, FALSE)","v":"混合物"},null,{"$f":"VLOOKUP(F993,工作表9!$G$1:$H$142, 2, FALSE)","v":0},0]
[null,null,null,null,null,null,{"$f":"VLOOKUP(F994,工作表9!$G$1:$I$136,3, FALSE)","v":"混合物"},null,{"$f":"VLOOKUP(F994,工作表9!$G$1:$H$142, 2, FALSE)","v":0},0]
[null,null,null,null,null,null,{"$f":"VLOOKUP(F995,工作表9!$G$1:$I$136,3, FALSE)","v":"混合物"},null,{"$f":"VLOOKUP(F995,工作表9!$G$1:$H$142, 2, FALSE)","v":0},0]
[null,null,null,null,null,null,{"$f":"VLOOKUP(F996,工作表9!$G$1:$I$136,3, FALSE)","v":"混合物"},null,{"$f":"VLOOKUP(F996,工作表9!$G$1:$H$142, 2, FALSE)","v":0},0]
[null,null,null,null,null,null,{"$f":"VLOOKUP(F997,工作表9!$G$1:$I$136,3, FALSE)","v":"混合物"},null,{"$f":"VLOOKUP(F997,工作表9!$G$1:$H$142, 2, FALSE)","v":0},0]
[null,null,null,null,null,null,{"$f":"VLOOKUP(F998,工作表9!$G$1:$I$136,3, FALSE)","v":"混合物"},null,{"$f":"VLOOKUP(F998,工作表9!$G$1:$H$142, 2, FALSE)","v":0},0]
[null,null,null,null,null,null,{"$f":"VLOOKUP(F999,工作表9!$G$1:$I$136,3, FALSE)","v":"混合物"},null,{"$f":"VLOOKUP(F999,工作表9!$G$1:$H$142, 2, FALSE)","v":0},0]
[null,null,null,null,null,null,{"$f":"VLOOKUP(F1000,工作表9!$G$1:$I$136,3, FALSE)","v":"混合物"},null,{"$f":"VLOOKUP(F1000,工作表9!$G$1:$H$142, 2, FALSE)","v":0},0]
["備註：","＊    請參考附件：冷媒GWP值"]

{"sheet":"111年氫氟碳（HFCs）之國內採購統計申報表","index":5,"n_rows":1001,"n_cols":10,"rows_kept":1001,"cut":false,"hidden":false,"merged":[[0,2,0,5],[0,0,0,1],[1,6,3,6],[1,0,3,0],[1,1,3,1],[1,3,3,3],[1,4,3,4],[1,5,3,5],[1,2,3,2]]}
["申報年份",null," 111         年",null,null,null,"請記得檢附採購發票影本"]
["編號","採購發票編號","供應廠商統一編號","供應廠商名稱","商品名稱","冷媒編號\n請填寫號碼即可，毋須填寫R-","物質類別","採購量","GWP*","公噸CO2eq"]
[null,null,null,null,null,null,null,"（公噸）",null,"C=A*B"]
[null,null,null,null,null,null,null,"A","B"]
["範例 1","UZ07990000","02750961","AA","R23",23,{"$f":"VLOOKUP(F5,工作表9!$G$1:$I$136,3, FALSE)","v":"純物質"},50,{"$f":"VLOOKUP(F5,工作表9!$G$1:$H$142, 2, FALSE)","v":14800},{"$f":"H5*I5","v":740000}]
["範例 2","UZ07990000","02750961","AA","R134a","134a",{"$f":"VLOOKUP(F6,工作表9!$G$1:$I$136,3, FALSE)","v":"純物質"},100,{"$f":"VLOOKUP(F6,工作表9!$G$1:$H$142, 2, FALSE)","v":1430},{"$f":"H6*I6","v":143000}]
[null,null,null,null,null,null,{"$f":"VLOOKUP(F7,工作表9!$G$1:$I$136,3, FALSE)","v":"混合物"},null,{"$f":"VLOOKUP(F7,工作表9!$G$1:$H$142, 2, FALSE)","v":0},0]
[null,null,null,null,null,null,{"$f":"VLOOKUP(F8,工作表9!$G$1:$I$136,3, FALSE)","v":"混合物"},null,{"$f":"VLOOKUP(F8,工作表9!$G$1:$H$142, 2, FALSE)","v":0},0]
[null,null,null,null,null,null,{"$f":"VLOOKUP(F9,工作表9!$G$1:$I$136,3, FALSE)","v":"混合物"},null,{"$f":"VLOOKUP(F9,工作表9!$G$1:$H$142, 2, FALSE)","v":0},0]
[null,null,null,null,null,null,{"$f":"VLOOKUP(F10,工作表9!$G$1:$I$136,3, FALSE)","v":"混合物"},null,{"$f":"VLOOKUP(F10,工作表9!$G$1:$H$142, 2, FALSE)","v":0},0]
[null,null,null,null,null,null,{"$f":"VLOOKUP(F11,工作表9!$G$1:$I$136,3, FALSE)","v":"混合物"},null,{"$f":"VLOOKUP(F11,工作表9!$G$1:$H$142, 2, FALSE)","v":0},0]
[null,null,null,null,null,null,{"$f":"VLOOKUP(F12,工作表9!$G$1:$I$136,3, FALSE)","v":"混合物"},null,{"$f":"VLOOKUP(F12,工作表9!$G$1:$H$142, 2, FALSE)","v":0},0]
[null,null,null,null,null,null,{"$f":"VLOOKUP(F13,工作表9!$G$1:$I$136,3, FALSE)","v":"混合物"},null,{"$f":"VLOOKUP(F13,工作表9!$G$1:$H$142, 2, FALSE)","v":0},0]
[null,null,null,null,null,null,{"$f":"VLOOKUP(F14,工作表9!$G$1:$I$136,3, FALSE)","v":"混合物"},null,{"$f":"VLOOKUP(F14,工作表9!$G$1:$H$142, 2, FALSE)","v":0},0]
[null,null,null,null,null,null,{"$f":"VLOOKUP(F15,工作表9!$G$1:$I$136,3, FALSE)","v":"混合物"},null,{"$f":"VLOOKUP(F15,工作表9!$G$1:$H$142, 2, FALSE)","v":0},0]
[null,null,null,null,null,null,{"$f":"VLOOKUP(F16,工作表9!$G$1:$I$136,3, FALSE)","v":"混合物"},null,{"$f":"VLOOKUP(F16,工作表9!$G$1:$H$142, 2, FALSE)","v":0},0]
[null,null,null,null,null,null,{"$f":"VLOOKUP(F17,工作表9!$G$1:$I$136,3, FALSE)","v":"混合物"},null,{"$f":"VLOOKUP(F17,工作表9!$G$1:$H$142, 2, FALSE)","v":0},0]
[null,null,null,null,null,null,{"$f":"VLOOKUP(F18,工作表9!$G$1:$I$136,3, FALSE)","v":"混合物"},null,{"$f":"VLOOKUP(F18,工作表9!$G$1:$H$142, 2, FALSE)","v":0},0]
[null,null,null,null,null,null,{"$f":"VLOOKUP(F19,工作表9!$G$1:$I$136,3, FALSE)","v":"混合物"},null,{"$f":"VLOOKUP(F19,工作表9!$G$1:$H$142, 2, FALSE)","v":0},0]
[null,null,null,null,null,null,{"$f":"VLOOKUP(F20,工作表9!$G$1:$I$136,3, FALSE)","v":"混合物"},null,{"$f":"VLOOKUP(F20,工作表9!$G$1:$H$142, 2, FALSE)","v":0},0]
[null,null,null,null,null,null,{"$f":"VLOOKUP(F21,工作表9!$G$1:$I$136,3, FALSE)","v":"混合物"},null,{"$f":"VLOOKUP(F21,工作表9!$G$1:$H$142, 2, FALSE)","v":0},0]
[null,null,null,null,null,null,{"$f":"VLOOKUP(F22,工作表9!$G$1:$I$136,3, FALSE)","v":"混合物"},null,{"$f":"VLOOKUP(F22,工作表9!$G$1:$H$142, 2, FALSE)","v":0},0]
[null,null,null,null,null,null,{"$f":"VLOOKUP(F23,工作表9!$G$1:$I$136,3, FALSE)","v":"混合物"},null,{"$f":"VLOOKUP(F23,工作表9!$G$1:$H$142, 2, FALSE)","v":0},0]
[null,null,null,null,null,null,{"$f":"VLOOKUP(F24,工作表9!$G$1:$I$136,3, FALSE)","v":"混合物"},null,{"$f":"VLOOKUP(F24,工作表9!$G$1:$H$142, 2, FALSE)","v":0},0]
[null,null,null,null,null,null,{"$f":"VLOOKUP(F25,工作表9!$G$1:$I$136,3, FALSE)","v":"混合物"},null,{"$f":"VLOOKUP(F25,工作表9!$G$1:$H$142, 2, FALSE)","v":0},0]
[null,null,null,null,null,null,{"$f":"VLOOKUP(F26,工作表9!$G$1:$I$136,3, FALSE)","v":"混合物"},null,{"$f":"VLOOKUP(F26,工作表9!$G$1:$H$142, 2, FALSE)","v":0},0]
[null,null,null,null,null,null,{"$f":"VLOOKUP(F27,工作表9!$G$1:$I$136,3, FALSE)","v":"混合物"},null,{"$f":"VLOOKUP(F27,工作表9!$G$1:$H$142, 2, FALSE)","v":0},0]
[null,null,null,null,null,null,{"$f":"VLOOKUP(F28,工作表9!$G$1:$I$136,3, FALSE)","v":"混合物"},null,{"$f":"VLOOKUP(F28,工作表9!$G$1:$H$142, 2, FALSE)","v":0},0]
[null,null,null,null,null,null,{"$f":"VLOOKUP(F29,工作表9!$G$1:$I$136,3, FALSE)","v":"混合物"},null,{"$f":"VLOOKUP(F29,工作表9!$G$1:$H$142, 2, FALSE)","v":0},0]
[null,null,null,null,null,null,{"$f":"VLOOKUP(F30,工作表9!$G$1:$I$136,3, FALSE)","v":"混合物"},null,{"$f":"VLOOKUP(F30,工作表9!$G$1:$H$142, 2, FALSE)","v":0},0]
[null,null,null,null,null,null,{"$f":"VLOOKUP(F31,工作表9!$G$1:$I$136,3, FALSE)","v":"混合物"},null,{"$f":"VLOOKUP(F31,工作表9!$G$1:$H$142, 2, FALSE)","v":0},0]
[null,null,null,null,null,null,{"$f":"VLOOKUP(F32,工作表9!$G$1:$I$136,3, FALSE)","v":"混合物"},null,{"$f":"VLOOKUP(F32,工作表9!$G$1:$H$142, 2, FALSE)","v":0},0]
[null,null,null,null,null,null,{"$f":"VLOOKUP(F33,工作表9!$G$1:$I$136,3, FALSE)","v":"混合物"},null,{"$f":"VLOOKUP(F33,工作表9!$G$1:$H$142, 2, FALSE)","v":0},0]
[null,null,null,null,null,null,{"$f":"VLOOKUP(F34,工作表9!$G$1:$I$136,3, FALSE)","v":"混合物"},null,{"$f":"VLOOKUP(F34,工作表9!$G$1:$H$142, 2, FALSE)","v":0},0]
[null,null,null,null,null,null,{"$f":"VLOOKUP(F35,工作表9!$G$1:$I$136,3, FALSE)","v":"混合物"},null,{"$f":"VLOOKUP(F35,工作表9!$G$1:$H$142, 2, FALSE)","v":0},0]
[null,null,null,null,null,null,{"$f":"VLOOKUP(F36,工作表9!$G$1:$I$136,3, FALSE)","v":"混合物"},null,{"$f":"VLOOKUP(F36,工作表9!$G$1:$H$142, 2, FALSE)","v":0},0]
[null,null,null,null,null,null,{"$f":"VLOOKUP(F37,工作表9!$G$1:$I$136,3, FALSE)","v":"混合物"},null,{"$f":"VLOOKUP(F37,工作表9!$G$1:$H$142, 2, FALSE)","v":0},0]
[null,null,null,null,null,null,{"$f":"VLOOKUP(F38,工作表9!$G$1:$I$136,3, FALSE)","v":"混合物"},null,{"$f":"VLOOKUP(F38,工作表9!$G$1:$H$142, 2, FALSE)","v":0},0]
[null,null,null,null,null,null,{"$f":"VLOOKUP(F39,工作表9!$G$1:$I$136,3, FALSE)","v":"混合物"},null,{"$f":"VLOOKUP(F39,工作表9!$G$1:$H$142, 2, FALSE)","v":0},0]
[null,null,null,null,null,null,{"$f":"VLOOKUP(F40,工作表9!$G$1:$I$136,3, FALSE)","v":"混合物"},null,{"$f":"VLOOKUP(F40,工作表9!$G$1:$H$142, 2, FALSE)","v":0},0]
[null,null,null,null,null,null,{"$f":"VLOOKUP(F41,工作表9!$G$1:$I$136,3, FALSE)","v":"混合物"},null,{"$f":"VLOOKUP(F41,工作表9!$G$1:$H$142, 2, FALSE)","v":0},0]
[null,null,null,null,null,null,{"$f":"VLOOKUP(F42,工作表9!$G$1:$I$136,3, FALSE)","v":"混合物"},null,{"$f":"VLOOKUP(F42,工作表9!$G$1:$H$142, 2, FALSE)","v":0},0]
[null,null,null,null,null,null,{"$f":"VLOOKUP(F43,工作表9!$G$1:$I$136,3, FALSE)","v":"混合物"},null,{"$f":"VLOOKUP(F43,工作表9!$G$1:$H$142, 2, FALSE)","v":0},0]
[null,null,null,null,null,null,{"$f":"VLOOKUP(F44,工作表9!$G$1:$I$136,3, FALSE)","v":"混合物"},null,{"$f":"VLOOKUP(F44,工作表9!$G$1:$H$142, 2, FALSE)","v":0},0]
[null,null,null,null,null,null,{"$f":"VLOOKUP(F45,工作表9!$G$1:$I$136,3, FALSE)","v":"混合物"},null,{"$f":"VLOOKUP(F45,工作表9!$G$1:$H$142, 2, FALSE)","v":0},0]
[null,null,null,null,null,null,{"$f":"VLOOKUP(F46,工作表9!$G$1:$I$136,3, FALSE)","v":"混合物"},null,{"$f":"VLOOKUP(F46,工作表9!$G$1:$H$142, 2, FALSE)","v":0},0]
[null,null,null,null,null,null,{"$f":"VLOOKUP(F47,工作表9!$G$1:$I$136,3, FALSE)","v":"混合物"},null,{"$f":"VLOOKUP(F47,工作表9!$G$1:$H$142, 2, FALSE)","v":0},0]
[null,null,null,null,null,null,{"$f":"VLOOKUP(F48,工作表9!$G$1:$I$136,3, FALSE)","v":"混合物"},null,{"$f":"VLOOKUP(F48,工作表9!$G$1:$H$142, 2, FALSE)","v":0},0]
[null,null,null,null,null,null,{"$f":"VLOOKUP(F49,工作表9!$G$1:$I$136,3, FALSE)","v":"混合物"},null,{"$f":"VLOOKUP(F49,工作表9!$G$1:$H$142, 2, FALSE)","v":0},0]
[null,null,null,null,null,null,{"$f":"VLOOKUP(F50,工作表9!$G$1:$I$136,3, FALSE)","v":"混合物"},null,{"$f":"VLOOKUP(F50,工作表9!$G$1:$H$142, 2, FALSE)","v":0},0]
[null,null,null,null,null,null,{"$f":"VLOOKUP(F51,工作表9!$G$1:$I$136,3, FALSE)","v":"混合物"},null,{"$f":"VLOOKUP(F51,工作表9!$G$1:$H$142, 2, FALSE)","v":0},0]
[null,null,null,null,null,null,{"$f":"VLOOKUP(F52,工作表9!$G$1:$I$136,3, FALSE)","v":"混合物"},null,{"$f":"VLOOKUP(F52,工作表9!$G$1:$H$142, 2, FALSE)","v":0},0]
[null,null,null,null,null,null,{"$f":"VLOOKUP(F53,工作表9!$G$1:$I$136,3, FALSE)","v":"混合物"},null,{"$f":"VLOOKUP(F53,工作表9!$G$1:$H$142, 2, FALSE)","v":0},0]
[null,null,null,null,null,null,{"$f":"VLOOKUP(F54,工作表9!$G$1:$I$136,3, FALSE)","v":"混合物"},null,{"$f":"VLOOKUP(F54,工作表9!$G$1:$H$142, 2, FALSE)","v":0},0]
[null,null,null,null,null,null,{"$f":"VLOOKUP(F55,工作表9!$G$1:$I$136,3, FALSE)","v":"混合物"},null,{"$f":"VLOOKUP(F55,工作表9!$G$1:$H$142, 2, FALSE)","v":0},0]
[null,null,null,null,null,null,{"$f":"VLOOKUP(F56,工作表9!$G$1:$I$136,3, FALSE)","v":"混合物"},null,{"$f":"VLOOKUP(F56,工作表9!$G$1:$H$142, 2, FALSE)","v":0},0]
[null,null,null,null,null,null,{"$f":"VLOOKUP(F57,工作表9!$G$1:$I$136,3, FALSE)","v":"混合物"},null,{"$f":"VLOOKUP(F57,工作表9!$G$1:$H$142, 2, FALSE)","v":0},0]
[null,null,null,null,null,null,{"$f":"VLOOKUP(F58,工作表9!$G$1:$I$136,3, FALSE)","v":"混合物"},null,{"$f":"VLOOKUP(F58,工作表9!$G$1:$H$142, 2, FALSE)","v":0},0]
[null,null,null,null,null,null,{"$f":"VLOOKUP(F59,工作表9!$G$1:$I$136,3, FALSE)","v":"混合物"},null,{"$f":"VLOOKUP(F59,工作表9!$G$1:$H$142, 2, FALSE)","v":0},0]
[null,null,null,null,null,null,{"$f":"VLOOKUP(F60,工作表9!$G$1:$I$136,3, FALSE)","v":"混合物"},null,{"$f":"VLOOKUP(F60,工作表9!$G$1:$H$142, 2, FALSE)","v":0},0]
[null,null,null,null,null,null,{"$f":"VLOOKUP(F61,工作表9!$G$1:$I$136,3, FALSE)","v":"混合物"},null,{"$f":"VLOOKUP(F61,工作表9!$G$1:$H$142, 2, FALSE)","v":0},0]
[null,null,null,null,null,null,{"$f":"VLOOKUP(F62,工作表9!$G$1:$I$136,3, FALSE)","v":"混合物"},null,{"$f":"VLOOKUP(F62,工作表9!$G$1:$H$142, 2, FALSE)","v":0},0]
[null,null,null,null,null,null,{"$f":"VLOOKUP(F63,工作表9!$G$1:$I$136,3, FALSE)","v":"混合物"},null,{"$f":"VLOOKUP(F63,工作表9!$G$1:$H$142, 2, FALSE)","v":0},0]
[null,null,null,null,null,null,{"$f":"VLOOKUP(F64,工作表9!$G$1:$I$136,3, FALSE)","v":"混合物"},null,{"$f":"VLOOKUP(F64,工作表9!$G$1:$H$142, 2, FALSE)","v":0},0]
[null,null,null,null,null,null,{"$f":"VLOOKUP(F65,工作表9!$G$1:$I$136,3, FALSE)","v":"混合物"},null,{"$f":"VLOOKUP(F65,工作表9!$G$1:$H$142, 2, FALSE)","v":0},0]
[null,null,null,null,null,null,{"$f":"VLOOKUP(F66,工作表9!$G$1:$I$136,3, FALSE)","v":"混合物"},null,{"$f":"VLOOKUP(F66,工作表9!$G$1:$H$142, 2, FALSE)","v":0},0]
[null,null,null,null,null,null,{"$f":"VLOOKUP(F67,工作表9!$G$1:$I$136,3, FALSE)","v":"混合物"},null,{"$f":"VLOOKUP(F67,工作表9!$G$1:$H$142, 2, FALSE)","v":0},0]
[null,null,null,null,null,null,{"$f":"VLOOKUP(F68,工作表9!$G$1:$I$136,3, FALSE)","v":"混合物"},null,{"$f":"VLOOKUP(F68,工作表9!$G$1:$H$142, 2, FALSE)","v":0},0]
[null,null,null,null,null,null,{"$f":"VLOOKUP(F69,工作表9!$G$1:$I$136,3, FALSE)","v":"混合物"},null,{"$f":"VLOOKUP(F69,工作表9!$G$1:$H$142, 2, FALSE)","v":0},0]
[null,null,null,null,null,null,{"$f":"VLOOKUP(F70,工作表9!$G$1:$I$136,3, FALSE)","v":"混合物"},null,{"$f":"VLOOKUP(F70,工作表9!$G$1:$H$142, 2, FALSE)","v":0},{"$f":"H70*I70","v":0}]
[null,null,null,null,null,null,{"$f":"VLOOKUP(F71,工作表9!$G$1:$I$136,3, FALSE)","v":"混合物"},null,{"$f":"VLOOKUP(F71,工作表9!$G$1:$H$142, 2, FALSE)","v":0},0]
[null,null,null,null,null,null,{"$f":"VLOOKUP(F72,工作表9!$G$1:$I$136,3, FALSE)","v":"混合物"},null,{"$f":"VLOOKUP(F72,工作表9!$G$1:$H$142, 2, FALSE)","v":0},0]
[null,null,null,null,null,null,{"$f":"VLOOKUP(F73,工作表9!$G$1:$I$136,3, FALSE)","v":"混合物"},null,{"$f":"VLOOKUP(F73,工作表9!$G$1:$H$142, 2, FALSE)","v":0},0]
[null,null,null,null,null,null,{"$f":"VLOOKUP(F74,工作表9!$G$1:$I$136,3, FALSE)","v":"混合物"},null,{"$f":"VLOOKUP(F74,工作表9!$G$1:$H$142, 2, FALSE)","v":0},0]
[null,null,null,null,null,null,{"$f":"VLOOKUP(F75,工作表9!$G$1:$I$136,3, FALSE)","v":"混合物"},null,{"$f":"VLOOKUP(F75,工作表9!$G$1:$H$142, 2, FALSE)","v":0},0]
[null,null,null,null,null,null,{"$f":"VLOOKUP(F76,工作表9!$G$1:$I$136,3, FALSE)","v":"混合物"},null,{"$f":"VLOOKUP(F76,工作表9!$G$1:$H$142, 2, FALSE)","v":0},0]
[null,null,null,null,null,null,{"$f":"VLOOKUP(F77,工作表9!$G$1:$I$136,3, FALSE)","v":"混合物"},null,{"$f":"VLOOKUP(F77,工作表9!$G$1:$H$142, 2, FALSE)","v":0},0]
[null,null,null,null,null,null,{"$f":"VLOOKUP(F78,工作表9!$G$1:$I$136,3, FALSE)","v":"混合物"},null,{"$f":"VLOOKUP(F78,工作表9!$G$1:$H$142, 2, FALSE)","v":0},0]
[null,null,null,null,null,null,{"$f":"VLOOKUP(F79,工作表9!$G$1:$I$136,3, FALSE)","v":"混合物"},null,{"$f":"VLOOKUP(F79,工作表9!$G$1:$H$142, 2, FALSE)","v":0},0]
[null,null,null,null,null,null,{"$f":"VLOOKUP(F80,工作表9!$G$1:$I$136,3, FALSE)","v":"混合物"},null,{"$f":"VLOOKUP(F80,工作表9!$G$1:$H$142, 2, FALSE)","v":0},0]
[null,null,null,null,null,null,{"$f":"VLOOKUP(F81,工作表9!$G$1:$I$136,3, FALSE)","v":"混合物"},null,{"$f":"VLOOKUP(F81,工作表9!$G$1:$H$142, 2, FALSE)","v":0},0]
[null,null,null,null,null,null,{"$f":"VLOOKUP(F82,工作表9!$G$1:$I$136,3, FALSE)","v":"混合物"},null,{"$f":"VLOOKUP(F82,工作表9!$G$1:$H$142, 2, FALSE)","v":0},0]
[null,null,null,null,null,null,{"$f":"VLOOKUP(F83,工作表9!$G$1:$I$136,3, FALSE)","v":"混合物"},null,{"$f":"VLOOKUP(F83,工作表9!$G$1:$H$142, 2, FALSE)","v":0},0]
[null,null,null,null,null,null,{"$f":"VLOOKUP(F84,工作表9!$G$1:$I$136,3, FALSE)","v":"混合物"},null,{"$f":"VLOOKUP(F84,工作表9!$G$1:$H$142, 2, FALSE)","v":0},0]
[null,null,null,null,null,null,{"$f":"VLOOKUP(F85,工作表9!$G$1:$I$136,3, FALSE)","v":"混合物"},null,{"$f":"VLOOKUP(F85,工作表9!$G$1:$H$142, 2, FALSE)","v":0},0]
[null,null,null,null,null,null,{"$f":"VLOOKUP(F86,工作表9!$G$1:$I$136,3, FALSE)","v":"混合物"},null,{"$f":"VLOOKUP(F86,工作表9!$G$1:$H$142, 2, FALSE)","v":0},0]
[null,null,null,null,null,null,{"$f":"VLOOKUP(F87,工作表9!$G$1:$I$136,3, FALSE)","v":"混合物"},null,{"$f":"VLOOKUP(F87,工作表9!$G$1:$H$142, 2, FALSE)","v":0},0]
[null,null,null,null,null,null,{"$f":"VLOOKUP(F88,工作表9!$G$1:$I$136,3, FALSE)","v":"混合物"},null,{"$f":"VLOOKUP(F88,工作表9!$G$1:$H$142, 2, FALSE)","v":0},0]
[null,null,null,null,null,null,{"$f":"VLOOKUP(F89,工作表9!$G$1:$I$136,3, FALSE)","v":"混合物"},null,{"$f":"VLOOKUP(F89,工作表9!$G$1:$H$142, 2, FALSE)","v":0},0]
[null,null,null,null,null,null,{"$f":"VLOOKUP(F90,工作表9!$G$1:$I$136,3, FALSE)","v":"混合物"},null,{"$f":"VLOOKUP(F90,工作表9!$G$1:$H$142, 2, FALSE)","v":0},0]
[null,null,null,null,null,null,{"$f":"VLOOKUP(F91,工作表9!$G$1:$I$136,3, FALSE)","v":"混合物"},null,{"$f":"VLOOKUP(F91,工作表9!$G$1:$H$142, 2, FALSE)","v":0},0]
[null,null,null,null,null,null,{"$f":"VLOOKUP(F92,工作表9!$G$1:$I$136,3, FALSE)","v":"混合物"},null,{"$f":"VLOOKUP(F92,工作表9!$G$1:$H$142, 2, FALSE)","v":0},0]
[null,null,null,null,null,null,{"$f":"VLOOKUP(F93,工作表9!$G$1:$I$136,3, FALSE)","v":"混合物"},null,{"$f":"VLOOKUP(F93,工作表9!$G$1:$H$142, 2, FALSE)","v":0},0]
[null,null,null,null,null,null,{"$f":"VLOOKUP(F94,工作表9!$G$1:$I$136,3, FALSE)","v":"混合物"},null,{"$f":"VLOOKUP(F94,工作表9!$G$1:$H$142, 2, FALSE)","v":0},0]
[null,null,null,null,null,null,{"$f":"VLOOKUP(F95,工作表9!$G$1:$I$136,3, FALSE)","v":"混合物"},null,{"$f":"VLOOKUP(F95,工作表9!$G$1:$H$142, 2, FALSE)","v":0},0]
[null,null,null,null,null,null,{"$f":"VLOOKUP(F96,工作表9!$G$1:$I$136,3, FALSE)","v":"混合物"},null,{"$f":"VLOOKUP(F96,工作表9!$G$1:$H$142, 2, FALSE)","v":0},0]
[null,null,null,null,null,null,{"$f":"VLOOKUP(F97,工作表9!$G$1:$I$136,3, FALSE)","v":"混合物"},null,{"$f":"VLOOKUP(F97,工作表9!$G$1:$H$142, 2, FALSE)","v":0},0]
[null,null,null,null,null,null,{"$f":"VLOOKUP(F98,工作表9!$G$1:$I$136,3, FALSE)","v":"混合物"},null,{"$f":"VLOOKUP(F98,工作表9!$G$1:$H$142, 2, FALSE)","v":0},0]
[null,null,null,null,null,null,{"$f":"VLOOKUP(F99,工作表9!$G$1:$I$136,3, FALSE)","v":"混合物"},null,{"$f":"VLOOKUP(F99,工作表9!$G$1:$H$142, 2, FALSE)","v":0},0]
[null,null,null,null,null,null,{"$f":"VLOOKUP(F100,工作表9!$G$1:$I$136,3, FALSE)","v":"混合物"},null,{"$f":"VLOOKUP(F100,工作表9!$G$1:$H$142, 2, FALSE)","v":0},0]
[null,null,null,null,null,null,{"$f":"VLOOKUP(F101,工作表9!$G$1:$I$136,3, FALSE)","v":"混合物"},null,{"$f":"VLOOKUP(F101,工作表9!$G$1:$H$142, 2, FALSE)","v":0},0]
[null,null,null,null,null,null,{"$f":"VLOOKUP(F102,工作表9!$G$1:$I$136,3, FALSE)","v":"混合物"},null,{"$f":"VLOOKUP(F102,工作表9!$G$1:$H$142, 2, FALSE)","v":0},0]
[null,null,null,null,null,null,{"$f":"VLOOKUP(F103,工作表9!$G$1:$I$136,3, FALSE)","v":"混合物"},null,{"$f":"VLOOKUP(F103,工作表9!$G$1:$H$142, 2, FALSE)","v":0},0]
[null,null,null,null,null,null,{"$f":"VLOOKUP(F104,工作表9!$G$1:$I$136,3, FALSE)","v":"混合物"},null,{"$f":"VLOOKUP(F104,工作表9!$G$1:$H$142, 2, FALSE)","v":0},0]
[null,null,null,null,null,null,{"$f":"VLOOKUP(F105,工作表9!$G$1:$I$136,3, FALSE)","v":"混合物"},null,{"$f":"VLOOKUP(F105,工作表9!$G$1:$H$142, 2, FALSE)","v":0},0]
[null,null,null,null,null,null,{"$f":"VLOOKUP(F106,工作表9!$G$1:$I$136,3, FALSE)","v":"混合物"},null,{"$f":"VLOOKUP(F106,工作表9!$G$1:$H$142, 2, FALSE)","v":0},0]
[null,null,null,null,null,null,{"$f":"VLOOKUP(F107,工作表9!$G$1:$I$136,3, FALSE)","v":"混合物"},null,{"$f":"VLOOKUP(F107,工作表9!$G$1:$H$142, 2, FALSE)","v":0},0]
[null,null,null,null,null,null,{"$f":"VLOOKUP(F108,工作表9!$G$1:$I$136,3, FALSE)","v":"混合物"},null,{"$f":"VLOOKUP(F108,工作表9!$G$1:$H$142, 2, FALSE)","v":0},0]
[null,null,null,null,null,null,{"$f":"VLOOKUP(F109,工作表9!$G$1:$I$136,3, FALSE)","v":"混合物"},null,{"$f":"VLOOKUP(F109,工作表9!$G$1:$H$142, 2, FALSE)","v":0},0]
[null,null,null,null,null,null,{"$f":"VLOOKUP(F110,工作表9!$G$1:$I$136,3, FALSE)","v":"混合物"},null,{"$f":"VLOOKUP(F110,工作表9!$G$1:$H$142, 2, FALSE)","v":0},0]
[null,null,null,null,null,null,{"$f":"VLOOKUP(F111,工作表9!$G$1:$I$136,3, FALSE)","v":"混合物"},null,{"$f":"VLOOKUP(F111,工作表9!$G$1:$H$142, 2, FALSE)","v":0},0]
[null,null,null,null,null,null,{"$f":"VLOOKUP(F112,工作表9!$G$1:$I$136,3, FALSE)","v":"混合物"},null,{"$f":"VLOOKUP(F112,工作表9!$G$1:$H$142, 2, FALSE)","v":0},0]
[null,null,null,null,null,null,{"$f":"VLOOKUP(F113,工作表9!$G$1:$I$136,3, FALSE)","v":"混合物"},null,{"$f":"VLOOKUP(F113,工作表9!$G$1:$H$142, 2, FALSE)","v":0},0]
[null,null,null,null,null,null,{"$f":"VLOOKUP(F114,工作表9!$G$1:$I$136,3, FALSE)","v":"混合物"},null,{"$f":"VLOOKUP(F114,工作表9!$G$1:$H$142, 2, FALSE)","v":0},0]
[null,null,null,null,null,null,{"$f":"VLOOKUP(F115,工作表9!$G$1:$I$136,3, FALSE)","v":"混合物"},null,{"$f":"VLOOKUP(F115,工作表9!$G$1:$H$142, 2, FALSE)","v":0},0]
[null,null,null,null,null,null,{"$f":"VLOOKUP(F116,工作表9!$G$1:$I$136,3, FALSE)","v":"混合物"},null,{"$f":"VLOOKUP(F116,工作表9!$G$1:$H$142, 2, FALSE)","v":0},0]
[null,null,null,null,null,null,{"$f":"VLOOKUP(F117,工作表9!$G$1:$I$136,3, FALSE)","v":"混合物"},null,{"$f":"VLOOKUP(F117,工作表9!$G$1:$H$142, 2, FALSE)","v":0},0]
[null,null,null,null,null,null,{"$f":"VLOOKUP(F118,工作表9!$G$1:$I$136,3, FALSE)","v":"混合物"},null,{"$f":"VLOOKUP(F118,工作表9!$G$1:$H$142, 2, FALSE)","v":0},0]
[null,null,null,null,null,null,{"$f":"VLOOKUP(F119,工作表9!$G$1:$I$136,3, FALSE)","v":"混合物"},null,{"$f":"VLOOKUP(F119,工作表9!$G$1:$H$142, 2, FALSE)","v":0},0]
[null,null,null,null,null,null,{"$f":"VLOOKUP(F120,工作表9!$G$1:$I$136,3, FALSE)","v":"混合物"},null,{"$f":"VLOOKUP(F120,工作表9!$G$1:$H$142, 2, FALSE)","v":0},0]
[null,null,null,null,null,null,{"$f":"VLOOKUP(F121,工作表9!$G$1:$I$136,3, FALSE)","v":"混合物"},null,{"$f":"VLOOKUP(F121,工作表9!$G$1:$H$142, 2, FALSE)","v":0},0]
[null,null,null,null,null,null,{"$f":"VLOOKUP(F122,工作表9!$G$1:$I$136,3, FALSE)","v":"混合物"},null,{"$f":"VLOOKUP(F122,工作表9!$G$1:$H$142, 2, FALSE)","v":0},0]
[null,null,null,null,null,null,{"$f":"VLOOKUP(F123,工作表9!$G$1:$I$136,3, FALSE)","v":"混合物"},null,{"$f":"VLOOKUP(F123,工作表9!$G$1:$H$142, 2, FALSE)","v":0},0]
[null,null,null,null,null,null,{"$f":"VLOOKUP(F124,工作表9!$G$1:$I$136,3, FALSE)","v":"混合物"},null,{"$f":"VLOOKUP(F124,工作表9!$G$1:$H$142, 2, FALSE)","v":0},0]
[null,null,null,null,null,null,{"$f":"VLOOKUP(F125,工作表9!$G$1:$I$136,3, FALSE)","v":"混合物"},null,{"$f":"VLOOKUP(F125,工作表9!$G$1:$H$142, 2, FALSE)","v":0},0]
[null,null,null,null,null,null,{"$f":"VLOOKUP(F126,工作表9!$G$1:$I$136,3, FALSE)","v":"混合物"},null,{"$f":"VLOOKUP(F126,工作表9!$G$1:$H$142, 2, FALSE)","v":0},0]
[null,null,null,null,null,null,{"$f":"VLOOKUP(F127,工作表9!$G$1:$I$136,3, FALSE)","v":"混合物"},null,{"$f":"VLOOKUP(F127,工作表9!$G$1:$H$142, 2, FALSE)","v":0},0]
[null,null,null,null,null,null,{"$f":"VLOOKUP(F128,工作表9!$G$1:$I$136,3, FALSE)","v":"混合物"},null,{"$f":"VLOOKUP(F128,工作表9!$G$1:$H$142, 2, FALSE)","v":0},0]
[null,null,null,null,null,null,{"$f":"VLOOKUP(F129,工作表9!$G$1:$I$136,3, FALSE)","v":"混合物"},null,{"$f":"VLOOKUP(F129,工作表9!$G$1:$H$142, 2, FALSE)","v":0},0]
[null,null,null,null,null,null,{"$f":"VLOOKUP(F130,工作表9!$G$1:$I$136,3, FALSE)","v":"混合物"},null,{"$f":"VLOOKUP(F130,工作表9!$G$1:$H$142, 2, FALSE)","v":0},0]
[null,null,null,null,null,null,{"$f":"VLOOKUP(F131,工作表9!$G$1:$I$136,3, FALSE)","v":"混合物"},null,{"$f":"VLOOKUP(F131,工作表9!$G$1:$H$142, 2, FALSE)","v":0},0]
[null,null,null,null,null,null,{"$f":"VLOOKUP(F132,工作表9!$G$1:$I$136,3, FALSE)","v":"混合物"},null,{"$f":"VLOOKUP(F132,工作表9!$G$1:$H$142, 2, FALSE)","v":0},0]
[null,null,null,null,null,null,{"$f":"VLOOKUP(F133,工作表9!$G$1:$I$136,3, FALSE)","v":"混合物"},null,{"$f":"VLOOKUP(F133,工作表9!$G$1:$H$142, 2, FALSE)","v":0},0]
[null,null,null,null,null,null,{"$f":"VLOOKUP(F134,工作表9!$G$1:$I$136,3, FALSE)","v":"混合物"},null,{"$f":"VLOOKUP(F134,工作表9!$G$1:$H$142, 2, FALSE)","v":0},{"$f":"H134*I134","v":0}]
[null,null,null,null,null,null,{"$f":"VLOOKUP(F135,工作表9!$G$1:$I$136,3, FALSE)","v":"混合物"},null,{"$f":"VLOOKUP(F135,工作表9!$G$1:$H$142, 2, FALSE)","v":0},0]
[null,null,null,null,null,null,{"$f":"VLOOKUP(F136,工作表9!$G$1:$I$136,3, FALSE)","v":"混合物"},null,{"$f":"VLOOKUP(F136,工作表9!$G$1:$H$142, 2, FALSE)","v":0},0]
[null,null,null,null,null,null,{"$f":"VLOOKUP(F137,工作表9!$G$1:$I$136,3, FALSE)","v":"混合物"},null,{"$f":"VLOOKUP(F137,工作表9!$G$1:$H$142, 2, FALSE)","v":0},0]
[null,null,null,null,null,null,{"$f":"VLOOKUP(F138,工作表9!$G$1:$I$136,3, FALSE)","v":"混合物"},null,{"$f":"VLOOKUP(F138,工作表9!$G$1:$H$142, 2, FALSE)","v":0},0]
[null,null,null,null,null,null,{"$f":"VLOOKUP(F139,工作表9!$G$1:$I$136,3, FALSE)","v":"混合物"},null,{"$f":"VLOOKUP(F139,工作表9!$G$1:$H$142, 2, FALSE)","v":0},0]
[null,null,null,null,null,null,{"$f":"VLOOKUP(F140,工作表9!$G$1:$I$136,3, FALSE)","v":"混合物"},null,{"$f":"VLOOKUP(F140,工作表9!$G$1:$H$142, 2, FALSE)","v":0},0]
[null,null,null,null,null,null,{"$f":"VLOOKUP(F141,工作表9!$G$1:$I$136,3, FALSE)","v":"混合物"},null,{"$f":"VLOOKUP(F141,工作表9!$G$1:$H$142, 2, FALSE)","v":0},0]
[null,null,null,null,null,null,{"$f":"VLOOKUP(F142,工作表9!$G$1:$I$136,3, FALSE)","v":"混合物"},null,{"$f":"VLOOKUP(F142,工作表9!$G$1:$H$142, 2, FALSE)","v":0},0]
[null,null,null,null,null,null,{"$f":"VLOOKUP(F143,工作表9!$G$1:$I$136,3, FALSE)","v":"混合物"},null,{"$f":"VLOOKUP(F143,工作表9!$G$1:$H$142, 2, FALSE)","v":0},0]
[null,null,null,null,null,null,{"$f":"VLOOKUP(F144,工作表9!$G$1:$I$136,3, FALSE)","v":"混合物"},null,{"$f":"VLOOKUP(F144,工作表9!$G$1:$H$142, 2, FALSE)","v":0},0]
[null,null,null,null,null,null,{"$f":"VLOOKUP(F145,工作表9!$G$1:$I$136,3, FALSE)","v":"混合物"},null,{"$f":"VLOOKUP(F145,工作表9!$G$1:$H$142, 2, FALSE)","v":0},0]
[null,null,null,null,null,null,{"$f":"VLOOKUP(F146,工作表9!$G$1:$I$136,3, FALSE)","v":"混合物"},null,{"$f":"VLOOKUP(F146,工作表9!$G$1:$H$142, 2, FALSE)","v":0},0]
[null,null,null,null,null,null,{"$f":"VLOOKUP(F147,工作表9!$G$1:$I$136,3, FALSE)","v":"混合物"},null,{"$f":"VLOOKUP(F147,工作表9!$G$1:$H$142, 2, FALSE)","v":0},0]
[null,null,null,null,null,null,{"$f":"VLOOKUP(F148,工作表9!$G$1:$I$136,3, FALSE)","v":"混合物"},null,{"$f":"VLOOKUP(F148,工作表9!$G$1:$H$142, 2, FALSE)","v":0},0]
[null,null,null,null,null,null,{"$f":"VLOOKUP(F149,工作表9!$G$1:$I$136,3, FALSE)","v":"混合物"},null,{"$f":"VLOOKUP(F149,工作表9!$G$1:$H$142, 2, FALSE)","v":0},0]
[null,null,null,null,null,null,{"$f":"VLOOKUP(F150,工作表9!$G$1:$I$136,3, FALSE)","v":"混合物"},null,{"$f":"VLOOKUP(F150,工作表9!$G$1:$H$142, 2, FALSE)","v":0},0]
[null,null,null,null,null,null,{"$f":"VLOOKUP(F151,工作表9!$G$1:$I$136,3, FALSE)","v":"混合物"},null,{"$f":"VLOOKUP(F151,工作表9!$G$1:$H$142, 2, FALSE)","v":0},0]
[null,null,null,null,null,null,{"$f":"VLOOKUP(F152,工作表9!$G$1:$I$136,3, FALSE)","v":"混合物"},null,{"$f":"VLOOKUP(F152,工作表9!$G$1:$H$142, 2, FALSE)","v":0},0]
[null,null,null,null,null,null,{"$f":"VLOOKUP(F153,工作表9!$G$1:$I$136,3, FALSE)","v":"混合物"},null,{"$f":"VLOOKUP(F153,工作表9!$G$1:$H$142, 2, FALSE)","v":0},0]
[null,null,null,null,null,null,{"$f":"VLOOKUP(F154,工作表9!$G$1:$I$136,3, FALSE)","v":"混合物"},null,{"$f":"VLOOKUP(F154,工作表9!$G$1:$H$142, 2, FALSE)","v":0},0]
[null,null,null,null,null,null,{"$f":"VLOOKUP(F155,工作表9!$G$1:$I$136,3, FALSE)","v":"混合物"},null,{"$f":"VLOOKUP(F155,工作表9!$G$1:$H$142, 2, FALSE)","v":0},0]
[null,null,null,null,null,null,{"$f":"VLOOKUP(F156,工作表9!$G$1:$I$136,3, FALSE)","v":"混合物"},null,{"$f":"VLOOKUP(F156,工作表9!$G$1:$H$142, 2, FALSE)","v":0},0]
[null,null,null,null,null,null,{"$f":"VLOOKUP(F157,工作表9!$G$1:$I$136,3, FALSE)","v":"混合物"},null,{"$f":"VLOOKUP(F157,工作表9!$G$1:$H$142, 2, FALSE)","v":0},0]
[null,null,null,null,null,null,{"$f":"VLOOKUP(F158,工作表9!$G$1:$I$136,3, FALSE)","v":"混合物"},null,{"$f":"VLOOKUP(F158,工作表9!$G$1:$H$142, 2, FALSE)","v":0},0]
[null,null,null,null,null,null,{"$f":"VLOOKUP(F159,工作表9!$G$1:$I$136,3, FALSE)","v":"混合物"},null,{"$f":"VLOOKUP(F159,工作表9!$G$1:$H$142, 2, FALSE)","v":0},0]
[null,null,null,null,null,null,{"$f":"VLOOKUP(F160,工作表9!$G$1:$I$136,3, FALSE)","v":"混合物"},null,{"$f":"VLOOKUP(F160,工作表9!$G$1:$H$142, 2, FALSE)","v":0},0]
[null,null,null,null,null,null,{"$f":"VLOOKUP(F161,工作表9!$G$1:$I$136,3, FALSE)","v":"混合物"},null,{"$f":"VLOOKUP(F161,工作表9!$G$1:$H$142, 2, FALSE)","v":0},0]
[null,null,null,null,null,null,{"$f":"VLOOKUP(F162,工作表9!$G$1:$I$136,3, FALSE)","v":"混合物"},null,{"$f":"VLOOKUP(F162,工作表9!$G$1:$H$142, 2, FALSE)","v":0},0]
[null,null,null,null,null,null,{"$f":"VLOOKUP(F163,工作表9!$G$1:$I$136,3, FALSE)","v":"混合物"},null,{"$f":"VLOOKUP(F163,工作表9!$G$1:$H$142, 2, FALSE)","v":0},0]
[null,null,null,null,null,null,{"$f":"VLOOKUP(F164,工作表9!$G$1:$I$136,3, FALSE)","v":"混合物"},null,{"$f":"VLOOKUP(F164,工作表9!$G$1:$H$142, 2, FALSE)","v":0},0]
[null,null,null,null,null,null,{"$f":"VLOOKUP(F165,工作表9!$G$1:$I$136,3, FALSE)","v":"混合物"},null,{"$f":"VLOOKUP(F165,工作表9!$G$1:$H$142, 2, FALSE)","v":0},0]
[null,null,null,null,null,null,{"$f":"VLOOKUP(F166,工作表9!$G$1:$I$136,3, FALSE)","v":"混合物"},null,{"$f":"VLOOKUP(F166,工作表9!$G$1:$H$142, 2, FALSE)","v":0},0]
[null,null,null,null,null,null,{"$f":"VLOOKUP(F167,工作表9!$G$1:$I$136,3, FALSE)","v":"混合物"},null,{"$f":"VLOOKUP(F167,工作表9!$G$1:$H$142, 2, FALSE)","v":0},0]
[null,null,null,null,null,null,{"$f":"VLOOKUP(F168,工作表9!$G$1:$I$136,3, FALSE)","v":"混合物"},null,{"$f":"VLOOKUP(F168,工作表9!$G$1:$H$142, 2, FALSE)","v":0},0]
[null,null,null,null,null,null,{"$f":"VLOOKUP(F169,工作表9!$G$1:$I$136,3, FALSE)","v":"混合物"},null,{"$f":"VLOOKUP(F169,工作表9!$G$1:$H$142, 2, FALSE)","v":0},0]
[null,null,null,null,null,null,{"$f":"VLOOKUP(F170,工作表9!$G$1:$I$136,3, FALSE)","v":"混合物"},null,{"$f":"VLOOKUP(F170,工作表9!$G$1:$H$142, 2, FALSE)","v":0},0]
[null,null,null,null,null,null,{"$f":"VLOOKUP(F171,工作表9!$G$1:$I$136,3, FALSE)","v":"混合物"},null,{"$f":"VLOOKUP(F171,工作表9!$G$1:$H$142, 2, FALSE)","v":0},0]
[null,null,null,null,null,null,{"$f":"VLOOKUP(F172,工作表9!$G$1:$I$136,3, FALSE)","v":"混合物"},null,{"$f":"VLOOKUP(F172,工作表9!$G$1:$H$142, 2, FALSE)","v":0},0]
[null,null,null,null,null,null,{"$f":"VLOOKUP(F173,工作表9!$G$1:$I$136,3, FALSE)","v":"混合物"},null,{"$f":"VLOOKUP(F173,工作表9!$G$1:$H$142, 2, FALSE)","v":0},0]
[null,null,null,null,null,null,{"$f":"VLOOKUP(F174,工作表9!$G$1:$I$136,3, FALSE)","v":"混合物"},null,{"$f":"VLOOKUP(F174,工作表9!$G$1:$H$142, 2, FALSE)","v":0},0]
[null,null,null,null,null,null,{"$f":"VLOOKUP(F175,工作表9!$G$1:$I$136,3, FALSE)","v":"混合物"},null,{"$f":"VLOOKUP(F175,工作表9!$G$1:$H$142, 2, FALSE)","v":0},0]
[null,null,null,null,null,null,{"$f":"VLOOKUP(F176,工作表9!$G$1:$I$136,3, FALSE)","v":"混合物"},null,{"$f":"VLOOKUP(F176,工作表9!$G$1:$H$142, 2, FALSE)","v":0},0]
[null,null,null,null,null,null,{"$f":"VLOOKUP(F177,工作表9!$G$1:$I$136,3, FALSE)","v":"混合物"},null,{"$f":"VLOOKUP(F177,工作表9!$G$1:$H$142, 2, FALSE)","v":0},0]
[null,null,null,null,null,null,{"$f":"VLOOKUP(F178,工作表9!$G$1:$I$136,3, FALSE)","v":"混合物"},null,{"$f":"VLOOKUP(F178,工作表9!$G$1:$H$142, 2, FALSE)","v":0},0]
[null,null,null,null,null,null,{"$f":"VLOOKUP(F179,工作表9!$G$1:$I$136,3, FALSE)","v":"混合物"},null,{"$f":"VLOOKUP(F179,工作表9!$G$1:$H$142, 2, FALSE)","v":0},0]
[null,null,null,null,null,null,{"$f":"VLOOKUP(F180,工作表9!$G$1:$I$136,3, FALSE)","v":"混合物"},null,{"$f":"VLOOKUP(F180,工作表9!$G$1:$H$142, 2, FALSE)","v":0},0]
[null,null,null,null,null,null,{"$f":"VLOOKUP(F181,工作表9!$G$1:$I$136,3, FALSE)","v":"混合物"},null,{"$f":"VLOOKUP(F181,工作表9!$G$1:$H$142, 2, FALSE)","v":0},0]
[null,null,null,null,null,null,{"$f":"VLOOKUP(F182,工作表9!$G$1:$I$136,3, FALSE)","v":"混合物"},null,{"$f":"VLOOKUP(F182,工作表9!$G$1:$H$142, 2, FALSE)","v":0},0]
[null,null,null,null,null,null,{"$f":"VLOOKUP(F183,工作表9!$G$1:$I$136,3, FALSE)","v":"混合物"},null,{"$f":"VLOOKUP(F183,工作表9!$G$1:$H$142, 2, FALSE)","v":0},0]
[null,null,null,null,null,null,{"$f":"VLOOKUP(F184,工作表9!$G$1:$I$136,3, FALSE)","v":"混合物"},null,{"$f":"VLOOKUP(F184,工作表9!$G$1:$H$142, 2, FALSE)","v":0},0]
[null,null,null,null,null,null,{"$f":"VLOOKUP(F185,工作表9!$G$1:$I$136,3, FALSE)","v":"混合物"},null,{"$f":"VLOOKUP(F185,工作表9!$G$1:$H$142, 2, FALSE)","v":0},0]
[null,null,null,null,null,null,{"$f":"VLOOKUP(F186,工作表9!$G$1:$I$136,3, FALSE)","v":"混合物"},null,{"$f":"VLOOKUP(F186,工作表9!$G$1:$H$142, 2, FALSE)","v":0},0]
[null,null,null,null,null,null,{"$f":"VLOOKUP(F187,工作表9!$G$1:$I$136,3, FALSE)","v":"混合物"},null,{"$f":"VLOOKUP(F187,工作表9!$G$1:$H$142, 2, FALSE)","v":0},0]
[null,null,null,null,null,null,{"$f":"VLOOKUP(F188,工作表9!$G$1:$I$136,3, FALSE)","v":"混合物"},null,{"$f":"VLOOKUP(F188,工作表9!$G$1:$H$142, 2, FALSE)","v":0},0]
[null,null,null,null,null,null,{"$f":"VLOOKUP(F189,工作表9!$G$1:$I$136,3, FALSE)","v":"混合物"},null,{"$f":"VLOOKUP(F189,工作表9!$G$1:$H$142, 2, FALSE)","v":0},0]
[null,null,null,null,null,null,{"$f":"VLOOKUP(F190,工作表9!$G$1:$I$136,3, FALSE)","v":"混合物"},null,{"$f":"VLOOKUP(F190,工作表9!$G$1:$H$142, 2, FALSE)","v":0},0]
[null,null,null,null,null,null,{"$f":"VLOOKUP(F191,工作表9!$G$1:$I$136,3, FALSE)","v":"混合物"},null,{"$f":"VLOOKUP(F191,工作表9!$G$1:$H$142, 2, FALSE)","v":0},0]
[null,null,null,null,null,null,{"$f":"VLOOKUP(F192,工作表9!$G$1:$I$136,3, FALSE)","v":"混合物"},null,{"$f":"VLOOKUP(F192,工作表9!$G$1:$H$142, 2, FALSE)","v":0},0]
[null,null,null,null,null,null,{"$f":"VLOOKUP(F193,工作表9!$G$1:$I$136,3, FALSE)","v":"混合物"},null,{"$f":"VLOOKUP(F193,工作表9!$G$1:$H$142, 2, FALSE)","v":0},0]
[null,null,null,null,null,null,{"$f":"VLOOKUP(F194,工作表9!$G$1:$I$136,3, FALSE)","v":"混合物"},null,{"$f":"VLOOKUP(F194,工作表9!$G$1:$H$142, 2, FALSE)","v":0},0]
[null,null,null,null,null,null,{"$f":"VLOOKUP(F195,工作表9!$G$1:$I$136,3, FALSE)","v":"混合物"},null,{"$f":"VLOOKUP(F195,工作表9!$G$1:$H$142, 2, FALSE)","v":0},0]
[null,null,null,null,null,null,{"$f":"VLOOKUP(F196,工作表9!$G$1:$I$136,3, FALSE)","v":"混合物"},null,{"$f":"VLOOKUP(F196,工作表9!$G$1:$H$142, 2, FALSE)","v":0},0]
[null,null,null,null,null,null,{"$f":"VLOOKUP(F197,工作表9!$G$1:$I$136,3, FALSE)","v":"混合物"},null,{"$f":"VLOOKUP(F197,工作表9!$G$1:$H$142, 2, FALSE)","v":0},0]
[null,null,null,null,null,null,{"$f":"VLOOKUP(F198,工作表9!$G$1:$I$136,3, FALSE)","v":"混合物"},null,{"$f":"VLOOKUP(F198,工作表9!$G$1:$H$142, 2, FALSE)","v":0},{"$f":"H198*I198","v":0}]
[null,null,null,null,null,null,{"$f":"VLOOKUP(F199,工作表9!$G$1:$I$136,3, FALSE)","v":"混合物"},null,{"$f":"VLOOKUP(F199,工作表9!$G$1:$H$142, 2, FALSE)","v":0},0]
[null,null,null,null,null,null,{"$f":"VLOOKUP(F200,工作表9!$G$1:$I$136,3, FALSE)","v":"混合物"},null,{"$f":"VLOOKUP(F200,工作表9!$G$1:$H$142, 2, FALSE)","v":0},0]
[null,null,null,null,null,null,{"$f":"VLOOKUP(F201,工作表9!$G$1:$I$136,3, FALSE)","v":"混合物"},null,{"$f":"VLOOKUP(F201,工作表9!$G$1:$H$142, 2, FALSE)","v":0},0]
[null,null,null,null,null,null,{"$f":"VLOOKUP(F202,工作表9!$G$1:$I$136,3, FALSE)","v":"混合物"},null,{"$f":"VLOOKUP(F202,工作表9!$G$1:$H$142, 2, FALSE)","v":0},0]
[null,null,null,null,null,null,{"$f":"VLOOKUP(F203,工作表9!$G$1:$I$136,3, FALSE)","v":"混合物"},null,{"$f":"VLOOKUP(F203,工作表9!$G$1:$H$142, 2, FALSE)","v":0},0]
[null,null,null,null,null,null,{"$f":"VLOOKUP(F204,工作表9!$G$1:$I$136,3, FALSE)","v":"混合物"},null,{"$f":"VLOOKUP(F204,工作表9!$G$1:$H$142, 2, FALSE)","v":0},0]
[null,null,null,null,null,null,{"$f":"VLOOKUP(F205,工作表9!$G$1:$I$136,3, FALSE)","v":"混合物"},null,{"$f":"VLOOKUP(F205,工作表9!$G$1:$H$142, 2, FALSE)","v":0},0]
[null,null,null,null,null,null,{"$f":"VLOOKUP(F206,工作表9!$G$1:$I$136,3, FALSE)","v":"混合物"},null,{"$f":"VLOOKUP(F206,工作表9!$G$1:$H$142, 2, FALSE)","v":0},0]
[null,null,null,null,null,null,{"$f":"VLOOKUP(F207,工作表9!$G$1:$I$136,3, FALSE)","v":"混合物"},null,{"$f":"VLOOKUP(F207,工作表9!$G$1:$H$142, 2, FALSE)","v":0},0]
[null,null,null,null,null,null,{"$f":"VLOOKUP(F208,工作表9!$G$1:$I$136,3, FALSE)","v":"混合物"},null,{"$f":"VLOOKUP(F208,工作表9!$G$1:$H$142, 2, FALSE)","v":0},0]
[null,null,null,null,null,null,{"$f":"VLOOKUP(F209,工作表9!$G$1:$I$136,3, FALSE)","v":"混合物"},null,{"$f":"VLOOKUP(F209,工作表9!$G$1:$H$142, 2, FALSE)","v":0},0]
[null,null,null,null,null,null,{"$f":"VLOOKUP(F210,工作表9!$G$1:$I$136,3, FALSE)","v":"混合物"},null,{"$f":"VLOOKUP(F210,工作表9!$G$1:$H$142, 2, FALSE)","v":0},0]
[null,null,null,null,null,null,{"$f":"VLOOKUP(F211,工作表9!$G$1:$I$136,3, FALSE)","v":"混合物"},null,{"$f":"VLOOKUP(F211,工作表9!$G$1:$H$142, 2, FALSE)","v":0},0]
[null,null,null,null,null,null,{"$f":"VLOOKUP(F212,工作表9!$G$1:$I$136,3, FALSE)","v":"混合物"},null,{"$f":"VLOOKUP(F212,工作表9!$G$1:$H$142, 2, FALSE)","v":0},0]
[null,null,null,null,null,null,{"$f":"VLOOKUP(F213,工作表9!$G$1:$I$136,3, FALSE)","v":"混合物"},null,{"$f":"VLOOKUP(F213,工作表9!$G$1:$H$142, 2, FALSE)","v":0},0]
[null,null,null,null,null,null,{"$f":"VLOOKUP(F214,工作表9!$G$1:$I$136,3, FALSE)","v":"混合物"},null,{"$f":"VLOOKUP(F214,工作表9!$G$1:$H$142, 2, FALSE)","v":0},0]
[null,null,null,null,null,null,{"$f":"VLOOKUP(F215,工作表9!$G$1:$I$136,3, FALSE)","v":"混合物"},null,{"$f":"VLOOKUP(F215,工作表9!$G$1:$H$142, 2, FALSE)","v":0},0]
[null,null,null,null,null,null,{"$f":"VLOOKUP(F216,工作表9!$G$1:$I$136,3, FALSE)","v":"混合物"},null,{"$f":"VLOOKUP(F216,工作表9!$G$1:$H$142, 2, FALSE)","v":0},0]
[null,null,null,null,null,null,{"$f":"VLOOKUP(F217,工作表9!$G$1:$I$136,3, FALSE)","v":"混合物"},null,{"$f":"VLOOKUP(F217,工作表9!$G$1:$H$142, 2, FALSE)","v":0},0]
[null,null,null,null,null,null,{"$f":"VLOOKUP(F218,工作表9!$G$1:$I$136,3, FALSE)","v":"混合物"},null,{"$f":"VLOOKUP(F218,工作表9!$G$1:$H$142, 2, FALSE)","v":0},0]
[null,null,null,null,null,null,{"$f":"VLOOKUP(F219,工作表9!$G$1:$I$136,3, FALSE)","v":"混合物"},null,{"$f":"VLOOKUP(F219,工作表9!$G$1:$H$142, 2, FALSE)","v":0},0]
[null,null,null,null,null,null,{"$f":"VLOOKUP(F220,工作表9!$G$1:$I$136,3, FALSE)","v":"混合物"},null,{"$f":"VLOOKUP(F220,工作表9!$G$1:$H$142, 2, FALSE)","v":0},0]
[null,null,null,null,null,null,{"$f":"VLOOKUP(F221,工作表9!$G$1:$I$136,3, FALSE)","v":"混合物"},null,{"$f":"VLOOKUP(F221,工作表9!$G$1:$H$142, 2, FALSE)","v":0},0]
[null,null,null,null,null,null,{"$f":"VLOOKUP(F222,工作表9!$G$1:$I$136,3, FALSE)","v":"混合物"},null,{"$f":"VLOOKUP(F222,工作表9!$G$1:$H$142, 2, FALSE)","v":0},0]
[null,null,null,null,null,null,{"$f":"VLOOKUP(F223,工作表9!$G$1:$I$136,3, FALSE)","v":"混合物"},null,{"$f":"VLOOKUP(F223,工作表9!$G$1:$H$142, 2, FALSE)","v":0},0]
[null,null,null,null,null,null,{"$f":"VLOOKUP(F224,工作表9!$G$1:$I$136,3, FALSE)","v":"混合物"},null,{"$f":"VLOOKUP(F224,工作表9!$G$1:$H$142, 2, FALSE)","v":0},0]
[null,null,null,null,null,null,{"$f":"VLOOKUP(F225,工作表9!$G$1:$I$136,3, FALSE)","v":"混合物"},null,{"$f":"VLOOKUP(F225,工作表9!$G$1:$H$142, 2, FALSE)","v":0},0]
[null,null,null,null,null,null,{"$f":"VLOOKUP(F226,工作表9!$G$1:$I$136,3, FALSE)","v":"混合物"},null,{"$f":"VLOOKUP(F226,工作表9!$G$1:$H$142, 2, FALSE)","v":0},0]
[null,null,null,null,null,null,{"$f":"VLOOKUP(F227,工作表9!$G$1:$I$136,3, FALSE)","v":"混合物"},null,{"$f":"VLOOKUP(F227,工作表9!$G$1:$H$142, 2, FALSE)","v":0},0]
[null,null,null,null,null,null,{"$f":"VLOOKUP(F228,工作表9!$G$1:$I$136,3, FALSE)","v":"混合物"},null,{"$f":"VLOOKUP(F228,工作表9!$G$1:$H$142, 2, FALSE)","v":0},0]
[null,null,null,null,null,null,{"$f":"VLOOKUP(F229,工作表9!$G$1:$I$136,3, FALSE)","v":"混合物"},null,{"$f":"VLOOKUP(F229,工作表9!$G$1:$H$142, 2, FALSE)","v":0},0]
[null,null,null,null,null,null,{"$f":"VLOOKUP(F230,工作表9!$G$1:$I$136,3, FALSE)","v":"混合物"},null,{"$f":"VLOOKUP(F230,工作表9!$G$1:$H$142, 2, FALSE)","v":0},0]
[null,null,null,null,null,null,{"$f":"VLOOKUP(F231,工作表9!$G$1:$I$136,3, FALSE)","v":"混合物"},null,{"$f":"VLOOKUP(F231,工作表9!$G$1:$H$142, 2, FALSE)","v":0},0]
[null,null,null,null,null,null,{"$f":"VLOOKUP(F232,工作表9!$G$1:$I$136,3, FALSE)","v":"混合物"},null,{"$f":"VLOOKUP(F232,工作表9!$G$1:$H$142, 2, FALSE)","v":0},0]
[null,null,null,null,null,null,{"$f":"VLOOKUP(F233,工作表9!$G$1:$I$136,3, FALSE)","v":"混合物"},null,{"$f":"VLOOKUP(F233,工作表9!$G$1:$H$142, 2, FALSE)","v":0},0]
[null,null,null,null,null,null,{"$f":"VLOOKUP(F234,工作表9!$G$1:$I$136,3, FALSE)","v":"混合物"},null,{"$f":"VLOOKUP(F234,工作表9!$G$1:$H$142, 2, FALSE)","v":0},0]
[null,null,null,null,null,null,{"$f":"VLOOKUP(F235,工作表9!$G$1:$I$136,3, FALSE)","v":"混合物"},null,{"$f":"VLOOKUP(F235,工作表9!$G$1:$H$142, 2, FALSE)","v":0},0]
[null,null,null,null,null,null,{"$f":"VLOOKUP(F236,工作表9!$G$1:$I$136,3, FALSE)","v":"混合物"},null,{"$f":"VLOOKUP(F236,工作表9!$G$1:$H$142, 2, FALSE)","v":0},0]
[null,null,null,null,null,null,{"$f":"VLOOKUP(F237,工作表9!$G$1:$I$136,3, FALSE)","v":"混合物"},null,{"$f":"VLOOKUP(F237,工作表9!$G$1:$H$142, 2, FALSE)","v":0},0]
[null,null,null,null,null,null,{"$f":"VLOOKUP(F238,工作表9!$G$1:$I$136,3, FALSE)","v":"混合物"},null,{"$f":"VLOOKUP(F238,工作表9!$G$1:$H$142, 2, FALSE)","v":0},0]
[null,null,null,null,null,null,{"$f":"VLOOKUP(F239,工作表9!$G$1:$I$136,3, FALSE)","v":"混合物"},null,{"$f":"VLOOKUP(F239,工作表9!$G$1:$H$142, 2, FALSE)","v":0},0]
[null,null,null,null,null,null,{"$f":"VLOOKUP(F240,工作表9!$G$1:$I$136,3, FALSE)","v":"混合物"},null,{"$f":"VLOOKUP(F240,工作表9!$G$1:$H$142, 2, FALSE)","v":0},0]
[null,null,null,null,null,null,{"$f":"VLOOKUP(F241,工作表9!$G$1:$I$136,3, FALSE)","v":"混合物"},null,{"$f":"VLOOKUP(F241,工作表9!$G$1:$H$142, 2, FALSE)","v":0},0]
[null,null,null,null,null,null,{"$f":"VLOOKUP(F242,工作表9!$G$1:$I$136,3, FALSE)","v":"混合物"},null,{"$f":"VLOOKUP(F242,工作表9!$G$1:$H$142, 2, FALSE)","v":0},0]
[null,null,null,null,null,null,{"$f":"VLOOKUP(F243,工作表9!$G$1:$I$136,3, FALSE)","v":"混合物"},null,{"$f":"VLOOKUP(F243,工作表9!$G$1:$H$142, 2, FALSE)","v":0},0]
[null,null,null,null,null,null,{"$f":"VLOOKUP(F244,工作表9!$G$1:$I$136,3, FALSE)","v":"混合物"},null,{"$f":"VLOOKUP(F244,工作表9!$G$1:$H$142, 2, FALSE)","v":0},0]
[null,null,null,null,null,null,{"$f":"VLOOKUP(F245,工作表9!$G$1:$I$136,3, FALSE)","v":"混合物"},null,{"$f":"VLOOKUP(F245,工作表9!$G$1:$H$142, 2, FALSE)","v":0},0]
[null,null,null,null,null,null,{"$f":"VLOOKUP(F246,工作表9!$G$1:$I$136,3, FALSE)","v":"混合物"},null,{"$f":"VLOOKUP(F246,工作表9!$G$1:$H$142, 2, FALSE)","v":0},0]
[null,null,null,null,null,null,{"$f":"VLOOKUP(F247,工作表9!$G$1:$I$136,3, FALSE)","v":"混合物"},null,{"$f":"VLOOKUP(F247,工作表9!$G$1:$H$142, 2, FALSE)","v":0},0]
[null,null,null,null,null,null,{"$f":"VLOOKUP(F248,工作表9!$G$1:$I$136,3, FALSE)","v":"混合物"},null,{"$f":"VLOOKUP(F248,工作表9!$G$1:$H$142, 2, FALSE)","v":0},0]
[null,null,null,null,null,null,{"$f":"VLOOKUP(F249,工作表9!$G$1:$I$136,3, FALSE)","v":"混合物"},null,{"$f":"VLOOKUP(F249,工作表9!$G$1:$H$142, 2, FALSE)","v":0},0]
[null,null,null,null,null,null,{"$f":"VLOOKUP(F250,工作表9!$G$1:$I$136,3, FALSE)","v":"混合物"},null,{"$f":"VLOOKUP(F250,工作表9!$G$1:$H$142, 2, FALSE)","v":0},0]
[null,null,null,null,null,null,{"$f":"VLOOKUP(F251,工作表9!$G$1:$I$136,3, FALSE)","v":"混合物"},null,{"$f":"VLOOKUP(F251,工作表9!$G$1:$H$142, 2, FALSE)","v":0},0]
[null,null,null,null,null,null,{"$f":"VLOOKUP(F252,工作表9!$G$1:$I$136,3, FALSE)","v":"混合物"},null,{"$f":"VLOOKUP(F252,工作表9!$G$1:$H$142, 2, FALSE)","v":0},0]
[null,null,null,null,null,null,{"$f":"VLOOKUP(F253,工作表9!$G$1:$I$136,3, FALSE)","v":"混合物"},null,{"$f":"VLOOKUP(F253,工作表9!$G$1:$H$142, 2, FALSE)","v":0},0]
[null,null,null,null,null,null,{"$f":"VLOOKUP(F254,工作表9!$G$1:$I$136,3, FALSE)","v":"混合物"},null,{"$f":"VLOOKUP(F254,工作表9!$G$1:$H$142, 2, FALSE)","v":0},0]
[null,null,null,null,null,null,{"$f":"VLOOKUP(F255,工作表9!$G$1:$I$136,3, FALSE)","v":"混合物"},null,{"$f":"VLOOKUP(F255,工作表9!$G$1:$H$142, 2, FALSE)","v":0},0]
[null,null,null,null,null,null,{"$f":"VLOOKUP(F256,工作表9!$G$1:$I$136,3, FALSE)","v":"混合物"},null,{"$f":"VLOOKUP(F256,工作表9!$G$1:$H$142, 2, FALSE)","v":0},0]
[null,null,null,null,null,null,{"$f":"VLOOKUP(F257,工作表9!$G$1:$I$136,3, FALSE)","v":"混合物"},null,{"$f":"VLOOKUP(F257,工作表9!$G$1:$H$142, 2, FALSE)","v":0},0]
[null,null,null,null,null,null,{"$f":"VLOOKUP(F258,工作表9!$G$1:$I$136,3, FALSE)","v":"混合物"},null,{"$f":"VLOOKUP(F258,工作表9!$G$1:$H$142, 2, FALSE)","v":0},0]
[null,null,null,null,null,null,{"$f":"VLOOKUP(F259,工作表9!$G$1:$I$136,3, FALSE)","v":"混合物"},null,{"$f":"VLOOKUP(F259,工作表9!$G$1:$H$142, 2, FALSE)","v":0},0]
[null,null,null,null,null,null,{"$f":"VLOOKUP(F260,工作表9!$G$1:$I$136,3, FALSE)","v":"混合物"},null,{"$f":"VLOOKUP(F260,工作表9!$G$1:$H$142, 2, FALSE)","v":0},0]
[null,null,null,null,null,null,{"$f":"VLOOKUP(F261,工作表9!$G$1:$I$136,3, FALSE)","v":"混合物"},null,{"$f":"VLOOKUP(F261,工作表9!$G$1:$H$142, 2, FALSE)","v":0},0]
[null,null,null,null,null,null,{"$f":"VLOOKUP(F262,工作表9!$G$1:$I$136,3, FALSE)","v":"混合物"},null,{"$f":"VLOOKUP(F262,工作表9!$G$1:$H$142, 2, FALSE)","v":0},{"$f":"H262*I262","v":0}]
[null,null,null,null,null,null,{"$f":"VLOOKUP(F263,工作表9!$G$1:$I$136,3, FALSE)","v":"混合物"},null,{"$f":"VLOOKUP(F263,工作表9!$G$1:$H$142, 2, FALSE)","v":0},0]
[null,null,null,null,null,null,{"$f":"VLOOKUP(F264,工作表9!$G$1:$I$136,3, FALSE)","v":"混合物"},null,{"$f":"VLOOKUP(F264,工作表9!$G$1:$H$142, 2, FALSE)","v":0},0]
[null,null,null,null,null,null,{"$f":"VLOOKUP(F265,工作表9!$G$1:$I$136,3, FALSE)","v":"混合物"},null,{"$f":"VLOOKUP(F265,工作表9!$G$1:$H$142, 2, FALSE)","v":0},0]
[null,null,null,null,null,null,{"$f":"VLOOKUP(F266,工作表9!$G$1:$I$136,3, FALSE)","v":"混合物"},null,{"$f":"VLOOKUP(F266,工作表9!$G$1:$H$142, 2, FALSE)","v":0},0]
[null,null,null,null,null,null,{"$f":"VLOOKUP(F267,工作表9!$G$1:$I$136,3, FALSE)","v":"混合物"},null,{"$f":"VLOOKUP(F267,工作表9!$G$1:$H$142, 2, FALSE)","v":0},0]
[null,null,null,null,null,null,{"$f":"VLOOKUP(F268,工作表9!$G$1:$I$136,3, FALSE)","v":"混合物"},null,{"$f":"VLOOKUP(F268,工作表9!$G$1:$H$142, 2, FALSE)","v":0},0]
[null,null,null,null,null,null,{"$f":"VLOOKUP(F269,工作表9!$G$1:$I$136,3, FALSE)","v":"混合物"},null,{"$f":"VLOOKUP(F269,工作表9!$G$1:$H$142, 2, FALSE)","v":0},0]
[null,null,null,null,null,null,{"$f":"VLOOKUP(F270,工作表9!$G$1:$I$136,3, FALSE)","v":"混合物"},null,{"$f":"VLOOKUP(F270,工作表9!$G$1:$H$142, 2, FALSE)","v":0},0]
[null,null,null,null,null,null,{"$f":"VLOOKUP(F271,工作表9!$G$1:$I$136,3, FALSE)","v":"混合物"},null,{"$f":"VLOOKUP(F271,工作表9!$G$1:$H$142, 2, FALSE)","v":0},0]
[null,null,null,null,null,null,{"$f":"VLOOKUP(F272,工作表9!$G$1:$I$136,3, FALSE)","v":"混合物"},null,{"$f":"VLOOKUP(F272,工作表9!$G$1:$H$142, 2, FALSE)","v":0},0]
[null,null,null,null,null,null,{"$f":"VLOOKUP(F273,工作表9!$G$1:$I$136,3, FALSE)","v":"混合物"},null,{"$f":"VLOOKUP(F273,工作表9!$G$1:$H$142, 2, FALSE)","v":0},0]
[null,null,null,null,null,null,{"$f":"VLOOKUP(F274,工作表9!$G$1:$I$136,3, FALSE)","v":"混合物"},null,{"$f":"VLOOKUP(F274,工作表9!$G$1:$H$142, 2, FALSE)","v":0},0]
[null,null,null,null,null,null,{"$f":"VLOOKUP(F275,工作表9!$G$1:$I$136,3, FALSE)","v":"混合物"},null,{"$f":"VLOOKUP(F275,工作表9!$G$1:$H$142, 2, FALSE)","v":0},0]
[null,null,null,null,null,null,{"$f":"VLOOKUP(F276,工作表9!$G$1:$I$136,3, FALSE)","v":"混合物"},null,{"$f":"VLOOKUP(F276,工作表9!$G$1:$H$142, 2, FALSE)","v":0},0]
[null,null,null,null,null,null,{"$f":"VLOOKUP(F277,工作表9!$G$1:$I$136,3, FALSE)","v":"混合物"},null,{"$f":"VLOOKUP(F277,工作表9!$G$1:$H$142, 2, FALSE)","v":0},0]
[null,null,null,null,null,null,{"$f":"VLOOKUP(F278,工作表9!$G$1:$I$136,3, FALSE)","v":"混合物"},null,{"$f":"VLOOKUP(F278,工作表9!$G$1:$H$142, 2, FALSE)","v":0},0]
[null,null,null,null,null,null,{"$f":"VLOOKUP(F279,工作表9!$G$1:$I$136,3, FALSE)","v":"混合物"},null,{"$f":"VLOOKUP(F279,工作表9!$G$1:$H$142, 2, FALSE)","v":0},0]
[null,null,null,null,null,null,{"$f":"VLOOKUP(F280,工作表9!$G$1:$I$136,3, FALSE)","v":"混合物"},null,{"$f":"VLOOKUP(F280,工作表9!$G$1:$H$142, 2, FALSE)","v":0},0]
[null,null,null,null,null,null,{"$f":"VLOOKUP(F281,工作表9!$G$1:$I$136,3, FALSE)","v":"混合物"},null,{"$f":"VLOOKUP(F281,工作表9!$G$1:$H$142, 2, FALSE)","v":0},0]
[null,null,null,null,null,null,{"$f":"VLOOKUP(F282,工作表9!$G$1:$I$136,3, FALSE)","v":"混合物"},null,{"$f":"VLOOKUP(F282,工作表9!$G$1:$H$142, 2, FALSE)","v":0},0]
[null,null,null,null,null,null,{"$f":"VLOOKUP(F283,工作表9!$G$1:$I$136,3, FALSE)","v":"混合物"},null,{"$f":"VLOOKUP(F283,工作表9!$G$1:$H$142, 2, FALSE)","v":0},0]
[null,null,null,null,null,null,{"$f":"VLOOKUP(F284,工作表9!$G$1:$I$136,3, FALSE)","v":"混合物"},null,{"$f":"VLOOKUP(F284,工作表9!$G$1:$H$142, 2, FALSE)","v":0},0]
[null,null,null,null,null,null,{"$f":"VLOOKUP(F285,工作表9!$G$1:$I$136,3, FALSE)","v":"混合物"},null,{"$f":"VLOOKUP(F285,工作表9!$G$1:$H$142, 2, FALSE)","v":0},0]
[null,null,null,null,null,null,{"$f":"VLOOKUP(F286,工作表9!$G$1:$I$136,3, FALSE)","v":"混合物"},null,{"$f":"VLOOKUP(F286,工作表9!$G$1:$H$142, 2, FALSE)","v":0},0]
[null,null,null,null,null,null,{"$f":"VLOOKUP(F287,工作表9!$G$1:$I$136,3, FALSE)","v":"混合物"},null,{"$f":"VLOOKUP(F287,工作表9!$G$1:$H$142, 2, FALSE)","v":0},0]
[null,null,null,null,null,null,{"$f":"VLOOKUP(F288,工作表9!$G$1:$I$136,3, FALSE)","v":"混合物"},null,{"$f":"VLOOKUP(F288,工作表9!$G$1:$H$142, 2, FALSE)","v":0},0]
[null,null,null,null,null,null,{"$f":"VLOOKUP(F289,工作表9!$G$1:$I$136,3, FALSE)","v":"混合物"},null,{"$f":"VLOOKUP(F289,工作表9!$G$1:$H$142, 2, FALSE)","v":0},0]
[null,null,null,null,null,null,{"$f":"VLOOKUP(F290,工作表9!$G$1:$I$136,3, FALSE)","v":"混合物"},null,{"$f":"VLOOKUP(F290,工作表9!$G$1:$H$142, 2, FALSE)","v":0},0]
[null,null,null,null,null,null,{"$f":"VLOOKUP(F291,工作表9!$G$1:$I$136,3, FALSE)","v":"混合物"},null,{"$f":"VLOOKUP(F291,工作表9!$G$1:$H$142, 2, FALSE)","v":0},0]
[null,null,null,null,null,null,{"$f":"VLOOKUP(F292,工作表9!$G$1:$I$136,3, FALSE)","v":"混合物"},null,{"$f":"VLOOKUP(F292,工作表9!$G$1:$H$142, 2, FALSE)","v":0},0]
[null,null,null,null,null,null,{"$f":"VLOOKUP(F293,工作表9!$G$1:$I$136,3, FALSE)","v":"混合物"},null,{"$f":"VLOOKUP(F293,工作表9!$G$1:$H$142, 2, FALSE)","v":0},0]
[null,null,null,null,null,null,{"$f":"VLOOKUP(F294,工作表9!$G$1:$I$136,3, FALSE)","v":"混合物"},null,{"$f":"VLOOKUP(F294,工作表9!$G$1:$H$142, 2, FALSE)","v":0},0]
[null,null,null,null,null,null,{"$f":"VLOOKUP(F295,工作表9!$G$1:$I$136,3, FALSE)","v":"混合物"},null,{"$f":"VLOOKUP(F295,工作表9!$G$1:$H$142, 2, FALSE)","v":0},0]
[null,null,null,null,null,null,{"$f":"VLOOKUP(F296,工作表9!$G$1:$I$136,3, FALSE)","v":"混合物"},null,{"$f":"VLOOKUP(F296,工作表9!$G$1:$H$142, 2, FALSE)","v":0},0]
[null,null,null,null,null,null,{"$f":"VLOOKUP(F297,工作表9!$G$1:$I$136,3, FALSE)","v":"混合物"},null,{"$f":"VLOOKUP(F297,工作表9!$G$1:$H$142, 2, FALSE)","v":0},0]
[null,null,null,null,null,null,{"$f":"VLOOKUP(F298,工作表9!$G$1:$I$136,3, FALSE)","v":"混合物"},null,{"$f":"VLOOKUP(F298,工作表9!$G$1:$H$142, 2, FALSE)","v":0},0]
[null,null,null,null,null,null,{"$f":"VLOOKUP(F299,工作表9!$G$1:$I$136,3, FALSE)","v":"混合物"},null,{"$f":"VLOOKUP(F299,工作表9!$G$1:$H$142, 2, FALSE)","v":0},0]
[null,null,null,null,null,null,{"$f":"VLOOKUP(F300,工作表9!$G$1:$I$136,3, FALSE)","v":"混合物"},null,{"$f":"VLOOKUP(F300,工作表9!$G$1:$H$142, 2, FALSE)","v":0},0]
[null,null,null,null,null,null,{"$f":"VLOOKUP(F301,工作表9!$G$1:$I$136,3, FALSE)","v":"混合物"},null,{"$f":"VLOOKUP(F301,工作表9!$G$1:$H$142, 2, FALSE)","v":0},0]
[null,null,null,null,null,null,{"$f":"VLOOKUP(F302,工作表9!$G$1:$I$136,3, FALSE)","v":"混合物"},null,{"$f":"VLOOKUP(F302,工作表9!$G$1:$H$142, 2, FALSE)","v":0},0]
[null,null,null,null,null,null,{"$f":"VLOOKUP(F303,工作表9!$G$1:$I$136,3, FALSE)","v":"混合物"},null,{"$f":"VLOOKUP(F303,工作表9!$G$1:$H$142, 2, FALSE)","v":0},0]
[null,null,null,null,null,null,{"$f":"VLOOKUP(F304,工作表9!$G$1:$I$136,3, FALSE)","v":"混合物"},null,{"$f":"VLOOKUP(F304,工作表9!$G$1:$H$142, 2, FALSE)","v":0},0]
[null,null,null,null,null,null,{"$f":"VLOOKUP(F305,工作表9!$G$1:$I$136,3, FALSE)","v":"混合物"},null,{"$f":"VLOOKUP(F305,工作表9!$G$1:$H$142, 2, FALSE)","v":0},0]
[null,null,null,null,null,null,{"$f":"VLOOKUP(F306,工作表9!$G$1:$I$136,3, FALSE)","v":"混合物"},null,{"$f":"VLOOKUP(F306,工作表9!$G$1:$H$142, 2, FALSE)","v":0},0]
[null,null,null,null,null,null,{"$f":"VLOOKUP(F307,工作表9!$G$1:$I$136,3, FALSE)","v":"混合物"},null,{"$f":"VLOOKUP(F307,工作表9!$G$1:$H$142, 2, FALSE)","v":0},0]
[null,null,null,null,null,null,{"$f":"VLOOKUP(F308,工作表9!$G$1:$I$136,3, FALSE)","v":"混合物"},null,{"$f":"VLOOKUP(F308,工作表9!$G$1:$H$142, 2, FALSE)","v":0},0]
[null,null,null,null,null,null,{"$f":"VLOOKUP(F309,工作表9!$G$1:$I$136,3, FALSE)","v":"混合物"},null,{"$f":"VLOOKUP(F309,工作表9!$G$1:$H$142, 2, FALSE)","v":0},0]
[null,null,null,null,null,null,{"$f":"VLOOKUP(F310,工作表9!$G$1:$I$136,3, FALSE)","v":"混合物"},null,{"$f":"VLOOKUP(F310,工作表9!$G$1:$H$142, 2, FALSE)","v":0},0]
[null,null,null,null,null,null,{"$f":"VLOOKUP(F311,工作表9!$G$1:$I$136,3, FALSE)","v":"混合物"},null,{"$f":"VLOOKUP(F311,工作表9!$G$1:$H$142, 2, FALSE)","v":0},0]
[null,null,null,null,null,null,{"$f":"VLOOKUP(F312,工作表9!$G$1:$I$136,3, FALSE)","v":"混合物"},null,{"$f":"VLOOKUP(F312,工作表9!$G$1:$H$142, 2, FALSE)","v":0},0]
[null,null,null,null,null,null,{"$f":"VLOOKUP(F313,工作表9!$G$1:$I$136,3, FALSE)","v":"混合物"},null,{"$f":"VLOOKUP(F313,工作表9!$G$1:$H$142, 2, FALSE)","v":0},0]
[null,null,null,null,null,null,{"$f":"VLOOKUP(F314,工作表9!$G$1:$I$136,3, FALSE)","v":"混合物"},null,{"$f":"VLOOKUP(F314,工作表9!$G$1:$H$142, 2, FALSE)","v":0},0]
[null,null,null,null,null,null,{"$f":"VLOOKUP(F315,工作表9!$G$1:$I$136,3, FALSE)","v":"混合物"},null,{"$f":"VLOOKUP(F315,工作表9!$G$1:$H$142, 2, FALSE)","v":0},0]
[null,null,null,null,null,null,{"$f":"VLOOKUP(F316,工作表9!$G$1:$I$136,3, FALSE)","v":"混合物"},null,{"$f":"VLOOKUP(F316,工作表9!$G$1:$H$142, 2, FALSE)","v":0},0]
[null,null,null,null,null,null,{"$f":"VLOOKUP(F317,工作表9!$G$1:$I$136,3, FALSE)","v":"混合物"},null,{"$f":"VLOOKUP(F317,工作表9!$G$1:$H$142, 2, FALSE)","v":0},0]
[null,null,null,null,null,null,{"$f":"VLOOKUP(F318,工作表9!$G$1:$I$136,3, FALSE)","v":"混合物"},null,{"$f":"VLOOKUP(F318,工作表9!$G$1:$H$142, 2, FALSE)","v":0},0]
[null,null,null,null,null,null,{"$f":"VLOOKUP(F319,工作表9!$G$1:$I$136,3, FALSE)","v":"混合物"},null,{"$f":"VLOOKUP(F319,工作表9!$G$1:$H$142, 2, FALSE)","v":0},0]
[null,null,null,null,null,null,{"$f":"VLOOKUP(F320,工作表9!$G$1:$I$136,3, FALSE)","v":"混合物"},null,{"$f":"VLOOKUP(F320,工作表9!$G$1:$H$142, 2, FALSE)","v":0},0]
[null,null,null,null,null,null,{"$f":"VLOOKUP(F321,工作表9!$G$1:$I$136,3, FALSE)","v":"混合物"},null,{"$f":"VLOOKUP(F321,工作表9!$G$1:$H$142, 2, FALSE)","v":0},0]
[null,null,null,null,null,null,{"$f":"VLOOKUP(F322,工作表9!$G$1:$I$136,3, FALSE)","v":"混合物"},null,{"$f":"VLOOKUP(F322,工作表9!$G$1:$H$142, 2, FALSE)","v":0},0]
[null,null,null,null,null,null,{"$f":"VLOOKUP(F323,工作表9!$G$1:$I$136,3, FALSE)","v":"混合物"},null,{"$f":"VLOOKUP(F323,工作表9!$G$1:$H$142, 2, FALSE)","v":0},0]
[null,null,null,null,null,null,{"$f":"VLOOKUP(F324,工作表9!$G$1:$I$136,3, FALSE)","v":"混合物"},null,{"$f":"VLOOKUP(F324,工作表9!$G$1:$H$142, 2, FALSE)","v":0},0]
[null,null,null,null,null,null,{"$f":"VLOOKUP(F325,工作表9!$G$1:$I$136,3, FALSE)","v":"混合物"},null,{"$f":"VLOOKUP(F325,工作表9!$G$1:$H$142, 2, FALSE)","v":0},0]
[null,null,null,null,null,null,{"$f":"VLOOKUP(F326,工作表9!$G$1:$I$136,3, FALSE)","v":"混合物"},null,{"$f":"VLOOKUP(F326,工作表9!$G$1:$H$142, 2, FALSE)","v":0},{"$f":"H326*I326","v":0}]
[null,null,null,null,null,null,{"$f":"VLOOKUP(F327,工作表9!$G$1:$I$136,3, FALSE)","v":"混合物"},null,{"$f":"VLOOKUP(F327,工作表9!$G$1:$H$142, 2, FALSE)","v":0},0]
[null,null,null,null,null,null,{"$f":"VLOOKUP(F328,工作表9!$G$1:$I$136,3, FALSE)","v":"混合物"},null,{"$f":"VLOOKUP(F328,工作表9!$G$1:$H$142, 2, FALSE)","v":0},0]
[null,null,null,null,null,null,{"$f":"VLOOKUP(F329,工作表9!$G$1:$I$136,3, FALSE)","v":"混合物"},null,{"$f":"VLOOKUP(F329,工作表9!$G$1:$H$142, 2, FALSE)","v":0},0]
[null,null,null,null,null,null,{"$f":"VLOOKUP(F330,工作表9!$G$1:$I$136,3, FALSE)","v":"混合物"},null,{"$f":"VLOOKUP(F330,工作表9!$G$1:$H$142, 2, FALSE)","v":0},0]
[null,null,null,null,null,null,{"$f":"VLOOKUP(F331,工作表9!$G$1:$I$136,3, FALSE)","v":"混合物"},null,{"$f":"VLOOKUP(F331,工作表9!$G$1:$H$142, 2, FALSE)","v":0},0]
[null,null,null,null,null,null,{"$f":"VLOOKUP(F332,工作表9!$G$1:$I$136,3, FALSE)","v":"混合物"},null,{"$f":"VLOOKUP(F332,工作表9!$G$1:$H$142, 2, FALSE)","v":0},0]
[null,null,null,null,null,null,{"$f":"VLOOKUP(F333,工作表9!$G$1:$I$136,3, FALSE)","v":"混合物"},null,{"$f":"VLOOKUP(F333,工作表9!$G$1:$H$142, 2, FALSE)","v":0},0]
[null,null,null,null,null,null,{"$f":"VLOOKUP(F334,工作表9!$G$1:$I$136,3, FALSE)","v":"混合物"},null,{"$f":"VLOOKUP(F334,工作表9!$G$1:$H$142, 2, FALSE)","v":0},0]
[null,null,null,null,null,null,{"$f":"VLOOKUP(F335,工作表9!$G$1:$I$136,3, FALSE)","v":"混合物"},null,{"$f":"VLOOKUP(F335,工作表9!$G$1:$H$142, 2, FALSE)","v":0},0]
[null,null,null,null,null,null,{"$f":"VLOOKUP(F336,工作表9!$G$1:$I$136,3, FALSE)","v":"混合物"},null,{"$f":"VLOOKUP(F336,工作表9!$G$1:$H$142, 2, FALSE)","v":0},0]
[null,null,null,null,null,null,{"$f":"VLOOKUP(F337,工作表9!$G$1:$I$136,3, FALSE)","v":"混合物"},null,{"$f":"VLOOKUP(F337,工作表9!$G$1:$H$142, 2, FALSE)","v":0},0]
[null,null,null,null,null,null,{"$f":"VLOOKUP(F338,工作表9!$G$1:$I$136,3, FALSE)","v":"混合物"},null,{"$f":"VLOOKUP(F338,工作表9!$G$1:$H$142, 2, FALSE)","v":0},0]
[null,null,null,null,null,null,{"$f":"VLOOKUP(F339,工作表9!$G$1:$I$136,3, FALSE)","v":"混合物"},null,{"$f":"VLOOKUP(F339,工作表9!$G$1:$H$142, 2, FALSE)","v":0},0]
[null,null,null,null,null,null,{"$f":"VLOOKUP(F340,工作表9!$G$1:$I$136,3, FALSE)","v":"混合物"},null,{"$f":"VLOOKUP(F340,工作表9!$G$1:$H$142, 2, FALSE)","v":0},0]
[null,null,null,null,null,null,{"$f":"VLOOKUP(F341,工作表9!$G$1:$I$136,3, FALSE)","v":"混合物"},null,{"$f":"VLOOKUP(F341,工作表9!$G$1:$H$142, 2, FALSE)","v":0},0]
[null,null,null,null,null,null,{"$f":"VLOOKUP(F342,工作表9!$G$1:$I$136,3, FALSE)","v":"混合物"},null,{"$f":"VLOOKUP(F342,工作表9!$G$1:$H$142, 2, FALSE)","v":0},0]
[null,null,null,null,null,null,{"$f":"VLOOKUP(F343,工作表9!$G$1:$I$136,3, FALSE)","v":"混合物"},null,{"$f":"VLOOKUP(F343,工作表9!$G$1:$H$142, 2, FALSE)","v":0},0]
[null,null,null,null,null,null,{"$f":"VLOOKUP(F344,工作表9!$G$1:$I$136,3, FALSE)","v":"混合物"},null,{"$f":"VLOOKUP(F344,工作表9!$G$1:$H$142, 2, FALSE)","v":0},0]
[null,null,null,null,null,null,{"$f":"VLOOKUP(F345,工作表9!$G$1:$I$136,3, FALSE)","v":"混合物"},null,{"$f":"VLOOKUP(F345,工作表9!$G$1:$H$142, 2, FALSE)","v":0},0]
[null,null,null,null,null,null,{"$f":"VLOOKUP(F346,工作表9!$G$1:$I$136,3, FALSE)","v":"混合物"},null,{"$f":"VLOOKUP(F346,工作表9!$G$1:$H$142, 2, FALSE)","v":0},0]
[null,null,null,null,null,null,{"$f":"VLOOKUP(F347,工作表9!$G$1:$I$136,3, FALSE)","v":"混合物"},null,{"$f":"VLOOKUP(F347,工作表9!$G$1:$H$142, 2, FALSE)","v":0},0]
[null,null,null,null,null,null,{"$f":"VLOOKUP(F348,工作表9!$G$1:$I$136,3, FALSE)","v":"混合物"},null,{"$f":"VLOOKUP(F348,工作表9!$G$1:$H$142, 2, FALSE)","v":0},0]
[null,null,null,null,null,null,{"$f":"VLOOKUP(F349,工作表9!$G$1:$I$136,3, FALSE)","v":"混合物"},null,{"$f":"VLOOKUP(F349,工作表9!$G$1:$H$142, 2, FALSE)","v":0},0]
[null,null,null,null,null,null,{"$f":"VLOOKUP(F350,工作表9!$G$1:$I$136,3, FALSE)","v":"混合物"},null,{"$f":"VLOOKUP(F350,工作表9!$G$1:$H$142, 2, FALSE)","v":0},0]
[null,null,null,null,null,null,{"$f":"VLOOKUP(F351,工作表9!$G$1:$I$136,3, FALSE)","v":"混合物"},null,{"$f":"VLOOKUP(F351,工作表9!$G$1:$H$142, 2, FALSE)","v":0},0]
[null,null,null,null,null,null,{"$f":"VLOOKUP(F352,工作表9!$G$1:$I$136,3, FALSE)","v":"混合物"},null,{"$f":"VLOOKUP(F352,工作表9!$G$1:$H$142, 2, FALSE)","v":0},0]
[null,null,null,null,null,null,{"$f":"VLOOKUP(F353,工作表9!$G$1:$I$136,3, FALSE)","v":"混合物"},null,{"$f":"VLOOKUP(F353,工作表9!$G$1:$H$142, 2, FALSE)","v":0},0]
[null,null,null,null,null,null,{"$f":"VLOOKUP(F354,工作表9!$G$1:$I$136,3, FALSE)","v":"混合物"},null,{"$f":"VLOOKUP(F354,工作表9!$G$1:$H$142, 2, FALSE)","v":0},0]
[null,null,null,null,null,null,{"$f":"VLOOKUP(F355,工作表9!$G$1:$I$136,3, FALSE)","v":"混合物"},null,{"$f":"VLOOKUP(F355,工作表9!$G$1:$H$142, 2, FALSE)","v":0},0]
[null,null,null,null,null,null,{"$f":"VLOOKUP(F356,工作表9!$G$1:$I$136,3, FALSE)","v":"混合物"},null,{"$f":"VLOOKUP(F356,工作表9!$G$1:$H$142, 2, FALSE)","v":0},0]
[null,null,null,null,null,null,{"$f":"VLOOKUP(F357,工作表9!$G$1:$I$136,3, FALSE)","v":"混合物"},null,{"$f":"VLOOKUP(F357,工作表9!$G$1:$H$142, 2, FALSE)","v":0},0]
[null,null,null,null,null,null,{"$f":"VLOOKUP(F358,工作表9!$G$1:$I$136,3, FALSE)","v":"混合物"},null,{"$f":"VLOOKUP(F358,工作表9!$G$1:$H$142, 2, FALSE)","v":0},0]
[null,null,null,null,null,null,{"$f":"VLOOKUP(F359,工作表9!$G$1:$I$136,3, FALSE)","v":"混合物"},null,{"$f":"VLOOKUP(F359,工作表9!$G$1:$H$142, 2, FALSE)","v":0},0]
[null,null,null,null,null,null,{"$f":"VLOOKUP(F360,工作表9!$G$1:$I$136,3, FALSE)","v":"混合物"},null,{"$f":"VLOOKUP(F360,工作表9!$G$1:$H$142, 2, FALSE)","v":0},0]
[null,null,null,null,null,null,{"$f":"VLOOKUP(F361,工作表9!$G$1:$I$136,3, FALSE)","v":"混合物"},null,{"$f":"VLOOKUP(F361,工作表9!$G$1:$H$142, 2, FALSE)","v":0},0]
[null,null,null,null,null,null,{"$f":"VLOOKUP(F362,工作表9!$G$1:$I$136,3, FALSE)","v":"混合物"},null,{"$f":"VLOOKUP(F362,工作表9!$G$1:$H$142, 2, FALSE)","v":0},0]
[null,null,null,null,null,null,{"$f":"VLOOKUP(F363,工作表9!$G$1:$I$136,3, FALSE)","v":"混合物"},null,{"$f":"VLOOKUP(F363,工作表9!$G$1:$H$142, 2, FALSE)","v":0},0]
[null,null,null,null,null,null,{"$f":"VLOOKUP(F364,工作表9!$G$1:$I$136,3, FALSE)","v":"混合物"},null,{"$f":"VLOOKUP(F364,工作表9!$G$1:$H$142, 2, FALSE)","v":0},0]
[null,null,null,null,null,null,{"$f":"VLOOKUP(F365,工作表9!$G$1:$I$136,3, FALSE)","v":"混合物"},null,{"$f":"VLOOKUP(F365,工作表9!$G$1:$H$142, 2, FALSE)","v":0},0]
[null,null,null,null,null,null,{"$f":"VLOOKUP(F366,工作表9!$G$1:$I$136,3, FALSE)","v":"混合物"},null,{"$f":"VLOOKUP(F366,工作表9!$G$1:$H$142, 2, FALSE)","v":0},0]
[null,null,null,null,null,null,{"$f":"VLOOKUP(F367,工作表9!$G$1:$I$136,3, FALSE)","v":"混合物"},null,{"$f":"VLOOKUP(F367,工作表9!$G$1:$H$142, 2, FALSE)","v":0},0]
[null,null,null,null,null,null,{"$f":"VLOOKUP(F368,工作表9!$G$1:$I$136,3, FALSE)","v":"混合物"},null,{"$f":"VLOOKUP(F368,工作表9!$G$1:$H$142, 2, FALSE)","v":0},0]
[null,null,null,null,null,null,{"$f":"VLOOKUP(F369,工作表9!$G$1:$I$136,3, FALSE)","v":"混合物"},null,{"$f":"VLOOKUP(F369,工作表9!$G$1:$H$142, 2, FALSE)","v":0},0]
[null,null,null,null,null,null,{"$f":"VLOOKUP(F370,工作表9!$G$1:$I$136,3, FALSE)","v":"混合物"},null,{"$f":"VLOOKUP(F370,工作表9!$G$1:$H$142, 2, FALSE)","v":0},0]
[null,null,null,null,null,null,{"$f":"VLOOKUP(F371,工作表9!$G$1:$I$136,3, FALSE)","v":"混合物"},null,{"$f":"VLOOKUP(F371,工作表9!$G$1:$H$142, 2, FALSE)","v":0},0]
[null,null,null,null,null,null,{"$f":"VLOOKUP(F372,工作表9!$G$1:$I$136,3, FALSE)","v":"混合物"},null,{"$f":"VLOOKUP(F372,工作表9!$G$1:$H$142, 2, FALSE)","v":0},0]
[null,null,null,null,null,null,{"$f":"VLOOKUP(F373,工作表9!$G$1:$I$136,3, FALSE)","v":"混合物"},null,{"$f":"VLOOKUP(F373,工作表9!$G$1:$H$142, 2, FALSE)","v":0},0]
[null,null,null,null,null,null,{"$f":"VLOOKUP(F374,工作表9!$G$1:$I$136,3, FALSE)","v":"混合物"},null,{"$f":"VLOOKUP(F374,工作表9!$G$1:$H$142, 2, FALSE)","v":0},0]
[null,null,null,null,null,null,{"$f":"VLOOKUP(F375,工作表9!$G$1:$I$136,3, FALSE)","v":"混合物"},null,{"$f":"VLOOKUP(F375,工作表9!$G$1:$H$142, 2, FALSE)","v":0},0]
[null,null,null,null,null,null,{"$f":"VLOOKUP(F376,工作表9!$G$1:$I$136,3, FALSE)","v":"混合物"},null,{"$f":"VLOOKUP(F376,工作表9!$G$1:$H$142, 2, FALSE)","v":0},0]
[null,null,null,null,null,null,{"$f":"VLOOKUP(F377,工作表9!$G$1:$I$136,3, FALSE)","v":"混合物"},null,{"$f":"VLOOKUP(F377,工作表9!$G$1:$H$142, 2, FALSE)","v":0},0]
[null,null,null,null,null,null,{"$f":"VLOOKUP(F378,工作表9!$G$1:$I$136,3, FALSE)","v":"混合物"},null,{"$f":"VLOOKUP(F378,工作表9!$G$1:$H$142, 2, FALSE)","v":0},0]
[null,null,null,null,null,null,{"$f":"VLOOKUP(F379,工作表9!$G$1:$I$136,3, FALSE)","v":"混合物"},null,{"$f":"VLOOKUP(F379,工作表9!$G$1:$H$142, 2, FALSE)","v":0},0]
[null,null,null,null,null,null,{"$f":"VLOOKUP(F380,工作表9!$G$1:$I$136,3, FALSE)","v":"混合物"},null,{"$f":"VLOOKUP(F380,工作表9!$G$1:$H$142, 2, FALSE)","v":0},0]
[null,null,null,null,null,null,{"$f":"VLOOKUP(F381,工作表9!$G$1:$I$136,3, FALSE)","v":"混合物"},null,{"$f":"VLOOKUP(F381,工作表9!$G$1:$H$142, 2, FALSE)","v":0},0]
[null,null,null,null,null,null,{"$f":"VLOOKUP(F382,工作表9!$G$1:$I$136,3, FALSE)","v":"混合物"},null,{"$f":"VLOOKUP(F382,工作表9!$G$1:$H$142, 2, FALSE)","v":0},0]
[null,null,null,null,null,null,{"$f":"VLOOKUP(F383,工作表9!$G$1:$I$136,3, FALSE)","v":"混合物"},null,{"$f":"VLOOKUP(F383,工作表9!$G$1:$H$142, 2, FALSE)","v":0},0]
[null,null,null,null,null,null,{"$f":"VLOOKUP(F384,工作表9!$G$1:$I$136,3, FALSE)","v":"混合物"},null,{"$f":"VLOOKUP(F384,工作表9!$G$1:$H$142, 2, FALSE)","v":0},0]
[null,null,null,null,null,null,{"$f":"VLOOKUP(F385,工作表9!$G$1:$I$136,3, FALSE)","v":"混合物"},null,{"$f":"VLOOKUP(F385,工作表9!$G$1:$H$142, 2, FALSE)","v":0},0]
[null,null,null,null,null,null,{"$f":"VLOOKUP(F386,工作表9!$G$1:$I$136,3, FALSE)","v":"混合物"},null,{"$f":"VLOOKUP(F386,工作表9!$G$1:$H$142, 2, FALSE)","v":0},0]
[null,null,null,null,null,null,{"$f":"VLOOKUP(F387,工作表9!$G$1:$I$136,3, FALSE)","v":"混合物"},null,{"$f":"VLOOKUP(F387,工作表9!$G$1:$H$142, 2, FALSE)","v":0},0]
[null,null,null,null,null,null,{"$f":"VLOOKUP(F388,工作表9!$G$1:$I$136,3, FALSE)","v":"混合物"},null,{"$f":"VLOOKUP(F388,工作表9!$G$1:$H$142, 2, FALSE)","v":0},0]
[null,null,null,null,null,null,{"$f":"VLOOKUP(F389,工作表9!$G$1:$I$136,3, FALSE)","v":"混合物"},null,{"$f":"VLOOKUP(F389,工作表9!$G$1:$H$142, 2, FALSE)","v":0},0]
[null,null,null,null,null,null,{"$f":"VLOOKUP(F390,工作表9!$G$1:$I$136,3, FALSE)","v":"混合物"},null,{"$f":"VLOOKUP(F390,工作表9!$G$1:$H$142, 2, FALSE)","v":0},{"$f":"H390*I390","v":0}]
[null,null,null,null,null,null,{"$f":"VLOOKUP(F391,工作表9!$G$1:$I$136,3, FALSE)","v":"混合物"},null,{"$f":"VLOOKUP(F391,工作表9!$G$1:$H$142, 2, FALSE)","v":0},0]
[null,null,null,null,null,null,{"$f":"VLOOKUP(F392,工作表9!$G$1:$I$136,3, FALSE)","v":"混合物"},null,{"$f":"VLOOKUP(F392,工作表9!$G$1:$H$142, 2, FALSE)","v":0},0]
[null,null,null,null,null,null,{"$f":"VLOOKUP(F393,工作表9!$G$1:$I$136,3, FALSE)","v":"混合物"},null,{"$f":"VLOOKUP(F393,工作表9!$G$1:$H$142, 2, FALSE)","v":0},0]
[null,null,null,null,null,null,{"$f":"VLOOKUP(F394,工作表9!$G$1:$I$136,3, FALSE)","v":"混合物"},null,{"$f":"VLOOKUP(F394,工作表9!$G$1:$H$142, 2, FALSE)","v":0},0]
[null,null,null,null,null,null,{"$f":"VLOOKUP(F395,工作表9!$G$1:$I$136,3, FALSE)","v":"混合物"},null,{"$f":"VLOOKUP(F395,工作表9!$G$1:$H$142, 2, FALSE)","v":0},0]
[null,null,null,null,null,null,{"$f":"VLOOKUP(F396,工作表9!$G$1:$I$136,3, FALSE)","v":"混合物"},null,{"$f":"VLOOKUP(F396,工作表9!$G$1:$H$142, 2, FALSE)","v":0},0]
[null,null,null,null,null,null,{"$f":"VLOOKUP(F397,工作表9!$G$1:$I$136,3, FALSE)","v":"混合物"},null,{"$f":"VLOOKUP(F397,工作表9!$G$1:$H$142, 2, FALSE)","v":0},0]
[null,null,null,null,null,null,{"$f":"VLOOKUP(F398,工作表9!$G$1:$I$136,3, FALSE)","v":"混合物"},null,{"$f":"VLOOKUP(F398,工作表9!$G$1:$H$142, 2, FALSE)","v":0},0]
[null,null,null,null,null,null,{"$f":"VLOOKUP(F399,工作表9!$G$1:$I$136,3, FALSE)","v":"混合物"},null,{"$f":"VLOOKUP(F399,工作表9!$G$1:$H$142, 2, FALSE)","v":0},0]
[null,null,null,null,null,null,{"$f":"VLOOKUP(F400,工作表9!$G$1:$I$136,3, FALSE)","v":"混合物"},null,{"$f":"VLOOKUP(F400,工作表9!$G$1:$H$142, 2, FALSE)","v":0},0]
[null,null,null,null,null,null,{"$f":"VLOOKUP(F401,工作表9!$G$1:$I$136,3, FALSE)","v":"混合物"},null,{"$f":"VLOOKUP(F401,工作表9!$G$1:$H$142, 2, FALSE)","v":0},0]
[null,null,null,null,null,null,{"$f":"VLOOKUP(F402,工作表9!$G$1:$I$136,3, FALSE)","v":"混合物"},null,{"$f":"VLOOKUP(F402,工作表9!$G$1:$H$142, 2, FALSE)","v":0},0]
[null,null,null,null,null,null,{"$f":"VLOOKUP(F403,工作表9!$G$1:$I$136,3, FALSE)","v":"混合物"},null,{"$f":"VLOOKUP(F403,工作表9!$G$1:$H$142, 2, FALSE)","v":0},0]
[null,null,null,null,null,null,{"$f":"VLOOKUP(F404,工作表9!$G$1:$I$136,3, FALSE)","v":"混合物"},null,{"$f":"VLOOKUP(F404,工作表9!$G$1:$H$142, 2, FALSE)","v":0},0]
[null,null,null,null,null,null,{"$f":"VLOOKUP(F405,工作表9!$G$1:$I$136,3, FALSE)","v":"混合物"},null,{"$f":"VLOOKUP(F405,工作表9!$G$1:$H$142, 2, FALSE)","v":0},0]
[null,null,null,null,null,null,{"$f":"VLOOKUP(F406,工作表9!$G$1:$I$136,3, FALSE)","v":"混合物"},null,{"$f":"VLOOKUP(F406,工作表9!$G$1:$H$142, 2, FALSE)","v":0},0]
[null,null,null,null,null,null,{"$f":"VLOOKUP(F407,工作表9!$G$1:$I$136,3, FALSE)","v":"混合物"},null,{"$f":"VLOOKUP(F407,工作表9!$G$1:$H$142, 2, FALSE)","v":0},0]
[null,null,null,null,null,null,{"$f":"VLOOKUP(F408,工作表9!$G$1:$I$136,3, FALSE)","v":"混合物"},null,{"$f":"VLOOKUP(F408,工作表9!$G$1:$H$142, 2, FALSE)","v":0},0]
[null,null,null,null,null,null,{"$f":"VLOOKUP(F409,工作表9!$G$1:$I$136,3, FALSE)","v":"混合物"},null,{"$f":"VLOOKUP(F409,工作表9!$G$1:$H$142, 2, FALSE)","v":0},0]
[null,null,null,null,null,null,{"$f":"VLOOKUP(F410,工作表9!$G$1:$I$136,3, FALSE)","v":"混合物"},null,{"$f":"VLOOKUP(F410,工作表9!$G$1:$H$142, 2, FALSE)","v":0},0]
[null,null,null,null,null,null,{"$f":"VLOOKUP(F411,工作表9!$G$1:$I$136,3, FALSE)","v":"混合物"},null,{"$f":"VLOOKUP(F411,工作表9!$G$1:$H$142, 2, FALSE)","v":0},0]
[null,null,null,null,null,null,{"$f":"VLOOKUP(F412,工作表9!$G$1:$I$136,3, FALSE)","v":"混合物"},null,{"$f":"VLOOKUP(F412,工作表9!$G$1:$H$142, 2, FALSE)","v":0},0]
[null,null,null,null,null,null,{"$f":"VLOOKUP(F413,工作表9!$G$1:$I$136,3, FALSE)","v":"混合物"},null,{"$f":"VLOOKUP(F413,工作表9!$G$1:$H$142, 2, FALSE)","v":0},0]
[null,null,null,null,null,null,{"$f":"VLOOKUP(F414,工作表9!$G$1:$I$136,3, FALSE)","v":"混合物"},null,{"$f":"VLOOKUP(F414,工作表9!$G$1:$H$142, 2, FALSE)","v":0},0]
[null,null,null,null,null,null,{"$f":"VLOOKUP(F415,工作表9!$G$1:$I$136,3, FALSE)","v":"混合物"},null,{"$f":"VLOOKUP(F415,工作表9!$G$1:$H$142, 2, FALSE)","v":0},0]
[null,null,null,null,null,null,{"$f":"VLOOKUP(F416,工作表9!$G$1:$I$136,3, FALSE)","v":"混合物"},null,{"$f":"VLOOKUP(F416,工作表9!$G$1:$H$142, 2, FALSE)","v":0},0]
[null,null,null,null,null,null,{"$f":"VLOOKUP(F417,工作表9!$G$1:$I$136,3, FALSE)","v":"混合物"},null,{"$f":"VLOOKUP(F417,工作表9!$G$1:$H$142, 2, FALSE)","v":0},0]
[null,null,null,null,null,null,{"$f":"VLOOKUP(F418,工作表9!$G$1:$I$136,3, FALSE)","v":"混合物"},null,{"$f":"VLOOKUP(F418,工作表9!$G$1:$H$142, 2, FALSE)","v":0},0]
[null,null,null,null,null,null,{"$f":"VLOOKUP(F419,工作表9!$G$1:$I$136,3, FALSE)","v":"混合物"},null,{"$f":"VLOOKUP(F419,工作表9!$G$1:$H$142, 2, FALSE)","v":0},0]
[null,null,null,null,null,null,{"$f":"VLOOKUP(F420,工作表9!$G$1:$I$136,3, FALSE)","v":"混合物"},null,{"$f":"VLOOKUP(F420,工作表9!$G$1:$H$142, 2, FALSE)","v":0},0]
[null,null,null,null,null,null,{"$f":"VLOOKUP(F421,工作表9!$G$1:$I$136,3, FALSE)","v":"混合物"},null,{"$f":"VLOOKUP(F421,工作表9!$G$1:$H$142, 2, FALSE)","v":0},0]
[null,null,null,null,null,null,{"$f":"VLOOKUP(F422,工作表9!$G$1:$I$136,3, FALSE)","v":"混合物"},null,{"$f":"VLOOKUP(F422,工作表9!$G$1:$H$142, 2, FALSE)","v":0},0]
[null,null,null,null,null,null,{"$f":"VLOOKUP(F423,工作表9!$G$1:$I$136,3, FALSE)","v":"混合物"},null,{"$f":"VLOOKUP(F423,工作表9!$G$1:$H$142, 2, FALSE)","v":0},0]
[null,null,null,null,null,null,{"$f":"VLOOKUP(F424,工作表9!$G$1:$I$136,3, FALSE)","v":"混合物"},null,{"$f":"VLOOKUP(F424,工作表9!$G$1:$H$142, 2, FALSE)","v":0},0]
[null,null,null,null,null,null,{"$f":"VLOOKUP(F425,工作表9!$G$1:$I$136,3, FALSE)","v":"混合物"},null,{"$f":"VLOOKUP(F425,工作表9!$G$1:$H$142, 2, FALSE)","v":0},0]
[null,null,null,null,null,null,{"$f":"VLOOKUP(F426,工作表9!$G$1:$I$136,3, FALSE)","v":"混合物"},null,{"$f":"VLOOKUP(F426,工作表9!$G$1:$H$142, 2, FALSE)","v":0},0]
[null,null,null,null,null,null,{"$f":"VLOOKUP(F427,工作表9!$G$1:$I$136,3, FALSE)","v":"混合物"},null,{"$f":"VLOOKUP(F427,工作表9!$G$1:$H$142, 2, FALSE)","v":0},0]
[null,null,null,null,null,null,{"$f":"VLOOKUP(F428,工作表9!$G$1:$I$136,3, FALSE)","v":"混合物"},null,{"$f":"VLOOKUP(F428,工作表9!$G$1:$H$142, 2, FALSE)","v":0},0]
[null,null,null,null,null,null,{"$f":"VLOOKUP(F429,工作表9!$G$1:$I$136,3, FALSE)","v":"混合物"},null,{"$f":"VLOOKUP(F429,工作表9!$G$1:$H$142, 2, FALSE)","v":0},0]
[null,null,null,null,null,null,{"$f":"VLOOKUP(F430,工作表9!$G$1:$I$136,3, FALSE)","v":"混合物"},null,{"$f":"VLOOKUP(F430,工作表9!$G$1:$H$142, 2, FALSE)","v":0},0]
[null,null,null,null,null,null,{"$f":"VLOOKUP(F431,工作表9!$G$1:$I$136,3, FALSE)","v":"混合物"},null,{"$f":"VLOOKUP(F431,工作表9!$G$1:$H$142, 2, FALSE)","v":0},0]
[null,null,null,null,null,null,{"$f":"VLOOKUP(F432,工作表9!$G$1:$I$136,3, FALSE)","v":"混合物"},null,{"$f":"VLOOKUP(F432,工作表9!$G$1:$H$142, 2, FALSE)","v":0},0]
[null,null,null,null,null,null,{"$f":"VLOOKUP(F433,工作表9!$G$1:$I$136,3, FALSE)","v":"混合物"},null,{"$f":"VLOOKUP(F433,工作表9!$G$1:$H$142, 2, FALSE)","v":0},0]
[null,null,null,null,null,null,{"$f":"VLOOKUP(F434,工作表9!$G$1:$I$136,3, FALSE)","v":"混合物"},null,{"$f":"VLOOKUP(F434,工作表9!$G$1:$H$142, 2, FALSE)","v":0},0]
[null,null,null,null,null,null,{"$f":"VLOOKUP(F435,工作表9!$G$1:$I$136,3, FALSE)","v":"混合物"},null,{"$f":"VLOOKUP(F435,工作表9!$G$1:$H$142, 2, FALSE)","v":0},0]
[null,null,null,null,null,null,{"$f":"VLOOKUP(F436,工作表9!$G$1:$I$136,3, FALSE)","v":"混合物"},null,{"$f":"VLOOKUP(F436,工作表9!$G$1:$H$142, 2, FALSE)","v":0},0]
[null,null,null,null,null,null,{"$f":"VLOOKUP(F437,工作表9!$G$1:$I$136,3, FALSE)","v":"混合物"},null,{"$f":"VLOOKUP(F437,工作表9!$G$1:$H$142, 2, FALSE)","v":0},0]
[null,null,null,null,null,null,{"$f":"VLOOKUP(F438,工作表9!$G$1:$I$136,3, FALSE)","v":"混合物"},null,{"$f":"VLOOKUP(F438,工作表9!$G$1:$H$142, 2, FALSE)","v":0},0]
[null,null,null,null,null,null,{"$f":"VLOOKUP(F439,工作表9!$G$1:$I$136,3, FALSE)","v":"混合物"},null,{"$f":"VLOOKUP(F439,工作表9!$G$1:$H$142, 2, FALSE)","v":0},0]
[null,null,null,null,null,null,{"$f":"VLOOKUP(F440,工作表9!$G$1:$I$136,3, FALSE)","v":"混合物"},null,{"$f":"VLOOKUP(F440,工作表9!$G$1:$H$142, 2, FALSE)","v":0},0]
[null,null,null,null,null,null,{"$f":"VLOOKUP(F441,工作表9!$G$1:$I$136,3, FALSE)","v":"混合物"},null,{"$f":"VLOOKUP(F441,工作表9!$G$1:$H$142, 2, FALSE)","v":0},0]
[null,null,null,null,null,null,{"$f":"VLOOKUP(F442,工作表9!$G$1:$I$136,3, FALSE)","v":"混合物"},null,{"$f":"VLOOKUP(F442,工作表9!$G$1:$H$142, 2, FALSE)","v":0},0]
[null,null,null,null,null,null,{"$f":"VLOOKUP(F443,工作表9!$G$1:$I$136,3, FALSE)","v":"混合物"},null,{"$f":"VLOOKUP(F443,工作表9!$G$1:$H$142, 2, FALSE)","v":0},0]
[null,null,null,null,null,null,{"$f":"VLOOKUP(F444,工作表9!$G$1:$I$136,3, FALSE)","v":"混合物"},null,{"$f":"VLOOKUP(F444,工作表9!$G$1:$H$142, 2, FALSE)","v":0},0]
[null,null,null,null,null,null,{"$f":"VLOOKUP(F445,工作表9!$G$1:$I$136,3, FALSE)","v":"混合物"},null,{"$f":"VLOOKUP(F445,工作表9!$G$1:$H$142, 2, FALSE)","v":0},0]
[null,null,null,null,null,null,{"$f":"VLOOKUP(F446,工作表9!$G$1:$I$136,3, FALSE)","v":"混合物"},null,{"$f":"VLOOKUP(F446,工作表9!$G$1:$H$142, 2, FALSE)","v":0},0]
[null,null,null,null,null,null,{"$f":"VLOOKUP(F447,工作表9!$G$1:$I$136,3, FALSE)","v":"混合物"},null,{"$f":"VLOOKUP(F447,工作表9!$G$1:$H$142, 2, FALSE)","v":0},0]
[null,null,null,null,null,null,{"$f":"VLOOKUP(F448,工作表9!$G$1:$I$136,3, FALSE)","v":"混合物"},null,{"$f":"VLOOKUP(F448,工作表9!$G$1:$H$142, 2, FALSE)","v":0},0]
[null,null,null,null,null,null,{"$f":"VLOOKUP(F449,工作表9!$G$1:$I$136,3, FALSE)","v":"混合物"},null,{"$f":"VLOOKUP(F449,工作表9!$G$1:$H$142, 2, FALSE)","v":0},0]
[null,null,null,null,null,null,{"$f":"VLOOKUP(F450,工作表9!$G$1:$I$136,3, FALSE)","v":"混合物"},null,{"$f":"VLOOKUP(F450,工作表9!$G$1:$H$142, 2, FALSE)","v":0},0]
[null,null,null,null,null,null,{"$f":"VLOOKUP(F451,工作表9!$G$1:$I$136,3, FALSE)","v":"混合物"},null,{"$f":"VLOOKUP(F451,工作表9!$G$1:$H$142, 2, FALSE)","v":0},0]
[null,null,null,null,null,null,{"$f":"VLOOKUP(F452,工作表9!$G$1:$I$136,3, FALSE)","v":"混合物"},null,{"$f":"VLOOKUP(F452,工作表9!$G$1:$H$142, 2, FALSE)","v":0},0]
[null,null,null,null,null,null,{"$f":"VLOOKUP(F453,工作表9!$G$1:$I$136,3, FALSE)","v":"混合物"},null,{"$f":"VLOOKUP(F453,工作表9!$G$1:$H$142, 2, FALSE)","v":0},0]
[null,null,null,null,null,null,{"$f":"VLOOKUP(F454,工作表9!$G$1:$I$136,3, FALSE)","v":"混合物"},null,{"$f":"VLOOKUP(F454,工作表9!$G$1:$H$142, 2, FALSE)","v":0},{"$f":"H454*I454","v":0}]
[null,null,null,null,null,null,{"$f":"VLOOKUP(F455,工作表9!$G$1:$I$136,3, FALSE)","v":"混合物"},null,{"$f":"VLOOKUP(F455,工作表9!$G$1:$H$142, 2, FALSE)","v":0},0]
[null,null,null,null,null,null,{"$f":"VLOOKUP(F456,工作表9!$G$1:$I$136,3, FALSE)","v":"混合物"},null,{"$f":"VLOOKUP(F456,工作表9!$G$1:$H$142, 2, FALSE)","v":0},0]
[null,null,null,null,null,null,{"$f":"VLOOKUP(F457,工作表9!$G$1:$I$136,3, FALSE)","v":"混合物"},null,{"$f":"VLOOKUP(F457,工作表9!$G$1:$H$142, 2, FALSE)","v":0},0]
[null,null,null,null,null,null,{"$f":"VLOOKUP(F458,工作表9!$G$1:$I$136,3, FALSE)","v":"混合物"},null,{"$f":"VLOOKUP(F458,工作表9!$G$1:$H$142, 2, FALSE)","v":0},0]
[null,null,null,null,null,null,{"$f":"VLOOKUP(F459,工作表9!$G$1:$I$136,3, FALSE)","v":"混合物"},null,{"$f":"VLOOKUP(F459,工作表9!$G$1:$H$142, 2, FALSE)","v":0},0]
[null,null,null,null,null,null,{"$f":"VLOOKUP(F460,工作表9!$G$1:$I$136,3, FALSE)","v":"混合物"},null,{"$f":"VLOOKUP(F460,工作表9!$G$1:$H$142, 2, FALSE)","v":0},0]
[null,null,null,null,null,null,{"$f":"VLOOKUP(F461,工作表9!$G$1:$I$136,3, FALSE)","v":"混合物"},null,{"$f":"VLOOKUP(F461,工作表9!$G$1:$H$142, 2, FALSE)","v":0},0]
[null,null,null,null,null,null,{"$f":"VLOOKUP(F462,工作表9!$G$1:$I$136,3, FALSE)","v":"混合物"},null,{"$f":"VLOOKUP(F462,工作表9!$G$1:$H$142, 2, FALSE)","v":0},0]
[null,null,null,null,null,null,{"$f":"VLOOKUP(F463,工作表9!$G$1:$I$136,3, FALSE)","v":"混合物"},null,{"$f":"VLOOKUP(F463,工作表9!$G$1:$H$142, 2, FALSE)","v":0},0]
[null,null,null,null,null,null,{"$f":"VLOOKUP(F464,工作表9!$G$1:$I$136,3, FALSE)","v":"混合物"},null,{"$f":"VLOOKUP(F464,工作表9!$G$1:$H$142, 2, FALSE)","v":0},0]
[null,null,null,null,null,null,{"$f":"VLOOKUP(F465,工作表9!$G$1:$I$136,3, FALSE)","v":"混合物"},null,{"$f":"VLOOKUP(F465,工作表9!$G$1:$H$142, 2, FALSE)","v":0},0]
[null,null,null,null,null,null,{"$f":"VLOOKUP(F466,工作表9!$G$1:$I$136,3, FALSE)","v":"混合物"},null,{"$f":"VLOOKUP(F466,工作表9!$G$1:$H$142, 2, FALSE)","v":0},0]
[null,null,null,null,null,null,{"$f":"VLOOKUP(F467,工作表9!$G$1:$I$136,3, FALSE)","v":"混合物"},null,{"$f":"VLOOKUP(F467,工作表9!$G$1:$H$142, 2, FALSE)","v":0},0]
[null,null,null,null,null,null,{"$f":"VLOOKUP(F468,工作表9!$G$1:$I$136,3, FALSE)","v":"混合物"},null,{"$f":"VLOOKUP(F468,工作表9!$G$1:$H$142, 2, FALSE)","v":0},0]
[null,null,null,null,null,null,{"$f":"VLOOKUP(F469,工作表9!$G$1:$I$136,3, FALSE)","v":"混合物"},null,{"$f":"VLOOKUP(F469,工作表9!$G$1:$H$142, 2, FALSE)","v":0},0]
[null,null,null,null,null,null,{"$f":"VLOOKUP(F470,工作表9!$G$1:$I$136,3, FALSE)","v":"混合物"},null,{"$f":"VLOOKUP(F470,工作表9!$G$1:$H$142, 2, FALSE)","v":0},0]
[null,null,null,null,null,null,{"$f":"VLOOKUP(F471,工作表9!$G$1:$I$136,3, FALSE)","v":"混合物"},null,{"$f":"VLOOKUP(F471,工作表9!$G$1:$H$142, 2, FALSE)","v":0},0]
[null,null,null,null,null,null,{"$f":"VLOOKUP(F472,工作表9!$G$1:$I$136,3, FALSE)","v":"混合物"},null,{"$f":"VLOOKUP(F472,工作表9!$G$1:$H$142, 2, FALSE)","v":0},0]
[null,null,null,null,null,null,{"$f":"VLOOKUP(F473,工作表9!$G$1:$I$136,3, FALSE)","v":"混合物"},null,{"$f":"VLOOKUP(F473,工作表9!$G$1:$H$142, 2, FALSE)","v":0},0]
[null,null,null,null,null,null,{"$f":"VLOOKUP(F474,工作表9!$G$1:$I$136,3, FALSE)","v":"混合物"},null,{"$f":"VLOOKUP(F474,工作表9!$G$1:$H$142, 2, FALSE)","v":0},0]
[null,null,null,null,null,null,{"$f":"VLOOKUP(F475,工作表9!$G$1:$I$136,3, FALSE)","v":"混合物"},null,{"$f":"VLOOKUP(F475,工作表9!$G$1:$H$142, 2, FALSE)","v":0},0]
[null,null,null,null,null,null,{"$f":"VLOOKUP(F476,工作表9!$G$1:$I$136,3, FALSE)","v":"混合物"},null,{"$f":"VLOOKUP(F476,工作表9!$G$1:$H$142, 2, FALSE)","v":0},0]
[null,null,null,null,null,null,{"$f":"VLOOKUP(F477,工作表9!$G$1:$I$136,3, FALSE)","v":"混合物"},null,{"$f":"VLOOKUP(F477,工作表9!$G$1:$H$142, 2, FALSE)","v":0},0]
[null,null,null,null,null,null,{"$f":"VLOOKUP(F478,工作表9!$G$1:$I$136,3, FALSE)","v":"混合物"},null,{"$f":"VLOOKUP(F478,工作表9!$G$1:$H$142, 2, FALSE)","v":0},0]
[null,null,null,null,null,null,{"$f":"VLOOKUP(F479,工作表9!$G$1:$I$136,3, FALSE)","v":"混合物"},null,{"$f":"VLOOKUP(F479,工作表9!$G$1:$H$142, 2, FALSE)","v":0},0]
[null,null,null,null,null,null,{"$f":"VLOOKUP(F480,工作表9!$G$1:$I$136,3, FALSE)","v":"混合物"},null,{"$f":"VLOOKUP(F480,工作表9!$G$1:$H$142, 2, FALSE)","v":0},0]
[null,null,null,null,null,null,{"$f":"VLOOKUP(F481,工作表9!$G$1:$I$136,3, FALSE)","v":"混合物"},null,{"$f":"VLOOKUP(F481,工作表9!$G$1:$H$142, 2, FALSE)","v":0},0]
[null,null,null,null,null,null,{"$f":"VLOOKUP(F482,工作表9!$G$1:$I$136,3, FALSE)","v":"混合物"},null,{"$f":"VLOOKUP(F482,工作表9!$G$1:$H$142, 2, FALSE)","v":0},0]
[null,null,null,null,null,null,{"$f":"VLOOKUP(F483,工作表9!$G$1:$I$136,3, FALSE)","v":"混合物"},null,{"$f":"VLOOKUP(F483,工作表9!$G$1:$H$142, 2, FALSE)","v":0},0]
[null,null,null,null,null,null,{"$f":"VLOOKUP(F484,工作表9!$G$1:$I$136,3, FALSE)","v":"混合物"},null,{"$f":"VLOOKUP(F484,工作表9!$G$1:$H$142, 2, FALSE)","v":0},0]
[null,null,null,null,null,null,{"$f":"VLOOKUP(F485,工作表9!$G$1:$I$136,3, FALSE)","v":"混合物"},null,{"$f":"VLOOKUP(F485,工作表9!$G$1:$H$142, 2, FALSE)","v":0},0]
[null,null,null,null,null,null,{"$f":"VLOOKUP(F486,工作表9!$G$1:$I$136,3, FALSE)","v":"混合物"},null,{"$f":"VLOOKUP(F486,工作表9!$G$1:$H$142, 2, FALSE)","v":0},0]
[null,null,null,null,null,null,{"$f":"VLOOKUP(F487,工作表9!$G$1:$I$136,3, FALSE)","v":"混合物"},null,{"$f":"VLOOKUP(F487,工作表9!$G$1:$H$142, 2, FALSE)","v":0},0]
[null,null,null,null,null,null,{"$f":"VLOOKUP(F488,工作表9!$G$1:$I$136,3, FALSE)","v":"混合物"},null,{"$f":"VLOOKUP(F488,工作表9!$G$1:$H$142, 2, FALSE)","v":0},0]
[null,null,null,null,null,null,{"$f":"VLOOKUP(F489,工作表9!$G$1:$I$136,3, FALSE)","v":"混合物"},null,{"$f":"VLOOKUP(F489,工作表9!$G$1:$H$142, 2, FALSE)","v":0},0]
[null,null,null,null,null,null,{"$f":"VLOOKUP(F490,工作表9!$G$1:$I$136,3, FALSE)","v":"混合物"},null,{"$f":"VLOOKUP(F490,工作表9!$G$1:$H$142, 2, FALSE)","v":0},0]
[null,null,null,null,null,null,{"$f":"VLOOKUP(F491,工作表9!$G$1:$I$136,3, FALSE)","v":"混合物"},null,{"$f":"VLOOKUP(F491,工作表9!$G$1:$H$142, 2, FALSE)","v":0},0]
[null,null,null,null,null,null,{"$f":"VLOOKUP(F492,工作表9!$G$1:$I$136,3, FALSE)","v":"混合物"},null,{"$f":"VLOOKUP(F492,工作表9!$G$1:$H$142, 2, FALSE)","v":0},0]
[null,null,null,null,null,null,{"$f":"VLOOKUP(F493,工作表9!$G$1:$I$136,3, FALSE)","v":"混合物"},null,{"$f":"VLOOKUP(F493,工作表9!$G$1:$H$142, 2, FALSE)","v":0},0]
[null,null,null,null,null,null,{"$f":"VLOOKUP(F494,工作表9!$G$1:$I$136,3, FALSE)","v":"混合物"},null,{"$f":"VLOOKUP(F494,工作表9!$G$1:$H$142, 2, FALSE)","v":0},0]
[null,null,null,null,null,null,{"$f":"VLOOKUP(F495,工作表9!$G$1:$I$136,3, FALSE)","v":"混合物"},null,{"$f":"VLOOKUP(F495,工作表9!$G$1:$H$142, 2, FALSE)","v":0},0]
[null,null,null,null,null,null,{"$f":"VLOOKUP(F496,工作表9!$G$1:$I$136,3, FALSE)","v":"混合物"},null,{"$f":"VLOOKUP(F496,工作表9!$G$1:$H$142, 2, FALSE)","v":0},0]
[null,null,null,null,null,null,{"$f":"VLOOKUP(F497,工作表9!$G$1:$I$136,3, FALSE)","v":"混合物"},null,{"$f":"VLOOKUP(F497,工作表9!$G$1:$H$142, 2, FALSE)","v":0},0]
[null,null,null,null,null,null,{"$f":"VLOOKUP(F498,工作表9!$G$1:$I$136,3, FALSE)","v":"混合物"},null,{"$f":"VLOOKUP(F498,工作表9!$G$1:$H$142, 2, FALSE)","v":0},0]
[null,null,null,null,null,null,{"$f":"VLOOKUP(F499,工作表9!$G$1:$I$136,3, FALSE)","v":"混合物"},null,{"$f":"VLOOKUP(F499,工作表9!$G$1:$H$142, 2, FALSE)","v":0},0]
[null,null,null,null,null,null,{"$f":"VLOOKUP(F500,工作表9!$G$1:$I$136,3, FALSE)","v":"混合物"},null,{"$f":"VLOOKUP(F500,工作表9!$G$1:$H$142, 2, FALSE)","v":0},0]
[null,null,null,null,null,null,{"$f":"VLOOKUP(F501,工作表9!$G$1:$I$136,3, FALSE)","v":"混合物"},null,{"$f":"VLOOKUP(F501,工作表9!$G$1:$H$142, 2, FALSE)","v":0},0]
[null,null,null,null,null,null,{"$f":"VLOOKUP(F502,工作表9!$G$1:$I$136,3, FALSE)","v":"混合物"},null,{"$f":"VLOOKUP(F502,工作表9!$G$1:$H$142, 2, FALSE)","v":0},0]
[null,null,null,null,null,null,{"$f":"VLOOKUP(F503,工作表9!$G$1:$I$136,3, FALSE)","v":"混合物"},null,{"$f":"VLOOKUP(F503,工作表9!$G$1:$H$142, 2, FALSE)","v":0},0]
[null,null,null,null,null,null,{"$f":"VLOOKUP(F504,工作表9!$G$1:$I$136,3, FALSE)","v":"混合物"},null,{"$f":"VLOOKUP(F504,工作表9!$G$1:$H$142, 2, FALSE)","v":0},0]
[null,null,null,null,null,null,{"$f":"VLOOKUP(F505,工作表9!$G$1:$I$136,3, FALSE)","v":"混合物"},null,{"$f":"VLOOKUP(F505,工作表9!$G$1:$H$142, 2, FALSE)","v":0},0]
[null,null,null,null,null,null,{"$f":"VLOOKUP(F506,工作表9!$G$1:$I$136,3, FALSE)","v":"混合物"},null,{"$f":"VLOOKUP(F506,工作表9!$G$1:$H$142, 2, FALSE)","v":0},0]
[null,null,null,null,null,null,{"$f":"VLOOKUP(F507,工作表9!$G$1:$I$136,3, FALSE)","v":"混合物"},null,{"$f":"VLOOKUP(F507,工作表9!$G$1:$H$142, 2, FALSE)","v":0},0]
[null,null,null,null,null,null,{"$f":"VLOOKUP(F508,工作表9!$G$1:$I$136,3, FALSE)","v":"混合物"},null,{"$f":"VLOOKUP(F508,工作表9!$G$1:$H$142, 2, FALSE)","v":0},0]
[null,null,null,null,null,null,{"$f":"VLOOKUP(F509,工作表9!$G$1:$I$136,3, FALSE)","v":"混合物"},null,{"$f":"VLOOKUP(F509,工作表9!$G$1:$H$142, 2, FALSE)","v":0},0]
[null,null,null,null,null,null,{"$f":"VLOOKUP(F510,工作表9!$G$1:$I$136,3, FALSE)","v":"混合物"},null,{"$f":"VLOOKUP(F510,工作表9!$G$1:$H$142, 2, FALSE)","v":0},0]
[null,null,null,null,null,null,{"$f":"VLOOKUP(F511,工作表9!$G$1:$I$136,3, FALSE)","v":"混合物"},null,{"$f":"VLOOKUP(F511,工作表9!$G$1:$H$142, 2, FALSE)","v":0},0]
[null,null,null,null,null,null,{"$f":"VLOOKUP(F512,工作表9!$G$1:$I$136,3, FALSE)","v":"混合物"},null,{"$f":"VLOOKUP(F512,工作表9!$G$1:$H$142, 2, FALSE)","v":0},0]
[null,null,null,null,null,null,{"$f":"VLOOKUP(F513,工作表9!$G$1:$I$136,3, FALSE)","v":"混合物"},null,{"$f":"VLOOKUP(F513,工作表9!$G$1:$H$142, 2, FALSE)","v":0},0]
[null,null,null,null,null,null,{"$f":"VLOOKUP(F514,工作表9!$G$1:$I$136,3, FALSE)","v":"混合物"},null,{"$f":"VLOOKUP(F514,工作表9!$G$1:$H$142, 2, FALSE)","v":0},0]
[null,null,null,null,null,null,{"$f":"VLOOKUP(F515,工作表9!$G$1:$I$136,3, FALSE)","v":"混合物"},null,{"$f":"VLOOKUP(F515,工作表9!$G$1:$H$142, 2, FALSE)","v":0},0]
[null,null,null,null,null,null,{"$f":"VLOOKUP(F516,工作表9!$G$1:$I$136,3, FALSE)","v":"混合物"},null,{"$f":"VLOOKUP(F516,工作表9!$G$1:$H$142, 2, FALSE)","v":0},0]
[null,null,null,null,null,null,{"$f":"VLOOKUP(F517,工作表9!$G$1:$I$136,3, FALSE)","v":"混合物"},null,{"$f":"VLOOKUP(F517,工作表9!$G$1:$H$142, 2, FALSE)","v":0},0]
[null,null,null,null,null,null,{"$f":"VLOOKUP(F518,工作表9!$G$1:$I$136,3, FALSE)","v":"混合物"},null,{"$f":"VLOOKUP(F518,工作表9!$G$1:$H$142, 2, FALSE)","v":0},{"$f":"H518*I518","v":0}]
[null,null,null,null,null,null,{"$f":"VLOOKUP(F519,工作表9!$G$1:$I$136,3, FALSE)","v":"混合物"},null,{"$f":"VLOOKUP(F519,工作表9!$G$1:$H$142, 2, FALSE)","v":0},0]
[null,null,null,null,null,null,{"$f":"VLOOKUP(F520,工作表9!$G$1:$I$136,3, FALSE)","v":"混合物"},null,{"$f":"VLOOKUP(F520,工作表9!$G$1:$H$142, 2, FALSE)","v":0},0]
[null,null,null,null,null,null,{"$f":"VLOOKUP(F521,工作表9!$G$1:$I$136,3, FALSE)","v":"混合物"},null,{"$f":"VLOOKUP(F521,工作表9!$G$1:$H$142, 2, FALSE)","v":0},0]
[null,null,null,null,null,null,{"$f":"VLOOKUP(F522,工作表9!$G$1:$I$136,3, FALSE)","v":"混合物"},null,{"$f":"VLOOKUP(F522,工作表9!$G$1:$H$142, 2, FALSE)","v":0},0]
[null,null,null,null,null,null,{"$f":"VLOOKUP(F523,工作表9!$G$1:$I$136,3, FALSE)","v":"混合物"},null,{"$f":"VLOOKUP(F523,工作表9!$G$1:$H$142, 2, FALSE)","v":0},0]
[null,null,null,null,null,null,{"$f":"VLOOKUP(F524,工作表9!$G$1:$I$136,3, FALSE)","v":"混合物"},null,{"$f":"VLOOKUP(F524,工作表9!$G$1:$H$142, 2, FALSE)","v":0},0]
[null,null,null,null,null,null,{"$f":"VLOOKUP(F525,工作表9!$G$1:$I$136,3, FALSE)","v":"混合物"},null,{"$f":"VLOOKUP(F525,工作表9!$G$1:$H$142, 2, FALSE)","v":0},0]
[null,null,null,null,null,null,{"$f":"VLOOKUP(F526,工作表9!$G$1:$I$136,3, FALSE)","v":"混合物"},null,{"$f":"VLOOKUP(F526,工作表9!$G$1:$H$142, 2, FALSE)","v":0},0]
[null,null,null,null,null,null,{"$f":"VLOOKUP(F527,工作表9!$G$1:$I$136,3, FALSE)","v":"混合物"},null,{"$f":"VLOOKUP(F527,工作表9!$G$1:$H$142, 2, FALSE)","v":0},0]
[null,null,null,null,null,null,{"$f":"VLOOKUP(F528,工作表9!$G$1:$I$136,3, FALSE)","v":"混合物"},null,{"$f":"VLOOKUP(F528,工作表9!$G$1:$H$142, 2, FALSE)","v":0},0]
[null,null,null,null,null,null,{"$f":"VLOOKUP(F529,工作表9!$G$1:$I$136,3, FALSE)","v":"混合物"},null,{"$f":"VLOOKUP(F529,工作表9!$G$1:$H$142, 2, FALSE)","v":0},0]
[null,null,null,null,null,null,{"$f":"VLOOKUP(F530,工作表9!$G$1:$I$136,3, FALSE)","v":"混合物"},null,{"$f":"VLOOKUP(F530,工作表9!$G$1:$H$142, 2, FALSE)","v":0},0]
[null,null,null,null,null,null,{"$f":"VLOOKUP(F531,工作表9!$G$1:$I$136,3, FALSE)","v":"混合物"},null,{"$f":"VLOOKUP(F531,工作表9!$G$1:$H$142, 2, FALSE)","v":0},0]
[null,null,null,null,null,null,{"$f":"VLOOKUP(F532,工作表9!$G$1:$I$136,3, FALSE)","v":"混合物"},null,{"$f":"VLOOKUP(F532,工作表9!$G$1:$H$142, 2, FALSE)","v":0},0]
[null,null,null,null,null,null,{"$f":"VLOOKUP(F533,工作表9!$G$1:$I$136,3, FALSE)","v":"混合物"},null,{"$f":"VLOOKUP(F533,工作表9!$G$1:$H$142, 2, FALSE)","v":0},0]
[null,null,null,null,null,null,{"$f":"VLOOKUP(F534,工作表9!$G$1:$I$136,3, FALSE)","v":"混合物"},null,{"$f":"VLOOKUP(F534,工作表9!$G$1:$H$142, 2, FALSE)","v":0},0]
[null,null,null,null,null,null,{"$f":"VLOOKUP(F535,工作表9!$G$1:$I$136,3, FALSE)","v":"混合物"},null,{"$f":"VLOOKUP(F535,工作表9!$G$1:$H$142, 2, FALSE)","v":0},0]
[null,null,null,null,null,null,{"$f":"VLOOKUP(F536,工作表9!$G$1:$I$136,3, FALSE)","v":"混合物"},null,{"$f":"VLOOKUP(F536,工作表9!$G$1:$H$142, 2, FALSE)","v":0},0]
[null,null,null,null,null,null,{"$f":"VLOOKUP(F537,工作表9!$G$1:$I$136,3, FALSE)","v":"混合物"},null,{"$f":"VLOOKUP(F537,工作表9!$G$1:$H$142, 2, FALSE)","v":0},0]
[null,null,null,null,null,null,{"$f":"VLOOKUP(F538,工作表9!$G$1:$I$136,3, FALSE)","v":"混合物"},null,{"$f":"VLOOKUP(F538,工作表9!$G$1:$H$142, 2, FALSE)","v":0},0]
[null,null,null,null,null,null,{"$f":"VLOOKUP(F539,工作表9!$G$1:$I$136,3, FALSE)","v":"混合物"},null,{"$f":"VLOOKUP(F539,工作表9!$G$1:$H$142, 2, FALSE)","v":0},0]
[null,null,null,null,null,null,{"$f":"VLOOKUP(F540,工作表9!$G$1:$I$136,3, FALSE)","v":"混合物"},null,{"$f":"VLOOKUP(F540,工作表9!$G$1:$H$142, 2, FALSE)","v":0},0]
[null,null,null,null,null,null,{"$f":"VLOOKUP(F541,工作表9!$G$1:$I$136,3, FALSE)","v":"混合物"},null,{"$f":"VLOOKUP(F541,工作表9!$G$1:$H$142, 2, FALSE)","v":0},0]
[null,null,null,null,null,null,{"$f":"VLOOKUP(F542,工作表9!$G$1:$I$136,3, FALSE)","v":"混合物"},null,{"$f":"VLOOKUP(F542,工作表9!$G$1:$H$142, 2, FALSE)","v":0},0]
[null,null,null,null,null,null,{"$f":"VLOOKUP(F543,工作表9!$G$1:$I$136,3, FALSE)","v":"混合物"},null,{"$f":"VLOOKUP(F543,工作表9!$G$1:$H$142, 2, FALSE)","v":0},0]
[null,null,null,null,null,null,{"$f":"VLOOKUP(F544,工作表9!$G$1:$I$136,3, FALSE)","v":"混合物"},null,{"$f":"VLOOKUP(F544,工作表9!$G$1:$H$142, 2, FALSE)","v":0},0]
[null,null,null,null,null,null,{"$f":"VLOOKUP(F545,工作表9!$G$1:$I$136,3, FALSE)","v":"混合物"},null,{"$f":"VLOOKUP(F545,工作表9!$G$1:$H$142, 2, FALSE)","v":0},0]
[null,null,null,null,null,null,{"$f":"VLOOKUP(F546,工作表9!$G$1:$I$136,3, FALSE)","v":"混合物"},null,{"$f":"VLOOKUP(F546,工作表9!$G$1:$H$142, 2, FALSE)","v":0},0]
[null,null,null,null,null,null,{"$f":"VLOOKUP(F547,工作表9!$G$1:$I$136,3, FALSE)","v":"混合物"},null,{"$f":"VLOOKUP(F547,工作表9!$G$1:$H$142, 2, FALSE)","v":0},0]
[null,null,null,null,null,null,{"$f":"VLOOKUP(F548,工作表9!$G$1:$I$136,3, FALSE)","v":"混合物"},null,{"$f":"VLOOKUP(F548,工作表9!$G$1:$H$142, 2, FALSE)","v":0},0]
[null,null,null,null,null,null,{"$f":"VLOOKUP(F549,工作表9!$G$1:$I$136,3, FALSE)","v":"混合物"},null,{"$f":"VLOOKUP(F549,工作表9!$G$1:$H$142, 2, FALSE)","v":0},0]
[null,null,null,null,null,null,{"$f":"VLOOKUP(F550,工作表9!$G$1:$I$136,3, FALSE)","v":"混合物"},null,{"$f":"VLOOKUP(F550,工作表9!$G$1:$H$142, 2, FALSE)","v":0},0]
[null,null,null,null,null,null,{"$f":"VLOOKUP(F551,工作表9!$G$1:$I$136,3, FALSE)","v":"混合物"},null,{"$f":"VLOOKUP(F551,工作表9!$G$1:$H$142, 2, FALSE)","v":0},0]
[null,null,null,null,null,null,{"$f":"VLOOKUP(F552,工作表9!$G$1:$I$136,3, FALSE)","v":"混合物"},null,{"$f":"VLOOKUP(F552,工作表9!$G$1:$H$142, 2, FALSE)","v":0},0]
[null,null,null,null,null,null,{"$f":"VLOOKUP(F553,工作表9!$G$1:$I$136,3, FALSE)","v":"混合物"},null,{"$f":"VLOOKUP(F553,工作表9!$G$1:$H$142, 2, FALSE)","v":0},0]
[null,null,null,null,null,null,{"$f":"VLOOKUP(F554,工作表9!$G$1:$I$136,3, FALSE)","v":"混合物"},null,{"$f":"VLOOKUP(F554,工作表9!$G$1:$H$142, 2, FALSE)","v":0},0]
[null,null,null,null,null,null,{"$f":"VLOOKUP(F555,工作表9!$G$1:$I$136,3, FALSE)","v":"混合物"},null,{"$f":"VLOOKUP(F555,工作表9!$G$1:$H$142, 2, FALSE)","v":0},0]
[null,null,null,null,null,null,{"$f":"VLOOKUP(F556,工作表9!$G$1:$I$136,3, FALSE)","v":"混合物"},null,{"$f":"VLOOKUP(F556,工作表9!$G$1:$H$142, 2, FALSE)","v":0},0]
[null,null,null,null,null,null,{"$f":"VLOOKUP(F557,工作表9!$G$1:$I$136,3, FALSE)","v":"混合物"},null,{"$f":"VLOOKUP(F557,工作表9!$G$1:$H$142, 2, FALSE)","v":0},0]
[null,null,null,null,null,null,{"$f":"VLOOKUP(F558,工作表9!$G$1:$I$136,3, FALSE)","v":"混合物"},null,{"$f":"VLOOKUP(F558,工作表9!$G$1:$H$142, 2, FALSE)","v":0},0]
[null,null,null,null,null,null,{"$f":"VLOOKUP(F559,工作表9!$G$1:$I$136,3, FALSE)","v":"混合物"},null,{"$f":"VLOOKUP(F559,工作表9!$G$1:$H$142, 2, FALSE)","v":0},0]
[null,null,null,null,null,null,{"$f":"VLOOKUP(F560,工作表9!$G$1:$I$136,3, FALSE)","v":"混合物"},null,{"$f":"VLOOKUP(F560,工作表9!$G$1:$H$142, 2, FALSE)","v":0},0]
[null,null,null,null,null,null,{"$f":"VLOOKUP(F561,工作表9!$G$1:$I$136,3, FALSE)","v":"混合物"},null,{"$f":"VLOOKUP(F561,工作表9!$G$1:$H$142, 2, FALSE)","v":0},0]
[null,null,null,null,null,null,{"$f":"VLOOKUP(F562,工作表9!$G$1:$I$136,3, FALSE)","v":"混合物"},null,{"$f":"VLOOKUP(F562,工作表9!$G$1:$H$142, 2, FALSE)","v":0},0]
[null,null,null,null,null,null,{"$f":"VLOOKUP(F563,工作表9!$G$1:$I$136,3, FALSE)","v":"混合物"},null,{"$f":"VLOOKUP(F563,工作表9!$G$1:$H$142, 2, FALSE)","v":0},0]
[null,null,null,null,null,null,{"$f":"VLOOKUP(F564,工作表9!$G$1:$I$136,3, FALSE)","v":"混合物"},null,{"$f":"VLOOKUP(F564,工作表9!$G$1:$H$142, 2, FALSE)","v":0},0]
[null,null,null,null,null,null,{"$f":"VLOOKUP(F565,工作表9!$G$1:$I$136,3, FALSE)","v":"混合物"},null,{"$f":"VLOOKUP(F565,工作表9!$G$1:$H$142, 2, FALSE)","v":0},0]
[null,null,null,null,null,null,{"$f":"VLOOKUP(F566,工作表9!$G$1:$I$136,3, FALSE)","v":"混合物"},null,{"$f":"VLOOKUP(F566,工作表9!$G$1:$H$142, 2, FALSE)","v":0},0]
[null,null,null,null,null,null,{"$f":"VLOOKUP(F567,工作表9!$G$1:$I$136,3, FALSE)","v":"混合物"},null,{"$f":"VLOOKUP(F567,工作表9!$G$1:$H$142, 2, FALSE)","v":0},0]
[null,null,null,null,null,null,{"$f":"VLOOKUP(F568,工作表9!$G$1:$I$136,3, FALSE)","v":"混合物"},null,{"$f":"VLOOKUP(F568,工作表9!$G$1:$H$142, 2, FALSE)","v":0},0]
[null,null,null,null,null,null,{"$f":"VLOOKUP(F569,工作表9!$G$1:$I$136,3, FALSE)","v":"混合物"},null,{"$f":"VLOOKUP(F569,工作表9!$G$1:$H$142, 2, FALSE)","v":0},0]
[null,null,null,null,null,null,{"$f":"VLOOKUP(F570,工作表9!$G$1:$I$136,3, FALSE)","v":"混合物"},null,{"$f":"VLOOKUP(F570,工作表9!$G$1:$H$142, 2, FALSE)","v":0},0]
[null,null,null,null,null,null,{"$f":"VLOOKUP(F571,工作表9!$G$1:$I$136,3, FALSE)","v":"混合物"},null,{"$f":"VLOOKUP(F571,工作表9!$G$1:$H$142, 2, FALSE)","v":0},0]
[null,null,null,null,null,null,{"$f":"VLOOKUP(F572,工作表9!$G$1:$I$136,3, FALSE)","v":"混合物"},null,{"$f":"VLOOKUP(F572,工作表9!$G$1:$H$142, 2, FALSE)","v":0},0]
[null,null,null,null,null,null,{"$f":"VLOOKUP(F573,工作表9!$G$1:$I$136,3, FALSE)","v":"混合物"},null,{"$f":"VLOOKUP(F573,工作表9!$G$1:$H$142, 2, FALSE)","v":0},0]
[null,null,null,null,null,null,{"$f":"VLOOKUP(F574,工作表9!$G$1:$I$136,3, FALSE)","v":"混合物"},null,{"$f":"VLOOKUP(F574,工作表9!$G$1:$H$142, 2, FALSE)","v":0},0]
[null,null,null,null,null,null,{"$f":"VLOOKUP(F575,工作表9!$G$1:$I$136,3, FALSE)","v":"混合物"},null,{"$f":"VLOOKUP(F575,工作表9!$G$1:$H$142, 2, FALSE)","v":0},0]
[null,null,null,null,null,null,{"$f":"VLOOKUP(F576,工作表9!$G$1:$I$136,3, FALSE)","v":"混合物"},null,{"$f":"VLOOKUP(F576,工作表9!$G$1:$H$142, 2, FALSE)","v":0},0]
[null,null,null,null,null,null,{"$f":"VLOOKUP(F577,工作表9!$G$1:$I$136,3, FALSE)","v":"混合物"},null,{"$f":"VLOOKUP(F577,工作表9!$G$1:$H$142, 2, FALSE)","v":0},0]
[null,null,null,null,null,null,{"$f":"VLOOKUP(F578,工作表9!$G$1:$I$136,3, FALSE)","v":"混合物"},null,{"$f":"VLOOKUP(F578,工作表9!$G$1:$H$142, 2, FALSE)","v":0},0]
[null,null,null,null,null,null,{"$f":"VLOOKUP(F579,工作表9!$G$1:$I$136,3, FALSE)","v":"混合物"},null,{"$f":"VLOOKUP(F579,工作表9!$G$1:$H$142, 2, FALSE)","v":0},0]
[null,null,null,null,null,null,{"$f":"VLOOKUP(F580,工作表9!$G$1:$I$136,3, FALSE)","v":"混合物"},null,{"$f":"VLOOKUP(F580,工作表9!$G$1:$H$142, 2, FALSE)","v":0},0]
[null,null,null,null,null,null,{"$f":"VLOOKUP(F581,工作表9!$G$1:$I$136,3, FALSE)","v":"混合物"},null,{"$f":"VLOOKUP(F581,工作表9!$G$1:$H$142, 2, FALSE)","v":0},0]
[null,null,null,null,null,null,{"$f":"VLOOKUP(F582,工作表9!$G$1:$I$136,3, FALSE)","v":"混合物"},null,{"$f":"VLOOKUP(F582,工作表9!$G$1:$H$142, 2, FALSE)","v":0},{"$f":"H582*I582","v":0}]
[null,null,null,null,null,null,{"$f":"VLOOKUP(F583,工作表9!$G$1:$I$136,3, FALSE)","v":"混合物"},null,{"$f":"VLOOKUP(F583,工作表9!$G$1:$H$142, 2, FALSE)","v":0},0]
[null,null,null,null,null,null,{"$f":"VLOOKUP(F584,工作表9!$G$1:$I$136,3, FALSE)","v":"混合物"},null,{"$f":"VLOOKUP(F584,工作表9!$G$1:$H$142, 2, FALSE)","v":0},0]
[null,null,null,null,null,null,{"$f":"VLOOKUP(F585,工作表9!$G$1:$I$136,3, FALSE)","v":"混合物"},null,{"$f":"VLOOKUP(F585,工作表9!$G$1:$H$142, 2, FALSE)","v":0},0]
[null,null,null,null,null,null,{"$f":"VLOOKUP(F586,工作表9!$G$1:$I$136,3, FALSE)","v":"混合物"},null,{"$f":"VLOOKUP(F586,工作表9!$G$1:$H$142, 2, FALSE)","v":0},0]
[null,null,null,null,null,null,{"$f":"VLOOKUP(F587,工作表9!$G$1:$I$136,3, FALSE)","v":"混合物"},null,{"$f":"VLOOKUP(F587,工作表9!$G$1:$H$142, 2, FALSE)","v":0},0]
[null,null,null,null,null,null,{"$f":"VLOOKUP(F588,工作表9!$G$1:$I$136,3, FALSE)","v":"混合物"},null,{"$f":"VLOOKUP(F588,工作表9!$G$1:$H$142, 2, FALSE)","v":0},0]
[null,null,null,null,null,null,{"$f":"VLOOKUP(F589,工作表9!$G$1:$I$136,3, FALSE)","v":"混合物"},null,{"$f":"VLOOKUP(F589,工作表9!$G$1:$H$142, 2, FALSE)","v":0},0]
[null,null,null,null,null,null,{"$f":"VLOOKUP(F590,工作表9!$G$1:$I$136,3, FALSE)","v":"混合物"},null,{"$f":"VLOOKUP(F590,工作表9!$G$1:$H$142, 2, FALSE)","v":0},0]
[null,null,null,null,null,null,{"$f":"VLOOKUP(F591,工作表9!$G$1:$I$136,3, FALSE)","v":"混合物"},null,{"$f":"VLOOKUP(F591,工作表9!$G$1:$H$142, 2, FALSE)","v":0},0]
[null,null,null,null,null,null,{"$f":"VLOOKUP(F592,工作表9!$G$1:$I$136,3, FALSE)","v":"混合物"},null,{"$f":"VLOOKUP(F592,工作表9!$G$1:$H$142, 2, FALSE)","v":0},0]
[null,null,null,null,null,null,{"$f":"VLOOKUP(F593,工作表9!$G$1:$I$136,3, FALSE)","v":"混合物"},null,{"$f":"VLOOKUP(F593,工作表9!$G$1:$H$142, 2, FALSE)","v":0},0]
[null,null,null,null,null,null,{"$f":"VLOOKUP(F594,工作表9!$G$1:$I$136,3, FALSE)","v":"混合物"},null,{"$f":"VLOOKUP(F594,工作表9!$G$1:$H$142, 2, FALSE)","v":0},0]
[null,null,null,null,null,null,{"$f":"VLOOKUP(F595,工作表9!$G$1:$I$136,3, FALSE)","v":"混合物"},null,{"$f":"VLOOKUP(F595,工作表9!$G$1:$H$142, 2, FALSE)","v":0},0]
[null,null,null,null,null,null,{"$f":"VLOOKUP(F596,工作表9!$G$1:$I$136,3, FALSE)","v":"混合物"},null,{"$f":"VLOOKUP(F596,工作表9!$G$1:$H$142, 2, FALSE)","v":0},0]
[null,null,null,null,null,null,{"$f":"VLOOKUP(F597,工作表9!$G$1:$I$136,3, FALSE)","v":"混合物"},null,{"$f":"VLOOKUP(F597,工作表9!$G$1:$H$142, 2, FALSE)","v":0},0]
[null,null,null,null,null,null,{"$f":"VLOOKUP(F598,工作表9!$G$1:$I$136,3, FALSE)","v":"混合物"},null,{"$f":"VLOOKUP(F598,工作表9!$G$1:$H$142, 2, FALSE)","v":0},0]
[null,null,null,null,null,null,{"$f":"VLOOKUP(F599,工作表9!$G$1:$I$136,3, FALSE)","v":"混合物"},null,{"$f":"VLOOKUP(F599,工作表9!$G$1:$H$142, 2, FALSE)","v":0},0]
[null,null,null,null,null,null,{"$f":"VLOOKUP(F600,工作表9!$G$1:$I$136,3, FALSE)","v":"混合物"},null,{"$f":"VLOOKUP(F600,工作表9!$G$1:$H$142, 2, FALSE)","v":0},0]
[null,null,null,null,null,null,{"$f":"VLOOKUP(F601,工作表9!$G$1:$I$136,3, FALSE)","v":"混合物"},null,{"$f":"VLOOKUP(F601,工作表9!$G$1:$H$142, 2, FALSE)","v":0},0]
[null,null,null,null,null,null,{"$f":"VLOOKUP(F602,工作表9!$G$1:$I$136,3, FALSE)","v":"混合物"},null,{"$f":"VLOOKUP(F602,工作表9!$G$1:$H$142, 2, FALSE)","v":0},0]
[null,null,null,null,null,null,{"$f":"VLOOKUP(F603,工作表9!$G$1:$I$136,3, FALSE)","v":"混合物"},null,{"$f":"VLOOKUP(F603,工作表9!$G$1:$H$142, 2, FALSE)","v":0},0]
[null,null,null,null,null,null,{"$f":"VLOOKUP(F604,工作表9!$G$1:$I$136,3, FALSE)","v":"混合物"},null,{"$f":"VLOOKUP(F604,工作表9!$G$1:$H$142, 2, FALSE)","v":0},0]
[null,null,null,null,null,null,{"$f":"VLOOKUP(F605,工作表9!$G$1:$I$136,3, FALSE)","v":"混合物"},null,{"$f":"VLOOKUP(F605,工作表9!$G$1:$H$142, 2, FALSE)","v":0},0]
[null,null,null,null,null,null,{"$f":"VLOOKUP(F606,工作表9!$G$1:$I$136,3, FALSE)","v":"混合物"},null,{"$f":"VLOOKUP(F606,工作表9!$G$1:$H$142, 2, FALSE)","v":0},0]
[null,null,null,null,null,null,{"$f":"VLOOKUP(F607,工作表9!$G$1:$I$136,3, FALSE)","v":"混合物"},null,{"$f":"VLOOKUP(F607,工作表9!$G$1:$H$142, 2, FALSE)","v":0},0]
[null,null,null,null,null,null,{"$f":"VLOOKUP(F608,工作表9!$G$1:$I$136,3, FALSE)","v":"混合物"},null,{"$f":"VLOOKUP(F608,工作表9!$G$1:$H$142, 2, FALSE)","v":0},0]
[null,null,null,null,null,null,{"$f":"VLOOKUP(F609,工作表9!$G$1:$I$136,3, FALSE)","v":"混合物"},null,{"$f":"VLOOKUP(F609,工作表9!$G$1:$H$142, 2, FALSE)","v":0},0]
[null,null,null,null,null,null,{"$f":"VLOOKUP(F610,工作表9!$G$1:$I$136,3, FALSE)","v":"混合物"},null,{"$f":"VLOOKUP(F610,工作表9!$G$1:$H$142, 2, FALSE)","v":0},0]
[null,null,null,null,null,null,{"$f":"VLOOKUP(F611,工作表9!$G$1:$I$136,3, FALSE)","v":"混合物"},null,{"$f":"VLOOKUP(F611,工作表9!$G$1:$H$142, 2, FALSE)","v":0},0]
[null,null,null,null,null,null,{"$f":"VLOOKUP(F612,工作表9!$G$1:$I$136,3, FALSE)","v":"混合物"},null,{"$f":"VLOOKUP(F612,工作表9!$G$1:$H$142, 2, FALSE)","v":0},0]
[null,null,null,null,null,null,{"$f":"VLOOKUP(F613,工作表9!$G$1:$I$136,3, FALSE)","v":"混合物"},null,{"$f":"VLOOKUP(F613,工作表9!$G$1:$H$142, 2, FALSE)","v":0},0]
[null,null,null,null,null,null,{"$f":"VLOOKUP(F614,工作表9!$G$1:$I$136,3, FALSE)","v":"混合物"},null,{"$f":"VLOOKUP(F614,工作表9!$G$1:$H$142, 2, FALSE)","v":0},0]
[null,null,null,null,null,null,{"$f":"VLOOKUP(F615,工作表9!$G$1:$I$136,3, FALSE)","v":"混合物"},null,{"$f":"VLOOKUP(F615,工作表9!$G$1:$H$142, 2, FALSE)","v":0},0]
[null,null,null,null,null,null,{"$f":"VLOOKUP(F616,工作表9!$G$1:$I$136,3, FALSE)","v":"混合物"},null,{"$f":"VLOOKUP(F616,工作表9!$G$1:$H$142, 2, FALSE)","v":0},0]
[null,null,null,null,null,null,{"$f":"VLOOKUP(F617,工作表9!$G$1:$I$136,3, FALSE)","v":"混合物"},null,{"$f":"VLOOKUP(F617,工作表9!$G$1:$H$142, 2, FALSE)","v":0},0]
[null,null,null,null,null,null,{"$f":"VLOOKUP(F618,工作表9!$G$1:$I$136,3, FALSE)","v":"混合物"},null,{"$f":"VLOOKUP(F618,工作表9!$G$1:$H$142, 2, FALSE)","v":0},0]
[null,null,null,null,null,null,{"$f":"VLOOKUP(F619,工作表9!$G$1:$I$136,3, FALSE)","v":"混合物"},null,{"$f":"VLOOKUP(F619,工作表9!$G$1:$H$142, 2, FALSE)","v":0},0]
[null,null,null,null,null,null,{"$f":"VLOOKUP(F620,工作表9!$G$1:$I$136,3, FALSE)","v":"混合物"},null,{"$f":"VLOOKUP(F620,工作表9!$G$1:$H$142, 2, FALSE)","v":0},0]
[null,null,null,null,null,null,{"$f":"VLOOKUP(F621,工作表9!$G$1:$I$136,3, FALSE)","v":"混合物"},null,{"$f":"VLOOKUP(F621,工作表9!$G$1:$H$142, 2, FALSE)","v":0},0]
[null,null,null,null,null,null,{"$f":"VLOOKUP(F622,工作表9!$G$1:$I$136,3, FALSE)","v":"混合物"},null,{"$f":"VLOOKUP(F622,工作表9!$G$1:$H$142, 2, FALSE)","v":0},0]
[null,null,null,null,null,null,{"$f":"VLOOKUP(F623,工作表9!$G$1:$I$136,3, FALSE)","v":"混合物"},null,{"$f":"VLOOKUP(F623,工作表9!$G$1:$H$142, 2, FALSE)","v":0},0]
[null,null,null,null,null,null,{"$f":"VLOOKUP(F624,工作表9!$G$1:$I$136,3, FALSE)","v":"混合物"},null,{"$f":"VLOOKUP(F624,工作表9!$G$1:$H$142, 2, FALSE)","v":0},0]
[null,null,null,null,null,null,{"$f":"VLOOKUP(F625,工作表9!$G$1:$I$136,3, FALSE)","v":"混合物"},null,{"$f":"VLOOKUP(F625,工作表9!$G$1:$H$142, 2, FALSE)","v":0},0]
[null,null,null,null,null,null,{"$f":"VLOOKUP(F626,工作表9!$G$1:$I$136,3, FALSE)","v":"混合物"},null,{"$f":"VLOOKUP(F626,工作表9!$G$1:$H$142, 2, FALSE)","v":0},0]
[null,null,null,null,null,null,{"$f":"VLOOKUP(F627,工作表9!$G$1:$I$136,3, FALSE)","v":"混合物"},null,{"$f":"VLOOKUP(F627,工作表9!$G$1:$H$142, 2, FALSE)","v":0},0]
[null,null,null,null,null,null,{"$f":"VLOOKUP(F628,工作表9!$G$1:$I$136,3, FALSE)","v":"混合物"},null,{"$f":"VLOOKUP(F628,工作表9!$G$1:$H$142, 2, FALSE)","v":0},0]
[null,null,null,null,null,null,{"$f":"VLOOKUP(F629,工作表9!$G$1:$I$136,3, FALSE)","v":"混合物"},null,{"$f":"VLOOKUP(F629,工作表9!$G$1:$H$142, 2, FALSE)","v":0},0]
[null,null,null,null,null,null,{"$f":"VLOOKUP(F630,工作表9!$G$1:$I$136,3, FALSE)","v":"混合物"},null,{"$f":"VLOOKUP(F630,工作表9!$G$1:$H$142, 2, FALSE)","v":0},0]
[null,null,null,null,null,null,{"$f":"VLOOKUP(F631,工作表9!$G$1:$I$136,3, FALSE)","v":"混合物"},null,{"$f":"VLOOKUP(F631,工作表9!$G$1:$H$142, 2, FALSE)","v":0},0]
[null,null,null,null,null,null,{"$f":"VLOOKUP(F632,工作表9!$G$1:$I$136,3, FALSE)","v":"混合物"},null,{"$f":"VLOOKUP(F632,工作表9!$G$1:$H$142, 2, FALSE)","v":0},0]
[null,null,null,null,null,null,{"$f":"VLOOKUP(F633,工作表9!$G$1:$I$136,3, FALSE)","v":"混合物"},null,{"$f":"VLOOKUP(F633,工作表9!$G$1:$H$142, 2, FALSE)","v":0},0]
[null,null,null,null,null,null,{"$f":"VLOOKUP(F634,工作表9!$G$1:$I$136,3, FALSE)","v":"混合物"},null,{"$f":"VLOOKUP(F634,工作表9!$G$1:$H$142, 2, FALSE)","v":0},0]
[null,null,null,null,null,null,{"$f":"VLOOKUP(F635,工作表9!$G$1:$I$136,3, FALSE)","v":"混合物"},null,{"$f":"VLOOKUP(F635,工作表9!$G$1:$H$142, 2, FALSE)","v":0},0]
[null,null,null,null,null,null,{"$f":"VLOOKUP(F636,工作表9!$G$1:$I$136,3, FALSE)","v":"混合物"},null,{"$f":"VLOOKUP(F636,工作表9!$G$1:$H$142, 2, FALSE)","v":0},0]
[null,null,null,null,null,null,{"$f":"VLOOKUP(F637,工作表9!$G$1:$I$136,3, FALSE)","v":"混合物"},null,{"$f":"VLOOKUP(F637,工作表9!$G$1:$H$142, 2, FALSE)","v":0},0]
[null,null,null,null,null,null,{"$f":"VLOOKUP(F638,工作表9!$G$1:$I$136,3, FALSE)","v":"混合物"},null,{"$f":"VLOOKUP(F638,工作表9!$G$1:$H$142, 2, FALSE)","v":0},0]
[null,null,null,null,null,null,{"$f":"VLOOKUP(F639,工作表9!$G$1:$I$136,3, FALSE)","v":"混合物"},null,{"$f":"VLOOKUP(F639,工作表9!$G$1:$H$142, 2, FALSE)","v":0},0]
[null,null,null,null,null,null,{"$f":"VLOOKUP(F640,工作表9!$G$1:$I$136,3, FALSE)","v":"混合物"},null,{"$f":"VLOOKUP(F640,工作表9!$G$1:$H$142, 2, FALSE)","v":0},0]
[null,null,null,null,null,null,{"$f":"VLOOKUP(F641,工作表9!$G$1:$I$136,3, FALSE)","v":"混合物"},null,{"$f":"VLOOKUP(F641,工作表9!$G$1:$H$142, 2, FALSE)","v":0},0]
[null,null,null,null,null,null,{"$f":"VLOOKUP(F642,工作表9!$G$1:$I$136,3, FALSE)","v":"混合物"},null,{"$f":"VLOOKUP(F642,工作表9!$G$1:$H$142, 2, FALSE)","v":0},0]
[null,null,null,null,null,null,{"$f":"VLOOKUP(F643,工作表9!$G$1:$I$136,3, FALSE)","v":"混合物"},null,{"$f":"VLOOKUP(F643,工作表9!$G$1:$H$142, 2, FALSE)","v":0},0]
[null,null,null,null,null,null,{"$f":"VLOOKUP(F644,工作表9!$G$1:$I$136,3, FALSE)","v":"混合物"},null,{"$f":"VLOOKUP(F644,工作表9!$G$1:$H$142, 2, FALSE)","v":0},0]
[null,null,null,null,null,null,{"$f":"VLOOKUP(F645,工作表9!$G$1:$I$136,3, FALSE)","v":"混合物"},null,{"$f":"VLOOKUP(F645,工作表9!$G$1:$H$142, 2, FALSE)","v":0},0]
[null,null,null,null,null,null,{"$f":"VLOOKUP(F646,工作表9!$G$1:$I$136,3, FALSE)","v":"混合物"},null,{"$f":"VLOOKUP(F646,工作表9!$G$1:$H$142, 2, FALSE)","v":0},{"$f":"H646*I646","v":0}]
[null,null,null,null,null,null,{"$f":"VLOOKUP(F647,工作表9!$G$1:$I$136,3, FALSE)","v":"混合物"},null,{"$f":"VLOOKUP(F647,工作表9!$G$1:$H$142, 2, FALSE)","v":0},0]
[null,null,null,null,null,null,{"$f":"VLOOKUP(F648,工作表9!$G$1:$I$136,3, FALSE)","v":"混合物"},null,{"$f":"VLOOKUP(F648,工作表9!$G$1:$H$142, 2, FALSE)","v":0},0]
[null,null,null,null,null,null,{"$f":"VLOOKUP(F649,工作表9!$G$1:$I$136,3, FALSE)","v":"混合物"},null,{"$f":"VLOOKUP(F649,工作表9!$G$1:$H$142, 2, FALSE)","v":0},0]
[null,null,null,null,null,null,{"$f":"VLOOKUP(F650,工作表9!$G$1:$I$136,3, FALSE)","v":"混合物"},null,{"$f":"VLOOKUP(F650,工作表9!$G$1:$H$142, 2, FALSE)","v":0},0]
[null,null,null,null,null,null,{"$f":"VLOOKUP(F651,工作表9!$G$1:$I$136,3, FALSE)","v":"混合物"},null,{"$f":"VLOOKUP(F651,工作表9!$G$1:$H$142, 2, FALSE)","v":0},0]
[null,null,null,null,null,null,{"$f":"VLOOKUP(F652,工作表9!$G$1:$I$136,3, FALSE)","v":"混合物"},null,{"$f":"VLOOKUP(F652,工作表9!$G$1:$H$142, 2, FALSE)","v":0},0]
[null,null,null,null,null,null,{"$f":"VLOOKUP(F653,工作表9!$G$1:$I$136,3, FALSE)","v":"混合物"},null,{"$f":"VLOOKUP(F653,工作表9!$G$1:$H$142, 2, FALSE)","v":0},0]
[null,null,null,null,null,null,{"$f":"VLOOKUP(F654,工作表9!$G$1:$I$136,3, FALSE)","v":"混合物"},null,{"$f":"VLOOKUP(F654,工作表9!$G$1:$H$142, 2, FALSE)","v":0},0]
[null,null,null,null,null,null,{"$f":"VLOOKUP(F655,工作表9!$G$1:$I$136,3, FALSE)","v":"混合物"},null,{"$f":"VLOOKUP(F655,工作表9!$G$1:$H$142, 2, FALSE)","v":0},0]
[null,null,null,null,null,null,{"$f":"VLOOKUP(F656,工作表9!$G$1:$I$136,3, FALSE)","v":"混合物"},null,{"$f":"VLOOKUP(F656,工作表9!$G$1:$H$142, 2, FALSE)","v":0},0]
[null,null,null,null,null,null,{"$f":"VLOOKUP(F657,工作表9!$G$1:$I$136,3, FALSE)","v":"混合物"},null,{"$f":"VLOOKUP(F657,工作表9!$G$1:$H$142, 2, FALSE)","v":0},0]
[null,null,null,null,null,null,{"$f":"VLOOKUP(F658,工作表9!$G$1:$I$136,3, FALSE)","v":"混合物"},null,{"$f":"VLOOKUP(F658,工作表9!$G$1:$H$142, 2, FALSE)","v":0},0]
[null,null,null,null,null,null,{"$f":"VLOOKUP(F659,工作表9!$G$1:$I$136,3, FALSE)","v":"混合物"},null,{"$f":"VLOOKUP(F659,工作表9!$G$1:$H$142, 2, FALSE)","v":0},0]
[null,null,null,null,null,null,{"$f":"VLOOKUP(F660,工作表9!$G$1:$I$136,3, FALSE)","v":"混合物"},null,{"$f":"VLOOKUP(F660,工作表9!$G$1:$H$142, 2, FALSE)","v":0},0]
[null,null,null,null,null,null,{"$f":"VLOOKUP(F661,工作表9!$G$1:$I$136,3, FALSE)","v":"混合物"},null,{"$f":"VLOOKUP(F661,工作表9!$G$1:$H$142, 2, FALSE)","v":0},0]
[null,null,null,null,null,null,{"$f":"VLOOKUP(F662,工作表9!$G$1:$I$136,3, FALSE)","v":"混合物"},null,{"$f":"VLOOKUP(F662,工作表9!$G$1:$H$142, 2, FALSE)","v":0},0]
[null,null,null,null,null,null,{"$f":"VLOOKUP(F663,工作表9!$G$1:$I$136,3, FALSE)","v":"混合物"},null,{"$f":"VLOOKUP(F663,工作表9!$G$1:$H$142, 2, FALSE)","v":0},0]
[null,null,null,null,null,null,{"$f":"VLOOKUP(F664,工作表9!$G$1:$I$136,3, FALSE)","v":"混合物"},null,{"$f":"VLOOKUP(F664,工作表9!$G$1:$H$142, 2, FALSE)","v":0},0]
[null,null,null,null,null,null,{"$f":"VLOOKUP(F665,工作表9!$G$1:$I$136,3, FALSE)","v":"混合物"},null,{"$f":"VLOOKUP(F665,工作表9!$G$1:$H$142, 2, FALSE)","v":0},0]
[null,null,null,null,null,null,{"$f":"VLOOKUP(F666,工作表9!$G$1:$I$136,3, FALSE)","v":"混合物"},null,{"$f":"VLOOKUP(F666,工作表9!$G$1:$H$142, 2, FALSE)","v":0},0]
[null,null,null,null,null,null,{"$f":"VLOOKUP(F667,工作表9!$G$1:$I$136,3, FALSE)","v":"混合物"},null,{"$f":"VLOOKUP(F667,工作表9!$G$1:$H$142, 2, FALSE)","v":0},0]
[null,null,null,null,null,null,{"$f":"VLOOKUP(F668,工作表9!$G$1:$I$136,3, FALSE)","v":"混合物"},null,{"$f":"VLOOKUP(F668,工作表9!$G$1:$H$142, 2, FALSE)","v":0},0]
[null,null,null,null,null,null,{"$f":"VLOOKUP(F669,工作表9!$G$1:$I$136,3, FALSE)","v":"混合物"},null,{"$f":"VLOOKUP(F669,工作表9!$G$1:$H$142, 2, FALSE)","v":0},0]
[null,null,null,null,null,null,{"$f":"VLOOKUP(F670,工作表9!$G$1:$I$136,3, FALSE)","v":"混合物"},null,{"$f":"VLOOKUP(F670,工作表9!$G$1:$H$142, 2, FALSE)","v":0},0]
[null,null,null,null,null,null,{"$f":"VLOOKUP(F671,工作表9!$G$1:$I$136,3, FALSE)","v":"混合物"},null,{"$f":"VLOOKUP(F671,工作表9!$G$1:$H$142, 2, FALSE)","v":0},0]
[null,null,null,null,null,null,{"$f":"VLOOKUP(F672,工作表9!$G$1:$I$136,3, FALSE)","v":"混合物"},null,{"$f":"VLOOKUP(F672,工作表9!$G$1:$H$142, 2, FALSE)","v":0},0]
[null,null,null,null,null,null,{"$f":"VLOOKUP(F673,工作表9!$G$1:$I$136,3, FALSE)","v":"混合物"},null,{"$f":"VLOOKUP(F673,工作表9!$G$1:$H$142, 2, FALSE)","v":0},0]
[null,null,null,null,null,null,{"$f":"VLOOKUP(F674,工作表9!$G$1:$I$136,3, FALSE)","v":"混合物"},null,{"$f":"VLOOKUP(F674,工作表9!$G$1:$H$142, 2, FALSE)","v":0},0]
[null,null,null,null,null,null,{"$f":"VLOOKUP(F675,工作表9!$G$1:$I$136,3, FALSE)","v":"混合物"},null,{"$f":"VLOOKUP(F675,工作表9!$G$1:$H$142, 2, FALSE)","v":0},0]
[null,null,null,null,null,null,{"$f":"VLOOKUP(F676,工作表9!$G$1:$I$136,3, FALSE)","v":"混合物"},null,{"$f":"VLOOKUP(F676,工作表9!$G$1:$H$142, 2, FALSE)","v":0},0]
[null,null,null,null,null,null,{"$f":"VLOOKUP(F677,工作表9!$G$1:$I$136,3, FALSE)","v":"混合物"},null,{"$f":"VLOOKUP(F677,工作表9!$G$1:$H$142, 2, FALSE)","v":0},0]
[null,null,null,null,null,null,{"$f":"VLOOKUP(F678,工作表9!$G$1:$I$136,3, FALSE)","v":"混合物"},null,{"$f":"VLOOKUP(F678,工作表9!$G$1:$H$142, 2, FALSE)","v":0},0]
[null,null,null,null,null,null,{"$f":"VLOOKUP(F679,工作表9!$G$1:$I$136,3, FALSE)","v":"混合物"},null,{"$f":"VLOOKUP(F679,工作表9!$G$1:$H$142, 2, FALSE)","v":0},0]
[null,null,null,null,null,null,{"$f":"VLOOKUP(F680,工作表9!$G$1:$I$136,3, FALSE)","v":"混合物"},null,{"$f":"VLOOKUP(F680,工作表9!$G$1:$H$142, 2, FALSE)","v":0},0]
[null,null,null,null,null,null,{"$f":"VLOOKUP(F681,工作表9!$G$1:$I$136,3, FALSE)","v":"混合物"},null,{"$f":"VLOOKUP(F681,工作表9!$G$1:$H$142, 2, FALSE)","v":0},0]
[null,null,null,null,null,null,{"$f":"VLOOKUP(F682,工作表9!$G$1:$I$136,3, FALSE)","v":"混合物"},null,{"$f":"VLOOKUP(F682,工作表9!$G$1:$H$142, 2, FALSE)","v":0},0]
[null,null,null,null,null,null,{"$f":"VLOOKUP(F683,工作表9!$G$1:$I$136,3, FALSE)","v":"混合物"},null,{"$f":"VLOOKUP(F683,工作表9!$G$1:$H$142, 2, FALSE)","v":0},0]
[null,null,null,null,null,null,{"$f":"VLOOKUP(F684,工作表9!$G$1:$I$136,3, FALSE)","v":"混合物"},null,{"$f":"VLOOKUP(F684,工作表9!$G$1:$H$142, 2, FALSE)","v":0},0]
[null,null,null,null,null,null,{"$f":"VLOOKUP(F685,工作表9!$G$1:$I$136,3, FALSE)","v":"混合物"},null,{"$f":"VLOOKUP(F685,工作表9!$G$1:$H$142, 2, FALSE)","v":0},0]
[null,null,null,null,null,null,{"$f":"VLOOKUP(F686,工作表9!$G$1:$I$136,3, FALSE)","v":"混合物"},null,{"$f":"VLOOKUP(F686,工作表9!$G$1:$H$142, 2, FALSE)","v":0},0]
[null,null,null,null,null,null,{"$f":"VLOOKUP(F687,工作表9!$G$1:$I$136,3, FALSE)","v":"混合物"},null,{"$f":"VLOOKUP(F687,工作表9!$G$1:$H$142, 2, FALSE)","v":0},0]
[null,null,null,null,null,null,{"$f":"VLOOKUP(F688,工作表9!$G$1:$I$136,3, FALSE)","v":"混合物"},null,{"$f":"VLOOKUP(F688,工作表9!$G$1:$H$142, 2, FALSE)","v":0},0]
[null,null,null,null,null,null,{"$f":"VLOOKUP(F689,工作表9!$G$1:$I$136,3, FALSE)","v":"混合物"},null,{"$f":"VLOOKUP(F689,工作表9!$G$1:$H$142, 2, FALSE)","v":0},0]
[null,null,null,null,null,null,{"$f":"VLOOKUP(F690,工作表9!$G$1:$I$136,3, FALSE)","v":"混合物"},null,{"$f":"VLOOKUP(F690,工作表9!$G$1:$H$142, 2, FALSE)","v":0},0]
[null,null,null,null,null,null,{"$f":"VLOOKUP(F691,工作表9!$G$1:$I$136,3, FALSE)","v":"混合物"},null,{"$f":"VLOOKUP(F691,工作表9!$G$1:$H$142, 2, FALSE)","v":0},0]
[null,null,null,null,null,null,{"$f":"VLOOKUP(F692,工作表9!$G$1:$I$136,3, FALSE)","v":"混合物"},null,{"$f":"VLOOKUP(F692,工作表9!$G$1:$H$142, 2, FALSE)","v":0},0]
[null,null,null,null,null,null,{"$f":"VLOOKUP(F693,工作表9!$G$1:$I$136,3, FALSE)","v":"混合物"},null,{"$f":"VLOOKUP(F693,工作表9!$G$1:$H$142, 2, FALSE)","v":0},0]
[null,null,null,null,null,null,{"$f":"VLOOKUP(F694,工作表9!$G$1:$I$136,3, FALSE)","v":"混合物"},null,{"$f":"VLOOKUP(F694,工作表9!$G$1:$H$142, 2, FALSE)","v":0},0]
[null,null,null,null,null,null,{"$f":"VLOOKUP(F695,工作表9!$G$1:$I$136,3, FALSE)","v":"混合物"},null,{"$f":"VLOOKUP(F695,工作表9!$G$1:$H$142, 2, FALSE)","v":0},0]
[null,null,null,null,null,null,{"$f":"VLOOKUP(F696,工作表9!$G$1:$I$136,3, FALSE)","v":"混合物"},null,{"$f":"VLOOKUP(F696,工作表9!$G$1:$H$142, 2, FALSE)","v":0},0]
[null,null,null,null,null,null,{"$f":"VLOOKUP(F697,工作表9!$G$1:$I$136,3, FALSE)","v":"混合物"},null,{"$f":"VLOOKUP(F697,工作表9!$G$1:$H$142, 2, FALSE)","v":0},0]
[null,null,null,null,null,null,{"$f":"VLOOKUP(F698,工作表9!$G$1:$I$136,3, FALSE)","v":"混合物"},null,{"$f":"VLOOKUP(F698,工作表9!$G$1:$H$142, 2, FALSE)","v":0},0]
[null,null,null,null,null,null,{"$f":"VLOOKUP(F699,工作表9!$G$1:$I$136,3, FALSE)","v":"混合物"},null,{"$f":"VLOOKUP(F699,工作表9!$G$1:$H$142, 2, FALSE)","v":0},0]
[null,null,null,null,null,null,{"$f":"VLOOKUP(F700,工作表9!$G$1:$I$136,3, FALSE)","v":"混合物"},null,{"$f":"VLOOKUP(F700,工作表9!$G$1:$H$142, 2, FALSE)","v":0},0]
[null,null,null,null,null,null,{"$f":"VLOOKUP(F701,工作表9!$G$1:$I$136,3, FALSE)","v":"混合物"},null,{"$f":"VLOOKUP(F701,工作表9!$G$1:$H$142, 2, FALSE)","v":0},0]
[null,null,null,null,null,null,{"$f":"VLOOKUP(F702,工作表9!$G$1:$I$136,3, FALSE)","v":"混合物"},null,{"$f":"VLOOKUP(F702,工作表9!$G$1:$H$142, 2, FALSE)","v":0},0]
[null,null,null,null,null,null,{"$f":"VLOOKUP(F703,工作表9!$G$1:$I$136,3, FALSE)","v":"混合物"},null,{"$f":"VLOOKUP(F703,工作表9!$G$1:$H$142, 2, FALSE)","v":0},0]
[null,null,null,null,null,null,{"$f":"VLOOKUP(F704,工作表9!$G$1:$I$136,3, FALSE)","v":"混合物"},null,{"$f":"VLOOKUP(F704,工作表9!$G$1:$H$142, 2, FALSE)","v":0},0]
[null,null,null,null,null,null,{"$f":"VLOOKUP(F705,工作表9!$G$1:$I$136,3, FALSE)","v":"混合物"},null,{"$f":"VLOOKUP(F705,工作表9!$G$1:$H$142, 2, FALSE)","v":0},0]
[null,null,null,null,null,null,{"$f":"VLOOKUP(F706,工作表9!$G$1:$I$136,3, FALSE)","v":"混合物"},null,{"$f":"VLOOKUP(F706,工作表9!$G$1:$H$142, 2, FALSE)","v":0},0]
[null,null,null,null,null,null,{"$f":"VLOOKUP(F707,工作表9!$G$1:$I$136,3, FALSE)","v":"混合物"},null,{"$f":"VLOOKUP(F707,工作表9!$G$1:$H$142, 2, FALSE)","v":0},0]
[null,null,null,null,null,null,{"$f":"VLOOKUP(F708,工作表9!$G$1:$I$136,3, FALSE)","v":"混合物"},null,{"$f":"VLOOKUP(F708,工作表9!$G$1:$H$142, 2, FALSE)","v":0},0]
[null,null,null,null,null,null,{"$f":"VLOOKUP(F709,工作表9!$G$1:$I$136,3, FALSE)","v":"混合物"},null,{"$f":"VLOOKUP(F709,工作表9!$G$1:$H$142, 2, FALSE)","v":0},0]
[null,null,null,null,null,null,{"$f":"VLOOKUP(F710,工作表9!$G$1:$I$136,3, FALSE)","v":"混合物"},null,{"$f":"VLOOKUP(F710,工作表9!$G$1:$H$142, 2, FALSE)","v":0},{"$f":"H710*I710","v":0}]
[null,null,null,null,null,null,{"$f":"VLOOKUP(F711,工作表9!$G$1:$I$136,3, FALSE)","v":"混合物"},null,{"$f":"VLOOKUP(F711,工作表9!$G$1:$H$142, 2, FALSE)","v":0},0]
[null,null,null,null,null,null,{"$f":"VLOOKUP(F712,工作表9!$G$1:$I$136,3, FALSE)","v":"混合物"},null,{"$f":"VLOOKUP(F712,工作表9!$G$1:$H$142, 2, FALSE)","v":0},0]
[null,null,null,null,null,null,{"$f":"VLOOKUP(F713,工作表9!$G$1:$I$136,3, FALSE)","v":"混合物"},null,{"$f":"VLOOKUP(F713,工作表9!$G$1:$H$142, 2, FALSE)","v":0},0]
[null,null,null,null,null,null,{"$f":"VLOOKUP(F714,工作表9!$G$1:$I$136,3, FALSE)","v":"混合物"},null,{"$f":"VLOOKUP(F714,工作表9!$G$1:$H$142, 2, FALSE)","v":0},0]
[null,null,null,null,null,null,{"$f":"VLOOKUP(F715,工作表9!$G$1:$I$136,3, FALSE)","v":"混合物"},null,{"$f":"VLOOKUP(F715,工作表9!$G$1:$H$142, 2, FALSE)","v":0},0]
[null,null,null,null,null,null,{"$f":"VLOOKUP(F716,工作表9!$G$1:$I$136,3, FALSE)","v":"混合物"},null,{"$f":"VLOOKUP(F716,工作表9!$G$1:$H$142, 2, FALSE)","v":0},0]
[null,null,null,null,null,null,{"$f":"VLOOKUP(F717,工作表9!$G$1:$I$136,3, FALSE)","v":"混合物"},null,{"$f":"VLOOKUP(F717,工作表9!$G$1:$H$142, 2, FALSE)","v":0},0]
[null,null,null,null,null,null,{"$f":"VLOOKUP(F718,工作表9!$G$1:$I$136,3, FALSE)","v":"混合物"},null,{"$f":"VLOOKUP(F718,工作表9!$G$1:$H$142, 2, FALSE)","v":0},0]
[null,null,null,null,null,null,{"$f":"VLOOKUP(F719,工作表9!$G$1:$I$136,3, FALSE)","v":"混合物"},null,{"$f":"VLOOKUP(F719,工作表9!$G$1:$H$142, 2, FALSE)","v":0},0]
[null,null,null,null,null,null,{"$f":"VLOOKUP(F720,工作表9!$G$1:$I$136,3, FALSE)","v":"混合物"},null,{"$f":"VLOOKUP(F720,工作表9!$G$1:$H$142, 2, FALSE)","v":0},0]
[null,null,null,null,null,null,{"$f":"VLOOKUP(F721,工作表9!$G$1:$I$136,3, FALSE)","v":"混合物"},null,{"$f":"VLOOKUP(F721,工作表9!$G$1:$H$142, 2, FALSE)","v":0},0]
[null,null,null,null,null,null,{"$f":"VLOOKUP(F722,工作表9!$G$1:$I$136,3, FALSE)","v":"混合物"},null,{"$f":"VLOOKUP(F722,工作表9!$G$1:$H$142, 2, FALSE)","v":0},0]
[null,null,null,null,null,null,{"$f":"VLOOKUP(F723,工作表9!$G$1:$I$136,3, FALSE)","v":"混合物"},null,{"$f":"VLOOKUP(F723,工作表9!$G$1:$H$142, 2, FALSE)","v":0},0]
[null,null,null,null,null,null,{"$f":"VLOOKUP(F724,工作表9!$G$1:$I$136,3, FALSE)","v":"混合物"},null,{"$f":"VLOOKUP(F724,工作表9!$G$1:$H$142, 2, FALSE)","v":0},0]
[null,null,null,null,null,null,{"$f":"VLOOKUP(F725,工作表9!$G$1:$I$136,3, FALSE)","v":"混合物"},null,{"$f":"VLOOKUP(F725,工作表9!$G$1:$H$142, 2, FALSE)","v":0},0]
[null,null,null,null,null,null,{"$f":"VLOOKUP(F726,工作表9!$G$1:$I$136,3, FALSE)","v":"混合物"},null,{"$f":"VLOOKUP(F726,工作表9!$G$1:$H$142, 2, FALSE)","v":0},0]
[null,null,null,null,null,null,{"$f":"VLOOKUP(F727,工作表9!$G$1:$I$136,3, FALSE)","v":"混合物"},null,{"$f":"VLOOKUP(F727,工作表9!$G$1:$H$142, 2, FALSE)","v":0},0]
[null,null,null,null,null,null,{"$f":"VLOOKUP(F728,工作表9!$G$1:$I$136,3, FALSE)","v":"混合物"},null,{"$f":"VLOOKUP(F728,工作表9!$G$1:$H$142, 2, FALSE)","v":0},0]
[null,null,null,null,null,null,{"$f":"VLOOKUP(F729,工作表9!$G$1:$I$136,3, FALSE)","v":"混合物"},null,{"$f":"VLOOKUP(F729,工作表9!$G$1:$H$142, 2, FALSE)","v":0},0]
[null,null,null,null,null,null,{"$f":"VLOOKUP(F730,工作表9!$G$1:$I$136,3, FALSE)","v":"混合物"},null,{"$f":"VLOOKUP(F730,工作表9!$G$1:$H$142, 2, FALSE)","v":0},0]
[null,null,null,null,null,null,{"$f":"VLOOKUP(F731,工作表9!$G$1:$I$136,3, FALSE)","v":"混合物"},null,{"$f":"VLOOKUP(F731,工作表9!$G$1:$H$142, 2, FALSE)","v":0},0]
[null,null,null,null,null,null,{"$f":"VLOOKUP(F732,工作表9!$G$1:$I$136,3, FALSE)","v":"混合物"},null,{"$f":"VLOOKUP(F732,工作表9!$G$1:$H$142, 2, FALSE)","v":0},0]
[null,null,null,null,null,null,{"$f":"VLOOKUP(F733,工作表9!$G$1:$I$136,3, FALSE)","v":"混合物"},null,{"$f":"VLOOKUP(F733,工作表9!$G$1:$H$142, 2, FALSE)","v":0},0]
[null,null,null,null,null,null,{"$f":"VLOOKUP(F734,工作表9!$G$1:$I$136,3, FALSE)","v":"混合物"},null,{"$f":"VLOOKUP(F734,工作表9!$G$1:$H$142, 2, FALSE)","v":0},0]
[null,null,null,null,null,null,{"$f":"VLOOKUP(F735,工作表9!$G$1:$I$136,3, FALSE)","v":"混合物"},null,{"$f":"VLOOKUP(F735,工作表9!$G$1:$H$142, 2, FALSE)","v":0},0]
[null,null,null,null,null,null,{"$f":"VLOOKUP(F736,工作表9!$G$1:$I$136,3, FALSE)","v":"混合物"},null,{"$f":"VLOOKUP(F736,工作表9!$G$1:$H$142, 2, FALSE)","v":0},0]
[null,null,null,null,null,null,{"$f":"VLOOKUP(F737,工作表9!$G$1:$I$136,3, FALSE)","v":"混合物"},null,{"$f":"VLOOKUP(F737,工作表9!$G$1:$H$142, 2, FALSE)","v":0},0]
[null,null,null,null,null,null,{"$f":"VLOOKUP(F738,工作表9!$G$1:$I$136,3, FALSE)","v":"混合物"},null,{"$f":"VLOOKUP(F738,工作表9!$G$1:$H$142, 2, FALSE)","v":0},0]
[null,null,null,null,null,null,{"$f":"VLOOKUP(F739,工作表9!$G$1:$I$136,3, FALSE)","v":"混合物"},null,{"$f":"VLOOKUP(F739,工作表9!$G$1:$H$142, 2, FALSE)","v":0},0]
[null,null,null,null,null,null,{"$f":"VLOOKUP(F740,工作表9!$G$1:$I$136,3, FALSE)","v":"混合物"},null,{"$f":"VLOOKUP(F740,工作表9!$G$1:$H$142, 2, FALSE)","v":0},0]
[null,null,null,null,null,null,{"$f":"VLOOKUP(F741,工作表9!$G$1:$I$136,3, FALSE)","v":"混合物"},null,{"$f":"VLOOKUP(F741,工作表9!$G$1:$H$142, 2, FALSE)","v":0},0]
[null,null,null,null,null,null,{"$f":"VLOOKUP(F742,工作表9!$G$1:$I$136,3, FALSE)","v":"混合物"},null,{"$f":"VLOOKUP(F742,工作表9!$G$1:$H$142, 2, FALSE)","v":0},0]
[null,null,null,null,null,null,{"$f":"VLOOKUP(F743,工作表9!$G$1:$I$136,3, FALSE)","v":"混合物"},null,{"$f":"VLOOKUP(F743,工作表9!$G$1:$H$142, 2, FALSE)","v":0},0]
[null,null,null,null,null,null,{"$f":"VLOOKUP(F744,工作表9!$G$1:$I$136,3, FALSE)","v":"混合物"},null,{"$f":"VLOOKUP(F744,工作表9!$G$1:$H$142, 2, FALSE)","v":0},0]
[null,null,null,null,null,null,{"$f":"VLOOKUP(F745,工作表9!$G$1:$I$136,3, FALSE)","v":"混合物"},null,{"$f":"VLOOKUP(F745,工作表9!$G$1:$H$142, 2, FALSE)","v":0},0]
[null,null,null,null,null,null,{"$f":"VLOOKUP(F746,工作表9!$G$1:$I$136,3, FALSE)","v":"混合物"},null,{"$f":"VLOOKUP(F746,工作表9!$G$1:$H$142, 2, FALSE)","v":0},0]
[null,null,null,null,null,null,{"$f":"VLOOKUP(F747,工作表9!$G$1:$I$136,3, FALSE)","v":"混合物"},null,{"$f":"VLOOKUP(F747,工作表9!$G$1:$H$142, 2, FALSE)","v":0},0]
[null,null,null,null,null,null,{"$f":"VLOOKUP(F748,工作表9!$G$1:$I$136,3, FALSE)","v":"混合物"},null,{"$f":"VLOOKUP(F748,工作表9!$G$1:$H$142, 2, FALSE)","v":0},0]
[null,null,null,null,null,null,{"$f":"VLOOKUP(F749,工作表9!$G$1:$I$136,3, FALSE)","v":"混合物"},null,{"$f":"VLOOKUP(F749,工作表9!$G$1:$H$142, 2, FALSE)","v":0},0]
[null,null,null,null,null,null,{"$f":"VLOOKUP(F750,工作表9!$G$1:$I$136,3, FALSE)","v":"混合物"},null,{"$f":"VLOOKUP(F750,工作表9!$G$1:$H$142, 2, FALSE)","v":0},0]
[null,null,null,null,null,null,{"$f":"VLOOKUP(F751,工作表9!$G$1:$I$136,3, FALSE)","v":"混合物"},null,{"$f":"VLOOKUP(F751,工作表9!$G$1:$H$142, 2, FALSE)","v":0},0]
[null,null,null,null,null,null,{"$f":"VLOOKUP(F752,工作表9!$G$1:$I$136,3, FALSE)","v":"混合物"},null,{"$f":"VLOOKUP(F752,工作表9!$G$1:$H$142, 2, FALSE)","v":0},0]
[null,null,null,null,null,null,{"$f":"VLOOKUP(F753,工作表9!$G$1:$I$136,3, FALSE)","v":"混合物"},null,{"$f":"VLOOKUP(F753,工作表9!$G$1:$H$142, 2, FALSE)","v":0},0]
[null,null,null,null,null,null,{"$f":"VLOOKUP(F754,工作表9!$G$1:$I$136,3, FALSE)","v":"混合物"},null,{"$f":"VLOOKUP(F754,工作表9!$G$1:$H$142, 2, FALSE)","v":0},0]
[null,null,null,null,null,null,{"$f":"VLOOKUP(F755,工作表9!$G$1:$I$136,3, FALSE)","v":"混合物"},null,{"$f":"VLOOKUP(F755,工作表9!$G$1:$H$142, 2, FALSE)","v":0},0]
[null,null,null,null,null,null,{"$f":"VLOOKUP(F756,工作表9!$G$1:$I$136,3, FALSE)","v":"混合物"},null,{"$f":"VLOOKUP(F756,工作表9!$G$1:$H$142, 2, FALSE)","v":0},0]
[null,null,null,null,null,null,{"$f":"VLOOKUP(F757,工作表9!$G$1:$I$136,3, FALSE)","v":"混合物"},null,{"$f":"VLOOKUP(F757,工作表9!$G$1:$H$142, 2, FALSE)","v":0},0]
[null,null,null,null,null,null,{"$f":"VLOOKUP(F758,工作表9!$G$1:$I$136,3, FALSE)","v":"混合物"},null,{"$f":"VLOOKUP(F758,工作表9!$G$1:$H$142, 2, FALSE)","v":0},0]
[null,null,null,null,null,null,{"$f":"VLOOKUP(F759,工作表9!$G$1:$I$136,3, FALSE)","v":"混合物"},null,{"$f":"VLOOKUP(F759,工作表9!$G$1:$H$142, 2, FALSE)","v":0},0]
[null,null,null,null,null,null,{"$f":"VLOOKUP(F760,工作表9!$G$1:$I$136,3, FALSE)","v":"混合物"},null,{"$f":"VLOOKUP(F760,工作表9!$G$1:$H$142, 2, FALSE)","v":0},0]
[null,null,null,null,null,null,{"$f":"VLOOKUP(F761,工作表9!$G$1:$I$136,3, FALSE)","v":"混合物"},null,{"$f":"VLOOKUP(F761,工作表9!$G$1:$H$142, 2, FALSE)","v":0},0]
[null,null,null,null,null,null,{"$f":"VLOOKUP(F762,工作表9!$G$1:$I$136,3, FALSE)","v":"混合物"},null,{"$f":"VLOOKUP(F762,工作表9!$G$1:$H$142, 2, FALSE)","v":0},0]
[null,null,null,null,null,null,{"$f":"VLOOKUP(F763,工作表9!$G$1:$I$136,3, FALSE)","v":"混合物"},null,{"$f":"VLOOKUP(F763,工作表9!$G$1:$H$142, 2, FALSE)","v":0},0]
[null,null,null,null,null,null,{"$f":"VLOOKUP(F764,工作表9!$G$1:$I$136,3, FALSE)","v":"混合物"},null,{"$f":"VLOOKUP(F764,工作表9!$G$1:$H$142, 2, FALSE)","v":0},0]
[null,null,null,null,null,null,{"$f":"VLOOKUP(F765,工作表9!$G$1:$I$136,3, FALSE)","v":"混合物"},null,{"$f":"VLOOKUP(F765,工作表9!$G$1:$H$142, 2, FALSE)","v":0},0]
[null,null,null,null,null,null,{"$f":"VLOOKUP(F766,工作表9!$G$1:$I$136,3, FALSE)","v":"混合物"},null,{"$f":"VLOOKUP(F766,工作表9!$G$1:$H$142, 2, FALSE)","v":0},0]
[null,null,null,null,null,null,{"$f":"VLOOKUP(F767,工作表9!$G$1:$I$136,3, FALSE)","v":"混合物"},null,{"$f":"VLOOKUP(F767,工作表9!$G$1:$H$142, 2, FALSE)","v":0},0]
[null,null,null,null,null,null,{"$f":"VLOOKUP(F768,工作表9!$G$1:$I$136,3, FALSE)","v":"混合物"},null,{"$f":"VLOOKUP(F768,工作表9!$G$1:$H$142, 2, FALSE)","v":0},0]
[null,null,null,null,null,null,{"$f":"VLOOKUP(F769,工作表9!$G$1:$I$136,3, FALSE)","v":"混合物"},null,{"$f":"VLOOKUP(F769,工作表9!$G$1:$H$142, 2, FALSE)","v":0},0]
[null,null,null,null,null,null,{"$f":"VLOOKUP(F770,工作表9!$G$1:$I$136,3, FALSE)","v":"混合物"},null,{"$f":"VLOOKUP(F770,工作表9!$G$1:$H$142, 2, FALSE)","v":0},0]
[null,null,null,null,null,null,{"$f":"VLOOKUP(F771,工作表9!$G$1:$I$136,3, FALSE)","v":"混合物"},null,{"$f":"VLOOKUP(F771,工作表9!$G$1:$H$142, 2, FALSE)","v":0},0]
[null,null,null,null,null,null,{"$f":"VLOOKUP(F772,工作表9!$G$1:$I$136,3, FALSE)","v":"混合物"},null,{"$f":"VLOOKUP(F772,工作表9!$G$1:$H$142, 2, FALSE)","v":0},0]
[null,null,null,null,null,null,{"$f":"VLOOKUP(F773,工作表9!$G$1:$I$136,3, FALSE)","v":"混合物"},null,{"$f":"VLOOKUP(F773,工作表9!$G$1:$H$142, 2, FALSE)","v":0},0]
[null,null,null,null,null,null,{"$f":"VLOOKUP(F774,工作表9!$G$1:$I$136,3, FALSE)","v":"混合物"},null,{"$f":"VLOOKUP(F774,工作表9!$G$1:$H$142, 2, FALSE)","v":0},{"$f":"H774*I774","v":0}]
[null,null,null,null,null,null,{"$f":"VLOOKUP(F775,工作表9!$G$1:$I$136,3, FALSE)","v":"混合物"},null,{"$f":"VLOOKUP(F775,工作表9!$G$1:$H$142, 2, FALSE)","v":0},0]
[null,null,null,null,null,null,{"$f":"VLOOKUP(F776,工作表9!$G$1:$I$136,3, FALSE)","v":"混合物"},null,{"$f":"VLOOKUP(F776,工作表9!$G$1:$H$142, 2, FALSE)","v":0},0]
[null,null,null,null,null,null,{"$f":"VLOOKUP(F777,工作表9!$G$1:$I$136,3, FALSE)","v":"混合物"},null,{"$f":"VLOOKUP(F777,工作表9!$G$1:$H$142, 2, FALSE)","v":0},0]
[null,null,null,null,null,null,{"$f":"VLOOKUP(F778,工作表9!$G$1:$I$136,3, FALSE)","v":"混合物"},null,{"$f":"VLOOKUP(F778,工作表9!$G$1:$H$142, 2, FALSE)","v":0},0]
[null,null,null,null,null,null,{"$f":"VLOOKUP(F779,工作表9!$G$1:$I$136,3, FALSE)","v":"混合物"},null,{"$f":"VLOOKUP(F779,工作表9!$G$1:$H$142, 2, FALSE)","v":0},0]
[null,null,null,null,null,null,{"$f":"VLOOKUP(F780,工作表9!$G$1:$I$136,3, FALSE)","v":"混合物"},null,{"$f":"VLOOKUP(F780,工作表9!$G$1:$H$142, 2, FALSE)","v":0},0]
[null,null,null,null,null,null,{"$f":"VLOOKUP(F781,工作表9!$G$1:$I$136,3, FALSE)","v":"混合物"},null,{"$f":"VLOOKUP(F781,工作表9!$G$1:$H$142, 2, FALSE)","v":0},0]
[null,null,null,null,null,null,{"$f":"VLOOKUP(F782,工作表9!$G$1:$I$136,3, FALSE)","v":"混合物"},null,{"$f":"VLOOKUP(F782,工作表9!$G$1:$H$142, 2, FALSE)","v":0},0]
[null,null,null,null,null,null,{"$f":"VLOOKUP(F783,工作表9!$G$1:$I$136,3, FALSE)","v":"混合物"},null,{"$f":"VLOOKUP(F783,工作表9!$G$1:$H$142, 2, FALSE)","v":0},0]
[null,null,null,null,null,null,{"$f":"VLOOKUP(F784,工作表9!$G$1:$I$136,3, FALSE)","v":"混合物"},null,{"$f":"VLOOKUP(F784,工作表9!$G$1:$H$142, 2, FALSE)","v":0},0]
[null,null,null,null,null,null,{"$f":"VLOOKUP(F785,工作表9!$G$1:$I$136,3, FALSE)","v":"混合物"},null,{"$f":"VLOOKUP(F785,工作表9!$G$1:$H$142, 2, FALSE)","v":0},0]
[null,null,null,null,null,null,{"$f":"VLOOKUP(F786,工作表9!$G$1:$I$136,3, FALSE)","v":"混合物"},null,{"$f":"VLOOKUP(F786,工作表9!$G$1:$H$142, 2, FALSE)","v":0},0]
[null,null,null,null,null,null,{"$f":"VLOOKUP(F787,工作表9!$G$1:$I$136,3, FALSE)","v":"混合物"},null,{"$f":"VLOOKUP(F787,工作表9!$G$1:$H$142, 2, FALSE)","v":0},0]
[null,null,null,null,null,null,{"$f":"VLOOKUP(F788,工作表9!$G$1:$I$136,3, FALSE)","v":"混合物"},null,{"$f":"VLOOKUP(F788,工作表9!$G$1:$H$142, 2, FALSE)","v":0},0]
[null,null,null,null,null,null,{"$f":"VLOOKUP(F789,工作表9!$G$1:$I$136,3, FALSE)","v":"混合物"},null,{"$f":"VLOOKUP(F789,工作表9!$G$1:$H$142, 2, FALSE)","v":0},0]
[null,null,null,null,null,null,{"$f":"VLOOKUP(F790,工作表9!$G$1:$I$136,3, FALSE)","v":"混合物"},null,{"$f":"VLOOKUP(F790,工作表9!$G$1:$H$142, 2, FALSE)","v":0},0]
[null,null,null,null,null,null,{"$f":"VLOOKUP(F791,工作表9!$G$1:$I$136,3, FALSE)","v":"混合物"},null,{"$f":"VLOOKUP(F791,工作表9!$G$1:$H$142, 2, FALSE)","v":0},0]
[null,null,null,null,null,null,{"$f":"VLOOKUP(F792,工作表9!$G$1:$I$136,3, FALSE)","v":"混合物"},null,{"$f":"VLOOKUP(F792,工作表9!$G$1:$H$142, 2, FALSE)","v":0},0]
[null,null,null,null,null,null,{"$f":"VLOOKUP(F793,工作表9!$G$1:$I$136,3, FALSE)","v":"混合物"},null,{"$f":"VLOOKUP(F793,工作表9!$G$1:$H$142, 2, FALSE)","v":0},0]
[null,null,null,null,null,null,{"$f":"VLOOKUP(F794,工作表9!$G$1:$I$136,3, FALSE)","v":"混合物"},null,{"$f":"VLOOKUP(F794,工作表9!$G$1:$H$142, 2, FALSE)","v":0},0]
[null,null,null,null,null,null,{"$f":"VLOOKUP(F795,工作表9!$G$1:$I$136,3, FALSE)","v":"混合物"},null,{"$f":"VLOOKUP(F795,工作表9!$G$1:$H$142, 2, FALSE)","v":0},0]
[null,null,null,null,null,null,{"$f":"VLOOKUP(F796,工作表9!$G$1:$I$136,3, FALSE)","v":"混合物"},null,{"$f":"VLOOKUP(F796,工作表9!$G$1:$H$142, 2, FALSE)","v":0},0]
[null,null,null,null,null,null,{"$f":"VLOOKUP(F797,工作表9!$G$1:$I$136,3, FALSE)","v":"混合物"},null,{"$f":"VLOOKUP(F797,工作表9!$G$1:$H$142, 2, FALSE)","v":0},0]
[null,null,null,null,null,null,{"$f":"VLOOKUP(F798,工作表9!$G$1:$I$136,3, FALSE)","v":"混合物"},null,{"$f":"VLOOKUP(F798,工作表9!$G$1:$H$142, 2, FALSE)","v":0},0]
[null,null,null,null,null,null,{"$f":"VLOOKUP(F799,工作表9!$G$1:$I$136,3, FALSE)","v":"混合物"},null,{"$f":"VLOOKUP(F799,工作表9!$G$1:$H$142, 2, FALSE)","v":0},0]
[null,null,null,null,null,null,{"$f":"VLOOKUP(F800,工作表9!$G$1:$I$136,3, FALSE)","v":"混合物"},null,{"$f":"VLOOKUP(F800,工作表9!$G$1:$H$142, 2, FALSE)","v":0},0]
[null,null,null,null,null,null,{"$f":"VLOOKUP(F801,工作表9!$G$1:$I$136,3, FALSE)","v":"混合物"},null,{"$f":"VLOOKUP(F801,工作表9!$G$1:$H$142, 2, FALSE)","v":0},0]
[null,null,null,null,null,null,{"$f":"VLOOKUP(F802,工作表9!$G$1:$I$136,3, FALSE)","v":"混合物"},null,{"$f":"VLOOKUP(F802,工作表9!$G$1:$H$142, 2, FALSE)","v":0},0]
[null,null,null,null,null,null,{"$f":"VLOOKUP(F803,工作表9!$G$1:$I$136,3, FALSE)","v":"混合物"},null,{"$f":"VLOOKUP(F803,工作表9!$G$1:$H$142, 2, FALSE)","v":0},0]
[null,null,null,null,null,null,{"$f":"VLOOKUP(F804,工作表9!$G$1:$I$136,3, FALSE)","v":"混合物"},null,{"$f":"VLOOKUP(F804,工作表9!$G$1:$H$142, 2, FALSE)","v":0},0]
[null,null,null,null,null,null,{"$f":"VLOOKUP(F805,工作表9!$G$1:$I$136,3, FALSE)","v":"混合物"},null,{"$f":"VLOOKUP(F805,工作表9!$G$1:$H$142, 2, FALSE)","v":0},0]
[null,null,null,null,null,null,{"$f":"VLOOKUP(F806,工作表9!$G$1:$I$136,3, FALSE)","v":"混合物"},null,{"$f":"VLOOKUP(F806,工作表9!$G$1:$H$142, 2, FALSE)","v":0},0]
[null,null,null,null,null,null,{"$f":"VLOOKUP(F807,工作表9!$G$1:$I$136,3, FALSE)","v":"混合物"},null,{"$f":"VLOOKUP(F807,工作表9!$G$1:$H$142, 2, FALSE)","v":0},0]
[null,null,null,null,null,null,{"$f":"VLOOKUP(F808,工作表9!$G$1:$I$136,3, FALSE)","v":"混合物"},null,{"$f":"VLOOKUP(F808,工作表9!$G$1:$H$142, 2, FALSE)","v":0},0]
[null,null,null,null,null,null,{"$f":"VLOOKUP(F809,工作表9!$G$1:$I$136,3, FALSE)","v":"混合物"},null,{"$f":"VLOOKUP(F809,工作表9!$G$1:$H$142, 2, FALSE)","v":0},0]
[null,null,null,null,null,null,{"$f":"VLOOKUP(F810,工作表9!$G$1:$I$136,3, FALSE)","v":"混合物"},null,{"$f":"VLOOKUP(F810,工作表9!$G$1:$H$142, 2, FALSE)","v":0},0]
[null,null,null,null,null,null,{"$f":"VLOOKUP(F811,工作表9!$G$1:$I$136,3, FALSE)","v":"混合物"},null,{"$f":"VLOOKUP(F811,工作表9!$G$1:$H$142, 2, FALSE)","v":0},0]
[null,null,null,null,null,null,{"$f":"VLOOKUP(F812,工作表9!$G$1:$I$136,3, FALSE)","v":"混合物"},null,{"$f":"VLOOKUP(F812,工作表9!$G$1:$H$142, 2, FALSE)","v":0},0]
[null,null,null,null,null,null,{"$f":"VLOOKUP(F813,工作表9!$G$1:$I$136,3, FALSE)","v":"混合物"},null,{"$f":"VLOOKUP(F813,工作表9!$G$1:$H$142, 2, FALSE)","v":0},0]
[null,null,null,null,null,null,{"$f":"VLOOKUP(F814,工作表9!$G$1:$I$136,3, FALSE)","v":"混合物"},null,{"$f":"VLOOKUP(F814,工作表9!$G$1:$H$142, 2, FALSE)","v":0},0]
[null,null,null,null,null,null,{"$f":"VLOOKUP(F815,工作表9!$G$1:$I$136,3, FALSE)","v":"混合物"},null,{"$f":"VLOOKUP(F815,工作表9!$G$1:$H$142, 2, FALSE)","v":0},0]
[null,null,null,null,null,null,{"$f":"VLOOKUP(F816,工作表9!$G$1:$I$136,3, FALSE)","v":"混合物"},null,{"$f":"VLOOKUP(F816,工作表9!$G$1:$H$142, 2, FALSE)","v":0},0]
[null,null,null,null,null,null,{"$f":"VLOOKUP(F817,工作表9!$G$1:$I$136,3, FALSE)","v":"混合物"},null,{"$f":"VLOOKUP(F817,工作表9!$G$1:$H$142, 2, FALSE)","v":0},0]
[null,null,null,null,null,null,{"$f":"VLOOKUP(F818,工作表9!$G$1:$I$136,3, FALSE)","v":"混合物"},null,{"$f":"VLOOKUP(F818,工作表9!$G$1:$H$142, 2, FALSE)","v":0},0]
[null,null,null,null,null,null,{"$f":"VLOOKUP(F819,工作表9!$G$1:$I$136,3, FALSE)","v":"混合物"},null,{"$f":"VLOOKUP(F819,工作表9!$G$1:$H$142, 2, FALSE)","v":0},0]
[null,null,null,null,null,null,{"$f":"VLOOKUP(F820,工作表9!$G$1:$I$136,3, FALSE)","v":"混合物"},null,{"$f":"VLOOKUP(F820,工作表9!$G$1:$H$142, 2, FALSE)","v":0},0]
[null,null,null,null,null,null,{"$f":"VLOOKUP(F821,工作表9!$G$1:$I$136,3, FALSE)","v":"混合物"},null,{"$f":"VLOOKUP(F821,工作表9!$G$1:$H$142, 2, FALSE)","v":0},0]
[null,null,null,null,null,null,{"$f":"VLOOKUP(F822,工作表9!$G$1:$I$136,3, FALSE)","v":"混合物"},null,{"$f":"VLOOKUP(F822,工作表9!$G$1:$H$142, 2, FALSE)","v":0},0]
[null,null,null,null,null,null,{"$f":"VLOOKUP(F823,工作表9!$G$1:$I$136,3, FALSE)","v":"混合物"},null,{"$f":"VLOOKUP(F823,工作表9!$G$1:$H$142, 2, FALSE)","v":0},0]
[null,null,null,null,null,null,{"$f":"VLOOKUP(F824,工作表9!$G$1:$I$136,3, FALSE)","v":"混合物"},null,{"$f":"VLOOKUP(F824,工作表9!$G$1:$H$142, 2, FALSE)","v":0},0]
[null,null,null,null,null,null,{"$f":"VLOOKUP(F825,工作表9!$G$1:$I$136,3, FALSE)","v":"混合物"},null,{"$f":"VLOOKUP(F825,工作表9!$G$1:$H$142, 2, FALSE)","v":0},0]
[null,null,null,null,null,null,{"$f":"VLOOKUP(F826,工作表9!$G$1:$I$136,3, FALSE)","v":"混合物"},null,{"$f":"VLOOKUP(F826,工作表9!$G$1:$H$142, 2, FALSE)","v":0},0]
[null,null,null,null,null,null,{"$f":"VLOOKUP(F827,工作表9!$G$1:$I$136,3, FALSE)","v":"混合物"},null,{"$f":"VLOOKUP(F827,工作表9!$G$1:$H$142, 2, FALSE)","v":0},0]
[null,null,null,null,null,null,{"$f":"VLOOKUP(F828,工作表9!$G$1:$I$136,3, FALSE)","v":"混合物"},null,{"$f":"VLOOKUP(F828,工作表9!$G$1:$H$142, 2, FALSE)","v":0},0]
[null,null,null,null,null,null,{"$f":"VLOOKUP(F829,工作表9!$G$1:$I$136,3, FALSE)","v":"混合物"},null,{"$f":"VLOOKUP(F829,工作表9!$G$1:$H$142, 2, FALSE)","v":0},0]
[null,null,null,null,null,null,{"$f":"VLOOKUP(F830,工作表9!$G$1:$I$136,3, FALSE)","v":"混合物"},null,{"$f":"VLOOKUP(F830,工作表9!$G$1:$H$142, 2, FALSE)","v":0},0]
[null,null,null,null,null,null,{"$f":"VLOOKUP(F831,工作表9!$G$1:$I$136,3, FALSE)","v":"混合物"},null,{"$f":"VLOOKUP(F831,工作表9!$G$1:$H$142, 2, FALSE)","v":0},0]
[null,null,null,null,null,null,{"$f":"VLOOKUP(F832,工作表9!$G$1:$I$136,3, FALSE)","v":"混合物"},null,{"$f":"VLOOKUP(F832,工作表9!$G$1:$H$142, 2, FALSE)","v":0},0]
[null,null,null,null,null,null,{"$f":"VLOOKUP(F833,工作表9!$G$1:$I$136,3, FALSE)","v":"混合物"},null,{"$f":"VLOOKUP(F833,工作表9!$G$1:$H$142, 2, FALSE)","v":0},0]
[null,null,null,null,null,null,{"$f":"VLOOKUP(F834,工作表9!$G$1:$I$136,3, FALSE)","v":"混合物"},null,{"$f":"VLOOKUP(F834,工作表9!$G$1:$H$142, 2, FALSE)","v":0},0]
[null,null,null,null,null,null,{"$f":"VLOOKUP(F835,工作表9!$G$1:$I$136,3, FALSE)","v":"混合物"},null,{"$f":"VLOOKUP(F835,工作表9!$G$1:$H$142, 2, FALSE)","v":0},0]
[null,null,null,null,null,null,{"$f":"VLOOKUP(F836,工作表9!$G$1:$I$136,3, FALSE)","v":"混合物"},null,{"$f":"VLOOKUP(F836,工作表9!$G$1:$H$142, 2, FALSE)","v":0},0]
[null,null,null,null,null,null,{"$f":"VLOOKUP(F837,工作表9!$G$1:$I$136,3, FALSE)","v":"混合物"},null,{"$f":"VLOOKUP(F837,工作表9!$G$1:$H$142, 2, FALSE)","v":0},0]
[null,null,null,null,null,null,{"$f":"VLOOKUP(F838,工作表9!$G$1:$I$136,3, FALSE)","v":"混合物"},null,{"$f":"VLOOKUP(F838,工作表9!$G$1:$H$142, 2, FALSE)","v":0},{"$f":"H838*I838","v":0}]
[null,null,null,null,null,null,{"$f":"VLOOKUP(F839,工作表9!$G$1:$I$136,3, FALSE)","v":"混合物"},null,{"$f":"VLOOKUP(F839,工作表9!$G$1:$H$142, 2, FALSE)","v":0},0]
[null,null,null,null,null,null,{"$f":"VLOOKUP(F840,工作表9!$G$1:$I$136,3, FALSE)","v":"混合物"},null,{"$f":"VLOOKUP(F840,工作表9!$G$1:$H$142, 2, FALSE)","v":0},0]
[null,null,null,null,null,null,{"$f":"VLOOKUP(F841,工作表9!$G$1:$I$136,3, FALSE)","v":"混合物"},null,{"$f":"VLOOKUP(F841,工作表9!$G$1:$H$142, 2, FALSE)","v":0},0]
[null,null,null,null,null,null,{"$f":"VLOOKUP(F842,工作表9!$G$1:$I$136,3, FALSE)","v":"混合物"},null,{"$f":"VLOOKUP(F842,工作表9!$G$1:$H$142, 2, FALSE)","v":0},0]
[null,null,null,null,null,null,{"$f":"VLOOKUP(F843,工作表9!$G$1:$I$136,3, FALSE)","v":"混合物"},null,{"$f":"VLOOKUP(F843,工作表9!$G$1:$H$142, 2, FALSE)","v":0},0]
[null,null,null,null,null,null,{"$f":"VLOOKUP(F844,工作表9!$G$1:$I$136,3, FALSE)","v":"混合物"},null,{"$f":"VLOOKUP(F844,工作表9!$G$1:$H$142, 2, FALSE)","v":0},0]
[null,null,null,null,null,null,{"$f":"VLOOKUP(F845,工作表9!$G$1:$I$136,3, FALSE)","v":"混合物"},null,{"$f":"VLOOKUP(F845,工作表9!$G$1:$H$142, 2, FALSE)","v":0},0]
[null,null,null,null,null,null,{"$f":"VLOOKUP(F846,工作表9!$G$1:$I$136,3, FALSE)","v":"混合物"},null,{"$f":"VLOOKUP(F846,工作表9!$G$1:$H$142, 2, FALSE)","v":0},0]
[null,null,null,null,null,null,{"$f":"VLOOKUP(F847,工作表9!$G$1:$I$136,3, FALSE)","v":"混合物"},null,{"$f":"VLOOKUP(F847,工作表9!$G$1:$H$142, 2, FALSE)","v":0},0]
[null,null,null,null,null,null,{"$f":"VLOOKUP(F848,工作表9!$G$1:$I$136,3, FALSE)","v":"混合物"},null,{"$f":"VLOOKUP(F848,工作表9!$G$1:$H$142, 2, FALSE)","v":0},0]
[null,null,null,null,null,null,{"$f":"VLOOKUP(F849,工作表9!$G$1:$I$136,3, FALSE)","v":"混合物"},null,{"$f":"VLOOKUP(F849,工作表9!$G$1:$H$142, 2, FALSE)","v":0},0]
[null,null,null,null,null,null,{"$f":"VLOOKUP(F850,工作表9!$G$1:$I$136,3, FALSE)","v":"混合物"},null,{"$f":"VLOOKUP(F850,工作表9!$G$1:$H$142, 2, FALSE)","v":0},0]
[null,null,null,null,null,null,{"$f":"VLOOKUP(F851,工作表9!$G$1:$I$136,3, FALSE)","v":"混合物"},null,{"$f":"VLOOKUP(F851,工作表9!$G$1:$H$142, 2, FALSE)","v":0},0]
[null,null,null,null,null,null,{"$f":"VLOOKUP(F852,工作表9!$G$1:$I$136,3, FALSE)","v":"混合物"},null,{"$f":"VLOOKUP(F852,工作表9!$G$1:$H$142, 2, FALSE)","v":0},0]
[null,null,null,null,null,null,{"$f":"VLOOKUP(F853,工作表9!$G$1:$I$136,3, FALSE)","v":"混合物"},null,{"$f":"VLOOKUP(F853,工作表9!$G$1:$H$142, 2, FALSE)","v":0},0]
[null,null,null,null,null,null,{"$f":"VLOOKUP(F854,工作表9!$G$1:$I$136,3, FALSE)","v":"混合物"},null,{"$f":"VLOOKUP(F854,工作表9!$G$1:$H$142, 2, FALSE)","v":0},0]
[null,null,null,null,null,null,{"$f":"VLOOKUP(F855,工作表9!$G$1:$I$136,3, FALSE)","v":"混合物"},null,{"$f":"VLOOKUP(F855,工作表9!$G$1:$H$142, 2, FALSE)","v":0},0]
[null,null,null,null,null,null,{"$f":"VLOOKUP(F856,工作表9!$G$1:$I$136,3, FALSE)","v":"混合物"},null,{"$f":"VLOOKUP(F856,工作表9!$G$1:$H$142, 2, FALSE)","v":0},0]
[null,null,null,null,null,null,{"$f":"VLOOKUP(F857,工作表9!$G$1:$I$136,3, FALSE)","v":"混合物"},null,{"$f":"VLOOKUP(F857,工作表9!$G$1:$H$142, 2, FALSE)","v":0},0]
[null,null,null,null,null,null,{"$f":"VLOOKUP(F858,工作表9!$G$1:$I$136,3, FALSE)","v":"混合物"},null,{"$f":"VLOOKUP(F858,工作表9!$G$1:$H$142, 2, FALSE)","v":0},0]
[null,null,null,null,null,null,{"$f":"VLOOKUP(F859,工作表9!$G$1:$I$136,3, FALSE)","v":"混合物"},null,{"$f":"VLOOKUP(F859,工作表9!$G$1:$H$142, 2, FALSE)","v":0},0]
[null,null,null,null,null,null,{"$f":"VLOOKUP(F860,工作表9!$G$1:$I$136,3, FALSE)","v":"混合物"},null,{"$f":"VLOOKUP(F860,工作表9!$G$1:$H$142, 2, FALSE)","v":0},0]
[null,null,null,null,null,null,{"$f":"VLOOKUP(F861,工作表9!$G$1:$I$136,3, FALSE)","v":"混合物"},null,{"$f":"VLOOKUP(F861,工作表9!$G$1:$H$142, 2, FALSE)","v":0},0]
[null,null,null,null,null,null,{"$f":"VLOOKUP(F862,工作表9!$G$1:$I$136,3, FALSE)","v":"混合物"},null,{"$f":"VLOOKUP(F862,工作表9!$G$1:$H$142, 2, FALSE)","v":0},0]
[null,null,null,null,null,null,{"$f":"VLOOKUP(F863,工作表9!$G$1:$I$136,3, FALSE)","v":"混合物"},null,{"$f":"VLOOKUP(F863,工作表9!$G$1:$H$142, 2, FALSE)","v":0},0]
[null,null,null,null,null,null,{"$f":"VLOOKUP(F864,工作表9!$G$1:$I$136,3, FALSE)","v":"混合物"},null,{"$f":"VLOOKUP(F864,工作表9!$G$1:$H$142, 2, FALSE)","v":0},0]
[null,null,null,null,null,null,{"$f":"VLOOKUP(F865,工作表9!$G$1:$I$136,3, FALSE)","v":"混合物"},null,{"$f":"VLOOKUP(F865,工作表9!$G$1:$H$142, 2, FALSE)","v":0},0]
[null,null,null,null,null,null,{"$f":"VLOOKUP(F866,工作表9!$G$1:$I$136,3, FALSE)","v":"混合物"},null,{"$f":"VLOOKUP(F866,工作表9!$G$1:$H$142, 2, FALSE)","v":0},0]
[null,null,null,null,null,null,{"$f":"VLOOKUP(F867,工作表9!$G$1:$I$136,3, FALSE)","v":"混合物"},null,{"$f":"VLOOKUP(F867,工作表9!$G$1:$H$142, 2, FALSE)","v":0},0]
[null,null,null,null,null,null,{"$f":"VLOOKUP(F868,工作表9!$G$1:$I$136,3, FALSE)","v":"混合物"},null,{"$f":"VLOOKUP(F868,工作表9!$G$1:$H$142, 2, FALSE)","v":0},0]
[null,null,null,null,null,null,{"$f":"VLOOKUP(F869,工作表9!$G$1:$I$136,3, FALSE)","v":"混合物"},null,{"$f":"VLOOKUP(F869,工作表9!$G$1:$H$142, 2, FALSE)","v":0},0]
[null,null,null,null,null,null,{"$f":"VLOOKUP(F870,工作表9!$G$1:$I$136,3, FALSE)","v":"混合物"},null,{"$f":"VLOOKUP(F870,工作表9!$G$1:$H$142, 2, FALSE)","v":0},0]
[null,null,null,null,null,null,{"$f":"VLOOKUP(F871,工作表9!$G$1:$I$136,3, FALSE)","v":"混合物"},null,{"$f":"VLOOKUP(F871,工作表9!$G$1:$H$142, 2, FALSE)","v":0},0]
[null,null,null,null,null,null,{"$f":"VLOOKUP(F872,工作表9!$G$1:$I$136,3, FALSE)","v":"混合物"},null,{"$f":"VLOOKUP(F872,工作表9!$G$1:$H$142, 2, FALSE)","v":0},0]
[null,null,null,null,null,null,{"$f":"VLOOKUP(F873,工作表9!$G$1:$I$136,3, FALSE)","v":"混合物"},null,{"$f":"VLOOKUP(F873,工作表9!$G$1:$H$142, 2, FALSE)","v":0},0]
[null,null,null,null,null,null,{"$f":"VLOOKUP(F874,工作表9!$G$1:$I$136,3, FALSE)","v":"混合物"},null,{"$f":"VLOOKUP(F874,工作表9!$G$1:$H$142, 2, FALSE)","v":0},0]
[null,null,null,null,null,null,{"$f":"VLOOKUP(F875,工作表9!$G$1:$I$136,3, FALSE)","v":"混合物"},null,{"$f":"VLOOKUP(F875,工作表9!$G$1:$H$142, 2, FALSE)","v":0},0]
[null,null,null,null,null,null,{"$f":"VLOOKUP(F876,工作表9!$G$1:$I$136,3, FALSE)","v":"混合物"},null,{"$f":"VLOOKUP(F876,工作表9!$G$1:$H$142, 2, FALSE)","v":0},0]
[null,null,null,null,null,null,{"$f":"VLOOKUP(F877,工作表9!$G$1:$I$136,3, FALSE)","v":"混合物"},null,{"$f":"VLOOKUP(F877,工作表9!$G$1:$H$142, 2, FALSE)","v":0},0]
[null,null,null,null,null,null,{"$f":"VLOOKUP(F878,工作表9!$G$1:$I$136,3, FALSE)","v":"混合物"},null,{"$f":"VLOOKUP(F878,工作表9!$G$1:$H$142, 2, FALSE)","v":0},0]
[null,null,null,null,null,null,{"$f":"VLOOKUP(F879,工作表9!$G$1:$I$136,3, FALSE)","v":"混合物"},null,{"$f":"VLOOKUP(F879,工作表9!$G$1:$H$142, 2, FALSE)","v":0},0]
[null,null,null,null,null,null,{"$f":"VLOOKUP(F880,工作表9!$G$1:$I$136,3, FALSE)","v":"混合物"},null,{"$f":"VLOOKUP(F880,工作表9!$G$1:$H$142, 2, FALSE)","v":0},0]
[null,null,null,null,null,null,{"$f":"VLOOKUP(F881,工作表9!$G$1:$I$136,3, FALSE)","v":"混合物"},null,{"$f":"VLOOKUP(F881,工作表9!$G$1:$H$142, 2, FALSE)","v":0},0]
[null,null,null,null,null,null,{"$f":"VLOOKUP(F882,工作表9!$G$1:$I$136,3, FALSE)","v":"混合物"},null,{"$f":"VLOOKUP(F882,工作表9!$G$1:$H$142, 2, FALSE)","v":0},0]
[null,null,null,null,null,null,{"$f":"VLOOKUP(F883,工作表9!$G$1:$I$136,3, FALSE)","v":"混合物"},null,{"$f":"VLOOKUP(F883,工作表9!$G$1:$H$142, 2, FALSE)","v":0},0]
[null,null,null,null,null,null,{"$f":"VLOOKUP(F884,工作表9!$G$1:$I$136,3, FALSE)","v":"混合物"},null,{"$f":"VLOOKUP(F884,工作表9!$G$1:$H$142, 2, FALSE)","v":0},0]
[null,null,null,null,null,null,{"$f":"VLOOKUP(F885,工作表9!$G$1:$I$136,3, FALSE)","v":"混合物"},null,{"$f":"VLOOKUP(F885,工作表9!$G$1:$H$142, 2, FALSE)","v":0},0]
[null,null,null,null,null,null,{"$f":"VLOOKUP(F886,工作表9!$G$1:$I$136,3, FALSE)","v":"混合物"},null,{"$f":"VLOOKUP(F886,工作表9!$G$1:$H$142, 2, FALSE)","v":0},0]
[null,null,null,null,null,null,{"$f":"VLOOKUP(F887,工作表9!$G$1:$I$136,3, FALSE)","v":"混合物"},null,{"$f":"VLOOKUP(F887,工作表9!$G$1:$H$142, 2, FALSE)","v":0},0]
[null,null,null,null,null,null,{"$f":"VLOOKUP(F888,工作表9!$G$1:$I$136,3, FALSE)","v":"混合物"},null,{"$f":"VLOOKUP(F888,工作表9!$G$1:$H$142, 2, FALSE)","v":0},0]
[null,null,null,null,null,null,{"$f":"VLOOKUP(F889,工作表9!$G$1:$I$136,3, FALSE)","v":"混合物"},null,{"$f":"VLOOKUP(F889,工作表9!$G$1:$H$142, 2, FALSE)","v":0},0]
[null,null,null,null,null,null,{"$f":"VLOOKUP(F890,工作表9!$G$1:$I$136,3, FALSE)","v":"混合物"},null,{"$f":"VLOOKUP(F890,工作表9!$G$1:$H$142, 2, FALSE)","v":0},0]
[null,null,null,null,null,null,{"$f":"VLOOKUP(F891,工作表9!$G$1:$I$136,3, FALSE)","v":"混合物"},null,{"$f":"VLOOKUP(F891,工作表9!$G$1:$H$142, 2, FALSE)","v":0},0]
[null,null,null,null,null,null,{"$f":"VLOOKUP(F892,工作表9!$G$1:$I$136,3, FALSE)","v":"混合物"},null,{"$f":"VLOOKUP(F892,工作表9!$G$1:$H$142, 2, FALSE)","v":0},0]
[null,null,null,null,null,null,{"$f":"VLOOKUP(F893,工作表9!$G$1:$I$136,3, FALSE)","v":"混合物"},null,{"$f":"VLOOKUP(F893,工作表9!$G$1:$H$142, 2, FALSE)","v":0},0]
[null,null,null,null,null,null,{"$f":"VLOOKUP(F894,工作表9!$G$1:$I$136,3, FALSE)","v":"混合物"},null,{"$f":"VLOOKUP(F894,工作表9!$G$1:$H$142, 2, FALSE)","v":0},0]
[null,null,null,null,null,null,{"$f":"VLOOKUP(F895,工作表9!$G$1:$I$136,3, FALSE)","v":"混合物"},null,{"$f":"VLOOKUP(F895,工作表9!$G$1:$H$142, 2, FALSE)","v":0},0]
[null,null,null,null,null,null,{"$f":"VLOOKUP(F896,工作表9!$G$1:$I$136,3, FALSE)","v":"混合物"},null,{"$f":"VLOOKUP(F896,工作表9!$G$1:$H$142, 2, FALSE)","v":0},0]
[null,null,null,null,null,null,{"$f":"VLOOKUP(F897,工作表9!$G$1:$I$136,3, FALSE)","v":"混合物"},null,{"$f":"VLOOKUP(F897,工作表9!$G$1:$H$142, 2, FALSE)","v":0},0]
[null,null,null,null,null,null,{"$f":"VLOOKUP(F898,工作表9!$G$1:$I$136,3, FALSE)","v":"混合物"},null,{"$f":"VLOOKUP(F898,工作表9!$G$1:$H$142, 2, FALSE)","v":0},0]
[null,null,null,null,null,null,{"$f":"VLOOKUP(F899,工作表9!$G$1:$I$136,3, FALSE)","v":"混合物"},null,{"$f":"VLOOKUP(F899,工作表9!$G$1:$H$142, 2, FALSE)","v":0},0]
[null,null,null,null,null,null,{"$f":"VLOOKUP(F900,工作表9!$G$1:$I$136,3, FALSE)","v":"混合物"},null,{"$f":"VLOOKUP(F900,工作表9!$G$1:$H$142, 2, FALSE)","v":0},0]
[null,null,null,null,null,null,{"$f":"VLOOKUP(F901,工作表9!$G$1:$I$136,3, FALSE)","v":"混合物"},null,{"$f":"VLOOKUP(F901,工作表9!$G$1:$H$142, 2, FALSE)","v":0},0]
[null,null,null,null,null,null,{"$f":"VLOOKUP(F902,工作表9!$G$1:$I$136,3, FALSE)","v":"混合物"},null,{"$f":"VLOOKUP(F902,工作表9!$G$1:$H$142, 2, FALSE)","v":0},{"$f":"H902*I902","v":0}]
[null,null,null,null,null,null,{"$f":"VLOOKUP(F903,工作表9!$G$1:$I$136,3, FALSE)","v":"混合物"},null,{"$f":"VLOOKUP(F903,工作表9!$G$1:$H$142, 2, FALSE)","v":0},0]
[null,null,null,null,null,null,{"$f":"VLOOKUP(F904,工作表9!$G$1:$I$136,3, FALSE)","v":"混合物"},null,{"$f":"VLOOKUP(F904,工作表9!$G$1:$H$142, 2, FALSE)","v":0},0]
[null,null,null,null,null,null,{"$f":"VLOOKUP(F905,工作表9!$G$1:$I$136,3, FALSE)","v":"混合物"},null,{"$f":"VLOOKUP(F905,工作表9!$G$1:$H$142, 2, FALSE)","v":0},0]
[null,null,null,null,null,null,{"$f":"VLOOKUP(F906,工作表9!$G$1:$I$136,3, FALSE)","v":"混合物"},null,{"$f":"VLOOKUP(F906,工作表9!$G$1:$H$142, 2, FALSE)","v":0},0]
[null,null,null,null,null,null,{"$f":"VLOOKUP(F907,工作表9!$G$1:$I$136,3, FALSE)","v":"混合物"},null,{"$f":"VLOOKUP(F907,工作表9!$G$1:$H$142, 2, FALSE)","v":0},0]
[null,null,null,null,null,null,{"$f":"VLOOKUP(F908,工作表9!$G$1:$I$136,3, FALSE)","v":"混合物"},null,{"$f":"VLOOKUP(F908,工作表9!$G$1:$H$142, 2, FALSE)","v":0},0]
[null,null,null,null,null,null,{"$f":"VLOOKUP(F909,工作表9!$G$1:$I$136,3, FALSE)","v":"混合物"},null,{"$f":"VLOOKUP(F909,工作表9!$G$1:$H$142, 2, FALSE)","v":0},0]
[null,null,null,null,null,null,{"$f":"VLOOKUP(F910,工作表9!$G$1:$I$136,3, FALSE)","v":"混合物"},null,{"$f":"VLOOKUP(F910,工作表9!$G$1:$H$142, 2, FALSE)","v":0},0]
[null,null,null,null,null,null,{"$f":"VLOOKUP(F911,工作表9!$G$1:$I$136,3, FALSE)","v":"混合物"},null,{"$f":"VLOOKUP(F911,工作表9!$G$1:$H$142, 2, FALSE)","v":0},0]
[null,null,null,null,null,null,{"$f":"VLOOKUP(F912,工作表9!$G$1:$I$136,3, FALSE)","v":"混合物"},null,{"$f":"VLOOKUP(F912,工作表9!$G$1:$H$142, 2, FALSE)","v":0},0]
[null,null,null,null,null,null,{"$f":"VLOOKUP(F913,工作表9!$G$1:$I$136,3, FALSE)","v":"混合物"},null,{"$f":"VLOOKUP(F913,工作表9!$G$1:$H$142, 2, FALSE)","v":0},0]
[null,null,null,null,null,null,{"$f":"VLOOKUP(F914,工作表9!$G$1:$I$136,3, FALSE)","v":"混合物"},null,{"$f":"VLOOKUP(F914,工作表9!$G$1:$H$142, 2, FALSE)","v":0},0]
[null,null,null,null,null,null,{"$f":"VLOOKUP(F915,工作表9!$G$1:$I$136,3, FALSE)","v":"混合物"},null,{"$f":"VLOOKUP(F915,工作表9!$G$1:$H$142, 2, FALSE)","v":0},0]
[null,null,null,null,null,null,{"$f":"VLOOKUP(F916,工作表9!$G$1:$I$136,3, FALSE)","v":"混合物"},null,{"$f":"VLOOKUP(F916,工作表9!$G$1:$H$142, 2, FALSE)","v":0},0]
[null,null,null,null,null,null,{"$f":"VLOOKUP(F917,工作表9!$G$1:$I$136,3, FALSE)","v":"混合物"},null,{"$f":"VLOOKUP(F917,工作表9!$G$1:$H$142, 2, FALSE)","v":0},0]
[null,null,null,null,null,null,{"$f":"VLOOKUP(F918,工作表9!$G$1:$I$136,3, FALSE)","v":"混合物"},null,{"$f":"VLOOKUP(F918,工作表9!$G$1:$H$142, 2, FALSE)","v":0},0]
[null,null,null,null,null,null,{"$f":"VLOOKUP(F919,工作表9!$G$1:$I$136,3, FALSE)","v":"混合物"},null,{"$f":"VLOOKUP(F919,工作表9!$G$1:$H$142, 2, FALSE)","v":0},0]
[null,null,null,null,null,null,{"$f":"VLOOKUP(F920,工作表9!$G$1:$I$136,3, FALSE)","v":"混合物"},null,{"$f":"VLOOKUP(F920,工作表9!$G$1:$H$142, 2, FALSE)","v":0},0]
[null,null,null,null,null,null,{"$f":"VLOOKUP(F921,工作表9!$G$1:$I$136,3, FALSE)","v":"混合物"},null,{"$f":"VLOOKUP(F921,工作表9!$G$1:$H$142, 2, FALSE)","v":0},0]
[null,null,null,null,null,null,{"$f":"VLOOKUP(F922,工作表9!$G$1:$I$136,3, FALSE)","v":"混合物"},null,{"$f":"VLOOKUP(F922,工作表9!$G$1:$H$142, 2, FALSE)","v":0},0]
[null,null,null,null,null,null,{"$f":"VLOOKUP(F923,工作表9!$G$1:$I$136,3, FALSE)","v":"混合物"},null,{"$f":"VLOOKUP(F923,工作表9!$G$1:$H$142, 2, FALSE)","v":0},0]
[null,null,null,null,null,null,{"$f":"VLOOKUP(F924,工作表9!$G$1:$I$136,3, FALSE)","v":"混合物"},null,{"$f":"VLOOKUP(F924,工作表9!$G$1:$H$142, 2, FALSE)","v":0},0]
[null,null,null,null,null,null,{"$f":"VLOOKUP(F925,工作表9!$G$1:$I$136,3, FALSE)","v":"混合物"},null,{"$f":"VLOOKUP(F925,工作表9!$G$1:$H$142, 2, FALSE)","v":0},0]
[null,null,null,null,null,null,{"$f":"VLOOKUP(F926,工作表9!$G$1:$I$136,3, FALSE)","v":"混合物"},null,{"$f":"VLOOKUP(F926,工作表9!$G$1:$H$142, 2, FALSE)","v":0},0]
[null,null,null,null,null,null,{"$f":"VLOOKUP(F927,工作表9!$G$1:$I$136,3, FALSE)","v":"混合物"},null,{"$f":"VLOOKUP(F927,工作表9!$G$1:$H$142, 2, FALSE)","v":0},0]
[null,null,null,null,null,null,{"$f":"VLOOKUP(F928,工作表9!$G$1:$I$136,3, FALSE)","v":"混合物"},null,{"$f":"VLOOKUP(F928,工作表9!$G$1:$H$142, 2, FALSE)","v":0},0]
[null,null,null,null,null,null,{"$f":"VLOOKUP(F929,工作表9!$G$1:$I$136,3, FALSE)","v":"混合物"},null,{"$f":"VLOOKUP(F929,工作表9!$G$1:$H$142, 2, FALSE)","v":0},0]
[null,null,null,null,null,null,{"$f":"VLOOKUP(F930,工作表9!$G$1:$I$136,3, FALSE)","v":"混合物"},null,{"$f":"VLOOKUP(F930,工作表9!$G$1:$H$142, 2, FALSE)","v":0},0]
[null,null,null,null,null,null,{"$f":"VLOOKUP(F931,工作表9!$G$1:$I$136,3, FALSE)","v":"混合物"},null,{"$f":"VLOOKUP(F931,工作表9!$G$1:$H$142, 2, FALSE)","v":0},0]
[null,null,null,null,null,null,{"$f":"VLOOKUP(F932,工作表9!$G$1:$I$136,3, FALSE)","v":"混合物"},null,{"$f":"VLOOKUP(F932,工作表9!$G$1:$H$142, 2, FALSE)","v":0},0]
[null,null,null,null,null,null,{"$f":"VLOOKUP(F933,工作表9!$G$1:$I$136,3, FALSE)","v":"混合物"},null,{"$f":"VLOOKUP(F933,工作表9!$G$1:$H$142, 2, FALSE)","v":0},0]
[null,null,null,null,null,null,{"$f":"VLOOKUP(F934,工作表9!$G$1:$I$136,3, FALSE)","v":"混合物"},null,{"$f":"VLOOKUP(F934,工作表9!$G$1:$H$142, 2, FALSE)","v":0},0]
[null,null,null,null,null,null,{"$f":"VLOOKUP(F935,工作表9!$G$1:$I$136,3, FALSE)","v":"混合物"},null,{"$f":"VLOOKUP(F935,工作表9!$G$1:$H$142, 2, FALSE)","v":0},0]
[null,null,null,null,null,null,{"$f":"VLOOKUP(F936,工作表9!$G$1:$I$136,3, FALSE)","v":"混合物"},null,{"$f":"VLOOKUP(F936,工作表9!$G$1:$H$142, 2, FALSE)","v":0},0]
[null,null,null,null,null,null,{"$f":"VLOOKUP(F937,工作表9!$G$1:$I$136,3, FALSE)","v":"混合物"},null,{"$f":"VLOOKUP(F937,工作表9!$G$1:$H$142, 2, FALSE)","v":0},0]
[null,null,null,null,null,null,{"$f":"VLOOKUP(F938,工作表9!$G$1:$I$136,3, FALSE)","v":"混合物"},null,{"$f":"VLOOKUP(F938,工作表9!$G$1:$H$142, 2, FALSE)","v":0},0]
[null,null,null,null,null,null,{"$f":"VLOOKUP(F939,工作表9!$G$1:$I$136,3, FALSE)","v":"混合物"},null,{"$f":"VLOOKUP(F939,工作表9!$G$1:$H$142, 2, FALSE)","v":0},0]
[null,null,null,null,null,null,{"$f":"VLOOKUP(F940,工作表9!$G$1:$I$136,3, FALSE)","v":"混合物"},null,{"$f":"VLOOKUP(F940,工作表9!$G$1:$H$142, 2, FALSE)","v":0},0]
[null,null,null,null,null,null,{"$f":"VLOOKUP(F941,工作表9!$G$1:$I$136,3, FALSE)","v":"混合物"},null,{"$f":"VLOOKUP(F941,工作表9!$G$1:$H$142, 2, FALSE)","v":0},0]
[null,null,null,null,null,null,{"$f":"VLOOKUP(F942,工作表9!$G$1:$I$136,3, FALSE)","v":"混合物"},null,{"$f":"VLOOKUP(F942,工作表9!$G$1:$H$142, 2, FALSE)","v":0},0]
[null,null,null,null,null,null,{"$f":"VLOOKUP(F943,工作表9!$G$1:$I$136,3, FALSE)","v":"混合物"},null,{"$f":"VLOOKUP(F943,工作表9!$G$1:$H$142, 2, FALSE)","v":0},0]
[null,null,null,null,null,null,{"$f":"VLOOKUP(F944,工作表9!$G$1:$I$136,3, FALSE)","v":"混合物"},null,{"$f":"VLOOKUP(F944,工作表9!$G$1:$H$142, 2, FALSE)","v":0},0]
[null,null,null,null,null,null,{"$f":"VLOOKUP(F945,工作表9!$G$1:$I$136,3, FALSE)","v":"混合物"},null,{"$f":"VLOOKUP(F945,工作表9!$G$1:$H$142, 2, FALSE)","v":0},0]
[null,null,null,null,null,null,{"$f":"VLOOKUP(F946,工作表9!$G$1:$I$136,3, FALSE)","v":"混合物"},null,{"$f":"VLOOKUP(F946,工作表9!$G$1:$H$142, 2, FALSE)","v":0},0]
[null,null,null,null,null,null,{"$f":"VLOOKUP(F947,工作表9!$G$1:$I$136,3, FALSE)","v":"混合物"},null,{"$f":"VLOOKUP(F947,工作表9!$G$1:$H$142, 2, FALSE)","v":0},0]
[null,null,null,null,null,null,{"$f":"VLOOKUP(F948,工作表9!$G$1:$I$136,3, FALSE)","v":"混合物"},null,{"$f":"VLOOKUP(F948,工作表9!$G$1:$H$142, 2, FALSE)","v":0},0]
[null,null,null,null,null,null,{"$f":"VLOOKUP(F949,工作表9!$G$1:$I$136,3, FALSE)","v":"混合物"},null,{"$f":"VLOOKUP(F949,工作表9!$G$1:$H$142, 2, FALSE)","v":0},0]
[null,null,null,null,null,null,{"$f":"VLOOKUP(F950,工作表9!$G$1:$I$136,3, FALSE)","v":"混合物"},null,{"$f":"VLOOKUP(F950,工作表9!$G$1:$H$142, 2, FALSE)","v":0},0]
[null,null,null,null,null,null,{"$f":"VLOOKUP(F951,工作表9!$G$1:$I$136,3, FALSE)","v":"混合物"},null,{"$f":"VLOOKUP(F951,工作表9!$G$1:$H$142, 2, FALSE)","v":0},0]
[null,null,null,null,null,null,{"$f":"VLOOKUP(F952,工作表9!$G$1:$I$136,3, FALSE)","v":"混合物"},null,{"$f":"VLOOKUP(F952,工作表9!$G$1:$H$142, 2, FALSE)","v":0},0]
[null,null,null,null,null,null,{"$f":"VLOOKUP(F953,工作表9!$G$1:$I$136,3, FALSE)","v":"混合物"},null,{"$f":"VLOOKUP(F953,工作表9!$G$1:$H$142, 2, FALSE)","v":0},0]
[null,null,null,null,null,null,{"$f":"VLOOKUP(F954,工作表9!$G$1:$I$136,3, FALSE)","v":"混合物"},null,{"$f":"VLOOKUP(F954,工作表9!$G$1:$H$142, 2, FALSE)","v":0},0]
[null,null,null,null,null,null,{"$f":"VLOOKUP(F955,工作表9!$G$1:$I$136,3, FALSE)","v":"混合物"},null,{"$f":"VLOOKUP(F955,工作表9!$G$1:$H$142, 2, FALSE)","v":0},0]
[null,null,null,null,null,null,{"$f":"VLOOKUP(F956,工作表9!$G$1:$I$136,3, FALSE)","v":"混合物"},null,{"$f":"VLOOKUP(F956,工作表9!$G$1:$H$142, 2, FALSE)","v":0},0]
[null,null,null,null,null,null,{"$f":"VLOOKUP(F957,工作表9!$G$1:$I$136,3, FALSE)","v":"混合物"},null,{"$f":"VLOOKUP(F957,工作表9!$G$1:$H$142, 2, FALSE)","v":0},0]
[null,null,null,null,null,null,{"$f":"VLOOKUP(F958,工作表9!$G$1:$I$136,3, FALSE)","v":"混合物"},null,{"$f":"VLOOKUP(F958,工作表9!$G$1:$H$142, 2, FALSE)","v":0},0]
[null,null,null,null,null,null,{"$f":"VLOOKUP(F959,工作表9!$G$1:$I$136,3, FALSE)","v":"混合物"},null,{"$f":"VLOOKUP(F959,工作表9!$G$1:$H$142, 2, FALSE)","v":0},0]
[null,null,null,null,null,null,{"$f":"VLOOKUP(F960,工作表9!$G$1:$I$136,3, FALSE)","v":"混合物"},null,{"$f":"VLOOKUP(F960,工作表9!$G$1:$H$142, 2, FALSE)","v":0},0]
[null,null,null,null,null,null,{"$f":"VLOOKUP(F961,工作表9!$G$1:$I$136,3, FALSE)","v":"混合物"},null,{"$f":"VLOOKUP(F961,工作表9!$G$1:$H$142, 2, FALSE)","v":0},0]
[null,null,null,null,null,null,{"$f":"VLOOKUP(F962,工作表9!$G$1:$I$136,3, FALSE)","v":"混合物"},null,{"$f":"VLOOKUP(F962,工作表9!$G$1:$H$142, 2, FALSE)","v":0},0]
[null,null,null,null,null,null,{"$f":"VLOOKUP(F963,工作表9!$G$1:$I$136,3, FALSE)","v":"混合物"},null,{"$f":"VLOOKUP(F963,工作表9!$G$1:$H$142, 2, FALSE)","v":0},0]
[null,null,null,null,null,null,{"$f":"VLOOKUP(F964,工作表9!$G$1:$I$136,3, FALSE)","v":"混合物"},null,{"$f":"VLOOKUP(F964,工作表9!$G$1:$H$142, 2, FALSE)","v":0},0]
[null,null,null,null,null,null,{"$f":"VLOOKUP(F965,工作表9!$G$1:$I$136,3, FALSE)","v":"混合物"},null,{"$f":"VLOOKUP(F965,工作表9!$G$1:$H$142, 2, FALSE)","v":0},0]
[null,null,null,null,null,null,{"$f":"VLOOKUP(F966,工作表9!$G$1:$I$136,3, FALSE)","v":"混合物"},null,{"$f":"VLOOKUP(F966,工作表9!$G$1:$H$142, 2, FALSE)","v":0},{"$f":"H966*I966","v":0}]
[null,null,null,null,null,null,{"$f":"VLOOKUP(F967,工作表9!$G$1:$I$136,3, FALSE)","v":"混合物"},null,{"$f":"VLOOKUP(F967,工作表9!$G$1:$H$142, 2, FALSE)","v":0},0]
[null,null,null,null,null,null,{"$f":"VLOOKUP(F968,工作表9!$G$1:$I$136,3, FALSE)","v":"混合物"},null,{"$f":"VLOOKUP(F968,工作表9!$G$1:$H$142, 2, FALSE)","v":0},0]
[null,null,null,null,null,null,{"$f":"VLOOKUP(F969,工作表9!$G$1:$I$136,3, FALSE)","v":"混合物"},null,{"$f":"VLOOKUP(F969,工作表9!$G$1:$H$142, 2, FALSE)","v":0},0]
[null,null,null,null,null,null,{"$f":"VLOOKUP(F970,工作表9!$G$1:$I$136,3, FALSE)","v":"混合物"},null,{"$f":"VLOOKUP(F970,工作表9!$G$1:$H$142, 2, FALSE)","v":0},0]
[null,null,null,null,null,null,{"$f":"VLOOKUP(F971,工作表9!$G$1:$I$136,3, FALSE)","v":"混合物"},null,{"$f":"VLOOKUP(F971,工作表9!$G$1:$H$142, 2, FALSE)","v":0},0]
[null,null,null,null,null,null,{"$f":"VLOOKUP(F972,工作表9!$G$1:$I$136,3, FALSE)","v":"混合物"},null,{"$f":"VLOOKUP(F972,工作表9!$G$1:$H$142, 2, FALSE)","v":0},0]
[null,null,null,null,null,null,{"$f":"VLOOKUP(F973,工作表9!$G$1:$I$136,3, FALSE)","v":"混合物"},null,{"$f":"VLOOKUP(F973,工作表9!$G$1:$H$142, 2, FALSE)","v":0},0]
[null,null,null,null,null,null,{"$f":"VLOOKUP(F974,工作表9!$G$1:$I$136,3, FALSE)","v":"混合物"},null,{"$f":"VLOOKUP(F974,工作表9!$G$1:$H$142, 2, FALSE)","v":0},0]
[null,null,null,null,null,null,{"$f":"VLOOKUP(F975,工作表9!$G$1:$I$136,3, FALSE)","v":"混合物"},null,{"$f":"VLOOKUP(F975,工作表9!$G$1:$H$142, 2, FALSE)","v":0},0]
[null,null,null,null,null,null,{"$f":"VLOOKUP(F976,工作表9!$G$1:$I$136,3, FALSE)","v":"混合物"},null,{"$f":"VLOOKUP(F976,工作表9!$G$1:$H$142, 2, FALSE)","v":0},0]
[null,null,null,null,null,null,{"$f":"VLOOKUP(F977,工作表9!$G$1:$I$136,3, FALSE)","v":"混合物"},null,{"$f":"VLOOKUP(F977,工作表9!$G$1:$H$142, 2, FALSE)","v":0},0]
[null,null,null,null,null,null,{"$f":"VLOOKUP(F978,工作表9!$G$1:$I$136,3, FALSE)","v":"混合物"},null,{"$f":"VLOOKUP(F978,工作表9!$G$1:$H$142, 2, FALSE)","v":0},0]
[null,null,null,null,null,null,{"$f":"VLOOKUP(F979,工作表9!$G$1:$I$136,3, FALSE)","v":"混合物"},null,{"$f":"VLOOKUP(F979,工作表9!$G$1:$H$142, 2, FALSE)","v":0},0]
[null,null,null,null,null,null,{"$f":"VLOOKUP(F980,工作表9!$G$1:$I$136,3, FALSE)","v":"混合物"},null,{"$f":"VLOOKUP(F980,工作表9!$G$1:$H$142, 2, FALSE)","v":0},0]
[null,null,null,null,null,null,{"$f":"VLOOKUP(F981,工作表9!$G$1:$I$136,3, FALSE)","v":"混合物"},null,{"$f":"VLOOKUP(F981,工作表9!$G$1:$H$142, 2, FALSE)","v":0},0]
[null,null,null,null,null,null,{"$f":"VLOOKUP(F982,工作表9!$G$1:$I$136,3, FALSE)","v":"混合物"},null,{"$f":"VLOOKUP(F982,工作表9!$G$1:$H$142, 2, FALSE)","v":0},0]
[null,null,null,null,null,null,{"$f":"VLOOKUP(F983,工作表9!$G$1:$I$136,3, FALSE)","v":"混合物"},null,{"$f":"VLOOKUP(F983,工作表9!$G$1:$H$142, 2, FALSE)","v":0},0]
[null,null,null,null,null,null,{"$f":"VLOOKUP(F984,工作表9!$G$1:$I$136,3, FALSE)","v":"混合物"},null,{"$f":"VLOOKUP(F984,工作表9!$G$1:$H$142, 2, FALSE)","v":0},0]
[null,null,null,null,null,null,{"$f":"VLOOKUP(F985,工作表9!$G$1:$I$136,3, FALSE)","v":"混合物"},null,{"$f":"VLOOKUP(F985,工作表9!$G$1:$H$142, 2, FALSE)","v":0},0]
[null,null,null,null,null,null,{"$f":"VLOOKUP(F986,工作表9!$G$1:$I$136,3, FALSE)","v":"混合物"},null,{"$f":"VLOOKUP(F986,工作表9!$G$1:$H$142, 2, FALSE)","v":0},0]
[null,null,null,null,null,null,{"$f":"VLOOKUP(F987,工作表9!$G$1:$I$136,3, FALSE)","v":"混合物"},null,{"$f":"VLOOKUP(F987,工作表9!$G$1:$H$142, 2, FALSE)","v":0},0]
[null,null,null,null,null,null,{"$f":"VLOOKUP(F988,工作表9!$G$1:$I$136,3, FALSE)","v":"混合物"},null,{"$f":"VLOOKUP(F988,工作表9!$G$1:$H$142, 2, FALSE)","v":0},0]
[null,null,null,null,null,null,{"$f":"VLOOKUP(F989,工作表9!$G$1:$I$136,3, FALSE)","v":"混合物"},null,{"$f":"VLOOKUP(F989,工作表9!$G$1:$H$142, 2, FALSE)","v":0},0]
[null,null,null,null,null,null,{"$f":"VLOOKUP(F990,工作表9!$G$1:$I$136,3, FALSE)","v":"混合物"},null,{"$f":"VLOOKUP(F990,工作表9!$G$1:$H$142, 2, FALSE)","v":0},0]
[null,null,null,null,null,null,{"$f":"VLOOKUP(F991,工作表9!$G$1:$I$136,3, FALSE)","v":"混合物"},null,{"$f":"VLOOKUP(F991,工作表9!$G$1:$H$142, 2, FALSE)","v":0},0]
[null,null,null,null,null,null,{"$f":"VLOOKUP(F992,工作表9!$G$1:$I$136,3, FALSE)","v":"混合物"},null,{"$f":"VLOOKUP(F992,工作表9!$G$1:$H$142, 2, FALSE)","v":0},0]
[null,null,null,null,null,null,{"$f":"VLOOKUP(F993,工作表9!$G$1:$I$136,3, FALSE)","v":"混合物"},null,{"$f":"VLOOKUP(F993,工作表9!$G$1:$H$142, 2, FALSE)","v":0},0]
[null,null,null,null,null,null,{"$f":"VLOOKUP(F994,工作表9!$G$1:$I$136,3, FALSE)","v":"混合物"},null,{"$f":"VLOOKUP(F994,工作表9!$G$1:$H$142, 2, FALSE)","v":0},0]
[null,null,null,null,null,null,{"$f":"VLOOKUP(F995,工作表9!$G$1:$I$136,3, FALSE)","v":"混合物"},null,{"$f":"VLOOKUP(F995,工作表9!$G$1:$H$142, 2, FALSE)","v":0},0]
[null,null,null,null,null,null,{"$f":"VLOOKUP(F996,工作表9!$G$1:$I$136,3, FALSE)","v":"混合物"},null,{"$f":"VLOOKUP(F996,工作表9!$G$1:$H$142, 2, FALSE)","v":0},0]
[null,null,null,null,null,null,{"$f":"VLOOKUP(F997,工作表9!$G$1:$I$136,3, FALSE)","v":"混合物"},null,{"$f":"VLOOKUP(F997,工作表9!$G$1:$H$142, 2, FALSE)","v":0},0]
[null,null,null,null,null,null,{"$f":"VLOOKUP(F998,工作表9!$G$1:$I$136,3, FALSE)","v":"混合物"},null,{"$f":"VLOOKUP(F998,工作表9!$G$1:$H$142, 2, FALSE)","v":0},0]
[null,null,null,null,null,null,{"$f":"VLOOKUP(F999,工作表9!$G$1:$I$136,3, FALSE)","v":"混合物"},null,{"$f":"VLOOKUP(F999,工作表9!$G$1:$H$142, 2, FALSE)","v":0},0]
[null,null,null,null,null,null,{"$f":"VLOOKUP(F1000,工作表9!$G$1:$I$136,3, FALSE)","v":"混合物"},null,{"$f":"VLOOKUP(F1000,工作表9!$G$1:$H$142, 2, FALSE)","v":0},0]
["備註：","＊    請參考附件：冷媒GWP值"]

{"sheet":"114年氫氟碳（HFCs）之需求量","index":6,"n_rows":1001,"n_cols":7,"rows_kept":1001,"cut":false,"hidden":false,"merged":[[1,3,3,3],[1,0,3,0],[1,1,3,1],[1,2,3,2],[0,0,0,1]]}
["申報年份",null,"            114    年預估需求量"]
["編號","商品名稱","物質類別","冷媒編號\n請填寫號碼即可，毋須填寫R-","預估需求量","GWP*","公噸CO2eq"]
[null,null,null,null,"（公噸）",null,"C=A*B"]
[null,null,null,null,"A","B"]
["範例 1","R23","純物質",23,50,{"$f":"VLOOKUP(D5,工作表9!$G$1:$H$142, 2, FALSE)","v":14800},{"$f":"E5*F5","v":740000}]
["範例 2","R134a","純物質","134a",100,{"$f":"VLOOKUP(D6,工作表9!$G$1:$H$142, 2, FALSE)","v":1430},{"$f":"E6*F6","v":143000}]
["範例 3","R404A","混合物","404A",20,{"$f":"VLOOKUP(D7,工作表9!$G$1:$H$142, 2, FALSE)","v":3922},78440]
["範例 4","R410A","混合物","410A",5,{"$f":"VLOOKUP(D8,工作表9!$G$1:$H$142, 2, FALSE)","v":2088},10440]
[null,null,"純物質",23,null,{"$f":"VLOOKUP(D9,工作表9!$G$1:$H$142, 2, FALSE)","v":14800},0]
[null,null,"混合物",23,null,{"$f":"VLOOKUP(D10,工作表9!$G$1:$H$142, 2, FALSE)","v":14800},0]
[null,null,"純物質",23,null,{"$f":"VLOOKUP(D11,工作表9!$G$1:$H$142, 2, FALSE)","v":14800},0]
[null,null,"混合物",23,null,{"$f":"VLOOKUP(D12,工作表9!$G$1:$H$142, 2, FALSE)","v":14800},0]
[null,null,"純物質",23,null,{"$f":"VLOOKUP(D13,工作表9!$G$1:$H$142, 2, FALSE)","v":14800},0]
[null,null,"純物質",23,null,{"$f":"VLOOKUP(D14,工作表9!$G$1:$H$142, 2, FALSE)","v":14800},0]
[null,null,"純物質",23,null,{"$f":"VLOOKUP(D15,工作表9!$G$1:$H$142, 2, FALSE)","v":14800},0]
[null,null,"純物質",23,null,{"$f":"VLOOKUP(D16,工作表9!$G$1:$H$142, 2, FALSE)","v":14800},0]
[null,null,"純物質",23,null,{"$f":"VLOOKUP(D17,工作表9!$G$1:$H$142, 2, FALSE)","v":14800},0]
[null,null,"純物質",23,null,{"$f":"VLOOKUP(D18,工作表9!$G$1:$H$142, 2, FALSE)","v":14800},0]
[null,null,"純物質",23,null,{"$f":"VLOOKUP(D19,工作表9!$G$1:$H$142, 2, FALSE)","v":14800},0]
[null,null,"純物質",23,null,{"$f":"VLOOKUP(D20,工作表9!$G$1:$H$142, 2, FALSE)","v":14800},0]
[null,null,"純物質",23,null,{"$f":"VLOOKUP(D21,工作表9!$G$1:$H$142, 2, FALSE)","v":14800},0]
[null,null,"純物質",23,null,{"$f":"VLOOKUP(D22,工作表9!$G$1:$H$142, 2, FALSE)","v":14800},0]
[null,null,"純物質",23,null,{"$f":"VLOOKUP(D23,工作表9!$G$1:$H$142, 2, FALSE)","v":14800},0]
[null,null,"純物質",23,null,{"$f":"VLOOKUP(D24,工作表9!$G$1:$H$142, 2, FALSE)","v":14800},0]
[null,null,"純物質",23,null,{"$f":"VLOOKUP(D25,工作表9!$G$1:$H$142, 2, FALSE)","v":14800},0]
[null,null,"純物質",23,null,{"$f":"VLOOKUP(D26,工作表9!$G$1:$H$142, 2, FALSE)","v":14800},0]
[null,null,"純物質",23,null,{"$f":"VLOOKUP(D27,工作表9!$G$1:$H$142, 2, FALSE)","v":14800},0]
[null,null,"純物質",23,null,{"$f":"VLOOKUP(D28,工作表9!$G$1:$H$142, 2, FALSE)","v":14800},0]
[null,null,"純物質",23,null,{"$f":"VLOOKUP(D29,工作表9!$G$1:$H$142, 2, FALSE)","v":14800},0]
[null,null,"純物質",23,null,{"$f":"VLOOKUP(D30,工作表9!$G$1:$H$142, 2, FALSE)","v":14800},0]
[null,null,"純物質",23,null,{"$f":"VLOOKUP(D31,工作表9!$G$1:$H$142, 2, FALSE)","v":14800},0]
[null,null,"純物質",23,null,{"$f":"VLOOKUP(D32,工作表9!$G$1:$H$142, 2, FALSE)","v":14800},0]
[null,null,"純物質",23,null,{"$f":"VLOOKUP(D33,工作表9!$G$1:$H$142, 2, FALSE)","v":14800},0]
[null,null,"純物質",23,null,{"$f":"VLOOKUP(D34,工作表9!$G$1:$H$142, 2, FALSE)","v":14800},0]
[null,null,"純物質",23,null,{"$f":"VLOOKUP(D35,工作表9!$G$1:$H$142, 2, FALSE)","v":14800},0]
[null,null,"純物質",23,null,{"$f":"VLOOKUP(D36,工作表9!$G$1:$H$142, 2, FALSE)","v":14800},0]
[null,null,"純物質",23,null,{"$f":"VLOOKUP(D37,工作表9!$G$1:$H$142, 2, FALSE)","v":14800},0]
[null,null,"純物質",23,null,{"$f":"VLOOKUP(D38,工作表9!$G$1:$H$142, 2, FALSE)","v":14800},0]
[null,null,"純物質",23,null,{"$f":"VLOOKUP(D39,工作表9!$G$1:$H$142, 2, FALSE)","v":14800},0]
[null,null,"純物質",23,null,{"$f":"VLOOKUP(D40,工作表9!$G$1:$H$142, 2, FALSE)","v":14800},0]
[null,null,"純物質",23,null,{"$f":"VLOOKUP(D41,工作表9!$G$1:$H$142, 2, FALSE)","v":14800},0]
[null,null,"純物質",23,null,{"$f":"VLOOKUP(D42,工作表9!$G$1:$H$142, 2, FALSE)","v":14800},0]
[null,null,"純物質",23,null,{"$f":"VLOOKUP(D43,工作表9!$G$1:$H$142, 2, FALSE)","v":14800},0]
[null,null,"純物質",23,null,{"$f":"VLOOKUP(D44,工作表9!$G$1:$H$142, 2, FALSE)","v":14800},0]
[null,null,"純物質",23,null,{"$f":"VLOOKUP(D45,工作表9!$G$1:$H$142, 2, FALSE)","v":14800},0]
[null,null,"純物質",23,null,{"$f":"VLOOKUP(D46,工作表9!$G$1:$H$142, 2, FALSE)","v":14800},0]
[null,null,"純物質",23,null,{"$f":"VLOOKUP(D47,工作表9!$G$1:$H$142, 2, FALSE)","v":14800},0]
[null,null,"純物質",23,null,{"$f":"VLOOKUP(D48,工作表9!$G$1:$H$142, 2, FALSE)","v":14800},0]
[null,null,"純物質",23,null,{"$f":"VLOOKUP(D49,工作表9!$G$1:$H$142, 2, FALSE)","v":14800},0]
[null,null,"純物質",23,null,{"$f":"VLOOKUP(D50,工作表9!$G$1:$H$142, 2, FALSE)","v":14800},0]
[null,null,"純物質",23,null,{"$f":"VLOOKUP(D51,工作表9!$G$1:$H$142, 2, FALSE)","v":14800},0]
[null,null,"純物質",23,null,{"$f":"VLOOKUP(D52,工作表9!$G$1:$H$142, 2, FALSE)","v":14800},0]
[null,null,"純物質",23,null,{"$f":"VLOOKUP(D53,工作表9!$G$1:$H$142, 2, FALSE)","v":14800},0]
[null,null,"純物質",23,null,{"$f":"VLOOKUP(D54,工作表9!$G$1:$H$142, 2, FALSE)","v":14800},0]
[null,null,"純物質",23,null,{"$f":"VLOOKUP(D55,工作表9!$G$1:$H$142, 2, FALSE)","v":14800},0]
[null,null,"純物質",23,null,{"$f":"VLOOKUP(D56,工作表9!$G$1:$H$142, 2, FALSE)","v":14800},0]
[null,null,"純物質",23,null,{"$f":"VLOOKUP(D57,工作表9!$G$1:$H$142, 2, FALSE)","v":14800},0]
[null,null,"純物質",23,null,{"$f":"VLOOKUP(D58,工作表9!$G$1:$H$142, 2, FALSE)","v":14800},0]
[null,null,"純物質",23,null,{"$f":"VLOOKUP(D59,工作表9!$G$1:$H$142, 2, FALSE)","v":14800},0]
[null,null,"純物質",23,null,{"$f":"VLOOKUP(D60,工作表9!$G$1:$H$142, 2, FALSE)","v":14800},0]
[null,null,"純物質",23,null,{"$f":"VLOOKUP(D61,工作表9!$G$1:$H$142, 2, FALSE)","v":14800},0]
[null,null,"純物質",23,null,{"$f":"VLOOKUP(D62,工作表9!$G$1:$H$142, 2, FALSE)","v":14800},0]
[null,null,"純物質",23,null,{"$f":"VLOOKUP(D63,工作表9!$G$1:$H$142, 2, FALSE)","v":14800},0]
[null,null,"純物質",23,null,{"$f":"VLOOKUP(D64,工作表9!$G$1:$H$142, 2, FALSE)","v":14800},0]
[null,null,"純物質",23,null,{"$f":"VLOOKUP(D65,工作表9!$G$1:$H$142, 2, FALSE)","v":14800},0]
[null,null,"純物質",23,null,{"$f":"VLOOKUP(D66,工作表9!$G$1:$H$142, 2, FALSE)","v":14800},0]
[null,null,"純物質",23,null,{"$f":"VLOOKUP(D67,工作表9!$G$1:$H$142, 2, FALSE)","v":14800},0]
[null,null,"純物質",23,null,{"$f":"VLOOKUP(D68,工作表9!$G$1:$H$142, 2, FALSE)","v":14800},0]
[null,null,"純物質",23,null,{"$f":"VLOOKUP(D69,工作表9!$G$1:$H$142, 2, FALSE)","v":14800},0]
[null,null,"純物質",23,null,{"$f":"VLOOKUP(D70,工作表9!$G$1:$H$142, 2, FALSE)","v":14800},{"$f":"E70*F70","v":0}]
[null,null,"純物質",23,null,{"$f":"VLOOKUP(D71,工作表9!$G$1:$H$142, 2, FALSE)","v":14800},0]
[null,null,"純物質",23,null,{"$f":"VLOOKUP(D72,工作表9!$G$1:$H$142, 2, FALSE)","v":14800},0]
[null,null,"純物質",23,null,{"$f":"VLOOKUP(D73,工作表9!$G$1:$H$142, 2, FALSE)","v":14800},0]
[null,null,"純物質",23,null,{"$f":"VLOOKUP(D74,工作表9!$G$1:$H$142, 2, FALSE)","v":14800},0]
[null,null,"純物質",23,null,{"$f":"VLOOKUP(D75,工作表9!$G$1:$H$142, 2, FALSE)","v":14800},0]
[null,null,"純物質",23,null,{"$f":"VLOOKUP(D76,工作表9!$G$1:$H$142, 2, FALSE)","v":14800},0]
[null,null,"純物質",23,null,{"$f":"VLOOKUP(D77,工作表9!$G$1:$H$142, 2, FALSE)","v":14800},0]
[null,null,"純物質",23,null,{"$f":"VLOOKUP(D78,工作表9!$G$1:$H$142, 2, FALSE)","v":14800},0]
[null,null,"純物質",23,null,{"$f":"VLOOKUP(D79,工作表9!$G$1:$H$142, 2, FALSE)","v":14800},0]
[null,null,"純物質",23,null,{"$f":"VLOOKUP(D80,工作表9!$G$1:$H$142, 2, FALSE)","v":14800},0]
[null,null,"純物質",23,null,{"$f":"VLOOKUP(D81,工作表9!$G$1:$H$142, 2, FALSE)","v":14800},0]
[null,null,"純物質",23,null,{"$f":"VLOOKUP(D82,工作表9!$G$1:$H$142, 2, FALSE)","v":14800},0]
[null,null,"純物質",23,null,{"$f":"VLOOKUP(D83,工作表9!$G$1:$H$142, 2, FALSE)","v":14800},0]
[null,null,"純物質",23,null,{"$f":"VLOOKUP(D84,工作表9!$G$1:$H$142, 2, FALSE)","v":14800},0]
[null,null,"純物質",23,null,{"$f":"VLOOKUP(D85,工作表9!$G$1:$H$142, 2, FALSE)","v":14800},0]
[null,null,"純物質",23,null,{"$f":"VLOOKUP(D86,工作表9!$G$1:$H$142, 2, FALSE)","v":14800},0]
[null,null,"純物質",23,null,{"$f":"VLOOKUP(D87,工作表9!$G$1:$H$142, 2, FALSE)","v":14800},0]
[null,null,"純物質",23,null,{"$f":"VLOOKUP(D88,工作表9!$G$1:$H$142, 2, FALSE)","v":14800},0]
[null,null,"純物質",23,null,{"$f":"VLOOKUP(D89,工作表9!$G$1:$H$142, 2, FALSE)","v":14800},0]
[null,null,"純物質",23,null,{"$f":"VLOOKUP(D90,工作表9!$G$1:$H$142, 2, FALSE)","v":14800},0]
[null,null,"純物質",23,null,{"$f":"VLOOKUP(D91,工作表9!$G$1:$H$142, 2, FALSE)","v":14800},0]
[null,null,"純物質",23,null,{"$f":"VLOOKUP(D92,工作表9!$G$1:$H$142, 2, FALSE)","v":14800},0]
[null,null,"純物質",23,null,{"$f":"VLOOKUP(D93,工作表9!$G$1:$H$142, 2, FALSE)","v":14800},0]
[null,null,"純物質",23,null,{"$f":"VLOOKUP(D94,工作表9!$G$1:$H$142, 2, FALSE)","v":14800},0]
[null,null,"純物質",23,null,{"$f":"VLOOKUP(D95,工作表9!$G$1:$H$142, 2, FALSE)","v":14800},0]
[null,null,"純物質",23,null,{"$f":"VLOOKUP(D96,工作表9!$G$1:$H$142, 2, FALSE)","v":14800},0]
[null,null,"純物質",23,null,{"$f":"VLOOKUP(D97,工作表9!$G$1:$H$142, 2, FALSE)","v":14800},0]
[null,null,"純物質",23,null,{"$f":"VLOOKUP(D98,工作表9!$G$1:$H$142, 2, FALSE)","v":14800},0]
[null,null,"純物質",23,null,{"$f":"VLOOKUP(D99,工作表9!$G$1:$H$142, 2, FALSE)","v":14800},0]
[null,null,"純物質",23,null,{"$f":"VLOOKUP(D100,工作表9!$G$1:$H$142, 2, FALSE)","v":14800},0]
[null,null,"純物質",23,null,{"$f":"VLOOKUP(D101,工作表9!$G$1:$H$142, 2, FALSE)","v":14800},0]
[null,null,"純物質",23,null,{"$f":"VLOOKUP(D102,工作表9!$G$1:$H$142, 2, FALSE)","v":14800},0]
[null,null,"純物質",23,null,{"$f":"VLOOKUP(D103,工作表9!$G$1:$H$142, 2, FALSE)","v":14800},0]
[null,null,"純物質",23,null,{"$f":"VLOOKUP(D104,工作表9!$G$1:$H$142, 2, FALSE)","v":14800},0]
[null,null,"純物質",23,null,{"$f":"VLOOKUP(D105,工作表9!$G$1:$H$142, 2, FALSE)","v":14800},0]
[null,null,"純物質",23,null,{"$f":"VLOOKUP(D106,工作表9!$G$1:$H$142, 2, FALSE)","v":14800},0]
[null,null,"純物質",23,null,{"$f":"VLOOKUP(D107,工作表9!$G$1:$H$142, 2, FALSE)","v":14800},0]
[null,null,"純物質",23,null,{"$f":"VLOOKUP(D108,工作表9!$G$1:$H$142, 2, FALSE)","v":14800},0]
[null,null,"純物質",23,null,{"$f":"VLOOKUP(D109,工作表9!$G$1:$H$142, 2, FALSE)","v":14800},0]
[null,null,"純物質",23,null,{"$f":"VLOOKUP(D110,工作表9!$G$1:$H$142, 2, FALSE)","v":14800},0]
[null,null,"純物質",23,null,{"$f":"VLOOKUP(D111,工作表9!$G$1:$H$142, 2, FALSE)","v":14800},0]
[null,null,"純物質",23,null,{"$f":"VLOOKUP(D112,工作表9!$G$1:$H$142, 2, FALSE)","v":14800},0]
[null,null,"純物質",23,null,{"$f":"VLOOKUP(D113,工作表9!$G$1:$H$142, 2, FALSE)","v":14800},0]
[null,null,"純物質",23,null,{"$f":"VLOOKUP(D114,工作表9!$G$1:$H$142, 2, FALSE)","v":14800},0]
[null,null,"純物質",23,null,{"$f":"VLOOKUP(D115,工作表9!$G$1:$H$142, 2, FALSE)","v":14800},0]
[null,null,"純物質",23,null,{"$f":"VLOOKUP(D116,工作表9!$G$1:$H$142, 2, FALSE)","v":14800},0]
[null,null,"純物質",23,null,{"$f":"VLOOKUP(D117,工作表9!$G$1:$H$142, 2, FALSE)","v":14800},0]
[null,null,"純物質",23,null,{"$f":"VLOOKUP(D118,工作表9!$G$1:$H$142, 2, FALSE)","v":14800},0]
[null,null,"純物質",23,null,{"$f":"VLOOKUP(D119,工作表9!$G$1:$H$142, 2, FALSE)","v":14800},0]
[null,null,"純物質",23,null,{"$f":"VLOOKUP(D120,工作表9!$G$1:$H$142, 2, FALSE)","v":14800},0]
[null,null,"純物質",23,null,{"$f":"VLOOKUP(D121,工作表9!$G$1:$H$142, 2, FALSE)","v":14800},0]
[null,null,"純物質",23,null,{"$f":"VLOOKUP(D122,工作表9!$G$1:$H$142, 2, FALSE)","v":14800},0]
[null,null,"純物質",23,null,{"$f":"VLOOKUP(D123,工作表9!$G$1:$H$142, 2, FALSE)","v":14800},0]
[null,null,"純物質",23,null,{"$f":"VLOOKUP(D124,工作表9!$G$1:$H$142, 2, FALSE)","v":14800},0]
[null,null,"純物質",23,null,{"$f":"VLOOKUP(D125,工作表9!$G$1:$H$142, 2, FALSE)","v":14800},0]
[null,null,"純物質",23,null,{"$f":"VLOOKUP(D126,工作表9!$G$1:$H$142, 2, FALSE)","v":14800},0]
[null,null,"純物質",23,null,{"$f":"VLOOKUP(D127,工作表9!$G$1:$H$142, 2, FALSE)","v":14800},0]
[null,null,"純物質",23,null,{"$f":"VLOOKUP(D128,工作表9!$G$1:$H$142, 2, FALSE)","v":14800},0]
[null,null,"純物質",23,null,{"$f":"VLOOKUP(D129,工作表9!$G$1:$H$142, 2, FALSE)","v":14800},0]
[null,null,"純物質",23,null,{"$f":"VLOOKUP(D130,工作表9!$G$1:$H$142, 2, FALSE)","v":14800},0]
[null,null,"純物質",23,null,{"$f":"VLOOKUP(D131,工作表9!$G$1:$H$142, 2, FALSE)","v":14800},0]
[null,null,"純物質",23,null,{"$f":"VLOOKUP(D132,工作表9!$G$1:$H$142, 2, FALSE)","v":14800},0]
[null,null,"純物質",23,null,{"$f":"VLOOKUP(D133,工作表9!$G$1:$H$142, 2, FALSE)","v":14800},0]
[null,null,"純物質",23,null,{"$f":"VLOOKUP(D134,工作表9!$G$1:$H$142, 2, FALSE)","v":14800},{"$f":"E134*F134","v":0}]
[null,null,"純物質",23,null,{"$f":"VLOOKUP(D135,工作表9!$G$1:$H$142, 2, FALSE)","v":14800},0]
[null,null,"純物質",23,null,{"$f":"VLOOKUP(D136,工作表9!$G$1:$H$142, 2, FALSE)","v":14800},0]
[null,null,"純物質",23,null,{"$f":"VLOOKUP(D137,工作表9!$G$1:$H$142, 2, FALSE)","v":14800},0]
[null,null,"純物質",23,null,{"$f":"VLOOKUP(D138,工作表9!$G$1:$H$142, 2, FALSE)","v":14800},0]
[null,null,"純物質",23,null,{"$f":"VLOOKUP(D139,工作表9!$G$1:$H$142, 2, FALSE)","v":14800},0]
[null,null,"純物質",23,null,{"$f":"VLOOKUP(D140,工作表9!$G$1:$H$142, 2, FALSE)","v":14800},0]
[null,null,"純物質",23,null,{"$f":"VLOOKUP(D141,工作表9!$G$1:$H$142, 2, FALSE)","v":14800},0]
[null,null,"純物質",23,null,{"$f":"VLOOKUP(D142,工作表9!$G$1:$H$142, 2, FALSE)","v":14800},0]
[null,null,"純物質",23,null,{"$f":"VLOOKUP(D143,工作表9!$G$1:$H$142, 2, FALSE)","v":14800},0]
[null,null,"純物質",23,null,{"$f":"VLOOKUP(D144,工作表9!$G$1:$H$142, 2, FALSE)","v":14800},0]
[null,null,"純物質",23,null,{"$f":"VLOOKUP(D145,工作表9!$G$1:$H$142, 2, FALSE)","v":14800},0]
[null,null,"純物質",23,null,{"$f":"VLOOKUP(D146,工作表9!$G$1:$H$142, 2, FALSE)","v":14800},0]
[null,null,"純物質",23,null,{"$f":"VLOOKUP(D147,工作表9!$G$1:$H$142, 2, FALSE)","v":14800},0]
[null,null,"純物質",23,null,{"$f":"VLOOKUP(D148,工作表9!$G$1:$H$142, 2, FALSE)","v":14800},0]
[null,null,"純物質",23,null,{"$f":"VLOOKUP(D149,工作表9!$G$1:$H$142, 2, FALSE)","v":14800},0]
[null,null,"純物質",23,null,{"$f":"VLOOKUP(D150,工作表9!$G$1:$H$142, 2, FALSE)","v":14800},0]
[null,null,"純物質",23,null,{"$f":"VLOOKUP(D151,工作表9!$G$1:$H$142, 2, FALSE)","v":14800},0]
[null,null,"純物質",23,null,{"$f":"VLOOKUP(D152,工作表9!$G$1:$H$142, 2, FALSE)","v":14800},0]
[null,null,"純物質",23,null,{"$f":"VLOOKUP(D153,工作表9!$G$1:$H$142, 2, FALSE)","v":14800},0]
[null,null,"純物質",23,null,{"$f":"VLOOKUP(D154,工作表9!$G$1:$H$142, 2, FALSE)","v":14800},0]
[null,null,"純物質",23,null,{"$f":"VLOOKUP(D155,工作表9!$G$1:$H$142, 2, FALSE)","v":14800},0]
[null,null,"純物質",23,null,{"$f":"VLOOKUP(D156,工作表9!$G$1:$H$142, 2, FALSE)","v":14800},0]
[null,null,"純物質",23,null,{"$f":"VLOOKUP(D157,工作表9!$G$1:$H$142, 2, FALSE)","v":14800},0]
[null,null,"純物質",23,null,{"$f":"VLOOKUP(D158,工作表9!$G$1:$H$142, 2, FALSE)","v":14800},0]
[null,null,"純物質",23,null,{"$f":"VLOOKUP(D159,工作表9!$G$1:$H$142, 2, FALSE)","v":14800},0]
[null,null,"純物質",23,null,{"$f":"VLOOKUP(D160,工作表9!$G$1:$H$142, 2, FALSE)","v":14800},0]
[null,null,"純物質",23,null,{"$f":"VLOOKUP(D161,工作表9!$G$1:$H$142, 2, FALSE)","v":14800},0]
[null,null,"純物質",23,null,{"$f":"VLOOKUP(D162,工作表9!$G$1:$H$142, 2, FALSE)","v":14800},0]
[null,null,"純物質",23,null,{"$f":"VLOOKUP(D163,工作表9!$G$1:$H$142, 2, FALSE)","v":14800},0]
[null,null,"純物質",23,null,{"$f":"VLOOKUP(D164,工作表9!$G$1:$H$142, 2, FALSE)","v":14800},0]
[null,null,"純物質",23,null,{"$f":"VLOOKUP(D165,工作表9!$G$1:$H$142, 2, FALSE)","v":14800},0]
[null,null,"純物質",23,null,{"$f":"VLOOKUP(D166,工作表9!$G$1:$H$142, 2, FALSE)","v":14800},0]
[null,null,"純物質",23,null,{"$f":"VLOOKUP(D167,工作表9!$G$1:$H$142, 2, FALSE)","v":14800},0]
[null,null,"純物質",23,null,{"$f":"VLOOKUP(D168,工作表9!$G$1:$H$142, 2, FALSE)","v":14800},0]
[null,null,"純物質",23,null,{"$f":"VLOOKUP(D169,工作表9!$G$1:$H$142, 2, FALSE)","v":14800},0]
[null,null,"純物質",23,null,{"$f":"VLOOKUP(D170,工作表9!$G$1:$H$142, 2, FALSE)","v":14800},0]
[null,null,"純物質",23,null,{"$f":"VLOOKUP(D171,工作表9!$G$1:$H$142, 2, FALSE)","v":14800},0]
[null,null,"純物質",23,null,{"$f":"VLOOKUP(D172,工作表9!$G$1:$H$142, 2, FALSE)","v":14800},0]
[null,null,"純物質",23,null,{"$f":"VLOOKUP(D173,工作表9!$G$1:$H$142, 2, FALSE)","v":14800},0]
[null,null,"純物質",23,null,{"$f":"VLOOKUP(D174,工作表9!$G$1:$H$142, 2, FALSE)","v":14800},0]
[null,null,"純物質",23,null,{"$f":"VLOOKUP(D175,工作表9!$G$1:$H$142, 2, FALSE)","v":14800},0]
[null,null,"純物質",23,null,{"$f":"VLOOKUP(D176,工作表9!$G$1:$H$142, 2, FALSE)","v":14800},0]
[null,null,"純物質",23,null,{"$f":"VLOOKUP(D177,工作表9!$G$1:$H$142, 2, FALSE)","v":14800},0]
[null,null,"純物質",23,null,{"$f":"VLOOKUP(D178,工作表9!$G$1:$H$142, 2, FALSE)","v":14800},0]
[null,null,"純物質",23,null,{"$f":"VLOOKUP(D179,工作表9!$G$1:$H$142, 2, FALSE)","v":14800},0]
[null,null,"純物質",23,null,{"$f":"VLOOKUP(D180,工作表9!$G$1:$H$142, 2, FALSE)","v":14800},0]
[null,null,"純物質",23,null,{"$f":"VLOOKUP(D181,工作表9!$G$1:$H$142, 2, FALSE)","v":14800},0]
[null,null,"純物質",23,null,{"$f":"VLOOKUP(D182,工作表9!$G$1:$H$142, 2, FALSE)","v":14800},0]
[null,null,"純物質",23,null,{"$f":"VLOOKUP(D183,工作表9!$G$1:$H$142, 2, FALSE)","v":14800},0]
[null,null,"純物質",23,null,{"$f":"VLOOKUP(D184,工作表9!$G$1:$H$142, 2, FALSE)","v":14800},0]
[null,null,"純物質",23,null,{"$f":"VLOOKUP(D185,工作表9!$G$1:$H$142, 2, FALSE)","v":14800},0]
[null,null,"純物質",23,null,{"$f":"VLOOKUP(D186,工作表9!$G$1:$H$142, 2, FALSE)","v":14800},0]
[null,null,"純物質",23,null,{"$f":"VLOOKUP(D187,工作表9!$G$1:$H$142, 2, FALSE)","v":14800},0]
[null,null,"純物質",23,null,{"$f":"VLOOKUP(D188,工作表9!$G$1:$H$142, 2, FALSE)","v":14800},0]
[null,null,"純物質",23,null,{"$f":"VLOOKUP(D189,工作表9!$G$1:$H$142, 2, FALSE)","v":14800},0]
[null,null,"純物質",23,null,{"$f":"VLOOKUP(D190,工作表9!$G$1:$H$142, 2, FALSE)","v":14800},0]
[null,null,"純物質",23,null,{"$f":"VLOOKUP(D191,工作表9!$G$1:$H$142, 2, FALSE)","v":14800},0]
[null,null,"純物質",23,null,{"$f":"VLOOKUP(D192,工作表9!$G$1:$H$142, 2, FALSE)","v":14800},0]
[null,null,"純物質",23,null,{"$f":"VLOOKUP(D193,工作表9!$G$1:$H$142, 2, FALSE)","v":14800},0]
[null,null,"純物質",23,null,{"$f":"VLOOKUP(D194,工作表9!$G$1:$H$142, 2, FALSE)","v":14800},0]
[null,null,"純物質",23,null,{"$f":"VLOOKUP(D195,工作表9!$G$1:$H$142, 2, FALSE)","v":14800},0]
[null,null,"純物質",23,null,{"$f":"VLOOKUP(D196,工作表9!$G$1:$H$142, 2, FALSE)","v":14800},0]
[null,null,"純物質",23,null,{"$f":"VLOOKUP(D197,工作表9!$G$1:$H$142, 2, FALSE)","v":14800},0]
[null,null,"純物質",23,null,{"$f":"VLOOKUP(D198,工作表9!$G$1:$H$142, 2, FALSE)","v":14800},{"$f":"E198*F198","v":0}]
[null,null,"純物質",23,null,{"$f":"VLOOKUP(D199,工作表9!$G$1:$H$142, 2, FALSE)","v":14800},0]
[null,null,"純物質",23,null,{"$f":"VLOOKUP(D200,工作表9!$G$1:$H$142, 2, FALSE)","v":14800},0]
[null,null,"純物質",23,null,{"$f":"VLOOKUP(D201,工作表9!$G$1:$H$142, 2, FALSE)","v":14800},0]
[null,null,"純物質",23,null,{"$f":"VLOOKUP(D202,工作表9!$G$1:$H$142, 2, FALSE)","v":14800},0]
[null,null,"純物質",23,null,{"$f":"VLOOKUP(D203,工作表9!$G$1:$H$142, 2, FALSE)","v":14800},0]
[null,null,"純物質",23,null,{"$f":"VLOOKUP(D204,工作表9!$G$1:$H$142, 2, FALSE)","v":14800},0]
[null,null,"純物質",23,null,{"$f":"VLOOKUP(D205,工作表9!$G$1:$H$142, 2, FALSE)","v":14800},0]
[null,null,"純物質",23,null,{"$f":"VLOOKUP(D206,工作表9!$G$1:$H$142, 2, FALSE)","v":14800},0]
[null,null,"純物質",23,null,{"$f":"VLOOKUP(D207,工作表9!$G$1:$H$142, 2, FALSE)","v":14800},0]
[null,null,"純物質",23,null,{"$f":"VLOOKUP(D208,工作表9!$G$1:$H$142, 2, FALSE)","v":14800},0]
[null,null,"純物質",23,null,{"$f":"VLOOKUP(D209,工作表9!$G$1:$H$142, 2, FALSE)","v":14800},0]
[null,null,"純物質",23,null,{"$f":"VLOOKUP(D210,工作表9!$G$1:$H$142, 2, FALSE)","v":14800},0]
[null,null,"純物質",23,null,{"$f":"VLOOKUP(D211,工作表9!$G$1:$H$142, 2, FALSE)","v":14800},0]
[null,null,"純物質",23,null,{"$f":"VLOOKUP(D212,工作表9!$G$1:$H$142, 2, FALSE)","v":14800},0]
[null,null,"純物質",23,null,{"$f":"VLOOKUP(D213,工作表9!$G$1:$H$142, 2, FALSE)","v":14800},0]
[null,null,"純物質",23,null,{"$f":"VLOOKUP(D214,工作表9!$G$1:$H$142, 2, FALSE)","v":14800},0]
[null,null,"純物質",23,null,{"$f":"VLOOKUP(D215,工作表9!$G$1:$H$142, 2, FALSE)","v":14800},0]
[null,null,"純物質",23,null,{"$f":"VLOOKUP(D216,工作表9!$G$1:$H$142, 2, FALSE)","v":14800},0]
[null,null,"純物質",23,null,{"$f":"VLOOKUP(D217,工作表9!$G$1:$H$142, 2, FALSE)","v":14800},0]
[null,null,"純物質",23,null,{"$f":"VLOOKUP(D218,工作表9!$G$1:$H$142, 2, FALSE)","v":14800},0]
[null,null,"純物質",23,null,{"$f":"VLOOKUP(D219,工作表9!$G$1:$H$142, 2, FALSE)","v":14800},0]
[null,null,"純物質",23,null,{"$f":"VLOOKUP(D220,工作表9!$G$1:$H$142, 2, FALSE)","v":14800},0]
[null,null,"純物質",23,null,{"$f":"VLOOKUP(D221,工作表9!$G$1:$H$142, 2, FALSE)","v":14800},0]
[null,null,"純物質",23,null,{"$f":"VLOOKUP(D222,工作表9!$G$1:$H$142, 2, FALSE)","v":14800},0]
[null,null,"純物質",23,null,{"$f":"VLOOKUP(D223,工作表9!$G$1:$H$142, 2, FALSE)","v":14800},0]
[null,null,"純物質",23,null,{"$f":"VLOOKUP(D224,工作表9!$G$1:$H$142, 2, FALSE)","v":14800},0]
[null,null,"純物質",23,null,{"$f":"VLOOKUP(D225,工作表9!$G$1:$H$142, 2, FALSE)","v":14800},0]
[null,null,"純物質",23,null,{"$f":"VLOOKUP(D226,工作表9!$G$1:$H$142, 2, FALSE)","v":14800},0]
[null,null,"純物質",23,null,{"$f":"VLOOKUP(D227,工作表9!$G$1:$H$142, 2, FALSE)","v":14800},0]
[null,null,"純物質",23,null,{"$f":"VLOOKUP(D228,工作表9!$G$1:$H$142, 2, FALSE)","v":14800},0]
[null,null,"純物質",23,null,{"$f":"VLOOKUP(D229,工作表9!$G$1:$H$142, 2, FALSE)","v":14800},0]
[null,null,"純物質",23,null,{"$f":"VLOOKUP(D230,工作表9!$G$1:$H$142, 2, FALSE)","v":14800},0]
[null,null,"純物質",23,null,{"$f":"VLOOKUP(D231,工作表9!$G$1:$H$142, 2, FALSE)","v":14800},0]
[null,null,"純物質",23,null,{"$f":"VLOOKUP(D232,工作表9!$G$1:$H$142, 2, FALSE)","v":14800},0]
[null,null,"純物質",23,null,{"$f":"VLOOKUP(D233,工作表9!$G$1:$H$142, 2, FALSE)","v":14800},0]
[null,null,"純物質",23,null,{"$f":"VLOOKUP(D234,工作表9!$G$1:$H$142, 2, FALSE)","v":14800},0]
[null,null,"純物質",23,null,{"$f":"VLOOKUP(D235,工作表9!$G$1:$H$142, 2, FALSE)","v":14800},0]
[null,null,"純物質",23,null,{"$f":"VLOOKUP(D236,工作表9!$G$1:$H$142, 2, FALSE)","v":14800},0]
[null,null,"純物質",23,null,{"$f":"VLOOKUP(D237,工作表9!$G$1:$H$142, 2, FALSE)","v":14800},0]
[null,null,"純物質",23,null,{"$f":"VLOOKUP(D238,工作表9!$G$1:$H$142, 2, FALSE)","v":14800},0]
[null,null,"純物質",23,null,{"$f":"VLOOKUP(D239,工作表9!$G$1:$H$142, 2, FALSE)","v":14800},0]
[null,null,"純物質",23,null,{"$f":"VLOOKUP(D240,工作表9!$G$1:$H$142, 2, FALSE)","v":14800},0]
[null,null,"純物質",23,null,{"$f":"VLOOKUP(D241,工作表9!$G$1:$H$142, 2, FALSE)","v":14800},0]
[null,null,"純物質",23,null,{"$f":"VLOOKUP(D242,工作表9!$G$1:$H$142, 2, FALSE)","v":14800},0]
[null,null,"純物質",23,null,{"$f":"VLOOKUP(D243,工作表9!$G$1:$H$142, 2, FALSE)","v":14800},0]
[null,null,"純物質",23,null,{"$f":"VLOOKUP(D244,工作表9!$G$1:$H$142, 2, FALSE)","v":14800},0]
[null,null,"純物質",23,null,{"$f":"VLOOKUP(D245,工作表9!$G$1:$H$142, 2, FALSE)","v":14800},0]
[null,null,"純物質",23,null,{"$f":"VLOOKUP(D246,工作表9!$G$1:$H$142, 2, FALSE)","v":14800},0]
[null,null,"純物質",23,null,{"$f":"VLOOKUP(D247,工作表9!$G$1:$H$142, 2, FALSE)","v":14800},0]
[null,null,"純物質",23,null,{"$f":"VLOOKUP(D248,工作表9!$G$1:$H$142, 2, FALSE)","v":14800},0]
[null,null,"純物質",23,null,{"$f":"VLOOKUP(D249,工作表9!$G$1:$H$142, 2, FALSE)","v":14800},0]
[null,null,"純物質",23,null,{"$f":"VLOOKUP(D250,工作表9!$G$1:$H$142, 2, FALSE)","v":14800},0]
[null,null,"純物質",23,null,{"$f":"VLOOKUP(D251,工作表9!$G$1:$H$142, 2, FALSE)","v":14800},0]
[null,null,"純物質",23,null,{"$f":"VLOOKUP(D252,工作表9!$G$1:$H$142, 2, FALSE)","v":14800},0]
[null,null,"純物質",23,null,{"$f":"VLOOKUP(D253,工作表9!$G$1:$H$142, 2, FALSE)","v":14800},0]
[null,null,"純物質",23,null,{"$f":"VLOOKUP(D254,工作表9!$G$1:$H$142, 2, FALSE)","v":14800},0]
[null,null,"純物質",23,null,{"$f":"VLOOKUP(D255,工作表9!$G$1:$H$142, 2, FALSE)","v":14800},0]
[null,null,"純物質",23,null,{"$f":"VLOOKUP(D256,工作表9!$G$1:$H$142, 2, FALSE)","v":14800},0]
[null,null,"純物質",23,null,{"$f":"VLOOKUP(D257,工作表9!$G$1:$H$142, 2, FALSE)","v":14800},0]
[null,null,"純物質",23,null,{"$f":"VLOOKUP(D258,工作表9!$G$1:$H$142, 2, FALSE)","v":14800},0]
[null,null,"純物質",23,null,{"$f":"VLOOKUP(D259,工作表9!$G$1:$H$142, 2, FALSE)","v":14800},0]
[null,null,"純物質",23,null,{"$f":"VLOOKUP(D260,工作表9!$G$1:$H$142, 2, FALSE)","v":14800},0]
[null,null,"純物質",23,null,{"$f":"VLOOKUP(D261,工作表9!$G$1:$H$142, 2, FALSE)","v":14800},0]
[null,null,"純物質",23,null,{"$f":"VLOOKUP(D262,工作表9!$G$1:$H$142, 2, FALSE)","v":14800},{"$f":"E262*F262","v":0}]
[null,null,"純物質",23,null,{"$f":"VLOOKUP(D263,工作表9!$G$1:$H$142, 2, FALSE)","v":14800},0]
[null,null,"純物質",23,null,{"$f":"VLOOKUP(D264,工作表9!$G$1:$H$142, 2, FALSE)","v":14800},0]
[null,null,"純物質",23,null,{"$f":"VLOOKUP(D265,工作表9!$G$1:$H$142, 2, FALSE)","v":14800},0]
[null,null,"純物質",23,null,{"$f":"VLOOKUP(D266,工作表9!$G$1:$H$142, 2, FALSE)","v":14800},0]
[null,null,"純物質",23,null,{"$f":"VLOOKUP(D267,工作表9!$G$1:$H$142, 2, FALSE)","v":14800},0]
[null,null,"純物質",23,null,{"$f":"VLOOKUP(D268,工作表9!$G$1:$H$142, 2, FALSE)","v":14800},0]
[null,null,"純物質",23,null,{"$f":"VLOOKUP(D269,工作表9!$G$1:$H$142, 2, FALSE)","v":14800},0]
[null,null,"純物質",23,null,{"$f":"VLOOKUP(D270,工作表9!$G$1:$H$142, 2, FALSE)","v":14800},0]
[null,null,"純物質",23,null,{"$f":"VLOOKUP(D271,工作表9!$G$1:$H$142, 2, FALSE)","v":14800},0]
[null,null,"純物質",23,null,{"$f":"VLOOKUP(D272,工作表9!$G$1:$H$142, 2, FALSE)","v":14800},0]
[null,null,"純物質",23,null,{"$f":"VLOOKUP(D273,工作表9!$G$1:$H$142, 2, FALSE)","v":14800},0]
[null,null,"純物質",23,null,{"$f":"VLOOKUP(D274,工作表9!$G$1:$H$142, 2, FALSE)","v":14800},0]
[null,null,"純物質",23,null,{"$f":"VLOOKUP(D275,工作表9!$G$1:$H$142, 2, FALSE)","v":14800},0]
[null,null,"純物質",23,null,{"$f":"VLOOKUP(D276,工作表9!$G$1:$H$142, 2, FALSE)","v":14800},0]
[null,null,"純物質",23,null,{"$f":"VLOOKUP(D277,工作表9!$G$1:$H$142, 2, FALSE)","v":14800},0]
[null,null,"純物質",23,null,{"$f":"VLOOKUP(D278,工作表9!$G$1:$H$142, 2, FALSE)","v":14800},0]
[null,null,"純物質",23,null,{"$f":"VLOOKUP(D279,工作表9!$G$1:$H$142, 2, FALSE)","v":14800},0]
[null,null,"純物質",23,null,{"$f":"VLOOKUP(D280,工作表9!$G$1:$H$142, 2, FALSE)","v":14800},0]
[null,null,"純物質",23,null,{"$f":"VLOOKUP(D281,工作表9!$G$1:$H$142, 2, FALSE)","v":14800},0]
[null,null,"純物質",23,null,{"$f":"VLOOKUP(D282,工作表9!$G$1:$H$142, 2, FALSE)","v":14800},0]
[null,null,"純物質",23,null,{"$f":"VLOOKUP(D283,工作表9!$G$1:$H$142, 2, FALSE)","v":14800},0]
[null,null,"純物質",23,null,{"$f":"VLOOKUP(D284,工作表9!$G$1:$H$142, 2, FALSE)","v":14800},0]
[null,null,"純物質",23,null,{"$f":"VLOOKUP(D285,工作表9!$G$1:$H$142, 2, FALSE)","v":14800},0]
[null,null,"純物質",23,null,{"$f":"VLOOKUP(D286,工作表9!$G$1:$H$142, 2, FALSE)","v":14800},0]
[null,null,"純物質",23,null,{"$f":"VLOOKUP(D287,工作表9!$G$1:$H$142, 2, FALSE)","v":14800},0]
[null,null,"純物質",23,null,{"$f":"VLOOKUP(D288,工作表9!$G$1:$H$142, 2, FALSE)","v":14800},0]
[null,null,"純物質",23,null,{"$f":"VLOOKUP(D289,工作表9!$G$1:$H$142, 2, FALSE)","v":14800},0]
[null,null,"純物質",23,null,{"$f":"VLOOKUP(D290,工作表9!$G$1:$H$142, 2, FALSE)","v":14800},0]
[null,null,"純物質",23,null,{"$f":"VLOOKUP(D291,工作表9!$G$1:$H$142, 2, FALSE)","v":14800},0]
[null,null,"純物質",23,null,{"$f":"VLOOKUP(D292,工作表9!$G$1:$H$142, 2, FALSE)","v":14800},0]
[null,null,"純物質",23,null,{"$f":"VLOOKUP(D293,工作表9!$G$1:$H$142, 2, FALSE)","v":14800},0]
[null,null,"純物質",23,null,{"$f":"VLOOKUP(D294,工作表9!$G$1:$H$142, 2, FALSE)","v":14800},0]
[null,null,"純物質",23,null,{"$f":"VLOOKUP(D295,工作表9!$G$1:$H$142, 2, FALSE)","v":14800},0]
[null,null,"純物質",23,null,{"$f":"VLOOKUP(D296,工作表9!$G$1:$H$142, 2, FALSE)","v":14800},0]
[null,null,"純物質",23,null,{"$f":"VLOOKUP(D297,工作表9!$G$1:$H$142, 2, FALSE)","v":14800},0]
[null,null,"純物質",23,null,{"$f":"VLOOKUP(D298,工作表9!$G$1:$H$142, 2, FALSE)","v":14800},0]
[null,null,"純物質",23,null,{"$f":"VLOOKUP(D299,工作表9!$G$1:$H$142, 2, FALSE)","v":14800},0]
[null,null,"純物質",23,null,{"$f":"VLOOKUP(D300,工作表9!$G$1:$H$142, 2, FALSE)","v":14800},0]
[null,null,"純物質",23,null,{"$f":"VLOOKUP(D301,工作表9!$G$1:$H$142, 2, FALSE)","v":14800},0]
[null,null,"純物質",23,null,{"$f":"VLOOKUP(D302,工作表9!$G$1:$H$142, 2, FALSE)","v":14800},0]
[null,null,"純物質",23,null,{"$f":"VLOOKUP(D303,工作表9!$G$1:$H$142, 2, FALSE)","v":14800},0]
[null,null,"純物質",23,null,{"$f":"VLOOKUP(D304,工作表9!$G$1:$H$142, 2, FALSE)","v":14800},0]
[null,null,"純物質",23,null,{"$f":"VLOOKUP(D305,工作表9!$G$1:$H$142, 2, FALSE)","v":14800},0]
[null,null,"純物質",23,null,{"$f":"VLOOKUP(D306,工作表9!$G$1:$H$142, 2, FALSE)","v":14800},0]
[null,null,"純物質",23,null,{"$f":"VLOOKUP(D307,工作表9!$G$1:$H$142, 2, FALSE)","v":14800},0]
[null,null,"純物質",23,null,{"$f":"VLOOKUP(D308,工作表9!$G$1:$H$142, 2, FALSE)","v":14800},0]
[null,null,"純物質",23,null,{"$f":"VLOOKUP(D309,工作表9!$G$1:$H$142, 2, FALSE)","v":14800},0]
[null,null,"純物質",23,null,{"$f":"VLOOKUP(D310,工作表9!$G$1:$H$142, 2, FALSE)","v":14800},0]
[null,null,"純物質",23,null,{"$f":"VLOOKUP(D311,工作表9!$G$1:$H$142, 2, FALSE)","v":14800},0]
[null,null,"純物質",23,null,{"$f":"VLOOKUP(D312,工作表9!$G$1:$H$142, 2, FALSE)","v":14800},0]
[null,null,"純物質",23,null,{"$f":"VLOOKUP(D313,工作表9!$G$1:$H$142, 2, FALSE)","v":14800},0]
[null,null,"純物質",23,null,{"$f":"VLOOKUP(D314,工作表9!$G$1:$H$142, 2, FALSE)","v":14800},0]
[null,null,"純物質",23,null,{"$f":"VLOOKUP(D315,工作表9!$G$1:$H$142, 2, FALSE)","v":14800},0]
[null,null,"純物質",23,null,{"$f":"VLOOKUP(D316,工作表9!$G$1:$H$142, 2, FALSE)","v":14800},0]
[null,null,"純物質",23,null,{"$f":"VLOOKUP(D317,工作表9!$G$1:$H$142, 2, FALSE)","v":14800},0]
[null,null,"純物質",23,null,{"$f":"VLOOKUP(D318,工作表9!$G$1:$H$142, 2, FALSE)","v":14800},0]
[null,null,"純物質",23,null,{"$f":"VLOOKUP(D319,工作表9!$G$1:$H$142, 2, FALSE)","v":14800},0]
[null,null,"純物質",23,null,{"$f":"VLOOKUP(D320,工作表9!$G$1:$H$142, 2, FALSE)","v":14800},0]
[null,null,"純物質",23,null,{"$f":"VLOOKUP(D321,工作表9!$G$1:$H$142, 2, FALSE)","v":14800},0]
[null,null,"純物質",23,null,{"$f":"VLOOKUP(D322,工作表9!$G$1:$H$142, 2, FALSE)","v":14800},0]
[null,null,"純物質",23,null,{"$f":"VLOOKUP(D323,工作表9!$G$1:$H$142, 2, FALSE)","v":14800},0]
[null,null,"純物質",23,null,{"$f":"VLOOKUP(D324,工作表9!$G$1:$H$142, 2, FALSE)","v":14800},0]
[null,null,"純物質",23,null,{"$f":"VLOOKUP(D325,工作表9!$G$1:$H$142, 2, FALSE)","v":14800},0]
[null,null,"純物質",23,null,{"$f":"VLOOKUP(D326,工作表9!$G$1:$H$142, 2, FALSE)","v":14800},{"$f":"E326*F326","v":0}]
[null,null,"純物質",23,null,{"$f":"VLOOKUP(D327,工作表9!$G$1:$H$142, 2, FALSE)","v":14800},0]
[null,null,"純物質",23,null,{"$f":"VLOOKUP(D328,工作表9!$G$1:$H$142, 2, FALSE)","v":14800},0]
[null,null,"純物質",23,null,{"$f":"VLOOKUP(D329,工作表9!$G$1:$H$142, 2, FALSE)","v":14800},0]
[null,null,"純物質",23,null,{"$f":"VLOOKUP(D330,工作表9!$G$1:$H$142, 2, FALSE)","v":14800},0]
[null,null,"純物質",23,null,{"$f":"VLOOKUP(D331,工作表9!$G$1:$H$142, 2, FALSE)","v":14800},0]
[null,null,"純物質",23,null,{"$f":"VLOOKUP(D332,工作表9!$G$1:$H$142, 2, FALSE)","v":14800},0]
[null,null,"純物質",23,null,{"$f":"VLOOKUP(D333,工作表9!$G$1:$H$142, 2, FALSE)","v":14800},0]
[null,null,"純物質",23,null,{"$f":"VLOOKUP(D334,工作表9!$G$1:$H$142, 2, FALSE)","v":14800},0]
[null,null,"純物質",23,null,{"$f":"VLOOKUP(D335,工作表9!$G$1:$H$142, 2, FALSE)","v":14800},0]
[null,null,"純物質",23,null,{"$f":"VLOOKUP(D336,工作表9!$G$1:$H$142, 2, FALSE)","v":14800},0]
[null,null,"純物質",23,null,{"$f":"VLOOKUP(D337,工作表9!$G$1:$H$142, 2, FALSE)","v":14800},0]
[null,null,"純物質",23,null,{"$f":"VLOOKUP(D338,工作表9!$G$1:$H$142, 2, FALSE)","v":14800},0]
[null,null,"純物質",23,null,{"$f":"VLOOKUP(D339,工作表9!$G$1:$H$142, 2, FALSE)","v":14800},0]
[null,null,"純物質",23,null,{"$f":"VLOOKUP(D340,工作表9!$G$1:$H$142, 2, FALSE)","v":14800},0]
[null,null,"純物質",23,null,{"$f":"VLOOKUP(D341,工作表9!$G$1:$H$142, 2, FALSE)","v":14800},0]
[null,null,"純物質",23,null,{"$f":"VLOOKUP(D342,工作表9!$G$1:$H$142, 2, FALSE)","v":14800},0]
[null,null,"純物質",23,null,{"$f":"VLOOKUP(D343,工作表9!$G$1:$H$142, 2, FALSE)","v":14800},0]
[null,null,"純物質",23,null,{"$f":"VLOOKUP(D344,工作表9!$G$1:$H$142, 2, FALSE)","v":14800},0]
[null,null,"純物質",23,null,{"$f":"VLOOKUP(D345,工作表9!$G$1:$H$142, 2, FALSE)","v":14800},0]
[null,null,"純物質",23,null,{"$f":"VLOOKUP(D346,工作表9!$G$1:$H$142, 2, FALSE)","v":14800},0]
[null,null,"純物質",23,null,{"$f":"VLOOKUP(D347,工作表9!$G$1:$H$142, 2, FALSE)","v":14800},0]
[null,null,"純物質",23,null,{"$f":"VLOOKUP(D348,工作表9!$G$1:$H$142, 2, FALSE)","v":14800},0]
[null,null,"純物質",23,null,{"$f":"VLOOKUP(D349,工作表9!$G$1:$H$142, 2, FALSE)","v":14800},0]
[null,null,"純物質",23,null,{"$f":"VLOOKUP(D350,工作表9!$G$1:$H$142, 2, FALSE)","v":14800},0]
[null,null,"純物質",23,null,{"$f":"VLOOKUP(D351,工作表9!$G$1:$H$142, 2, FALSE)","v":14800},0]
[null,null,"純物質",23,null,{"$f":"VLOOKUP(D352,工作表9!$G$1:$H$142, 2, FALSE)","v":14800},0]
[null,null,"純物質",23,null,{"$f":"VLOOKUP(D353,工作表9!$G$1:$H$142, 2, FALSE)","v":14800},0]
[null,null,"純物質",23,null,{"$f":"VLOOKUP(D354,工作表9!$G$1:$H$142, 2, FALSE)","v":14800},0]
[null,null,"純物質",23,null,{"$f":"VLOOKUP(D355,工作表9!$G$1:$H$142, 2, FALSE)","v":14800},0]
[null,null,"純物質",23,null,{"$f":"VLOOKUP(D356,工作表9!$G$1:$H$142, 2, FALSE)","v":14800},0]
[null,null,"純物質",23,null,{"$f":"VLOOKUP(D357,工作表9!$G$1:$H$142, 2, FALSE)","v":14800},0]
[null,null,"純物質",23,null,{"$f":"VLOOKUP(D358,工作表9!$G$1:$H$142, 2, FALSE)","v":14800},0]
[null,null,"純物質",23,null,{"$f":"VLOOKUP(D359,工作表9!$G$1:$H$142, 2, FALSE)","v":14800},0]
[null,null,"純物質",23,null,{"$f":"VLOOKUP(D360,工作表9!$G$1:$H$142, 2, FALSE)","v":14800},0]
[null,null,"純物質",23,null,{"$f":"VLOOKUP(D361,工作表9!$G$1:$H$142, 2, FALSE)","v":14800},0]
[null,null,"純物質",23,null,{"$f":"VLOOKUP(D362,工作表9!$G$1:$H$142, 2, FALSE)","v":14800},0]
[null,null,"純物質",23,null,{"$f":"VLOOKUP(D363,工作表9!$G$1:$H$142, 2, FALSE)","v":14800},0]
[null,null,"純物質",23,null,{"$f":"VLOOKUP(D364,工作表9!$G$1:$H$142, 2, FALSE)","v":14800},0]
[null,null,"純物質",23,null,{"$f":"VLOOKUP(D365,工作表9!$G$1:$H$142, 2, FALSE)","v":14800},0]
[null,null,"純物質",23,null,{"$f":"VLOOKUP(D366,工作表9!$G$1:$H$142, 2, FALSE)","v":14800},0]
[null,null,"純物質",23,null,{"$f":"VLOOKUP(D367,工作表9!$G$1:$H$142, 2, FALSE)","v":14800},0]
[null,null,"純物質",23,null,{"$f":"VLOOKUP(D368,工作表9!$G$1:$H$142, 2, FALSE)","v":14800},0]
[null,null,"純物質",23,null,{"$f":"VLOOKUP(D369,工作表9!$G$1:$H$142, 2, FALSE)","v":14800},0]
[null,null,"純物質",23,null,{"$f":"VLOOKUP(D370,工作表9!$G$1:$H$142, 2, FALSE)","v":14800},0]
[null,null,"純物質",23,null,{"$f":"VLOOKUP(D371,工作表9!$G$1:$H$142, 2, FALSE)","v":14800},0]
[null,null,"純物質",23,null,{"$f":"VLOOKUP(D372,工作表9!$G$1:$H$142, 2, FALSE)","v":14800},0]
[null,null,"純物質",23,null,{"$f":"VLOOKUP(D373,工作表9!$G$1:$H$142, 2, FALSE)","v":14800},0]
[null,null,"純物質",23,null,{"$f":"VLOOKUP(D374,工作表9!$G$1:$H$142, 2, FALSE)","v":14800},0]
[null,null,"純物質",23,null,{"$f":"VLOOKUP(D375,工作表9!$G$1:$H$142, 2, FALSE)","v":14800},0]
[null,null,"純物質",23,null,{"$f":"VLOOKUP(D376,工作表9!$G$1:$H$142, 2, FALSE)","v":14800},0]
[null,null,"純物質",23,null,{"$f":"VLOOKUP(D377,工作表9!$G$1:$H$142, 2, FALSE)","v":14800},0]
[null,null,"純物質",23,null,{"$f":"VLOOKUP(D378,工作表9!$G$1:$H$142, 2, FALSE)","v":14800},0]
[null,null,"純物質",23,null,{"$f":"VLOOKUP(D379,工作表9!$G$1:$H$142, 2, FALSE)","v":14800},0]
[null,null,"純物質",23,null,{"$f":"VLOOKUP(D380,工作表9!$G$1:$H$142, 2, FALSE)","v":14800},0]
[null,null,"純物質",23,null,{"$f":"VLOOKUP(D381,工作表9!$G$1:$H$142, 2, FALSE)","v":14800},0]
[null,null,"純物質",23,null,{"$f":"VLOOKUP(D382,工作表9!$G$1:$H$142, 2, FALSE)","v":14800},0]
[null,null,"純物質",23,null,{"$f":"VLOOKUP(D383,工作表9!$G$1:$H$142, 2, FALSE)","v":14800},0]
[null,null,"純物質",23,null,{"$f":"VLOOKUP(D384,工作表9!$G$1:$H$142, 2, FALSE)","v":14800},0]
[null,null,"純物質",23,null,{"$f":"VLOOKUP(D385,工作表9!$G$1:$H$142, 2, FALSE)","v":14800},0]
[null,null,"純物質",23,null,{"$f":"VLOOKUP(D386,工作表9!$G$1:$H$142, 2, FALSE)","v":14800},0]
[null,null,"純物質",23,null,{"$f":"VLOOKUP(D387,工作表9!$G$1:$H$142, 2, FALSE)","v":14800},0]
[null,null,"純物質",23,null,{"$f":"VLOOKUP(D388,工作表9!$G$1:$H$142, 2, FALSE)","v":14800},0]
[null,null,"純物質",23,null,{"$f":"VLOOKUP(D389,工作表9!$G$1:$H$142, 2, FALSE)","v":14800},0]
[null,null,"純物質",23,null,{"$f":"VLOOKUP(D390,工作表9!$G$1:$H$142, 2, FALSE)","v":14800},{"$f":"E390*F390","v":0}]
[null,null,"純物質",23,null,{"$f":"VLOOKUP(D391,工作表9!$G$1:$H$142, 2, FALSE)","v":14800},0]
[null,null,"純物質",23,null,{"$f":"VLOOKUP(D392,工作表9!$G$1:$H$142, 2, FALSE)","v":14800},0]
[null,null,"純物質",23,null,{"$f":"VLOOKUP(D393,工作表9!$G$1:$H$142, 2, FALSE)","v":14800},0]
[null,null,"純物質",23,null,{"$f":"VLOOKUP(D394,工作表9!$G$1:$H$142, 2, FALSE)","v":14800},0]
[null,null,"純物質",23,null,{"$f":"VLOOKUP(D395,工作表9!$G$1:$H$142, 2, FALSE)","v":14800},0]
[null,null,"純物質",23,null,{"$f":"VLOOKUP(D396,工作表9!$G$1:$H$142, 2, FALSE)","v":14800},0]
[null,null,"純物質",23,null,{"$f":"VLOOKUP(D397,工作表9!$G$1:$H$142, 2, FALSE)","v":14800},0]
[null,null,"純物質",23,null,{"$f":"VLOOKUP(D398,工作表9!$G$1:$H$142, 2, FALSE)","v":14800},0]
[null,null,"純物質",23,null,{"$f":"VLOOKUP(D399,工作表9!$G$1:$H$142, 2, FALSE)","v":14800},0]
[null,null,"純物質",23,null,{"$f":"VLOOKUP(D400,工作表9!$G$1:$H$142, 2, FALSE)","v":14800},0]
[null,null,"純物質",23,null,{"$f":"VLOOKUP(D401,工作表9!$G$1:$H$142, 2, FALSE)","v":14800},0]
[null,null,"純物質",23,null,{"$f":"VLOOKUP(D402,工作表9!$G$1:$H$142, 2, FALSE)","v":14800},0]
[null,null,"純物質",23,null,{"$f":"VLOOKUP(D403,工作表9!$G$1:$H$142, 2, FALSE)","v":14800},0]
[null,null,"純物質",23,null,{"$f":"VLOOKUP(D404,工作表9!$G$1:$H$142, 2, FALSE)","v":14800},0]
[null,null,"純物質",23,null,{"$f":"VLOOKUP(D405,工作表9!$G$1:$H$142, 2, FALSE)","v":14800},0]
[null,null,"純物質",23,null,{"$f":"VLOOKUP(D406,工作表9!$G$1:$H$142, 2, FALSE)","v":14800},0]
[null,null,"純物質",23,null,{"$f":"VLOOKUP(D407,工作表9!$G$1:$H$142, 2, FALSE)","v":14800},0]
[null,null,"純物質",23,null,{"$f":"VLOOKUP(D408,工作表9!$G$1:$H$142, 2, FALSE)","v":14800},0]
[null,null,"純物質",23,null,{"$f":"VLOOKUP(D409,工作表9!$G$1:$H$142, 2, FALSE)","v":14800},0]
[null,null,"純物質",23,null,{"$f":"VLOOKUP(D410,工作表9!$G$1:$H$142, 2, FALSE)","v":14800},0]
[null,null,"純物質",23,null,{"$f":"VLOOKUP(D411,工作表9!$G$1:$H$142, 2, FALSE)","v":14800},0]
[null,null,"純物質",23,null,{"$f":"VLOOKUP(D412,工作表9!$G$1:$H$142, 2, FALSE)","v":14800},0]
[null,null,"純物質",23,null,{"$f":"VLOOKUP(D413,工作表9!$G$1:$H$142, 2, FALSE)","v":14800},0]
[null,null,"純物質",23,null,{"$f":"VLOOKUP(D414,工作表9!$G$1:$H$142, 2, FALSE)","v":14800},0]
[null,null,"純物質",23,null,{"$f":"VLOOKUP(D415,工作表9!$G$1:$H$142, 2, FALSE)","v":14800},0]
[null,null,"純物質",23,null,{"$f":"VLOOKUP(D416,工作表9!$G$1:$H$142, 2, FALSE)","v":14800},0]
[null,null,"純物質",23,null,{"$f":"VLOOKUP(D417,工作表9!$G$1:$H$142, 2, FALSE)","v":14800},0]
[null,null,"純物質",23,null,{"$f":"VLOOKUP(D418,工作表9!$G$1:$H$142, 2, FALSE)","v":14800},0]
[null,null,"純物質",23,null,{"$f":"VLOOKUP(D419,工作表9!$G$1:$H$142, 2, FALSE)","v":14800},0]
[null,null,"純物質",23,null,{"$f":"VLOOKUP(D420,工作表9!$G$1:$H$142, 2, FALSE)","v":14800},0]
[null,null,"純物質",23,null,{"$f":"VLOOKUP(D421,工作表9!$G$1:$H$142, 2, FALSE)","v":14800},0]
[null,null,"純物質",23,null,{"$f":"VLOOKUP(D422,工作表9!$G$1:$H$142, 2, FALSE)","v":14800},0]
[null,null,"純物質",23,null,{"$f":"VLOOKUP(D423,工作表9!$G$1:$H$142, 2, FALSE)","v":14800},0]
[null,null,"純物質",23,null,{"$f":"VLOOKUP(D424,工作表9!$G$1:$H$142, 2, FALSE)","v":14800},0]
[null,null,"純物質",23,null,{"$f":"VLOOKUP(D425,工作表9!$G$1:$H$142, 2, FALSE)","v":14800},0]
[null,null,"純物質",23,null,{"$f":"VLOOKUP(D426,工作表9!$G$1:$H$142, 2, FALSE)","v":14800},0]
[null,null,"純物質",23,null,{"$f":"VLOOKUP(D427,工作表9!$G$1:$H$142, 2, FALSE)","v":14800},0]
[null,null,"純物質",23,null,{"$f":"VLOOKUP(D428,工作表9!$G$1:$H$142, 2, FALSE)","v":14800},0]
[null,null,"純物質",23,null,{"$f":"VLOOKUP(D429,工作表9!$G$1:$H$142, 2, FALSE)","v":14800},0]
[null,null,"純物質",23,null,{"$f":"VLOOKUP(D430,工作表9!$G$1:$H$142, 2, FALSE)","v":14800},0]
[null,null,"純物質",23,null,{"$f":"VLOOKUP(D431,工作表9!$G$1:$H$142, 2, FALSE)","v":14800},0]
[null,null,"純物質",23,null,{"$f":"VLOOKUP(D432,工作表9!$G$1:$H$142, 2, FALSE)","v":14800},0]
[null,null,"純物質",23,null,{"$f":"VLOOKUP(D433,工作表9!$G$1:$H$142, 2, FALSE)","v":14800},0]
[null,null,"純物質",23,null,{"$f":"VLOOKUP(D434,工作表9!$G$1:$H$142, 2, FALSE)","v":14800},0]
[null,null,"純物質",23,null,{"$f":"VLOOKUP(D435,工作表9!$G$1:$H$142, 2, FALSE)","v":14800},0]
[null,null,"純物質",23,null,{"$f":"VLOOKUP(D436,工作表9!$G$1:$H$142, 2, FALSE)","v":14800},0]
[null,null,"純物質",23,null,{"$f":"VLOOKUP(D437,工作表9!$G$1:$H$142, 2, FALSE)","v":14800},0]
[null,null,"純物質",23,null,{"$f":"VLOOKUP(D438,工作表9!$G$1:$H$142, 2, FALSE)","v":14800},0]
[null,null,"純物質",23,null,{"$f":"VLOOKUP(D439,工作表9!$G$1:$H$142, 2, FALSE)","v":14800},0]
[null,null,"純物質",23,null,{"$f":"VLOOKUP(D440,工作表9!$G$1:$H$142, 2, FALSE)","v":14800},0]
[null,null,"純物質",23,null,{"$f":"VLOOKUP(D441,工作表9!$G$1:$H$142, 2, FALSE)","v":14800},0]
[null,null,"純物質",23,null,{"$f":"VLOOKUP(D442,工作表9!$G$1:$H$142, 2, FALSE)","v":14800},0]
[null,null,"純物質",23,null,{"$f":"VLOOKUP(D443,工作表9!$G$1:$H$142, 2, FALSE)","v":14800},0]
[null,null,"純物質",23,null,{"$f":"VLOOKUP(D444,工作表9!$G$1:$H$142, 2, FALSE)","v":14800},0]
[null,null,"純物質",23,null,{"$f":"VLOOKUP(D445,工作表9!$G$1:$H$142, 2, FALSE)","v":14800},0]
[null,null,"純物質",23,null,{"$f":"VLOOKUP(D446,工作表9!$G$1:$H$142, 2, FALSE)","v":14800},0]
[null,null,"純物質",23,null,{"$f":"VLOOKUP(D447,工作表9!$G$1:$H$142, 2, FALSE)","v":14800},0]
[null,null,"純物質",23,null,{"$f":"VLOOKUP(D448,工作表9!$G$1:$H$142, 2, FALSE)","v":14800},0]
[null,null,"純物質",23,null,{"$f":"VLOOKUP(D449,工作表9!$G$1:$H$142, 2, FALSE)","v":14800},0]
[null,null,"純物質",23,null,{"$f":"VLOOKUP(D450,工作表9!$G$1:$H$142, 2, FALSE)","v":14800},0]
[null,null,"純物質",23,null,{"$f":"VLOOKUP(D451,工作表9!$G$1:$H$142, 2, FALSE)","v":14800},0]
[null,null,"純物質",23,null,{"$f":"VLOOKUP(D452,工作表9!$G$1:$H$142, 2, FALSE)","v":14800},0]
[null,null,"純物質",23,null,{"$f":"VLOOKUP(D453,工作表9!$G$1:$H$142, 2, FALSE)","v":14800},0]
[null,null,"純物質",23,null,{"$f":"VLOOKUP(D454,工作表9!$G$1:$H$142, 2, FALSE)","v":14800},{"$f":"E454*F454","v":0}]
[null,null,"純物質",23,null,{"$f":"VLOOKUP(D455,工作表9!$G$1:$H$142, 2, FALSE)","v":14800},0]
[null,null,"純物質",23,null,{"$f":"VLOOKUP(D456,工作表9!$G$1:$H$142, 2, FALSE)","v":14800},0]
[null,null,"純物質",23,null,{"$f":"VLOOKUP(D457,工作表9!$G$1:$H$142, 2, FALSE)","v":14800},0]
[null,null,"純物質",23,null,{"$f":"VLOOKUP(D458,工作表9!$G$1:$H$142, 2, FALSE)","v":14800},0]
[null,null,"純物質",23,null,{"$f":"VLOOKUP(D459,工作表9!$G$1:$H$142, 2, FALSE)","v":14800},0]
[null,null,"純物質",23,null,{"$f":"VLOOKUP(D460,工作表9!$G$1:$H$142, 2, FALSE)","v":14800},0]
[null,null,"純物質",23,null,{"$f":"VLOOKUP(D461,工作表9!$G$1:$H$142, 2, FALSE)","v":14800},0]
[null,null,"純物質",23,null,{"$f":"VLOOKUP(D462,工作表9!$G$1:$H$142, 2, FALSE)","v":14800},0]
[null,null,"純物質",23,null,{"$f":"VLOOKUP(D463,工作表9!$G$1:$H$142, 2, FALSE)","v":14800},0]
[null,null,"純物質",23,null,{"$f":"VLOOKUP(D464,工作表9!$G$1:$H$142, 2, FALSE)","v":14800},0]
[null,null,"純物質",23,null,{"$f":"VLOOKUP(D465,工作表9!$G$1:$H$142, 2, FALSE)","v":14800},0]
[null,null,"純物質",23,null,{"$f":"VLOOKUP(D466,工作表9!$G$1:$H$142, 2, FALSE)","v":14800},0]
[null,null,"純物質",23,null,{"$f":"VLOOKUP(D467,工作表9!$G$1:$H$142, 2, FALSE)","v":14800},0]
[null,null,"純物質",23,null,{"$f":"VLOOKUP(D468,工作表9!$G$1:$H$142, 2, FALSE)","v":14800},0]
[null,null,"純物質",23,null,{"$f":"VLOOKUP(D469,工作表9!$G$1:$H$142, 2, FALSE)","v":14800},0]
[null,null,"純物質",23,null,{"$f":"VLOOKUP(D470,工作表9!$G$1:$H$142, 2, FALSE)","v":14800},0]
[null,null,"純物質",23,null,{"$f":"VLOOKUP(D471,工作表9!$G$1:$H$142, 2, FALSE)","v":14800},0]
[null,null,"純物質",23,null,{"$f":"VLOOKUP(D472,工作表9!$G$1:$H$142, 2, FALSE)","v":14800},0]
[null,null,"純物質",23,null,{"$f":"VLOOKUP(D473,工作表9!$G$1:$H$142, 2, FALSE)","v":14800},0]
[null,null,"純物質",23,null,{"$f":"VLOOKUP(D474,工作表9!$G$1:$H$142, 2, FALSE)","v":14800},0]
[null,null,"純物質",23,null,{"$f":"VLOOKUP(D475,工作表9!$G$1:$H$142, 2, FALSE)","v":14800},0]
[null,null,"純物質",23,null,{"$f":"VLOOKUP(D476,工作表9!$G$1:$H$142, 2, FALSE)","v":14800},0]
[null,null,"純物質",23,null,{"$f":"VLOOKUP(D477,工作表9!$G$1:$H$142, 2, FALSE)","v":14800},0]
[null,null,"純物質",23,null,{"$f":"VLOOKUP(D478,工作表9!$G$1:$H$142, 2, FALSE)","v":14800},0]
[null,null,"純物質",23,null,{"$f":"VLOOKUP(D479,工作表9!$G$1:$H$142, 2, FALSE)","v":14800},0]
[null,null,"純物質",23,null,{"$f":"VLOOKUP(D480,工作表9!$G$1:$H$142, 2, FALSE)","v":14800},0]
[null,null,"純物質",23,null,{"$f":"VLOOKUP(D481,工作表9!$G$1:$H$142, 2, FALSE)","v":14800},0]
[null,null,"純物質",23,null,{"$f":"VLOOKUP(D482,工作表9!$G$1:$H$142, 2, FALSE)","v":14800},0]
[null,null,"純物質",23,null,{"$f":"VLOOKUP(D483,工作表9!$G$1:$H$142, 2, FALSE)","v":14800},0]
[null,null,"純物質",23,null,{"$f":"VLOOKUP(D484,工作表9!$G$1:$H$142, 2, FALSE)","v":14800},0]
[null,null,"純物質",23,null,{"$f":"VLOOKUP(D485,工作表9!$G$1:$H$142, 2, FALSE)","v":14800},0]
[null,null,"純物質",23,null,{"$f":"VLOOKUP(D486,工作表9!$G$1:$H$142, 2, FALSE)","v":14800},0]
[null,null,"純物質",23,null,{"$f":"VLOOKUP(D487,工作表9!$G$1:$H$142, 2, FALSE)","v":14800},0]
[null,null,"純物質",23,null,{"$f":"VLOOKUP(D488,工作表9!$G$1:$H$142, 2, FALSE)","v":14800},0]
[null,null,"純物質",23,null,{"$f":"VLOOKUP(D489,工作表9!$G$1:$H$142, 2, FALSE)","v":14800},0]
[null,null,"純物質",23,null,{"$f":"VLOOKUP(D490,工作表9!$G$1:$H$142, 2, FALSE)","v":14800},0]
[null,null,"純物質",23,null,{"$f":"VLOOKUP(D491,工作表9!$G$1:$H$142, 2, FALSE)","v":14800},0]
[null,null,"純物質",23,null,{"$f":"VLOOKUP(D492,工作表9!$G$1:$H$142, 2, FALSE)","v":14800},0]
[null,null,"純物質",23,null,{"$f":"VLOOKUP(D493,工作表9!$G$1:$H$142, 2, FALSE)","v":14800},0]
[null,null,"純物質",23,null,{"$f":"VLOOKUP(D494,工作表9!$G$1:$H$142, 2, FALSE)","v":14800},0]
[null,null,"純物質",23,null,{"$f":"VLOOKUP(D495,工作表9!$G$1:$H$142, 2, FALSE)","v":14800},0]
[null,null,"純物質",23,null,{"$f":"VLOOKUP(D496,工作表9!$G$1:$H$142, 2, FALSE)","v":14800},0]
[null,null,"純物質",23,null,{"$f":"VLOOKUP(D497,工作表9!$G$1:$H$142, 2, FALSE)","v":14800},0]
[null,null,"純物質",23,null,{"$f":"VLOOKUP(D498,工作表9!$G$1:$H$142, 2, FALSE)","v":14800},0]
[null,null,"純物質",23,null,{"$f":"VLOOKUP(D499,工作表9!$G$1:$H$142, 2, FALSE)","v":14800},0]
[null,null,"純物質",23,null,{"$f":"VLOOKUP(D500,工作表9!$G$1:$H$142, 2, FALSE)","v":14800},0]
[null,null,"純物質",23,null,{"$f":"VLOOKUP(D501,工作表9!$G$1:$H$142, 2, FALSE)","v":14800},0]
[null,null,"純物質",23,null,{"$f":"VLOOKUP(D502,工作表9!$G$1:$H$142, 2, FALSE)","v":14800},0]
[null,null,"純物質",23,null,{"$f":"VLOOKUP(D503,工作表9!$G$1:$H$142, 2, FALSE)","v":14800},0]
[null,null,"純物質",23,null,{"$f":"VLOOKUP(D504,工作表9!$G$1:$H$142, 2, FALSE)","v":14800},0]
[null,null,"純物質",23,null,{"$f":"VLOOKUP(D505,工作表9!$G$1:$H$142, 2, FALSE)","v":14800},0]
[null,null,"純物質",23,null,{"$f":"VLOOKUP(D506,工作表9!$G$1:$H$142, 2, FALSE)","v":14800},0]
[null,null,"純物質",23,null,{"$f":"VLOOKUP(D507,工作表9!$G$1:$H$142, 2, FALSE)","v":14800},0]
[null,null,"純物質",23,null,{"$f":"VLOOKUP(D508,工作表9!$G$1:$H$142, 2, FALSE)","v":14800},0]
[null,null,"純物質",23,null,{"$f":"VLOOKUP(D509,工作表9!$G$1:$H$142, 2, FALSE)","v":14800},0]
[null,null,"純物質",23,null,{"$f":"VLOOKUP(D510,工作表9!$G$1:$H$142, 2, FALSE)","v":14800},0]
[null,null,"純物質",23,null,{"$f":"VLOOKUP(D511,工作表9!$G$1:$H$142, 2, FALSE)","v":14800},0]
[null,null,"純物質",23,null,{"$f":"VLOOKUP(D512,工作表9!$G$1:$H$142, 2, FALSE)","v":14800},0]
[null,null,"純物質",23,null,{"$f":"VLOOKUP(D513,工作表9!$G$1:$H$142, 2, FALSE)","v":14800},0]
[null,null,"純物質",23,null,{"$f":"VLOOKUP(D514,工作表9!$G$1:$H$142, 2, FALSE)","v":14800},0]
[null,null,"純物質",23,null,{"$f":"VLOOKUP(D515,工作表9!$G$1:$H$142, 2, FALSE)","v":14800},0]
[null,null,"純物質",23,null,{"$f":"VLOOKUP(D516,工作表9!$G$1:$H$142, 2, FALSE)","v":14800},0]
[null,null,"純物質",23,null,{"$f":"VLOOKUP(D517,工作表9!$G$1:$H$142, 2, FALSE)","v":14800},0]
[null,null,"純物質",23,null,{"$f":"VLOOKUP(D518,工作表9!$G$1:$H$142, 2, FALSE)","v":14800},{"$f":"E518*F518","v":0}]
[null,null,"純物質",23,null,{"$f":"VLOOKUP(D519,工作表9!$G$1:$H$142, 2, FALSE)","v":14800},0]
[null,null,"純物質",23,null,{"$f":"VLOOKUP(D520,工作表9!$G$1:$H$142, 2, FALSE)","v":14800},0]
[null,null,"純物質",23,null,{"$f":"VLOOKUP(D521,工作表9!$G$1:$H$142, 2, FALSE)","v":14800},0]
[null,null,"純物質",23,null,{"$f":"VLOOKUP(D522,工作表9!$G$1:$H$142, 2, FALSE)","v":14800},0]
[null,null,"純物質",23,null,{"$f":"VLOOKUP(D523,工作表9!$G$1:$H$142, 2, FALSE)","v":14800},0]
[null,null,"純物質",23,null,{"$f":"VLOOKUP(D524,工作表9!$G$1:$H$142, 2, FALSE)","v":14800},0]
[null,null,"純物質",23,null,{"$f":"VLOOKUP(D525,工作表9!$G$1:$H$142, 2, FALSE)","v":14800},0]
[null,null,"純物質",23,null,{"$f":"VLOOKUP(D526,工作表9!$G$1:$H$142, 2, FALSE)","v":14800},0]
[null,null,"純物質",23,null,{"$f":"VLOOKUP(D527,工作表9!$G$1:$H$142, 2, FALSE)","v":14800},0]
[null,null,"純物質",23,null,{"$f":"VLOOKUP(D528,工作表9!$G$1:$H$142, 2, FALSE)","v":14800},0]
[null,null,"純物質",23,null,{"$f":"VLOOKUP(D529,工作表9!$G$1:$H$142, 2, FALSE)","v":14800},0]
[null,null,"純物質",23,null,{"$f":"VLOOKUP(D530,工作表9!$G$1:$H$142, 2, FALSE)","v":14800},0]
[null,null,"純物質",23,null,{"$f":"VLOOKUP(D531,工作表9!$G$1:$H$142, 2, FALSE)","v":14800},0]
[null,null,"純物質",23,null,{"$f":"VLOOKUP(D532,工作表9!$G$1:$H$142, 2, FALSE)","v":14800},0]
[null,null,"純物質",23,null,{"$f":"VLOOKUP(D533,工作表9!$G$1:$H$142, 2, FALSE)","v":14800},0]
[null,null,"純物質",23,null,{"$f":"VLOOKUP(D534,工作表9!$G$1:$H$142, 2, FALSE)","v":14800},0]
[null,null,"純物質",23,null,{"$f":"VLOOKUP(D535,工作表9!$G$1:$H$142, 2, FALSE)","v":14800},0]
[null,null,"純物質",23,null,{"$f":"VLOOKUP(D536,工作表9!$G$1:$H$142, 2, FALSE)","v":14800},0]
[null,null,"純物質",23,null,{"$f":"VLOOKUP(D537,工作表9!$G$1:$H$142, 2, FALSE)","v":14800},0]
[null,null,"純物質",23,null,{"$f":"VLOOKUP(D538,工作表9!$G$1:$H$142, 2, FALSE)","v":14800},0]
[null,null,"純物質",23,null,{"$f":"VLOOKUP(D539,工作表9!$G$1:$H$142, 2, FALSE)","v":14800},0]
[null,null,"純物質",23,null,{"$f":"VLOOKUP(D540,工作表9!$G$1:$H$142, 2, FALSE)","v":14800},0]
[null,null,"純物質",23,null,{"$f":"VLOOKUP(D541,工作表9!$G$1:$H$142, 2, FALSE)","v":14800},0]
[null,null,"純物質",23,null,{"$f":"VLOOKUP(D542,工作表9!$G$1:$H$142, 2, FALSE)","v":14800},0]
[null,null,"純物質",23,null,{"$f":"VLOOKUP(D543,工作表9!$G$1:$H$142, 2, FALSE)","v":14800},0]
[null,null,"純物質",23,null,{"$f":"VLOOKUP(D544,工作表9!$G$1:$H$142, 2, FALSE)","v":14800},0]
[null,null,"純物質",23,null,{"$f":"VLOOKUP(D545,工作表9!$G$1:$H$142, 2, FALSE)","v":14800},0]
[null,null,"純物質",23,null,{"$f":"VLOOKUP(D546,工作表9!$G$1:$H$142, 2, FALSE)","v":14800},0]
[null,null,"純物質",23,null,{"$f":"VLOOKUP(D547,工作表9!$G$1:$H$142, 2, FALSE)","v":14800},0]
[null,null,"純物質",23,null,{"$f":"VLOOKUP(D548,工作表9!$G$1:$H$142, 2, FALSE)","v":14800},0]
[null,null,"純物質",23,null,{"$f":"VLOOKUP(D549,工作表9!$G$1:$H$142, 2, FALSE)","v":14800},0]
[null,null,"純物質",23,null,{"$f":"VLOOKUP(D550,工作表9!$G$1:$H$142, 2, FALSE)","v":14800},0]
[null,null,"純物質",23,null,{"$f":"VLOOKUP(D551,工作表9!$G$1:$H$142, 2, FALSE)","v":14800},0]
[null,null,"純物質",23,null,{"$f":"VLOOKUP(D552,工作表9!$G$1:$H$142, 2, FALSE)","v":14800},0]
[null,null,"純物質",23,null,{"$f":"VLOOKUP(D553,工作表9!$G$1:$H$142, 2, FALSE)","v":14800},0]
[null,null,"純物質",23,null,{"$f":"VLOOKUP(D554,工作表9!$G$1:$H$142, 2, FALSE)","v":14800},0]
[null,null,"純物質",23,null,{"$f":"VLOOKUP(D555,工作表9!$G$1:$H$142, 2, FALSE)","v":14800},0]
[null,null,"純物質",23,null,{"$f":"VLOOKUP(D556,工作表9!$G$1:$H$142, 2, FALSE)","v":14800},0]
[null,null,"純物質",23,null,{"$f":"VLOOKUP(D557,工作表9!$G$1:$H$142, 2, FALSE)","v":14800},0]
[null,null,"純物質",23,null,{"$f":"VLOOKUP(D558,工作表9!$G$1:$H$142, 2, FALSE)","v":14800},0]
[null,null,"純物質",23,null,{"$f":"VLOOKUP(D559,工作表9!$G$1:$H$142, 2, FALSE)","v":14800},0]
[null,null,"純物質",23,null,{"$f":"VLOOKUP(D560,工作表9!$G$1:$H$142, 2, FALSE)","v":14800},0]
[null,null,"純物質",23,null,{"$f":"VLOOKUP(D561,工作表9!$G$1:$H$142, 2, FALSE)","v":14800},0]
[null,null,"純物質",23,null,{"$f":"VLOOKUP(D562,工作表9!$G$1:$H$142, 2, FALSE)","v":14800},0]
[null,null,"純物質",23,null,{"$f":"VLOOKUP(D563,工作表9!$G$1:$H$142, 2, FALSE)","v":14800},0]
[null,null,"純物質",23,null,{"$f":"VLOOKUP(D564,工作表9!$G$1:$H$142, 2, FALSE)","v":14800},0]
[null,null,"純物質",23,null,{"$f":"VLOOKUP(D565,工作表9!$G$1:$H$142, 2, FALSE)","v":14800},0]
[null,null,"純物質",23,null,{"$f":"VLOOKUP(D566,工作表9!$G$1:$H$142, 2, FALSE)","v":14800},0]
[null,null,"純物質",23,null,{"$f":"VLOOKUP(D567,工作表9!$G$1:$H$142, 2, FALSE)","v":14800},0]
[null,null,"純物質",23,null,{"$f":"VLOOKUP(D568,工作表9!$G$1:$H$142, 2, FALSE)","v":14800},0]
[null,null,"純物質",23,null,{"$f":"VLOOKUP(D569,工作表9!$G$1:$H$142, 2, FALSE)","v":14800},0]
[null,null,"純物質",23,null,{"$f":"VLOOKUP(D570,工作表9!$G$1:$H$142, 2, FALSE)","v":14800},0]
[null,null,"純物質",23,null,{"$f":"VLOOKUP(D571,工作表9!$G$1:$H$142, 2, FALSE)","v":14800},0]
[null,null,"純物質",23,null,{"$f":"VLOOKUP(D572,工作表9!$G$1:$H$142, 2, FALSE)","v":14800},0]
[null,null,"純物質",23,null,{"$f":"VLOOKUP(D573,工作表9!$G$1:$H$142, 2, FALSE)","v":14800},0]
[null,null,"純物質",23,null,{"$f":"VLOOKUP(D574,工作表9!$G$1:$H$142, 2, FALSE)","v":14800},0]
[null,null,"純物質",23,null,{"$f":"VLOOKUP(D575,工作表9!$G$1:$H$142, 2, FALSE)","v":14800},0]
[null,null,"純物質",23,null,{"$f":"VLOOKUP(D576,工作表9!$G$1:$H$142, 2, FALSE)","v":14800},0]
[null,null,"純物質",23,null,{"$f":"VLOOKUP(D577,工作表9!$G$1:$H$142, 2, FALSE)","v":14800},0]
[null,null,"純物質",23,null,{"$f":"VLOOKUP(D578,工作表9!$G$1:$H$142, 2, FALSE)","v":14800},0]
[null,null,"純物質",23,null,{"$f":"VLOOKUP(D579,工作表9!$G$1:$H$142, 2, FALSE)","v":14800},0]
[null,null,"純物質",23,null,{"$f":"VLOOKUP(D580,工作表9!$G$1:$H$142, 2, FALSE)","v":14800},0]
[null,null,"純物質",23,null,{"$f":"VLOOKUP(D581,工作表9!$G$1:$H$142, 2, FALSE)","v":14800},0]
[null,null,"純物質",23,null,{"$f":"VLOOKUP(D582,工作表9!$G$1:$H$142, 2, FALSE)","v":14800},{"$f":"E582*F582","v":0}]
[null,null,"純物質",23,null,{"$f":"VLOOKUP(D583,工作表9!$G$1:$H$142, 2, FALSE)","v":14800},0]
[null,null,"純物質",23,null,{"$f":"VLOOKUP(D584,工作表9!$G$1:$H$142, 2, FALSE)","v":14800},0]
[null,null,"純物質",23,null,{"$f":"VLOOKUP(D585,工作表9!$G$1:$H$142, 2, FALSE)","v":14800},0]
[null,null,"純物質",23,null,{"$f":"VLOOKUP(D586,工作表9!$G$1:$H$142, 2, FALSE)","v":14800},0]
[null,null,"純物質",23,null,{"$f":"VLOOKUP(D587,工作表9!$G$1:$H$142, 2, FALSE)","v":14800},0]
[null,null,"純物質",23,null,{"$f":"VLOOKUP(D588,工作表9!$G$1:$H$142, 2, FALSE)","v":14800},0]
[null,null,"純物質",23,null,{"$f":"VLOOKUP(D589,工作表9!$G$1:$H$142, 2, FALSE)","v":14800},0]
[null,null,"純物質",23,null,{"$f":"VLOOKUP(D590,工作表9!$G$1:$H$142, 2, FALSE)","v":14800},0]
[null,null,"純物質",23,null,{"$f":"VLOOKUP(D591,工作表9!$G$1:$H$142, 2, FALSE)","v":14800},0]
[null,null,"純物質",23,null,{"$f":"VLOOKUP(D592,工作表9!$G$1:$H$142, 2, FALSE)","v":14800},0]
[null,null,"純物質",23,null,{"$f":"VLOOKUP(D593,工作表9!$G$1:$H$142, 2, FALSE)","v":14800},0]
[null,null,"純物質",23,null,{"$f":"VLOOKUP(D594,工作表9!$G$1:$H$142, 2, FALSE)","v":14800},0]
[null,null,"純物質",23,null,{"$f":"VLOOKUP(D595,工作表9!$G$1:$H$142, 2, FALSE)","v":14800},0]
[null,null,"純物質",23,null,{"$f":"VLOOKUP(D596,工作表9!$G$1:$H$142, 2, FALSE)","v":14800},0]
[null,null,"純物質",23,null,{"$f":"VLOOKUP(D597,工作表9!$G$1:$H$142, 2, FALSE)","v":14800},0]
[null,null,"純物質",23,null,{"$f":"VLOOKUP(D598,工作表9!$G$1:$H$142, 2, FALSE)","v":14800},0]
[null,null,"純物質",23,null,{"$f":"VLOOKUP(D599,工作表9!$G$1:$H$142, 2, FALSE)","v":14800},0]
[null,null,"純物質",23,null,{"$f":"VLOOKUP(D600,工作表9!$G$1:$H$142, 2, FALSE)","v":14800},0]
[null,null,"純物質",23,null,{"$f":"VLOOKUP(D601,工作表9!$G$1:$H$142, 2, FALSE)","v":14800},0]
[null,null,"純物質",23,null,{"$f":"VLOOKUP(D602,工作表9!$G$1:$H$142, 2, FALSE)","v":14800},0]
[null,null,"純物質",23,null,{"$f":"VLOOKUP(D603,工作表9!$G$1:$H$142, 2, FALSE)","v":14800},0]
[null,null,"純物質",23,null,{"$f":"VLOOKUP(D604,工作表9!$G$1:$H$142, 2, FALSE)","v":14800},0]
[null,null,"純物質",23,null,{"$f":"VLOOKUP(D605,工作表9!$G$1:$H$142, 2, FALSE)","v":14800},0]
[null,null,"純物質",23,null,{"$f":"VLOOKUP(D606,工作表9!$G$1:$H$142, 2, FALSE)","v":14800},0]
[null,null,"純物質",23,null,{"$f":"VLOOKUP(D607,工作表9!$G$1:$H$142, 2, FALSE)","v":14800},0]
[null,null,"純物質",23,null,{"$f":"VLOOKUP(D608,工作表9!$G$1:$H$142, 2, FALSE)","v":14800},0]
[null,null,"純物質",23,null,{"$f":"VLOOKUP(D609,工作表9!$G$1:$H$142, 2, FALSE)","v":14800},0]
[null,null,"純物質",23,null,{"$f":"VLOOKUP(D610,工作表9!$G$1:$H$142, 2, FALSE)","v":14800},0]
[null,null,"純物質",23,null,{"$f":"VLOOKUP(D611,工作表9!$G$1:$H$142, 2, FALSE)","v":14800},0]
[null,null,"純物質",23,null,{"$f":"VLOOKUP(D612,工作表9!$G$1:$H$142, 2, FALSE)","v":14800},0]
[null,null,"純物質",23,null,{"$f":"VLOOKUP(D613,工作表9!$G$1:$H$142, 2, FALSE)","v":14800},0]
[null,null,"純物質",23,null,{"$f":"VLOOKUP(D614,工作表9!$G$1:$H$142, 2, FALSE)","v":14800},0]
[null,null,"純物質",23,null,{"$f":"VLOOKUP(D615,工作表9!$G$1:$H$142, 2, FALSE)","v":14800},0]
[null,null,"純物質",23,null,{"$f":"VLOOKUP(D616,工作表9!$G$1:$H$142, 2, FALSE)","v":14800},0]
[null,null,"純物質",23,null,{"$f":"VLOOKUP(D617,工作表9!$G$1:$H$142, 2, FALSE)","v":14800},0]
[null,null,"純物質",23,null,{"$f":"VLOOKUP(D618,工作表9!$G$1:$H$142, 2, FALSE)","v":14800},0]
[null,null,"純物質",23,null,{"$f":"VLOOKUP(D619,工作表9!$G$1:$H$142, 2, FALSE)","v":14800},0]
[null,null,"純物質",23,null,{"$f":"VLOOKUP(D620,工作表9!$G$1:$H$142, 2, FALSE)","v":14800},0]
[null,null,"純物質",23,null,{"$f":"VLOOKUP(D621,工作表9!$G$1:$H$142, 2, FALSE)","v":14800},0]
[null,null,"純物質",23,null,{"$f":"VLOOKUP(D622,工作表9!$G$1:$H$142, 2, FALSE)","v":14800},0]
[null,null,"純物質",23,null,{"$f":"VLOOKUP(D623,工作表9!$G$1:$H$142, 2, FALSE)","v":14800},0]
[null,null,"純物質",23,null,{"$f":"VLOOKUP(D624,工作表9!$G$1:$H$142, 2, FALSE)","v":14800},0]
[null,null,"純物質",23,null,{"$f":"VLOOKUP(D625,工作表9!$G$1:$H$142, 2, FALSE)","v":14800},0]
[null,null,"純物質",23,null,{"$f":"VLOOKUP(D626,工作表9!$G$1:$H$142, 2, FALSE)","v":14800},0]
[null,null,"純物質",23,null,{"$f":"VLOOKUP(D627,工作表9!$G$1:$H$142, 2, FALSE)","v":14800},0]
[null,null,"純物質",23,null,{"$f":"VLOOKUP(D628,工作表9!$G$1:$H$142, 2, FALSE)","v":14800},0]
[null,null,"純物質",23,null,{"$f":"VLOOKUP(D629,工作表9!$G$1:$H$142, 2, FALSE)","v":14800},0]
[null,null,"純物質",23,null,{"$f":"VLOOKUP(D630,工作表9!$G$1:$H$142, 2, FALSE)","v":14800},0]
[null,null,"純物質",23,null,{"$f":"VLOOKUP(D631,工作表9!$G$1:$H$142, 2, FALSE)","v":14800},0]
[null,null,"純物質",23,null,{"$f":"VLOOKUP(D632,工作表9!$G$1:$H$142, 2, FALSE)","v":14800},0]
[null,null,"純物質",23,null,{"$f":"VLOOKUP(D633,工作表9!$G$1:$H$142, 2, FALSE)","v":14800},0]
[null,null,"純物質",23,null,{"$f":"VLOOKUP(D634,工作表9!$G$1:$H$142, 2, FALSE)","v":14800},0]
[null,null,"純物質",23,null,{"$f":"VLOOKUP(D635,工作表9!$G$1:$H$142, 2, FALSE)","v":14800},0]
[null,null,"純物質",23,null,{"$f":"VLOOKUP(D636,工作表9!$G$1:$H$142, 2, FALSE)","v":14800},0]
[null,null,"純物質",23,null,{"$f":"VLOOKUP(D637,工作表9!$G$1:$H$142, 2, FALSE)","v":14800},0]
[null,null,"純物質",23,null,{"$f":"VLOOKUP(D638,工作表9!$G$1:$H$142, 2, FALSE)","v":14800},0]
[null,null,"純物質",23,null,{"$f":"VLOOKUP(D639,工作表9!$G$1:$H$142, 2, FALSE)","v":14800},0]
[null,null,"純物質",23,null,{"$f":"VLOOKUP(D640,工作表9!$G$1:$H$142, 2, FALSE)","v":14800},0]
[null,null,"純物質",23,null,{"$f":"VLOOKUP(D641,工作表9!$G$1:$H$142, 2, FALSE)","v":14800},0]
[null,null,"純物質",23,null,{"$f":"VLOOKUP(D642,工作表9!$G$1:$H$142, 2, FALSE)","v":14800},0]
[null,null,"純物質",23,null,{"$f":"VLOOKUP(D643,工作表9!$G$1:$H$142, 2, FALSE)","v":14800},0]
[null,null,"純物質",23,null,{"$f":"VLOOKUP(D644,工作表9!$G$1:$H$142, 2, FALSE)","v":14800},0]
[null,null,"純物質",23,null,{"$f":"VLOOKUP(D645,工作表9!$G$1:$H$142, 2, FALSE)","v":14800},0]
[null,null,"純物質",23,null,{"$f":"VLOOKUP(D646,工作表9!$G$1:$H$142, 2, FALSE)","v":14800},{"$f":"E646*F646","v":0}]
[null,null,"純物質",23,null,{"$f":"VLOOKUP(D647,工作表9!$G$1:$H$142, 2, FALSE)","v":14800},0]
[null,null,"純物質",23,null,{"$f":"VLOOKUP(D648,工作表9!$G$1:$H$142, 2, FALSE)","v":14800},0]
[null,null,"純物質",23,null,{"$f":"VLOOKUP(D649,工作表9!$G$1:$H$142, 2, FALSE)","v":14800},0]
[null,null,"純物質",23,null,{"$f":"VLOOKUP(D650,工作表9!$G$1:$H$142, 2, FALSE)","v":14800},0]
[null,null,"純物質",23,null,{"$f":"VLOOKUP(D651,工作表9!$G$1:$H$142, 2, FALSE)","v":14800},0]
[null,null,"純物質",23,null,{"$f":"VLOOKUP(D652,工作表9!$G$1:$H$142, 2, FALSE)","v":14800},0]
[null,null,"純物質",23,null,{"$f":"VLOOKUP(D653,工作表9!$G$1:$H$142, 2, FALSE)","v":14800},0]
[null,null,"純物質",23,null,{"$f":"VLOOKUP(D654,工作表9!$G$1:$H$142, 2, FALSE)","v":14800},0]
[null,null,"純物質",23,null,{"$f":"VLOOKUP(D655,工作表9!$G$1:$H$142, 2, FALSE)","v":14800},0]
[null,null,"純物質",23,null,{"$f":"VLOOKUP(D656,工作表9!$G$1:$H$142, 2, FALSE)","v":14800},0]
[null,null,"純物質",23,null,{"$f":"VLOOKUP(D657,工作表9!$G$1:$H$142, 2, FALSE)","v":14800},0]
[null,null,"純物質",23,null,{"$f":"VLOOKUP(D658,工作表9!$G$1:$H$142, 2, FALSE)","v":14800},0]
[null,null,"純物質",23,null,{"$f":"VLOOKUP(D659,工作表9!$G$1:$H$142, 2, FALSE)","v":14800},0]
[null,null,"純物質",23,null,{"$f":"VLOOKUP(D660,工作表9!$G$1:$H$142, 2, FALSE)","v":14800},0]
[null,null,"純物質",23,null,{"$f":"VLOOKUP(D661,工作表9!$G$1:$H$142, 2, FALSE)","v":14800},0]
[null,null,"純物質",23,null,{"$f":"VLOOKUP(D662,工作表9!$G$1:$H$142, 2, FALSE)","v":14800},0]
[null,null,"純物質",23,null,{"$f":"VLOOKUP(D663,工作表9!$G$1:$H$142, 2, FALSE)","v":14800},0]
[null,null,"純物質",23,null,{"$f":"VLOOKUP(D664,工作表9!$G$1:$H$142, 2, FALSE)","v":14800},0]
[null,null,"純物質",23,null,{"$f":"VLOOKUP(D665,工作表9!$G$1:$H$142, 2, FALSE)","v":14800},0]
[null,null,"純物質",23,null,{"$f":"VLOOKUP(D666,工作表9!$G$1:$H$142, 2, FALSE)","v":14800},0]
[null,null,"純物質",23,null,{"$f":"VLOOKUP(D667,工作表9!$G$1:$H$142, 2, FALSE)","v":14800},0]
[null,null,"純物質",23,null,{"$f":"VLOOKUP(D668,工作表9!$G$1:$H$142, 2, FALSE)","v":14800},0]
[null,null,"純物質",23,null,{"$f":"VLOOKUP(D669,工作表9!$G$1:$H$142, 2, FALSE)","v":14800},0]
[null,null,"純物質",23,null,{"$f":"VLOOKUP(D670,工作表9!$G$1:$H$142, 2, FALSE)","v":14800},0]
[null,null,"純物質",23,null,{"$f":"VLOOKUP(D671,工作表9!$G$1:$H$142, 2, FALSE)","v":14800},0]
[null,null,"純物質",23,null,{"$f":"VLOOKUP(D672,工作表9!$G$1:$H$142, 2, FALSE)","v":14800},0]
[null,null,"純物質",23,null,{"$f":"VLOOKUP(D673,工作表9!$G$1:$H$142, 2, FALSE)","v":14800},0]
[null,null,"純物質",23,null,{"$f":"VLOOKUP(D674,工作表9!$G$1:$H$142, 2, FALSE)","v":14800},0]
[null,null,"純物質",23,null,{"$f":"VLOOKUP(D675,工作表9!$G$1:$H$142, 2, FALSE)","v":14800},0]
[null,null,"純物質",23,null,{"$f":"VLOOKUP(D676,工作表9!$G$1:$H$142, 2, FALSE)","v":14800},0]
[null,null,"純物質",23,null,{"$f":"VLOOKUP(D677,工作表9!$G$1:$H$142, 2, FALSE)","v":14800},0]
[null,null,"純物質",23,null,{"$f":"VLOOKUP(D678,工作表9!$G$1:$H$142, 2, FALSE)","v":14800},0]
[null,null,"純物質",23,null,{"$f":"VLOOKUP(D679,工作表9!$G$1:$H$142, 2, FALSE)","v":14800},0]
[null,null,"純物質",23,null,{"$f":"VLOOKUP(D680,工作表9!$G$1:$H$142, 2, FALSE)","v":14800},0]
[null,null,"純物質",23,null,{"$f":"VLOOKUP(D681,工作表9!$G$1:$H$142, 2, FALSE)","v":14800},0]
[null,null,"純物質",23,null,{"$f":"VLOOKUP(D682,工作表9!$G$1:$H$142, 2, FALSE)","v":14800},0]
[null,null,"純物質",23,null,{"$f":"VLOOKUP(D683,工作表9!$G$1:$H$142, 2, FALSE)","v":14800},0]
[null,null,"純物質",23,null,{"$f":"VLOOKUP(D684,工作表9!$G$1:$H$142, 2, FALSE)","v":14800},0]
[null,null,"純物質",23,null,{"$f":"VLOOKUP(D685,工作表9!$G$1:$H$142, 2, FALSE)","v":14800},0]
[null,null,"純物質",23,null,{"$f":"VLOOKUP(D686,工作表9!$G$1:$H$142, 2, FALSE)","v":14800},0]
[null,null,"純物質",23,null,{"$f":"VLOOKUP(D687,工作表9!$G$1:$H$142, 2, FALSE)","v":14800},0]
[null,null,"純物質",23,null,{"$f":"VLOOKUP(D688,工作表9!$G$1:$H$142, 2, FALSE)","v":14800},0]
[null,null,"純物質",23,null,{"$f":"VLOOKUP(D689,工作表9!$G$1:$H$142, 2, FALSE)","v":14800},0]
[null,null,"純物質",23,null,{"$f":"VLOOKUP(D690,工作表9!$G$1:$H$142, 2, FALSE)","v":14800},0]
[null,null,"純物質",23,null,{"$f":"VLOOKUP(D691,工作表9!$G$1:$H$142, 2, FALSE)","v":14800},0]
[null,null,"純物質",23,null,{"$f":"VLOOKUP(D692,工作表9!$G$1:$H$142, 2, FALSE)","v":14800},0]
[null,null,"純物質",23,null,{"$f":"VLOOKUP(D693,工作表9!$G$1:$H$142, 2, FALSE)","v":14800},0]
[null,null,"純物質",23,null,{"$f":"VLOOKUP(D694,工作表9!$G$1:$H$142, 2, FALSE)","v":14800},0]
[null,null,"純物質",23,null,{"$f":"VLOOKUP(D695,工作表9!$G$1:$H$142, 2, FALSE)","v":14800},0]
[null,null,"純物質",23,null,{"$f":"VLOOKUP(D696,工作表9!$G$1:$H$142, 2, FALSE)","v":14800},0]
[null,null,"純物質",23,null,{"$f":"VLOOKUP(D697,工作表9!$G$1:$H$142, 2, FALSE)","v":14800},0]
[null,null,"純物質",23,null,{"$f":"VLOOKUP(D698,工作表9!$G$1:$H$142, 2, FALSE)","v":14800},0]
[null,null,"純物質",23,null,{"$f":"VLOOKUP(D699,工作表9!$G$1:$H$142, 2, FALSE)","v":14800},0]
[null,null,"純物質",23,null,{"$f":"VLOOKUP(D700,工作表9!$G$1:$H$142, 2, FALSE)","v":14800},0]
[null,null,"純物質",23,null,{"$f":"VLOOKUP(D701,工作表9!$G$1:$H$142, 2, FALSE)","v":14800},0]
[null,null,"純物質",23,null,{"$f":"VLOOKUP(D702,工作表9!$G$1:$H$142, 2, FALSE)","v":14800},0]
[null,null,"純物質",23,null,{"$f":"VLOOKUP(D703,工作表9!$G$1:$H$142, 2, FALSE)","v":14800},0]
[null,null,"純物質",23,null,{"$f":"VLOOKUP(D704,工作表9!$G$1:$H$142, 2, FALSE)","v":14800},0]
[null,null,"純物質",23,null,{"$f":"VLOOKUP(D705,工作表9!$G$1:$H$142, 2, FALSE)","v":14800},0]
[null,null,"純物質",23,null,{"$f":"VLOOKUP(D706,工作表9!$G$1:$H$142, 2, FALSE)","v":14800},0]
[null,null,"純物質",23,null,{"$f":"VLOOKUP(D707,工作表9!$G$1:$H$142, 2, FALSE)","v":14800},0]
[null,null,"純物質",23,null,{"$f":"VLOOKUP(D708,工作表9!$G$1:$H$142, 2, FALSE)","v":14800},0]
[null,null,"純物質",23,null,{"$f":"VLOOKUP(D709,工作表9!$G$1:$H$142, 2, FALSE)","v":14800},0]
[null,null,"純物質",23,null,{"$f":"VLOOKUP(D710,工作表9!$G$1:$H$142, 2, FALSE)","v":14800},{"$f":"E710*F710","v":0}]
[null,null,"純物質",23,null,{"$f":"VLOOKUP(D711,工作表9!$G$1:$H$142, 2, FALSE)","v":14800},0]
[null,null,"純物質",23,null,{"$f":"VLOOKUP(D712,工作表9!$G$1:$H$142, 2, FALSE)","v":14800},0]
[null,null,"純物質",23,null,{"$f":"VLOOKUP(D713,工作表9!$G$1:$H$142, 2, FALSE)","v":14800},0]
[null,null,"純物質",23,null,{"$f":"VLOOKUP(D714,工作表9!$G$1:$H$142, 2, FALSE)","v":14800},0]
[null,null,"純物質",23,null,{"$f":"VLOOKUP(D715,工作表9!$G$1:$H$142, 2, FALSE)","v":14800},0]
[null,null,"純物質",23,null,{"$f":"VLOOKUP(D716,工作表9!$G$1:$H$142, 2, FALSE)","v":14800},0]
[null,null,"純物質",23,null,{"$f":"VLOOKUP(D717,工作表9!$G$1:$H$142, 2, FALSE)","v":14800},0]
[null,null,"純物質",23,null,{"$f":"VLOOKUP(D718,工作表9!$G$1:$H$142, 2, FALSE)","v":14800},0]
[null,null,"純物質",23,null,{"$f":"VLOOKUP(D719,工作表9!$G$1:$H$142, 2, FALSE)","v":14800},0]
[null,null,"純物質",23,null,{"$f":"VLOOKUP(D720,工作表9!$G$1:$H$142, 2, FALSE)","v":14800},0]
[null,null,"純物質",23,null,{"$f":"VLOOKUP(D721,工作表9!$G$1:$H$142, 2, FALSE)","v":14800},0]
[null,null,"純物質",23,null,{"$f":"VLOOKUP(D722,工作表9!$G$1:$H$142, 2, FALSE)","v":14800},0]
[null,null,"純物質",23,null,{"$f":"VLOOKUP(D723,工作表9!$G$1:$H$142, 2, FALSE)","v":14800},0]
[null,null,"純物質",23,null,{"$f":"VLOOKUP(D724,工作表9!$G$1:$H$142, 2, FALSE)","v":14800},0]
[null,null,"純物質",23,null,{"$f":"VLOOKUP(D725,工作表9!$G$1:$H$142, 2, FALSE)","v":14800},0]
[null,null,"純物質",23,null,{"$f":"VLOOKUP(D726,工作表9!$G$1:$H$142, 2, FALSE)","v":14800},0]
[null,null,"純物質",23,null,{"$f":"VLOOKUP(D727,工作表9!$G$1:$H$142, 2, FALSE)","v":14800},0]
[null,null,"純物質",23,null,{"$f":"VLOOKUP(D728,工作表9!$G$1:$H$142, 2, FALSE)","v":14800},0]
[null,null,"純物質",23,null,{"$f":"VLOOKUP(D729,工作表9!$G$1:$H$142, 2, FALSE)","v":14800},0]
[null,null,"純物質",23,null,{"$f":"VLOOKUP(D730,工作表9!$G$1:$H$142, 2, FALSE)","v":14800},0]
[null,null,"純物質",23,null,{"$f":"VLOOKUP(D731,工作表9!$G$1:$H$142, 2, FALSE)","v":14800},0]
[null,null,"純物質",23,null,{"$f":"VLOOKUP(D732,工作表9!$G$1:$H$142, 2, FALSE)","v":14800},0]
[null,null,"純物質",23,null,{"$f":"VLOOKUP(D733,工作表9!$G$1:$H$142, 2, FALSE)","v":14800},0]
[null,null,"純物質",23,null,{"$f":"VLOOKUP(D734,工作表9!$G$1:$H$142, 2, FALSE)","v":14800},0]
[null,null,"純物質",23,null,{"$f":"VLOOKUP(D735,工作表9!$G$1:$H$142, 2, FALSE)","v":14800},0]
[null,null,"純物質",23,null,{"$f":"VLOOKUP(D736,工作表9!$G$1:$H$142, 2, FALSE)","v":14800},0]
[null,null,"純物質",23,null,{"$f":"VLOOKUP(D737,工作表9!$G$1:$H$142, 2, FALSE)","v":14800},0]
[null,null,"純物質",23,null,{"$f":"VLOOKUP(D738,工作表9!$G$1:$H$142, 2, FALSE)","v":14800},0]
[null,null,"純物質",23,null,{"$f":"VLOOKUP(D739,工作表9!$G$1:$H$142, 2, FALSE)","v":14800},0]
[null,null,"純物質",23,null,{"$f":"VLOOKUP(D740,工作表9!$G$1:$H$142, 2, FALSE)","v":14800},0]
[null,null,"純物質",23,null,{"$f":"VLOOKUP(D741,工作表9!$G$1:$H$142, 2, FALSE)","v":14800},0]
[null,null,"純物質",23,null,{"$f":"VLOOKUP(D742,工作表9!$G$1:$H$142, 2, FALSE)","v":14800},0]
[null,null,"純物質",23,null,{"$f":"VLOOKUP(D743,工作表9!$G$1:$H$142, 2, FALSE)","v":14800},0]
[null,null,"純物質",23,null,{"$f":"VLOOKUP(D744,工作表9!$G$1:$H$142, 2, FALSE)","v":14800},0]
[null,null,"純物質",23,null,{"$f":"VLOOKUP(D745,工作表9!$G$1:$H$142, 2, FALSE)","v":14800},0]
[null,null,"純物質",23,null,{"$f":"VLOOKUP(D746,工作表9!$G$1:$H$142, 2, FALSE)","v":14800},0]
[null,null,"純物質",23,null,{"$f":"VLOOKUP(D747,工作表9!$G$1:$H$142, 2, FALSE)","v":14800},0]
[null,null,"純物質",23,null,{"$f":"VLOOKUP(D748,工作表9!$G$1:$H$142, 2, FALSE)","v":14800},0]
[null,null,"純物質",23,null,{"$f":"VLOOKUP(D749,工作表9!$G$1:$H$142, 2, FALSE)","v":14800},0]
[null,null,"純物質",23,null,{"$f":"VLOOKUP(D750,工作表9!$G$1:$H$142, 2, FALSE)","v":14800},0]
[null,null,"純物質",23,null,{"$f":"VLOOKUP(D751,工作表9!$G$1:$H$142, 2, FALSE)","v":14800},0]
[null,null,"純物質",23,null,{"$f":"VLOOKUP(D752,工作表9!$G$1:$H$142, 2, FALSE)","v":14800},0]
[null,null,"純物質",23,null,{"$f":"VLOOKUP(D753,工作表9!$G$1:$H$142, 2, FALSE)","v":14800},0]
[null,null,"純物質",23,null,{"$f":"VLOOKUP(D754,工作表9!$G$1:$H$142, 2, FALSE)","v":14800},0]
[null,null,"純物質",23,null,{"$f":"VLOOKUP(D755,工作表9!$G$1:$H$142, 2, FALSE)","v":14800},0]
[null,null,"純物質",23,null,{"$f":"VLOOKUP(D756,工作表9!$G$1:$H$142, 2, FALSE)","v":14800},0]
[null,null,"純物質",23,null,{"$f":"VLOOKUP(D757,工作表9!$G$1:$H$142, 2, FALSE)","v":14800},0]
[null,null,"純物質",23,null,{"$f":"VLOOKUP(D758,工作表9!$G$1:$H$142, 2, FALSE)","v":14800},0]
[null,null,"純物質",23,null,{"$f":"VLOOKUP(D759,工作表9!$G$1:$H$142, 2, FALSE)","v":14800},0]
[null,null,"純物質",23,null,{"$f":"VLOOKUP(D760,工作表9!$G$1:$H$142, 2, FALSE)","v":14800},0]
[null,null,"純物質",23,null,{"$f":"VLOOKUP(D761,工作表9!$G$1:$H$142, 2, FALSE)","v":14800},0]
[null,null,"純物質",23,null,{"$f":"VLOOKUP(D762,工作表9!$G$1:$H$142, 2, FALSE)","v":14800},0]
[null,null,"純物質",23,null,{"$f":"VLOOKUP(D763,工作表9!$G$1:$H$142, 2, FALSE)","v":14800},0]
[null,null,"純物質",23,null,{"$f":"VLOOKUP(D764,工作表9!$G$1:$H$142, 2, FALSE)","v":14800},0]
[null,null,"純物質",23,null,{"$f":"VLOOKUP(D765,工作表9!$G$1:$H$142, 2, FALSE)","v":14800},0]
[null,null,"純物質",23,null,{"$f":"VLOOKUP(D766,工作表9!$G$1:$H$142, 2, FALSE)","v":14800},0]
[null,null,"純物質",23,null,{"$f":"VLOOKUP(D767,工作表9!$G$1:$H$142, 2, FALSE)","v":14800},0]
[null,null,"純物質",23,null,{"$f":"VLOOKUP(D768,工作表9!$G$1:$H$142, 2, FALSE)","v":14800},0]
[null,null,"純物質",23,null,{"$f":"VLOOKUP(D769,工作表9!$G$1:$H$142, 2, FALSE)","v":14800},0]
[null,null,"純物質",23,null,{"$f":"VLOOKUP(D770,工作表9!$G$1:$H$142, 2, FALSE)","v":14800},0]
[null,null,"純物質",23,null,{"$f":"VLOOKUP(D771,工作表9!$G$1:$H$142, 2, FALSE)","v":14800},0]
[null,null,"純物質",23,null,{"$f":"VLOOKUP(D772,工作表9!$G$1:$H$142, 2, FALSE)","v":14800},0]
[null,null,"純物質",23,null,{"$f":"VLOOKUP(D773,工作表9!$G$1:$H$142, 2, FALSE)","v":14800},0]
[null,null,"純物質",23,null,{"$f":"VLOOKUP(D774,工作表9!$G$1:$H$142, 2, FALSE)","v":14800},{"$f":"E774*F774","v":0}]
[null,null,"純物質",23,null,{"$f":"VLOOKUP(D775,工作表9!$G$1:$H$142, 2, FALSE)","v":14800},0]
[null,null,"純物質",23,null,{"$f":"VLOOKUP(D776,工作表9!$G$1:$H$142, 2, FALSE)","v":14800},0]
[null,null,"純物質",23,null,{"$f":"VLOOKUP(D777,工作表9!$G$1:$H$142, 2, FALSE)","v":14800},0]
[null,null,"純物質",23,null,{"$f":"VLOOKUP(D778,工作表9!$G$1:$H$142, 2, FALSE)","v":14800},0]
[null,null,"純物質",23,null,{"$f":"VLOOKUP(D779,工作表9!$G$1:$H$142, 2, FALSE)","v":14800},0]
[null,null,"純物質",23,null,{"$f":"VLOOKUP(D780,工作表9!$G$1:$H$142, 2, FALSE)","v":14800},0]
[null,null,"純物質",23,null,{"$f":"VLOOKUP(D781,工作表9!$G$1:$H$142, 2, FALSE)","v":14800},0]
[null,null,"純物質",23,null,{"$f":"VLOOKUP(D782,工作表9!$G$1:$H$142, 2, FALSE)","v":14800},0]
[null,null,"純物質",23,null,{"$f":"VLOOKUP(D783,工作表9!$G$1:$H$142, 2, FALSE)","v":14800},0]
[null,null,"純物質",23,null,{"$f":"VLOOKUP(D784,工作表9!$G$1:$H$142, 2, FALSE)","v":14800},0]
[null,null,"純物質",23,null,{"$f":"VLOOKUP(D785,工作表9!$G$1:$H$142, 2, FALSE)","v":14800},0]
[null,null,"純物質",23,null,{"$f":"VLOOKUP(D786,工作表9!$G$1:$H$142, 2, FALSE)","v":14800},0]
[null,null,"純物質",23,null,{"$f":"VLOOKUP(D787,工作表9!$G$1:$H$142, 2, FALSE)","v":14800},0]
[null,null,"純物質",23,null,{"$f":"VLOOKUP(D788,工作表9!$G$1:$H$142, 2, FALSE)","v":14800},0]
[null,null,"純物質",23,null,{"$f":"VLOOKUP(D789,工作表9!$G$1:$H$142, 2, FALSE)","v":14800},0]
[null,null,"純物質",23,null,{"$f":"VLOOKUP(D790,工作表9!$G$1:$H$142, 2, FALSE)","v":14800},0]
[null,null,"純物質",23,null,{"$f":"VLOOKUP(D791,工作表9!$G$1:$H$142, 2, FALSE)","v":14800},0]
[null,null,"純物質",23,null,{"$f":"VLOOKUP(D792,工作表9!$G$1:$H$142, 2, FALSE)","v":14800},0]
[null,null,"純物質",23,null,{"$f":"VLOOKUP(D793,工作表9!$G$1:$H$142, 2, FALSE)","v":14800},0]
[null,null,"純物質",23,null,{"$f":"VLOOKUP(D794,工作表9!$G$1:$H$142, 2, FALSE)","v":14800},0]
[null,null,"純物質",23,null,{"$f":"VLOOKUP(D795,工作表9!$G$1:$H$142, 2, FALSE)","v":14800},0]
[null,null,"純物質",23,null,{"$f":"VLOOKUP(D796,工作表9!$G$1:$H$142, 2, FALSE)","v":14800},0]
[null,null,"純物質",23,null,{"$f":"VLOOKUP(D797,工作表9!$G$1:$H$142, 2, FALSE)","v":14800},0]
[null,null,"純物質",23,null,{"$f":"VLOOKUP(D798,工作表9!$G$1:$H$142, 2, FALSE)","v":14800},0]
[null,null,"純物質",23,null,{"$f":"VLOOKUP(D799,工作表9!$G$1:$H$142, 2, FALSE)","v":14800},0]
[null,null,"純物質",23,null,{"$f":"VLOOKUP(D800,工作表9!$G$1:$H$142, 2, FALSE)","v":14800},0]
[null,null,"純物質",23,null,{"$f":"VLOOKUP(D801,工作表9!$G$1:$H$142, 2, FALSE)","v":14800},0]
[null,null,"純物質",23,null,{"$f":"VLOOKUP(D802,工作表9!$G$1:$H$142, 2, FALSE)","v":14800},0]
[null,null,"純物質",23,null,{"$f":"VLOOKUP(D803,工作表9!$G$1:$H$142, 2, FALSE)","v":14800},0]
[null,null,"純物質",23,null,{"$f":"VLOOKUP(D804,工作表9!$G$1:$H$142, 2, FALSE)","v":14800},0]
[null,null,"純物質",23,null,{"$f":"VLOOKUP(D805,工作表9!$G$1:$H$142, 2, FALSE)","v":14800},0]
[null,null,"純物質",23,null,{"$f":"VLOOKUP(D806,工作表9!$G$1:$H$142, 2, FALSE)","v":14800},0]
[null,null,"純物質",23,null,{"$f":"VLOOKUP(D807,工作表9!$G$1:$H$142, 2, FALSE)","v":14800},0]
[null,null,"純物質",23,null,{"$f":"VLOOKUP(D808,工作表9!$G$1:$H$142, 2, FALSE)","v":14800},0]
[null,null,"純物質",23,null,{"$f":"VLOOKUP(D809,工作表9!$G$1:$H$142, 2, FALSE)","v":14800},0]
[null,null,"純物質",23,null,{"$f":"VLOOKUP(D810,工作表9!$G$1:$H$142, 2, FALSE)","v":14800},0]
[null,null,"純物質",23,null,{"$f":"VLOOKUP(D811,工作表9!$G$1:$H$142, 2, FALSE)","v":14800},0]
[null,null,"純物質",23,null,{"$f":"VLOOKUP(D812,工作表9!$G$1:$H$142, 2, FALSE)","v":14800},0]
[null,null,"純物質",23,null,{"$f":"VLOOKUP(D813,工作表9!$G$1:$H$142, 2, FALSE)","v":14800},0]
[null,null,"純物質",23,null,{"$f":"VLOOKUP(D814,工作表9!$G$1:$H$142, 2, FALSE)","v":14800},0]
[null,null,"純物質",23,null,{"$f":"VLOOKUP(D815,工作表9!$G$1:$H$142, 2, FALSE)","v":14800},0]
[null,null,"純物質",23,null,{"$f":"VLOOKUP(D816,工作表9!$G$1:$H$142, 2, FALSE)","v":14800},0]
[null,null,"純物質",23,null,{"$f":"VLOOKUP(D817,工作表9!$G$1:$H$142, 2, FALSE)","v":14800},0]
[null,null,"純物質",23,null,{"$f":"VLOOKUP(D818,工作表9!$G$1:$H$142, 2, FALSE)","v":14800},0]
[null,null,"純物質",23,null,{"$f":"VLOOKUP(D819,工作表9!$G$1:$H$142, 2, FALSE)","v":14800},0]
[null,null,"純物質",23,null,{"$f":"VLOOKUP(D820,工作表9!$G$1:$H$142, 2, FALSE)","v":14800},0]
[null,null,"純物質",23,null,{"$f":"VLOOKUP(D821,工作表9!$G$1:$H$142, 2, FALSE)","v":14800},0]
[null,null,"純物質",23,null,{"$f":"VLOOKUP(D822,工作表9!$G$1:$H$142, 2, FALSE)","v":14800},0]
[null,null,"純物質",23,null,{"$f":"VLOOKUP(D823,工作表9!$G$1:$H$142, 2, FALSE)","v":14800},0]
[null,null,"純物質",23,null,{"$f":"VLOOKUP(D824,工作表9!$G$1:$H$142, 2, FALSE)","v":14800},0]
[null,null,"純物質",23,null,{"$f":"VLOOKUP(D825,工作表9!$G$1:$H$142, 2, FALSE)","v":14800},0]
[null,null,"純物質",23,null,{"$f":"VLOOKUP(D826,工作表9!$G$1:$H$142, 2, FALSE)","v":14800},0]
[null,null,"純物質",23,null,{"$f":"VLOOKUP(D827,工作表9!$G$1:$H$142, 2, FALSE)","v":14800},0]
[null,null,"純物質",23,null,{"$f":"VLOOKUP(D828,工作表9!$G$1:$H$142, 2, FALSE)","v":14800},0]
[null,null,"純物質",23,null,{"$f":"VLOOKUP(D829,工作表9!$G$1:$H$142, 2, FALSE)","v":14800},0]
[null,null,"純物質",23,null,{"$f":"VLOOKUP(D830,工作表9!$G$1:$H$142, 2, FALSE)","v":14800},0]
[null,null,"純物質",23,null,{"$f":"VLOOKUP(D831,工作表9!$G$1:$H$142, 2, FALSE)","v":14800},0]
[null,null,"純物質",23,null,{"$f":"VLOOKUP(D832,工作表9!$G$1:$H$142, 2, FALSE)","v":14800},0]
[null,null,"純物質",23,null,{"$f":"VLOOKUP(D833,工作表9!$G$1:$H$142, 2, FALSE)","v":14800},0]
[null,null,"純物質",23,null,{"$f":"VLOOKUP(D834,工作表9!$G$1:$H$142, 2, FALSE)","v":14800},0]
[null,null,"純物質",23,null,{"$f":"VLOOKUP(D835,工作表9!$G$1:$H$142, 2, FALSE)","v":14800},0]
[null,null,"純物質",23,null,{"$f":"VLOOKUP(D836,工作表9!$G$1:$H$142, 2, FALSE)","v":14800},0]
[null,null,"純物質",23,null,{"$f":"VLOOKUP(D837,工作表9!$G$1:$H$142, 2, FALSE)","v":14800},0]
[null,null,"純物質",23,null,{"$f":"VLOOKUP(D838,工作表9!$G$1:$H$142, 2, FALSE)","v":14800},{"$f":"E838*F838","v":0}]
[null,null,"純物質",23,null,{"$f":"VLOOKUP(D839,工作表9!$G$1:$H$142, 2, FALSE)","v":14800},0]
[null,null,"純物質",23,null,{"$f":"VLOOKUP(D840,工作表9!$G$1:$H$142, 2, FALSE)","v":14800},0]
[null,null,"純物質",23,null,{"$f":"VLOOKUP(D841,工作表9!$G$1:$H$142, 2, FALSE)","v":14800},0]
[null,null,"純物質",23,null,{"$f":"VLOOKUP(D842,工作表9!$G$1:$H$142, 2, FALSE)","v":14800},0]
[null,null,"純物質",23,null,{"$f":"VLOOKUP(D843,工作表9!$G$1:$H$142, 2, FALSE)","v":14800},0]
[null,null,"純物質",23,null,{"$f":"VLOOKUP(D844,工作表9!$G$1:$H$142, 2, FALSE)","v":14800},0]
[null,null,"純物質",23,null,{"$f":"VLOOKUP(D845,工作表9!$G$1:$H$142, 2, FALSE)","v":14800},0]
[null,null,"純物質",23,null,{"$f":"VLOOKUP(D846,工作表9!$G$1:$H$142, 2, FALSE)","v":14800},0]
[null,null,"純物質",23,null,{"$f":"VLOOKUP(D847,工作表9!$G$1:$H$142, 2, FALSE)","v":14800},0]
[null,null,"純物質",23,null,{"$f":"VLOOKUP(D848,工作表9!$G$1:$H$142, 2, FALSE)","v":14800},0]
[null,null,"純物質",23,null,{"$f":"VLOOKUP(D849,工作表9!$G$1:$H$142, 2, FALSE)","v":14800},0]
[null,null,"純物質",23,null,{"$f":"VLOOKUP(D850,工作表9!$G$1:$H$142, 2, FALSE)","v":14800},0]
[null,null,"純物質",23,null,{"$f":"VLOOKUP(D851,工作表9!$G$1:$H$142, 2, FALSE)","v":14800},0]
[null,null,"純物質",23,null,{"$f":"VLOOKUP(D852,工作表9!$G$1:$H$142, 2, FALSE)","v":14800},0]
[null,null,"純物質",23,null,{"$f":"VLOOKUP(D853,工作表9!$G$1:$H$142, 2, FALSE)","v":14800},0]
[null,null,"純物質",23,null,{"$f":"VLOOKUP(D854,工作表9!$G$1:$H$142, 2, FALSE)","v":14800},0]
[null,null,"純物質",23,null,{"$f":"VLOOKUP(D855,工作表9!$G$1:$H$142, 2, FALSE)","v":14800},0]
[null,null,"純物質",23,null,{"$f":"VLOOKUP(D856,工作表9!$G$1:$H$142, 2, FALSE)","v":14800},0]
[null,null,"純物質",23,null,{"$f":"VLOOKUP(D857,工作表9!$G$1:$H$142, 2, FALSE)","v":14800},0]
[null,null,"純物質",23,null,{"$f":"VLOOKUP(D858,工作表9!$G$1:$H$142, 2, FALSE)","v":14800},0]
[null,null,"純物質",23,null,{"$f":"VLOOKUP(D859,工作表9!$G$1:$H$142, 2, FALSE)","v":14800},0]
[null,null,"純物質",23,null,{"$f":"VLOOKUP(D860,工作表9!$G$1:$H$142, 2, FALSE)","v":14800},0]
[null,null,"純物質",23,null,{"$f":"VLOOKUP(D861,工作表9!$G$1:$H$142, 2, FALSE)","v":14800},0]
[null,null,"純物質",23,null,{"$f":"VLOOKUP(D862,工作表9!$G$1:$H$142, 2, FALSE)","v":14800},0]
[null,null,"純物質",23,null,{"$f":"VLOOKUP(D863,工作表9!$G$1:$H$142, 2, FALSE)","v":14800},0]
[null,null,"純物質",23,null,{"$f":"VLOOKUP(D864,工作表9!$G$1:$H$142, 2, FALSE)","v":14800},0]
[null,null,"純物質",23,null,{"$f":"VLOOKUP(D865,工作表9!$G$1:$H$142, 2, FALSE)","v":14800},0]
[null,null,"純物質",23,null,{"$f":"VLOOKUP(D866,工作表9!$G$1:$H$142, 2, FALSE)","v":14800},0]
[null,null,"純物質",23,null,{"$f":"VLOOKUP(D867,工作表9!$G$1:$H$142, 2, FALSE)","v":14800},0]
[null,null,"純物質",23,null,{"$f":"VLOOKUP(D868,工作表9!$G$1:$H$142, 2, FALSE)","v":14800},0]
[null,null,"純物質",23,null,{"$f":"VLOOKUP(D869,工作表9!$G$1:$H$142, 2, FALSE)","v":14800},0]
[null,null,"純物質",23,null,{"$f":"VLOOKUP(D870,工作表9!$G$1:$H$142, 2, FALSE)","v":14800},0]
[null,null,"純物質",23,null,{"$f":"VLOOKUP(D871,工作表9!$G$1:$H$142, 2, FALSE)","v":14800},0]
[null,null,"純物質",23,null,{"$f":"VLOOKUP(D872,工作表9!$G$1:$H$142, 2, FALSE)","v":14800},0]
[null,null,"純物質",23,null,{"$f":"VLOOKUP(D873,工作表9!$G$1:$H$142, 2, FALSE)","v":14800},0]
[null,null,"純物質",23,null,{"$f":"VLOOKUP(D874,工作表9!$G$1:$H$142, 2, FALSE)","v":14800},0]
[null,null,"純物質",23,null,{"$f":"VLOOKUP(D875,工作表9!$G$1:$H$142, 2, FALSE)","v":14800},0]
[null,null,"純物質",23,null,{"$f":"VLOOKUP(D876,工作表9!$G$1:$H$142, 2, FALSE)","v":14800},0]
[null,null,"純物質",23,null,{"$f":"VLOOKUP(D877,工作表9!$G$1:$H$142, 2, FALSE)","v":14800},0]
[null,null,"純物質",23,null,{"$f":"VLOOKUP(D878,工作表9!$G$1:$H$142, 2, FALSE)","v":14800},0]
[null,null,"純物質",23,null,{"$f":"VLOOKUP(D879,工作表9!$G$1:$H$142, 2, FALSE)","v":14800},0]
[null,null,"純物質",23,null,{"$f":"VLOOKUP(D880,工作表9!$G$1:$H$142, 2, FALSE)","v":14800},0]
[null,null,"純物質",23,null,{"$f":"VLOOKUP(D881,工作表9!$G$1:$H$142, 2, FALSE)","v":14800},0]
[null,null,"純物質",23,null,{"$f":"VLOOKUP(D882,工作表9!$G$1:$H$142, 2, FALSE)","v":14800},0]
[null,null,"純物質",23,null,{"$f":"VLOOKUP(D883,工作表9!$G$1:$H$142, 2, FALSE)","v":14800},0]
[null,null,"純物質",23,null,{"$f":"VLOOKUP(D884,工作表9!$G$1:$H$142, 2, FALSE)","v":14800},0]
[null,null,"純物質",23,null,{"$f":"VLOOKUP(D885,工作表9!$G$1:$H$142, 2, FALSE)","v":14800},0]
[null,null,"純物質",23,null,{"$f":"VLOOKUP(D886,工作表9!$G$1:$H$142, 2, FALSE)","v":14800},0]
[null,null,"純物質",23,null,{"$f":"VLOOKUP(D887,工作表9!$G$1:$H$142, 2, FALSE)","v":14800},0]
[null,null,"純物質",23,null,{"$f":"VLOOKUP(D888,工作表9!$G$1:$H$142, 2, FALSE)","v":14800},0]
[null,null,"純物質",23,null,{"$f":"VLOOKUP(D889,工作表9!$G$1:$H$142, 2, FALSE)","v":14800},0]
[null,null,"純物質",23,null,{"$f":"VLOOKUP(D890,工作表9!$G$1:$H$142, 2, FALSE)","v":14800},0]
[null,null,"純物質",23,null,{"$f":"VLOOKUP(D891,工作表9!$G$1:$H$142, 2, FALSE)","v":14800},0]
[null,null,"純物質",23,null,{"$f":"VLOOKUP(D892,工作表9!$G$1:$H$142, 2, FALSE)","v":14800},0]
[null,null,"純物質",23,null,{"$f":"VLOOKUP(D893,工作表9!$G$1:$H$142, 2, FALSE)","v":14800},0]
[null,null,"純物質",23,null,{"$f":"VLOOKUP(D894,工作表9!$G$1:$H$142, 2, FALSE)","v":14800},0]
[null,null,"純物質",23,null,{"$f":"VLOOKUP(D895,工作表9!$G$1:$H$142, 2, FALSE)","v":14800},0]
[null,null,"純物質",23,null,{"$f":"VLOOKUP(D896,工作表9!$G$1:$H$142, 2, FALSE)","v":14800},0]
[null,null,"純物質",23,null,{"$f":"VLOOKUP(D897,工作表9!$G$1:$H$142, 2, FALSE)","v":14800},0]
[null,null,"純物質",23,null,{"$f":"VLOOKUP(D898,工作表9!$G$1:$H$142, 2, FALSE)","v":14800},0]
[null,null,"純物質",23,null,{"$f":"VLOOKUP(D899,工作表9!$G$1:$H$142, 2, FALSE)","v":14800},0]
[null,null,"純物質",23,null,{"$f":"VLOOKUP(D900,工作表9!$G$1:$H$142, 2, FALSE)","v":14800},0]
[null,null,"純物質",23,null,{"$f":"VLOOKUP(D901,工作表9!$G$1:$H$142, 2, FALSE)","v":14800},0]
[null,null,"純物質",23,null,{"$f":"VLOOKUP(D902,工作表9!$G$1:$H$142, 2, FALSE)","v":14800},{"$f":"E902*F902","v":0}]
[null,null,"純物質",23,null,{"$f":"VLOOKUP(D903,工作表9!$G$1:$H$142, 2, FALSE)","v":14800},0]
[null,null,"純物質",23,null,{"$f":"VLOOKUP(D904,工作表9!$G$1:$H$142, 2, FALSE)","v":14800},0]
[null,null,"純物質",23,null,{"$f":"VLOOKUP(D905,工作表9!$G$1:$H$142, 2, FALSE)","v":14800},0]
[null,null,"純物質",23,null,{"$f":"VLOOKUP(D906,工作表9!$G$1:$H$142, 2, FALSE)","v":14800},0]
[null,null,"純物質",23,null,{"$f":"VLOOKUP(D907,工作表9!$G$1:$H$142, 2, FALSE)","v":14800},0]
[null,null,"純物質",23,null,{"$f":"VLOOKUP(D908,工作表9!$G$1:$H$142, 2, FALSE)","v":14800},0]
[null,null,"純物質",23,null,{"$f":"VLOOKUP(D909,工作表9!$G$1:$H$142, 2, FALSE)","v":14800},0]
[null,null,"純物質",23,null,{"$f":"VLOOKUP(D910,工作表9!$G$1:$H$142, 2, FALSE)","v":14800},0]
[null,null,"純物質",23,null,{"$f":"VLOOKUP(D911,工作表9!$G$1:$H$142, 2, FALSE)","v":14800},0]
[null,null,"純物質",23,null,{"$f":"VLOOKUP(D912,工作表9!$G$1:$H$142, 2, FALSE)","v":14800},0]
[null,null,"純物質",23,null,{"$f":"VLOOKUP(D913,工作表9!$G$1:$H$142, 2, FALSE)","v":14800},0]
[null,null,"純物質",23,null,{"$f":"VLOOKUP(D914,工作表9!$G$1:$H$142, 2, FALSE)","v":14800},0]
[null,null,"純物質",23,null,{"$f":"VLOOKUP(D915,工作表9!$G$1:$H$142, 2, FALSE)","v":14800},0]
[null,null,"純物質",23,null,{"$f":"VLOOKUP(D916,工作表9!$G$1:$H$142, 2, FALSE)","v":14800},0]
[null,null,"純物質",23,null,{"$f":"VLOOKUP(D917,工作表9!$G$1:$H$142, 2, FALSE)","v":14800},0]
[null,null,"純物質",23,null,{"$f":"VLOOKUP(D918,工作表9!$G$1:$H$142, 2, FALSE)","v":14800},0]
[null,null,"純物質",23,null,{"$f":"VLOOKUP(D919,工作表9!$G$1:$H$142, 2, FALSE)","v":14800},0]
[null,null,"純物質",23,null,{"$f":"VLOOKUP(D920,工作表9!$G$1:$H$142, 2, FALSE)","v":14800},0]
[null,null,"純物質",23,null,{"$f":"VLOOKUP(D921,工作表9!$G$1:$H$142, 2, FALSE)","v":14800},0]
[null,null,"純物質",23,null,{"$f":"VLOOKUP(D922,工作表9!$G$1:$H$142, 2, FALSE)","v":14800},0]
[null,null,"純物質",23,null,{"$f":"VLOOKUP(D923,工作表9!$G$1:$H$142, 2, FALSE)","v":14800},0]
[null,null,"純物質",23,null,{"$f":"VLOOKUP(D924,工作表9!$G$1:$H$142, 2, FALSE)","v":14800},0]
[null,null,"純物質",23,null,{"$f":"VLOOKUP(D925,工作表9!$G$1:$H$142, 2, FALSE)","v":14800},0]
[null,null,"純物質",23,null,{"$f":"VLOOKUP(D926,工作表9!$G$1:$H$142, 2, FALSE)","v":14800},0]
[null,null,"純物質",23,null,{"$f":"VLOOKUP(D927,工作表9!$G$1:$H$142, 2, FALSE)","v":14800},0]
[null,null,"純物質",23,null,{"$f":"VLOOKUP(D928,工作表9!$G$1:$H$142, 2, FALSE)","v":14800},0]
[null,null,"純物質",23,null,{"$f":"VLOOKUP(D929,工作表9!$G$1:$H$142, 2, FALSE)","v":14800},0]
[null,null,"純物質",23,null,{"$f":"VLOOKUP(D930,工作表9!$G$1:$H$142, 2, FALSE)","v":14800},0]
[null,null,"純物質",23,null,{"$f":"VLOOKUP(D931,工作表9!$G$1:$H$142, 2, FALSE)","v":14800},0]
[null,null,"純物質",23,null,{"$f":"VLOOKUP(D932,工作表9!$G$1:$H$142, 2, FALSE)","v":14800},0]
[null,null,"純物質",23,null,{"$f":"VLOOKUP(D933,工作表9!$G$1:$H$142, 2, FALSE)","v":14800},0]
[null,null,"純物質",23,null,{"$f":"VLOOKUP(D934,工作表9!$G$1:$H$142, 2, FALSE)","v":14800},0]
[null,null,"純物質",23,null,{"$f":"VLOOKUP(D935,工作表9!$G$1:$H$142, 2, FALSE)","v":14800},0]
[null,null,"純物質",23,null,{"$f":"VLOOKUP(D936,工作表9!$G$1:$H$142, 2, FALSE)","v":14800},0]
[null,null,"純物質",23,null,{"$f":"VLOOKUP(D937,工作表9!$G$1:$H$142, 2, FALSE)","v":14800},0]
[null,null,"純物質",23,null,{"$f":"VLOOKUP(D938,工作表9!$G$1:$H$142, 2, FALSE)","v":14800},0]
[null,null,"純物質",23,null,{"$f":"VLOOKUP(D939,工作表9!$G$1:$H$142, 2, FALSE)","v":14800},0]
[null,null,"純物質",23,null,{"$f":"VLOOKUP(D940,工作表9!$G$1:$H$142, 2, FALSE)","v":14800},0]
[null,null,"純物質",23,null,{"$f":"VLOOKUP(D941,工作表9!$G$1:$H$142, 2, FALSE)","v":14800},0]
[null,null,"純物質",23,null,{"$f":"VLOOKUP(D942,工作表9!$G$1:$H$142, 2, FALSE)","v":14800},0]
[null,null,"純物質",23,null,{"$f":"VLOOKUP(D943,工作表9!$G$1:$H$142, 2, FALSE)","v":14800},0]
[null,null,"純物質",23,null,{"$f":"VLOOKUP(D944,工作表9!$G$1:$H$142, 2, FALSE)","v":14800},0]
[null,null,"純物質",23,null,{"$f":"VLOOKUP(D945,工作表9!$G$1:$H$142, 2, FALSE)","v":14800},0]
[null,null,"純物質",23,null,{"$f":"VLOOKUP(D946,工作表9!$G$1:$H$142, 2, FALSE)","v":14800},0]
[null,null,"純物質",23,null,{"$f":"VLOOKUP(D947,工作表9!$G$1:$H$142, 2, FALSE)","v":14800},0]
[null,null,"純物質",23,null,{"$f":"VLOOKUP(D948,工作表9!$G$1:$H$142, 2, FALSE)","v":14800},0]
[null,null,"純物質",23,null,{"$f":"VLOOKUP(D949,工作表9!$G$1:$H$142, 2, FALSE)","v":14800},0]
[null,null,"純物質",23,null,{"$f":"VLOOKUP(D950,工作表9!$G$1:$H$142, 2, FALSE)","v":14800},0]
[null,null,"純物質",23,null,{"$f":"VLOOKUP(D951,工作表9!$G$1:$H$142, 2, FALSE)","v":14800},0]
[null,null,"純物質",23,null,{"$f":"VLOOKUP(D952,工作表9!$G$1:$H$142, 2, FALSE)","v":14800},0]
[null,null,"純物質",23,null,{"$f":"VLOOKUP(D953,工作表9!$G$1:$H$142, 2, FALSE)","v":14800},0]
[null,null,"純物質",23,null,{"$f":"VLOOKUP(D954,工作表9!$G$1:$H$142, 2, FALSE)","v":14800},0]
[null,null,"純物質",23,null,{"$f":"VLOOKUP(D955,工作表9!$G$1:$H$142, 2, FALSE)","v":14800},0]
[null,null,"純物質",23,null,{"$f":"VLOOKUP(D956,工作表9!$G$1:$H$142, 2, FALSE)","v":14800},0]
[null,null,"純物質",23,null,{"$f":"VLOOKUP(D957,工作表9!$G$1:$H$142, 2, FALSE)","v":14800},0]
[null,null,"純物質",23,null,{"$f":"VLOOKUP(D958,工作表9!$G$1:$H$142, 2, FALSE)","v":14800},0]
[null,null,"純物質",23,null,{"$f":"VLOOKUP(D959,工作表9!$G$1:$H$142, 2, FALSE)","v":14800},0]
[null,null,"純物質",23,null,{"$f":"VLOOKUP(D960,工作表9!$G$1:$H$142, 2, FALSE)","v":14800},0]
[null,null,"純物質",23,null,{"$f":"VLOOKUP(D961,工作表9!$G$1:$H$142, 2, FALSE)","v":14800},0]
[null,null,"純物質",23,null,{"$f":"VLOOKUP(D962,工作表9!$G$1:$H$142, 2, FALSE)","v":14800},0]
[null,null,"純物質",23,null,{"$f":"VLOOKUP(D963,工作表9!$G$1:$H$142, 2, FALSE)","v":14800},0]
[null,null,"純物質",23,null,{"$f":"VLOOKUP(D964,工作表9!$G$1:$H$142, 2, FALSE)","v":14800},0]
[null,null,"純物質",23,null,{"$f":"VLOOKUP(D965,工作表9!$G$1:$H$142, 2, FALSE)","v":14800},0]
[null,null,"純物質",23,null,{"$f":"VLOOKUP(D966,工作表9!$G$1:$H$142, 2, FALSE)","v":14800},{"$f":"E966*F966","v":0}]
[null,null,"純物質",23,null,{"$f":"VLOOKUP(D967,工作表9!$G$1:$H$142, 2, FALSE)","v":14800},0]
[null,null,"純物質",23,null,{"$f":"VLOOKUP(D968,工作表9!$G$1:$H$142, 2, FALSE)","v":14800},0]
[null,null,"純物質",23,null,{"$f":"VLOOKUP(D969,工作表9!$G$1:$H$142, 2, FALSE)","v":14800},0]
[null,null,"純物質",23,null,{"$f":"VLOOKUP(D970,工作表9!$G$1:$H$142, 2, FALSE)","v":14800},0]
[null,null,"純物質",23,null,{"$f":"VLOOKUP(D971,工作表9!$G$1:$H$142, 2, FALSE)","v":14800},0]
[null,null,"純物質",23,null,{"$f":"VLOOKUP(D972,工作表9!$G$1:$H$142, 2, FALSE)","v":14800},0]
[null,null,"純物質",23,null,{"$f":"VLOOKUP(D973,工作表9!$G$1:$H$142, 2, FALSE)","v":14800},0]
[null,null,"純物質",23,null,{"$f":"VLOOKUP(D974,工作表9!$G$1:$H$142, 2, FALSE)","v":14800},0]
[null,null,"純物質",23,null,{"$f":"VLOOKUP(D975,工作表9!$G$1:$H$142, 2, FALSE)","v":14800},0]
[null,null,"純物質",23,null,{"$f":"VLOOKUP(D976,工作表9!$G$1:$H$142, 2, FALSE)","v":14800},0]
[null,null,"純物質",23,null,{"$f":"VLOOKUP(D977,工作表9!$G$1:$H$142, 2, FALSE)","v":14800},0]
[null,null,"純物質",23,null,{"$f":"VLOOKUP(D978,工作表9!$G$1:$H$142, 2, FALSE)","v":14800},0]
[null,null,"純物質",23,null,{"$f":"VLOOKUP(D979,工作表9!$G$1:$H$142, 2, FALSE)","v":14800},0]
[null,null,"純物質",23,null,{"$f":"VLOOKUP(D980,工作表9!$G$1:$H$142, 2, FALSE)","v":14800},0]
[null,null,"純物質",23,null,{"$f":"VLOOKUP(D981,工作表9!$G$1:$H$142, 2, FALSE)","v":14800},0]
[null,null,"純物質",23,null,{"$f":"VLOOKUP(D982,工作表9!$G$1:$H$142, 2, FALSE)","v":14800},0]
[null,null,"純物質",23,null,{"$f":"VLOOKUP(D983,工作表9!$G$1:$H$142, 2, FALSE)","v":14800},0]
[null,null,"純物質",23,null,{"$f":"VLOOKUP(D984,工作表9!$G$1:$H$142, 2, FALSE)","v":14800},0]
[null,null,"純物質",23,null,{"$f":"VLOOKUP(D985,工作表9!$G$1:$H$142, 2, FALSE)","v":14800},0]
[null,null,"純物質",23,null,{"$f":"VLOOKUP(D986,工作表9!$G$1:$H$142, 2, FALSE)","v":14800},0]
[null,null,"純物質",23,null,{"$f":"VLOOKUP(D987,工作表9!$G$1:$H$142, 2, FALSE)","v":14800},0]
[null,null,"純物質",23,null,{"$f":"VLOOKUP(D988,工作表9!$G$1:$H$142, 2, FALSE)","v":14800},0]
[null,null,"純物質",23,null,{"$f":"VLOOKUP(D989,工作表9!$G$1:$H$142, 2, FALSE)","v":14800},0]
[null,null,"純物質",23,null,{"$f":"VLOOKUP(D990,工作表9!$G$1:$H$142, 2, FALSE)","v":14800},0]
[null,null,"純物質",23,null,{"$f":"VLOOKUP(D991,工作表9!$G$1:$H$142, 2, FALSE)","v":14800},0]
[null,null,"純物質",23,null,{"$f":"VLOOKUP(D992,工作表9!$G$1:$H$142, 2, FALSE)","v":14800},0]
[null,null,"純物質",23,null,{"$f":"VLOOKUP(D993,工作表9!$G$1:$H$142, 2, FALSE)","v":14800},0]
[null,null,"純物質",23,null,{"$f":"VLOOKUP(D994,工作表9!$G$1:$H$142, 2, FALSE)","v":14800},0]
[null,null,"純物質",23,null,{"$f":"VLOOKUP(D995,工作表9!$G$1:$H$142, 2, FALSE)","v":14800},0]
[null,null,"純物質",23,null,{"$f":"VLOOKUP(D996,工作表9!$G$1:$H$142, 2, FALSE)","v":14800},0]
[null,null,"純物質",23,null,{"$f":"VLOOKUP(D997,工作表9!$G$1:$H$142, 2, FALSE)","v":14800},0]
[null,null,"純物質",23,null,{"$f":"VLOOKUP(D998,工作表9!$G$1:$H$142, 2, FALSE)","v":14800},0]
[null,null,"純物質",23,null,{"$f":"VLOOKUP(D999,工作表9!$G$1:$H$142, 2, FALSE)","v":14800},0]
[null,null,"純物質",23,null,{"$f":"VLOOKUP(D1000,工作表9!$G$1:$H$142, 2, FALSE)","v":14800},0]
["備註："]

{"sheet":"使用用途申報表","index":7,"n_rows":30,"n_cols":7,"rows_kept":30,"cut":false,"hidden":false,"merged":[[0,0,0,1],[1,0,3,0],[1,1,3,1],[1,2,3,2],[1,3,3,3],[1,4,3,4]]}
["申報年份",null,"          109 - 111     年"]
["編號","使用用途（請於下拉式選單點選，若屬其他用途，請先於附件、使用用途列表中填寫，即可在此下拉式選單出現）","冷媒編號\n請填寫號碼即可，毋須填寫R-","109-111年總採購重量（公噸）","物質類別","GWP*","公噸CO2eq"]
[null,null,null,null,null,null,"C=A*B"]
[null,null,null,null,null,"B"]
["範例 1","製造自動販賣機填充冷媒","134a",50,{"$f":"VLOOKUP(C5,工作表9!$G$1:$I$136, 3,  FALSE)","v":"純物質"},{"$f":"VLOOKUP(C5,工作表9!$G$1:$H$142, 2, FALSE)","v":1430},{"$f":"D5*F5","v":71500}]
["範例 2","製造飲水機填充冷媒","134a",80,{"$f":"VLOOKUP(C6,工作表9!$G$1:$I$136, 3,  FALSE)","v":"純物質"},{"$f":"VLOOKUP(C6,工作表9!$G$1:$H$142, 2, FALSE)","v":1430},{"$f":"D6*F6","v":114400}]
["範例 3","製造除濕機填充冷媒","134a",200,{"$f":"VLOOKUP(C7,工作表9!$G$1:$I$136, 3,  FALSE)","v":"純物質"},{"$f":"VLOOKUP(C7,工作表9!$G$1:$H$142, 2, FALSE)","v":1430},286000]
["範例 4","醫療設備應填充HFCs者","134a",150,{"$f":"VLOOKUP(C8,工作表9!$G$1:$I$136, 3,  FALSE)","v":"純物質"},{"$f":"VLOOKUP(C8,工作表9!$G$1:$H$142, 2, FALSE)","v":1430},214500]
["範例 5","其他：（請自行於附件、使用用途列表中填寫）","134a",null,{"$f":"VLOOKUP(C9,工作表9!$G$1:$I$136, 3,  FALSE)","v":"純物質"},{"$f":"VLOOKUP(C9,工作表9!$G$1:$H$142, 2, FALSE)","v":1430},0]
[null,"使用用途列表","134a",null,{"$f":"VLOOKUP(C10,工作表9!$G$1:$I$136, 3,  FALSE)","v":"純物質"},{"$f":"VLOOKUP(C10,工作表9!$G$1:$H$142, 2, FALSE)","v":1430},0]
[null,"使用用途列表","134a",null,{"$f":"VLOOKUP(C11,工作表9!$G$1:$I$136, 3,  FALSE)","v":"純物質"},{"$f":"VLOOKUP(C11,工作表9!$G$1:$H$142, 2, FALSE)","v":1430},0]
[null,"使用用途列表","134a",null,{"$f":"VLOOKUP(C12,工作表9!$G$1:$I$136, 3,  FALSE)","v":"純物質"},{"$f":"VLOOKUP(C12,工作表9!$G$1:$H$142, 2, FALSE)","v":1430},0]
[null,"使用用途列表","134a",null,{"$f":"VLOOKUP(C13,工作表9!$G$1:$I$136, 3,  FALSE)","v":"純物質"},{"$f":"VLOOKUP(C13,工作表9!$G$1:$H$142, 2, FALSE)","v":1430},0]
[null,"使用用途列表","134a",null,{"$f":"VLOOKUP(C14,工作表9!$G$1:$I$136, 3,  FALSE)","v":"純物質"},{"$f":"VLOOKUP(C14,工作表9!$G$1:$H$142, 2, FALSE)","v":1430},0]
[null,"使用用途列表","134a",null,{"$f":"VLOOKUP(C15,工作表9!$G$1:$I$136, 3,  FALSE)","v":"純物質"},{"$f":"VLOOKUP(C15,工作表9!$G$1:$H$142, 2, FALSE)","v":1430},0]
[null,"使用用途列表","134a",null,{"$f":"VLOOKUP(C16,工作表9!$G$1:$I$136, 3,  FALSE)","v":"純物質"},{"$f":"VLOOKUP(C16,工作表9!$G$1:$H$142, 2, FALSE)","v":1430},0]
[null,"使用用途列表","134a",null,{"$f":"VLOOKUP(C17,工作表9!$G$1:$I$136, 3,  FALSE)","v":"純物質"},{"$f":"VLOOKUP(C17,工作表9!$G$1:$H$142, 2, FALSE)","v":1430},0]
[null,"使用用途列表","134a",null,{"$f":"VLOOKUP(C18,工作表9!$G$1:$I$136, 3,  FALSE)","v":"純物質"},{"$f":"VLOOKUP(C18,工作表9!$G$1:$H$142, 2, FALSE)","v":1430},0]
[null,"使用用途列表","134a",null,{"$f":"VLOOKUP(C19,工作表9!$G$1:$I$136, 3,  FALSE)","v":"純物質"},{"$f":"VLOOKUP(C19,工作表9!$G$1:$H$142, 2, FALSE)","v":1430},0]
[null,"使用用途列表","134a",null,{"$f":"VLOOKUP(C20,工作表9!$G$1:$I$136, 3,  FALSE)","v":"純物質"},{"$f":"VLOOKUP(C20,工作表9!$G$1:$H$142, 2, FALSE)","v":1430},0]
[null,"使用用途列表","134a",null,{"$f":"VLOOKUP(C21,工作表9!$G$1:$I$136, 3,  FALSE)","v":"純物質"},{"$f":"VLOOKUP(C21,工作表9!$G$1:$H$142, 2, FALSE)","v":1430},0]
[null,"使用用途列表","134a",null,{"$f":"VLOOKUP(C22,工作表9!$G$1:$I$136, 3,  FALSE)","v":"純物質"},{"$f":"VLOOKUP(C22,工作表9!$G$1:$H$142, 2, FALSE)","v":1430},0]
[null,"使用用途列表","134a",null,{"$f":"VLOOKUP(C23,工作表9!$G$1:$I$136, 3,  FALSE)","v":"純物質"},{"$f":"VLOOKUP(C23,工作表9!$G$1:$H$142, 2, FALSE)","v":1430},0]
[null,"使用用途列表","134a",null,{"$f":"VLOOKUP(C24,工作表9!$G$1:$I$136, 3,  FALSE)","v":"純物質"},{"$f":"VLOOKUP(C24,工作表9!$G$1:$H$142, 2, FALSE)","v":1430},0]
[null,"使用用途列表","134a",null,{"$f":"VLOOKUP(C25,工作表9!$G$1:$I$136, 3,  FALSE)","v":"純物質"},{"$f":"VLOOKUP(C25,工作表9!$G$1:$H$142, 2, FALSE)","v":1430},0]
[null,"使用用途列表","134a",null,{"$f":"VLOOKUP(C26,工作表9!$G$1:$I$136, 3,  FALSE)","v":"純物質"},{"$f":"VLOOKUP(C26,工作表9!$G$1:$H$142, 2, FALSE)","v":1430},0]
[null,"使用用途列表","134a",null,{"$f":"VLOOKUP(C27,工作表9!$G$1:$I$136, 3,  FALSE)","v":"純物質"},{"$f":"VLOOKUP(C27,工作表9!$G$1:$H$142, 2, FALSE)","v":1430},0]
[null,"使用用途列表","134a",null,{"$f":"VLOOKUP(C28,工作表9!$G$1:$I$136, 3,  FALSE)","v":"純物質"},{"$f":"VLOOKUP(C28,工作表9!$G$1:$H$142, 2, FALSE)","v":1430},0]
[null,"使用用途列表","134a",null,{"$f":"VLOOKUP(C29,工作表9!$G$1:$I$136, 3,  FALSE)","v":"純物質"},{"$f":"VLOOKUP(C29,工作表9!$G$1:$H$142, 2, FALSE)","v":1430},0]
[null,"使用用途列表","134a",null,{"$f":"VLOOKUP(C30,工作表9!$G$1:$I$136, 3,  FALSE)","v":"純物質"},{"$f":"VLOOKUP(C30,工作表9!$G$1:$H$142, 2, FALSE)","v":1430},0]

{"sheet":"附件、使用用途列表","index":8,"n_rows":10,"n_cols":1,"rows_kept":10,"cut":false,"hidden":false,"merged":[]}
["使用用途列表"]
["製造噴霧罐填充HFCs作為推進劑"]
["製造自動販賣機填充冷媒"]
["製造飲水機填充冷媒"]
["醫療設備應填充HFCs者"]
["其他：（請自行於附件、使用用途列表中填寫）"]
["其他："]
["其他："]
["其他："]
["其他："]

{"sheet":"附件、冷媒GWP值","index":9,"n_rows":154,"n_cols":6,"rows_kept":154,"cut":false,"hidden":false,"merged":[[1,1,2,1],[1,2,2,2],[1,3,2,3]]}
["附件、冷媒GWP值"]
[null,"化學名","化學式","工業名稱","溫暖化潛勢"]
[null,null,null,null,"GWP值"]
["純物質","二氟一氯甲烷","CHF2Cl","HCFC-22",1810]
["純物質","三氟二氯乙烷","CHCl2CF3","HCFC-123",77]
["純物質","四氟一氯乙烷","CHClFCF3","HCFC-124",609]
["純物質","一氟二氯乙烷","CH3CFCl2","HCFC-141b",725]
["純物質","二氟一氯乙烷","CH3CF2Cl","HCFC-142b",2310]
["純物質","五氟二氯丙烷","CF3CF2CHCl2","HCFC-225ca",122]
["純物質","五氟二氯丙烷","CF2ClCF2CHClF","HCFC-225cb",595]
["純物質","二氟甲烷","CH2F2","HFC-32",675]
["純物質","氟甲烷","CH3F","HFC-41",92]
["純物質","五氟乙烷","CHF2CF3","HFC-125",3500]
["純物質","1,1,2,2-四氟乙烷","CHF2CHF2","HFC-134",1100]
["純物質","1,1,1,2-四氟乙烷","CH2FCF3","HFC-134a",1430]
["純物質","1,1,2-三氟乙烷","CH2FCHF2","HFC-143",353]
["純物質","1,1,1-三氟乙烷","CH3CF3","HFC-143a",4470]
["純物質","1,2-二氟乙烷","CH2FCH2F","HFC-152",53]
["純物質","1,1-二氟乙烷","CH3CHF2","HFC-152a",124]
["純物質","1,1,1,2,3,3,3-七氟丙烷","CF3CHFCF3","HFC-227ea",3220]
["純物質","1,1,1,2,2,3-六氟丙烷","CH2FCF2CF3","HFC-236cb",1340]
["純物質","1,1,1,2,3,3-六氟丙烷","CHF2CHFCF3","HFC-236ea",1370]
["純物質","1,1,1,3,3,3-六氟丙烷","CF3CH2CF3","HFC-236fa",9810]
["純物質","1,1,2,2,3-五氟丙烷","CH2FCF2CHF2","HFC-245ca",693]
["純物質","1,1,1,3,3-五氟丙烷","CHF2CH2CF3","HFC-245fa",1030]
["純物質","1,1,1,3,3-五氟丁烷","CF3CH2CF2CH3","HFC-365mfc",794]
["純物質","1,1,1,2,2,3,4,5,5,5-十氟戊烷","CF3CHFCHFCF2CF3","HFC-43-10mee",1640]
["純物質","三氟甲烷","CHF3","HFC-23",14800]
[null,null,null,null,"溫暖化潛勢"]
[null,null,null,"工業名稱","GWP值","混合物種類及其混合比例"]
["混合物",null,null,"401A",1182.48,"R-22/152a/124 (53.0/13.0/34.0)"]
["混合物",null,null,"401B",1288.26,"R-22/152a/124 (61.0/11.0/28.0"]
["混合物",null,null,"401C",932.58000000000015,"R-22/152a/124 (33.0/15.0/52.0)"]
["混合物",null,null,"402A",2787.8,"R-125/290/22 (60.0/2.0/38.0)"]
["混合物",null,null,"402B",2416,"R-125/290/22 (38.0/2.0/60.0)"]
["混合物",null,null,"404A",3921.6000000000004,"R-125/143a/134a (44.0/52.0/4.0)"]
["混合物",null,null,"405A",5327.73,"R-22/152a/142b/C318 (45.0/7.0/5.5/42.5)"]
["混合物",null,null,"407A",2107,"R-32/125/134a (20.0/40.0/40.0)"]
["混合物",null,null,"407B",2803.5,"R-32/125/134a (10.0/70.0/20.0)"]
["混合物",null,null,"407C",1773.85,"R-32/125/134a (23.0/25.0/52.0)"]
["混合物",null,null,"407D",1627.25,"R-32/125/134a (15.0/15.0/70.0)"]
["混合物",null,null,"407E",1551.75,"R-32/125/134a (25.0/15.0/60.0)"]
["混合物",null,null,"407F",1824.5,"R-32/125/134a (30.0/30.0/40.0)"]
["混合物",null,null,"407G",1462.875,"R-32/125/134a (2.5/2.5/95.0)"]
["混合物",null,null,"407H",1495.125,"R-32/125/134a (32.5/15.0/52.5)"]
["混合物",null,null,"407I",1458.7249999999999,"R-32/125/134a (19.5/8.5/72.0)"]
["混合物",null,null,"408A",3151.9,"R-125/143a/22 (7.0/46.0/47.0)"]
["混合物",null,null,"410A",2087.5,"R-32/125 (50.0/50.0)"]
["混合物",null,null,"410B",2228.75,"R-32/125 (45.0/55.0)"]
["混合物",null,null,"411A",1597.39,"R-1270/22/152a) (1.5/87.5/11.0)"]
["混合物",null,null,"411B",1710.55,"R-1270/22/152a (3.0/94.0/3.0)"]
["混合物",null,null,"411C",1730.4099999999999,"HC-1270/HCFC-22/HFC-152a (3.0/95.5/1.5)"]
["混合物",null,null,"413A",2053.1,"R-218/134a/600a (9.0/88.0/3.0)"]
["混合物",null,null,"415A",1506.5199999999998,"R-22/152a (82.0/18.0)"]
["混合物",null,null,"415B",545.5,"R-22/152a (25.0/75.0)"]
["混合物",null,null,"416A",1084.2549999999999,"R-134a/124/600 (59.0/39.5/1.5)"]
["混合物",null,null,"417A",2346,"R-125/134a/600 (46.6/50.0/3.4)"]
["混合物",null,null,"417B",3026.69,"R-125/134a/600 (79.0/18.3/2.7)"]
["混合物",null,null,"417C",1809.3400000000001,"R-125/134a/600 (19.5/78.8/1.7)"]
["混合物",null,null,"418A",1740.6999999999998,"R-290/22/152a (1.5/96.0/2.5)"]
["混合物",null,null,"419A",2966.7,"R-125/134a/E170 (77.0/19.0/4.0)"]
["混合物",null,null,"419B",2383.9,"R-125/134a/E170 (48.5/48.0/3.5)"]
["混合物",null,null,"420A",1535.6000000000001,"R-134a/142b (88.0/12.0)"]
["混合物",null,null,"421A",2630.6,"R-125/134a (58.0/42.0)"]
["混合物",null,null,"421B",3189.5,"R-125/134a (85.0/15.0)"]
["混合物",null,null,"422A",3142.95,"R-125/134a/600a (85.1/11.5/3.4)"]
["混合物",null,null,"422B",2525.6000000000004,"R-125/134a/600a (55.0/42.0/3.0)"]
["混合物",null,null,"422C",3084.5,"R-125/134a/600a (82.0/15.0/3.0)"]
["混合物",null,null,"422D",2728.95,"R-125/134a/600a (65.1/31.5/3.4)"]
["混合物",null,null,"422E",2591.9899999999998,"R-125/134a/600a (58.0/39.3/2.7)"]
["混合物",null,null,"423A",2280.25,"134a/227ea (52.5/47.5)"]
["混合物",null,null,"424A",2439.6,"R-125/134a/600a/600/601a (50.5/47.0/0.9/1.0/0.6)"]
["混合物",null,null,"425A",1505.125,"R-32/134a/227ea (18.5/69.5/12)"]
["混合物",null,null,"426A",1508.4,"R-125/134a/600/601a (5.1/93.0/1.3/0.6)"]
["混合物",null,null,"427A",2138.25,"R-32/125/143a/134a (15.0/25.0/10.0/50.0)"]
["混合物",null,null,"427C",2062.75,"R-32/125/143a/134a (25.0/25.0/10.0/40.0)"]
["混合物",null,null,"428A",3606.5,"R-125/143a/290/600a (77.5/20.0/0.6/1.9)"]
["混合物",null,null,"429A",12.4,"R-E170/152a/600a (60.0/10.0/30.0)"]
["混合物",null,null,"430A",94.24,"R-152a/600a (76.0/24.0)"]
["混合物",null,null,"431A",35.96,"R-290/152a (71.0/29.0)"]
["混合物",null,null,"434A",3245.4,"R-125/143a/134a/600a (63.2/18.0/16.0/2.8)"]
["混合物",null,null,"435A",24.8,"R-E170/152a (80.0/20.0)"]
["混合物",null,null,"437A",1805.05,"R-125/134a/600/601 (19.5/78.5/1.4/0.6)"]
["混合物",null,null,"438A",2264.4349999999999,"R-32/125/134a/600/601a (8.5/45.0/44.2/1.7/0.6)"]
["混合物",null,null,"439A",1982.5,"R-32/125/600a (50.0/47.0/3.0)"]
["混合物",null,null,"440A",144.15199999999999,"R-290/134a/152a (0.6/1.6/97.8)"]
["混合物",null,null,"442A",1887.97,"R-32/125/134a/152a/227ea (31.0/31.0/30.0/3.0/5.0)"]
["混合物",null,null,"444A",87.2,"R-32/152a/1234ze(E) (12.0/5.0/83.0)"]
["混合物",null,null,"444B",292.52499999999998,"R-32/152a/1234ze(E)  (41.5/10.0/48.5)"]
["混合物",null,null,"445A",128.69999999999999,"R-744/134a/1234ze(E) (6.0/9.0/85.0)"]
["混合物",null,null,"446A",459.00000000000006,"R-32/1234ze(E)/600 (68.0/29.0/3.0)"]
["混合物",null,null,"447A",581.50000000000011,"R-32/125/1234ze(E) (68.0/3.5/28.5)"]
["混合物",null,null,"447B",739,"R-32/125/1234ze (E) (68.0/8.0/24.0)"]
["混合物",null,null,"448A",1385.8,"R-32/125/1234yf/134a/1234ze(E) (26.0/26.0/20.0/21.0/7.0)"]
["混合物",null,null,"448B",1320.05,"R-32/125/1234yf/134a/1234ze(E) (21.0/21.0/20.0/31.0/7.0)"]
["混合物",null,null,"449A",1396.0350000000001,"R-32 /125 /1234yf /134a (24.3/24.7/25.3/25.7)"]
["混合物",null,null,"449B",1410.99,"R-32/125/1234yf/134a (25.2/24.3/23.2/27.3)"]
["混合物",null,null,"449C",1249.7,"R-32/125/1234yf/134a (20.0/20.0/31.0/29.0)"]
["混合物",null,null,"450A",600.6,"R-134a/1234ze(E) (42.0/58.0)"]
["混合物",null,null,"451A",145.85999999999999,"R-1234yf/134a (89.8/10.2)"]
["混合物",null,null,"451B",160.16,"R-1234yf/134a (88.8/11.2)"]
["混合物",null,null,"452A",2139.25,"R-32/125/1234yf (11.0/59.0/30.0)"]
["混合物",null,null,"452B",697.25,"R-32/125/1234yf (67.0/7.0/26.0)"]
["混合物",null,null,"452C",2219.375,"R-32/125/1234yf (12.5/61.0/26.5)"]
["混合物",null,null,"453A",1765.3400000000001,"R-32/125/134a/227ea/600/601a (20.0/20.0/53.8/5.0/0.6/0.6)"]
["混合物",null,null,"454A",236.24999999999997,"R-32/1234yf (35.0/65.0)"]
["混合物",null,null,"454B",465.07499999999999,"R-32/1234yf (68.9/31.1)"]
["混合物",null,null,"454C",145.125,"R-32/1234yf (21.5/78.5)"]
["混合物",null,null,"455A",145.125,"R-744/32/1234yf (3.0/21.5/75.5)"]
["混合物",null,null,"456A",684,"R-32/134a/1234ze(E) (6.0/45.0/49.0)"]
["混合物",null,null,"457A",136.38,"R-32/1234yf/152a (18.0/70.0/12.0)"]
["混合物",null,null,"457B",248.64999999999998,"R-32/1234yf/152a (35.0/55.0/10.0)"]
["混合物",null,null,"458A",1649.9549999999999,"R-32/125/134a/227ea/236fa (20.5/4.0/61.4/13.5/0.6)"]
["混合物",null,null,"459A",459.00000000000006,"R-32/1234yf/1234ze(E) (68.0/26.0/6.0)"]
["混合物",null,null,"459B",141.75,"LTR 11: R-32/1234yf/1234ze(E) (21.0/69.0/10.0)"]
["混合物",null,null,"460A",2101.1999999999998,"LTR 10: R-32/125/134a/1234ze(E) (12.0/52.0/14.0/22.0)"]
["混合物",null,null,"460B",1350,"LTR4X10: R-32/125/134a/1234ze(E) (28.0/25.0/20.0/27.0)"]
["混合物",null,null,"460C",762.17500000000007,"R-32/125/134a/1234ze(E) (2.5/2.5/46.0/49.0)"]
["混合物",null,null,"461A",2767.1000000000004,"R-125/143a/134a/227ea/600a (55.0/5.0/32.0/5.0/3.0)"]
["混合物",null,null,"462A",2249.35,"R-32/125/143a/134a/600 (9.0/42.0/2.0/44.0/3.0)"]
["混合物",null,null,"463A",1493.2,"R-744/32/125/1234yf/134a (6.0/36.0/30.0/14.0/14.0)"]
["混合物",null,null,"464A",1320.45,"R-32/125/1234ze(E)/227ea (27.0/27.0/40.0/6.0)"]
["混合物",null,null,"465A",141.75,"R-32/290/1234yf (21.0/7.9/71.1)"]
["混合物",null,null,"466A",733.25,"R-32/125/131I (49.0/11.5/39.5)"]
["混合物",null,null,"467A",1358.82,"R-32/125/134a/600a (22.0/5.0/72.4/0.6)"]
["混合物",null,null,"468A",145.125,"R-1132a/32/1234yf (3.5/21.5/75.0)"]
["混合物",null,null,"469A",1356.875,"R-744/32/125 (35.0/32.5/32.5)"]
["混合物",null,null,"470A",976.45,"R-744/32/125/134a/1234ze(E)/227ea (10.0/17.0/19.0/7.0/44.0/3.0)"]
["混合物",null,null,"470B",748.42499999999995,"R-744/32/125/134a/1234ze(E)/227ea (10.0/11.5/11.5/3.0/57.0/7.0)"]
["混合物",null,null,"471A",138.45999999999998,"R-1234ze(E)/227ea/1336mzz(E) (78.7/4.3/17.0)"]
["混合物",null,null,"472A",352.7,"R-744/32/134a (69.0/12.0/19.0)"]
["混合物",null,null,"473A",1830,"R-1132a/23/744/125 (20.0/10.0/60.0/10.0)"]
["混合物",null,null,500,8076.6880000000001,"R-12/152a (73.8/26.2)"]
["混合物",null,null,503,14560.400000000001,"R-23/13 (40.1/59.9)"]
["混合物",null,null,504,4143.01,"R-32/115 (48.2/51.8)"]
["混合物",null,null,"507A",3985,"R-125/143a (50.0/50.0)"]
["混合物",null,null,"508A",13214,"R-23/116 (39.0/61.0)"]
["混合物",null,null,"508B",13396,"R-23/116 (46.0/54.0)"]
["混合物",null,null,"512A",189.3,"R-134a/152a (5.0/95.0)"]
["混合物",null,null,"513A",629.20000000000005,"R-1234yf/134a (56.0/44.0)"]
["混合物",null,null,"513B",593.44999999999993,"R-1234yf/134a (58.5/41.5)"]
["混合物",null,null,"515A",386.4,"R-1234ze (E)/227ea (88.0/12.0)"]
["混合物",null,null,"515B",286.58,"R-1234ze(E)/227ea (91.1/8.9)"]
["混合物",null,null,"516A",138.91000000000003,"R-1234yf/134a/152a (77.5/8.5/14.0)"]
["混合物",null,null,"365mfc/227ea",null,"test:   R-365mfc/227ea（50 / 50）"]
["混合物"]
["混合物"]
["混合物"]
["混合物"]
["混合物"]
["混合物"]
["混合物"]
["混合物"]
["混合物"]

{"sheet":"工作表9","index":10,"n_rows":142,"n_cols":9,"rows_kept":142,"cut":false,"hidden":true,"merged":[]}
["純物質",null,22,1810,"純物質",null,32,675,"純物質"]
["混合物",null,123,77,"純物質",null,41,92,"純物質"]
[null,null,"141b",725,"純物質",null,125,3500,"純物質"]
[null,null,"142b",2310,"純物質",null,134,1100,"純物質"]
[null,null,"225ca",122,"純物質",null,"134a",1430,"純物質"]
[null,null,"225cb",595,"純物質",null,143,353,"純物質"]
[null,null,"408A",3152,"混合物",null,"143a",4470,"純物質"]
[null,null,null,null,null,null,152,53,"純物質"]
[null,null,null,null,null,null,"152a",124,"純物質"]
[null,null,null,null,null,null,"227ea",3220,"純物質"]
[null,null,null,null,null,null,"236cb",1340,"純物質"]
[null,null,null,null,null,null,"236ea",1370,"純物質"]
[null,null,null,null,null,null,"236fa",9810,"純物質"]
[null,null,null,null,null,null,"245ca",693,"純物質"]
[null,null,null,null,null,null,"245fa",1030,"純物質"]
[null,null,null,null,null,null,"365mfc",794,"純物質"]
[null,null,null,null,null,null,"43-10mee",1640,"純物質"]
[null,null,null,null,null,null,23,14800,"純物質"]
[null,null,null,null,null,null,"401A",1182,"混合物"]
[null,null,null,null,null,null,"401B",1288,"混合物"]
[null,null,null,null,null,null,"401C",933,"混合物"]
[null,null,null,null,null,null,"402A",2788,"混合物"]
[null,null,null,null,null,null,"402B",2416,"混合物"]
[null,null,null,null,null,null,"404A",3922,"混合物"]
[null,null,null,null,null,null,"405A",5328,"混合物"]
[null,null,null,null,null,null,"407A",2107,"混合物"]
[null,null,null,null,null,null,"407B",2804,"混合物"]
[null,null,null,null,null,null,"407C",1774,"混合物"]
[null,null,null,null,null,null,"407D",1627,"混合物"]
[null,null,null,null,null,null,"407E",1552,"混合物"]
[null,null,null,null,null,null,"407F",1825,"混合物"]
[null,null,null,null,null,null,"407G",1463,"混合物"]
[null,null,null,null,null,null,"407H",1495,"混合物"]
[null,null,null,null,null,null,"407I",1459,"混合物"]
[null,null,null,null,null,null,"408A",3152,"混合物"]
[null,null,null,null,null,null,"410A",2088,"混合物"]
[null,null,null,null,null,null,"410B",2229,"混合物"]
[null,null,null,null,null,null,"411A",1597,"混合物"]
[null,null,null,null,null,null,"411B",1711,"混合物"]
[null,null,null,null,null,null,"411C",1730,"混合物"]
[null,null,null,null,null,null,"413A",2053,"混合物"]
[null,null,null,null,null,null,"415A",1507,"混合物"]
[null,null,null,null,null,null,"415B",546,"混合物"]
[null,null,null,null,null,null,"416A",1084,"混合物"]
[null,null,null,null,null,null,"417A",2346,"混合物"]
[null,null,null,null,null,null,"417B",3027,"混合物"]
[null,null,null,null,null,null,"417C",1809,"混合物"]
[null,null,null,null,null,null,"418A",1741,"混合物"]
[null,null,null,null,null,null,"419A",2967,"混合物"]
[null,null,null,null,null,null,"419B",2384,"混合物"]
[null,null,null,null,null,null,"420A",1536,"混合物"]
[null,null,null,null,null,null,"421A",2631,"混合物"]
[null,null,null,null,null,null,"421B",3190,"混合物"]
[null,null,null,null,null,null,"422A",3143,"混合物"]
[null,null,null,null,null,null,"422B",2526,"混合物"]
[null,null,null,null,null,null,"422C",3085,"混合物"]
[null,null,null,null,null,null,"422D",2729,"混合物"]
[null,null,null,null,null,null,"422E",2592,"混合物"]
[null,null,null,null,null,null,"423A",2280,"混合物"]
[null,null,null,null,null,null,"424A",2440,"混合物"]
[null,null,null,null,null,null,"425A",1505,"混合物"]
[null,null,null,null,null,null,"426A",1508,"混合物"]
[null,null,null,null,null,null,"427A",2138,"混合物"]
[null,null,null,null,null,null,"427C",2063,"混合物"]
[null,null,null,null,null,null,"428A",3607,"混合物"]
[null,null,null,null,null,null,"429A",12,"混合物"]
[null,null,null,null,null,null,"430A",94,"混合物"]
[null,null,null,null,null,null,"431A",36,"混合物"]
[null,null,null,null,null,null,"434A",3245,"混合物"]
[null,null,null,null,null,null,"435A",25,"混合物"]
[null,null,null,null,null,null,"437A",1805,"混合物"]
[null,null,null,null,null,null,"438A",2264,"混合物"]
[null,null,null,null,null,null,"439A",1983,"混合物"]
[null,null,null,null,null,null,"440A",144,"混合物"]
[null,null,null,null,null,null,"442A",1888,"混合物"]
[null,null,null,null,null,null,"444A",87,"混合物"]
[null,null,null,null,null,null,"444B",293,"混合物"]
[null,null,null,null,null,null,"445A",129,"混合物"]
[null,null,null,null,null,null,"446A",459,"混合物"]
[null,null,null,null,null,null,"447A",582,"混合物"]
[null,null,null,null,null,null,"447B",739,"混合物"]
[null,null,null,null,null,null,"448A",1386,"混合物"]
[null,null,null,null,null,null,"448B",1320,"混合物"]
[null,null,null,null,null,null,"449A",1396,"混合物"]
[null,null,null,null,null,null,"449B",1411,"混合物"]
[null,null,null,null,null,null,"449C",1250,"混合物"]
[null,null,null,null,null,null,"450A",601,"混合物"]
[null,null,null,null,null,null,"451A",146,"混合物"]
[null,null,null,null,null,null,"451B",160,"混合物"]
[null,null,null,null,null,null,"452A",2139,"混合物"]
[null,null,null,null,null,null,"452B",697,"混合物"]
[null,null,null,null,null,null,"452C",2219,"混合物"]
[null,null,null,null,null,null,"453A",1765,"混合物"]
[null,null,null,null,null,null,"454A",236,"混合物"]
[null,null,null,null,null,null,"454B",465,"混合物"]
[null,null,null,null,null,null,"454C",145,"混合物"]
[null,null,null,null,null,null,"455A",145,"混合物"]
[null,null,null,null,null,null,"456A",684,"混合物"]
[null,null,null,null,null,null,"457A",136,"混合物"]
[null,null,null,null,null,null,"457B",249,"混合物"]
[null,null,null,null,null,null,"458A",1650,"混合物"]
[null,null,null,null,null,null,"459A",459,"混合物"]
[null,null,null,null,null,null,"459B",142,"混合物"]
[null,null,null,null,null,null,"460A",2101,"混合物"]
[null,null,null,null,null,null,"460B",1350,"混合物"]
[null,null,null,null,null,null,"460C",762,"混合物"]
[null,null,null,null,null,null,"461A",2767,"混合物"]
[null,null,null,null,null,null,"462A",2249,"混合物"]
[null,null,null,null,null,null,"463A",1493,"混合物"]
[null,null,null,null,null,null,"464A",1320,"混合物"]
[null,null,null,null,null,null,"465A",142,"混合物"]
[null,null,null,null,null,null,"466A",733,"混合物"]
[null,null,null,null,null,null,"467A",1359,"混合物"]
[null,null,null,null,null,null,"468A",145,"混合物"]
[null,null,null,null,null,null,"469A",1357,"混合物"]
[null,null,null,null,null,null,"470A",976,"混合物"]
[null,null,null,null,null,null,"470B",748,"混合物"]
[null,null,null,null,null,null,"471A",138,"混合物"]
[null,null,null,null,null,null,"472A",353,"混合物"]
[null,null,null,null,null,null,"473A",1830,"混合物"]
[null,null,null,null,null,null,500,8077,"混合物"]
[null,null,null,null,null,null,503,14560,"混合物"]
[null,null,null,null,null,null,504,4143,"混合物"]
[null,null,null,null,null,null,"507A",3985,"混合物"]
[null,null,null,null,null,null,"508A",13214,"混合物"]
[null,null,null,null,null,null,"508B",13396,"混合物"]
[null,null,null,null,null,null,"512A",189,"混合物"]
[null,null,null,null,null,null,"513A",629,"混合物"]
[null,null,null,null,null,null,"513B",593,"混合物"]
[null,null,null,null,null,null,"515A",386,"混合物"]
[null,null,null,null,null,null,"515B",287,"混合物"]
[null,null,null,null,null,null,"516A",139,"混合物"]
[null,null,null,null,null,null,{"$f":"'附件、冷媒GWP值'!D145","v":"365mfc/227ea"},{"$f":"'附件、冷媒GWP值'!E145","v":0},{"$f":"'附件、冷媒GWP值'!A145","v":"混合物"}]
[null,null,null,null,null,null,{"$f":"'附件、冷媒GWP值'!D146","v":0},{"$f":"'附件、冷媒GWP值'!E146","v":0},{"$f":"'附件、冷媒GWP值'!A146","v":"混合物"}]
[null,null,null,null,null,null,{"$f":"'附件、冷媒GWP值'!D147","v":0},{"$f":"'附件、冷媒GWP值'!E147","v":0},{"$f":"'附件、冷媒GWP值'!A147","v":"混合物"}]
[null,null,null,null,null,null,{"$f":"'附件、冷媒GWP值'!D148","v":0},{"$f":"'附件、冷媒GWP值'!E148","v":0},{"$f":"'附件、冷媒GWP值'!A148","v":"混合物"}]
[null,null,null,null,null,null,{"$f":"'附件、冷媒GWP值'!D149","v":0},{"$f":"'附件、冷媒GWP值'!E149","v":0},{"$f":"'附件、冷媒GWP值'!A149","v":"混合物"}]
[null,null,null,null,null,null,{"$f":"'附件、冷媒GWP值'!D150","v":0},{"$f":"'附件、冷媒GWP值'!E150","v":0},{"$f":"'附件、冷媒GWP值'!A150","v":"混合物"}]
[null,null,null,null,null,null,{"$f":"'附件、冷媒GWP值'!D151","v":0},{"$f":"'附件、冷媒GWP值'!E151","v":0},{"$f":"'附件、冷媒GWP值'!A151","v":"混合物"}]
[null,null,null,null,null,null,{"$f":"'附件、冷媒GWP值'!D152","v":0},{"$f":"'附件、冷媒GWP值'!E152","v":0},{"$f":"'附件、冷媒GWP值'!A152","v":"混合物"}]
[null,null,null,null,null,null,{"$f":"'附件、冷媒GWP值'!D153","v":0},{"$f":"'附件、冷媒GWP值'!E153","v":0},{"$f":"'附件、冷媒GWP值'!A153","v":"混合物"}]
[null,null,null,null,null,null,{"$f":"'附件、冷媒GWP值'!D154","v":0},{"$f":"'附件、冷媒GWP值'!E154","v":0},{"$f":"'附件、冷媒GWP值'!A154","v":"混合物"}]