{"text_format":"1","workbook":"xlsx","n_sheets":13,"sheets":["表單使用說明","氫氟碳化物核配資格申請表","公私場所基本資料表","109年氫氟碳（HFCs）之國內採購統計申報表","110年氫氟碳（HFCs）之國內採購統計申報表","111年氫氟碳（HFCs）之國內採購統計申報表","114年氫氟碳（HFCs）之需求量","使用用途申報表","附件、使用用途列表","98年氟氯烴（HCFCs）之國內採購統計申報表","99年氟氯烴（HCFCs）之國內採購統計申報表","附件、冷媒GWP值","工作表9"],"not_rendered":{"charts":0,"images":0,"macros":0,"external_links":0,"defined_names":36,"comments":0,"pivot_tables":0},"unopened":[],"bounds":{"document_bytes":16777216,"sheet_cells":100000,"rows_first":2000,"rows_last":500,"rows_between":2000,"halvings":0,"cell_chars":16384,"cell_head_chars":4096},"cells_cut":0,"cells_raw":0,"read":"whole","date_system":"1900"}

{"sheet":"表單使用說明","index":0,"n_rows":26,"n_cols":15,"rows_kept":26,"cut":false,"hidden":false,"merged":[[0,0,0,13],[5,0,5,2],[5,3,5,13],[6,3,6,13],[7,4,7,13],[4,0,4,2],[4,3,4,13],[2,0,2,2],[2,3,2,13],[24,4,24,13],[9,4,9,13],[10,4,10,13],[11,4,11,13],[12,4,12,13],[8,4,8,13],[18,4,18,13],[19,4,19,13],[22,4,22,13],[23,4,23,13],[20,4,20,13],[21,4,21,13],[3,0,3,2],[3,3,3,13],[17,4,17,13],[13,4,13,13],[14,4,14,13],[15,4,15,13],[16,4,16,13],[6,0,25,2],[25,4,25,13]]}
["「氫氟碳化物管理辦法」正式生效後，114年3月底前，擬申請第一梯次氫氟碳化物（HFCs）使用廠商核配資格者，請至環境部之「氫氟碳化物HFCs申報系統」網站（hfc.moenv.gov.tw）申請帳號後，下載填寫表單文件，並於申請期限前至網站完成上傳表單檔案與佐證文件與送審，始得進入正式審核程序。"]
[]
["廠商名稱",null,null,"A"]
["申請日期",null,null,"民國                       年                   月                         日"]
[]
["使用廠商類型",null,null,"應填寫與檢附表單文件（請檢視確認勾選）",null,null,null,null,null,null,null,null,null,null,"check"]
["冷凍空調設備或系統製造廠商",null,null,"使用廠商本身文件"]
[null,null,null,null,"氫氟碳化物核配資格申請表",null,null,null,null,null,null,null,null,null,false]
[null,null,null,null,"公私場所基本資料表（冷凍空調廠商）",null,null,null,null,null,null,null,null,null,false]
[null,null,null,null,"109年氫氟碳（HFCs）之國內採購統計申報表",null,null,null,null,null,null,null,null,null,false]
[null,null,null,null,"110年氫氟碳（HFCs）之國內採購統計申報表",null,null,null,null,null,null,null,null,null,false]
[null,null,null,null,"111年氫氟碳（HFCs）之國內採購統計申報表",null,null,null,null,null,null,null,null,null,false]
[null,null,null,null,"114年氫氟碳（HFCs）之需求量",null,null,null,null,null,null,null,null,null,false]
[null,null,null,null,"使用用途申報表",null,null,null,null,null,null,null,null,null,false]
[null,null,null,null,"附件、使用用途列表",null,null,null,null,null,null,null,null,null,false]
[null,null,null,null,"98年氟氯烴（HCFCs）之國內採購統計申報表",null,null,null,null,null,null,null,null,null,false]
[null,null,null,null,"99年氟氯烴（HCFCs）之國內採購統計申報表",null,null,null,null,null,null,null,null,null,false]
[null,null,null,null,"附件、冷媒GWP值(若有新增冷媒種類，無則免附）",null,null,null,null,null,null,null,null,null,false]
[null,null,null,null,"佐證文件"]
[null,null,null,null,"工廠登記證明文件影本",null,null,null,null,null,null,null,null,null,false]
[null,null,null,null,"固定污染源許可證影本",null,null,null,null,null,null,null,null,null,false]
[null,null,null,null,"商業登記證明文件影本",null,null,null,null,null,null,null,null,null,false]
[null,null,null,null,"冷凍空調業登記證書影本",null,null,null,null,null,null,null,null,null,false]
[null,null,null,null,"冷凍空調工業同業公會會員證書影本",null,null,null,null,null,null,null,null,null,false]
[null,null,null,null,"氫氟碳（HFCs）採購發票影本109-111年（可多張一起黏貼於A4紙張）",null,null,null,null,null,null,null,null,null,false]
[null,null,null,null,"氟氯烴（HCFCs）採購發票影本98~99年（可多張一起黏貼於A4紙張）",null,null,null,null,null,null,null,null,null,false]

{"sheet":"氫氟碳化物核配資格申請表","index":1,"n_rows":10,"n_cols":12,"rows_kept":10,"cut":false,"hidden":false,"merged":[[0,1,0,10],[1,1,1,10],[2,0,6,0],[7,2,7,10],[8,2,8,10],[7,0,9,0],[9,2,9,10],[5,2,5,10],[2,2,2,10],[3,2,3,10],[4,2,4,10],[6,2,6,10]]}
["廠商名稱","A",null,null,null,null,null,null,null,null,null,"check"]
["申請日期","  民國                       年                   月                         日"]
["使用氫氟碳化物HFCs之類型\n（可複選）",null,"冷凍空調設備製造時填充冷媒",null,null,null,null,null,null,null,null,false]
[null,null,"冷凍空調工程建造時填充冷媒",null,null,null,null,null,null,null,null,false]
[null,null,"需供應協力冷凍空調設備保修業者之維修填充冷媒",null,null,null,null,null,null,null,null,false]
[null,null,"其他使用類型（請於下方表格說明）",null,null,null,null,null,null,null,null,false]
[null,null,"說明：",null,null,null,null,null,null,null,null,false]
["曾是氟氯烴（HCFCs）核配資格廠商？",null,"是",null,null,null,null,null,null,null,null,false]
[null,null,"否",null,null,null,null,null,null,null,null,false]
[null,null,"被取消資格             年                         月",null,null,null,null,null,null,null,null,false]

{"sheet":"公私場所基本資料表","index":2,"n_rows":35,"n_cols":3,"rows_kept":35,"cut":false,"hidden":false,"merged":[]}
["公私場所基本資料表（冷凍空調廠商）","同一個統一編號的公司，若有不同廠房使用HFCs，請分別填寫不同公私場所基本資料表（請複製工作表即可填寫）"]
["1.廠商名稱","A"]
["廠房編號或名稱","1A"]
["2.管制編號"]
["3.固定污染源操作許可證號（僅填寫使用HFCs之固定污染源）"]
["3a.許可污染源程序"]
["3b.有效期間(開始)","民國          年          月          日","至"]
["3c.有效期間(結束)","民國          年          月          日"]
["4.工廠登記地址"]
["5.負責人姓名"]
["5a.職稱"]
["6.統一編號"]
["7.資本額",null,"元"]
["8.員工人數",null,"人"]
["9.聯絡人姓名"]
["9a.聯絡人職稱"]
["9b.聯絡地址"]
["9c.鄉鎮代碼"]
["9d.郵遞區號"]
["9e.聯絡人電話","（   ）                                     分機 "]
["9f.聯絡人電子信箱"]
["9g.聯絡人手機"]
["10.工廠登記證號"]
["10a.工廠設立許可證號"]
["10b. 設立核准日期","民國          年          月          日"]
["10c. 登記核准日期","民國          年          月          日"]
["11.商業登記證號"]
["11a.核准設立登記日期","民國          年          月          日"]
["11b.最後核准變更日期","民國          年          月          日"]
["12.冷凍空調業登記證書字號","經冷字第"]
["12a.核（換）發日期","民國          年          月          日"]
["12b.有效日期","民國          年          月          日"]
["13.冷凍空調工業同業公會會員證書字號","（      ）台冷會證字第"]
["13a.有效期間(開始)","民國          年          月          日","至"]
["13a.有效期間(結束)","民國          年          月          日"]

{"sheet":"109年氫氟碳（HFCs）之國內採購統計申報表","index":3,"n_rows":1001,"n_cols":10,"rows_kept":1001,"cut":false,"hidden":false,"merged":[[1,6,3,6],[1,2,3,2],[1,5,3,5],[0,0,0,1],[0,2,0,5],[1,0,3,0],[1,1,3,1],[1,3,3,3],[1,4,3,4]]}
["申報年份",null,"            109         年",null,null,null,"請記得檢附採購發票影本"]
["編號","採購發票編號","供應廠商統一編號","供應廠商名稱","商品名稱","冷媒編號\n請填寫號碼即可，毋須填寫R-","物質類別","採購量","GWP*","公噸CO2eq"]
[null,null,null,null,null,null,null,"（公噸）",null,"C=A*B"]
[null,null,null,null,null,null,null,"A","B"]
["範例 1","UZ07990000","02750961","AA","R23",23,{"$f":"VLOOKUP(F5,工作表9!$G$1:$I$136, 3, FALSE )","v":"純物質"},50,{"$f":"VLOOKUP(F5,工作表9!$G$1:$H$142, 2, FALSE )","v":14800},{"$f":"H5*I5","v":740000}]
["範例 2","UZ07990000","02750961","AA","R134a","134a",{"$f":"VLOOKUP(F6,工作表9!$G$1:$I$136, 3, FALSE )","v":"純物質"},100,{"$f":"VLOOKUP(F6,工作表9!$G$1:$H$142, 2, FALSE )","v":1430},{"$f":"H6*I6","v":143000}]
["範例 3","UZ07990060","02750963","BB","R404A","404A",{"$f":"VLOOKUP(F7,工作表9!$G$1:$I$136, 3, FALSE )","v":"混合物"},20,{"$f":"VLOOKUP(F7,工作表9!$G$1:$H$142, 2, FALSE )","v":3921.6000000000004},78432]
["範例 4","UZ07990060","02750963","BB","R410A","410A",{"$f":"VLOOKUP(F8,工作表9!$G$1:$I$136, 3, FALSE )","v":"混合物"},5,{"$f":"VLOOKUP(F8,工作表9!$G$1:$H$142, 2, FALSE )","v":2087.5},10437.5]
[null,null,null,null,null,null,{"$f":"VLOOKUP(F9,工作表9!$G$1:$I$136, 3, FALSE )","v":"混合物"},null,{"$f":"VLOOKUP(F9,工作表9!$G$1:$H$142, 2, FALSE )","v":0},0]
[null,null,null,null,null,null,{"$f":"VLOOKUP(F10,工作表9!$G$1:$I$136, 3, FALSE )","v":"混合物"},null,{"$f":"VLOOKUP(F10,工作表9!$G$1:$H$142, 2, FALSE )","v":0},0]
[null,null,null,null,null,null,{"$f":"VLOOKUP(F11,工作表9!$G$1:$I$136, 3, FALSE )","v":"混合物"},null,{"$f":"VLOOKUP(F11,工作表9!$G$1:$H$142, 2, FALSE )","v":0},0]
[null,null,null,null,null,null,{"$f":"VLOOKUP(F12,工作表9!$G$1:$I$136, 3, FALSE )","v":"混合物"},null,{"$f":"VLOOKUP(F12,工作表9!$G$1:$H$142, 2, FALSE )","v":0},0]
[null,null,null,null,null,null,{"$f":"VLOOKUP(F13,工作表9!$G$1:$I$136, 3, FALSE )","v":"混合物"},null,{"$f":"VLOOKUP(F13,工作表9!$G$1:$H$142, 2, FALSE )","v":0},0]
[null,null,null,null,null,null,{"$f":"VLOOKUP(F14,工作表9!$G$1:$I$136, 3, FALSE )","v":"混合物"},null,{"$f":"VLOOKUP(F14,工作表9!$G$1:$H$142, 2, FALSE )","v":0},0]
[null,null,null,null,null,null,{"$f":"VLOOKUP(F15,工作表9!$G$1:$I$136, 3, FALSE )","v":"混合物"},null,{"$f":"VLOOKUP(F15,工作表9!$G$1:$H$142, 2, FALSE )","v":0},0]
[null,null,null,null,null,null,{"$f":"VLOOKUP(F16,工作表9!$G$1:$I$136, 3, FALSE )","v":"混合物"},null,{"$f":"VLOOKUP(F16,工作表9!$G$1:$H$142, 2, FALSE )","v":0},0]
[null,null,null,null,null,null,{"$f":"VLOOKUP(F17,工作表9!$G$1:$I$136, 3, FALSE )","v":"混合物"},null,{"$f":"VLOOKUP(F17,工作表9!$G$1:$H$142, 2, FALSE )","v":0},0]
[null,null,null,null,null,null,{"$f":"VLOOKUP(F18,工作表9!$G$1:$I$136, 3, FALSE )","v":"混合物"},null,{"$f":"VLOOKUP(F18,工作表9!$G$1:$H$142, 2, FALSE )","v":0},0]
[null,null,null,null,null,null,{"$f":"VLOOKUP(F19,工作表9!$G$1:$I$136, 3, FALSE )","v":"混合物"},null,{"$f":"VLOOKUP(F19,工作表9!$G$1:$H$142, 2, FALSE )","v":0},0]
[null,null,null,null,null,null,{"$f":"VLOOKUP(F20,工作表9!$G$1:$I$136, 3, FALSE )","v":"混合物"},null,{"$f":"VLOOKUP(F20,工作表9!$G$1:$H$142, 2, FALSE )","v":0},0]
[null,null,null,null,null,null,{"$f":"VLOOKUP(F21,工作表9!$G$1:$I$136, 3, FALSE )","v":"混合物"},null,{"$f":"VLOOKUP(F21,工作表9!$G$1:$H$142, 2, FALSE )","v":0},0]
[null,null,null,null,null,null,{"$f":"VLOOKUP(F22,工作表9!$G$1:$I$136, 3, FALSE )","v":"混合物"},null,{"$f":"VLOOKUP(F22,工作表9!$G$1:$H$142, 2, FALSE )","v":0},0]
[null,null,null,null,null,null,{"$f":"VLOOKUP(F23,工作表9!$G$1:$I$136, 3, FALSE )","v":"混合物"},null,{"$f":"VLOOKUP(F23,工作表9!$G$1:$H$142, 2, FALSE )","v":0},0]
[null,null,null,null,null,null,{"$f":"VLOOKUP(F24,工作表9!$G$1:$I$136, 3, FALSE )","v":"混合物"},null,{"$f":"VLOOKUP(F24,工作表9!$G$1:$H$142, 2, FALSE )","v":0},0]
[null,null,null,null,null,null,{"$f":"VLOOKUP(F25,工作表9!$G$1:$I$136, 3, FALSE )","v":"混合物"},null,{"$f":"VLOOKUP(F25,工作表9!$G$1:$H$142, 2, FALSE )","v":0},0]
[null,null,null,null,null,null,{"$f":"VLOOKUP(F26,工作表9!$G$1:$I$136, 3, FALSE )","v":"混合物"},null,{"$f":"VLOOKUP(F26,工作表9!$G$1:$H$142, 2, FALSE )","v":0},0]
[null,null,null,null,null,null,{"$f":"VLOOKUP(F27,工作表9!$G$1:$I$136, 3, FALSE )","v":"混合物"},null,{"$f":"VLOOKUP(F27,工作表9!$G$1:$H$142, 2, FALSE )","v":0},0]
[null,null,null,null,null,null,{"$f":"VLOOKUP(F28,工作表9!$G$1:$I$136, 3, FALSE )","v":"混合物"},null,{"$f":"VLOOKUP(F28,工作表9!$G$1:$H$142, 2, FALSE )","v":0},0]
[null,null,null,null,null,null,{"$f":"VLOOKUP(F29,工作表9!$G$1:$I$136, 3, FALSE )","v":"混合物"},null,{"$f":"VLOOKUP(F29,工作表9!$G$1:$H$142, 2, FALSE )","v":0},0]
[null,null,null,null,null,null,{"$f":"VLOOKUP(F30,工作表9!$G$1:$I$136, 3, FALSE )","v":"混合物"},null,{"$f":"VLOOKUP(F30,工作表9!$G$1:$H$142, 2, FALSE )","v":0},0]
[null,null,null,null,null,null,{"$f":"VLOOKUP(F31,工作表9!$G$1:$I$136, 3, FALSE )","v":"混合物"},null,{"$f":"VLOOKUP(F31,工作表9!$G$1:$H$142, 2, FALSE )","v":0},0]
[null,null,null,null,null,null,{"$f":"VLOOKUP(F32,工作表9!$G$1:$I$136, 3, FALSE )","v":"混合物"},null,{"$f":"VLOOKUP(F32,工作表9!$G$1:$H$142, 2, FALSE )","v":0},0]
[null,null,null,null,null,null,{"$f":"VLOOKUP(F33,工作表9!$G$1:$I$136, 3, FALSE )","v":"混合物"},null,{"$f":"VLOOKUP(F33,工作表9!$G$1:$H$142, 2, FALSE )","v":0},0]
[null,null,null,null,null,null,{"$f":"VLOOKUP(F34,工作表9!$G$1:$I$136, 3, FALSE )","v":"混合物"},null,{"$f":"VLOOKUP(F34,工作表9!$G$1:$H$142, 2, FALSE )","v":0},0]
[null,null,null,null,null,null,{"$f":"VLOOKUP(F35,工作表9!$G$1:$I$136, 3, FALSE )","v":"混合物"},null,{"$f":"VLOOKUP(F35,工作表9!$G$1:$H$142, 2, FALSE )","v":0},0]
[null,null,null,null,null,null,{"$f":"VLOOKUP(F36,工作表9!$G$1:$I$136, 3, FALSE )","v":"混合物"},null,{"$f":"VLOOKUP(F36,工作表9!$G$1:$H$142, 2, FALSE )","v":0},0]
[null,null,null,null,null,null,{"$f":"VLOOKUP(F37,工作表9!$G$1:$I$136, 3, FALSE )","v":"混合物"},null,{"$f":"VLOOKUP(F37,工作表9!$G$1:$H$142, 2, FALSE )","v":0},0]
[null,null,null,null,null,null,{"$f":"VLOOKUP(F38,工作表9!$G$1:$I$136, 3, FALSE )","v":"混合物"},null,{"$f":"VLOOKUP(F38,工作表9!$G$1:$H$142, 2, FALSE )","v":0},0]
[null,null,null,null,null,null,{"$f":"VLOOKUP(F39,工作表9!$G$1:$I$136, 3, FALSE )","v":"混合物"},null,{"$f":"VLOOKUP(F39,工作表9!$G$1:$H$142, 2, FALSE )","v":0},0]
[null,null,null,null,null,null,{"$f":"VLOOKUP(F40,工作表9!$G$1:$I$136, 3, FALSE )","v":"混合物"},null,{"$f":"VLOOKUP(F40,工作表9!$G$1:$H$142, 2, FALSE )","v":0},0]
[null,null,null,null,null,null,{"$f":"VLOOKUP(F41,工作表9!$G$1:$I$136, 3, FALSE )","v":"混合物"},null,{"$f":"VLOOKUP(F41,工作表9!$G$1:$H$142, 2, FALSE )","v":0},0]
[null,null,null,null,null,null,{"$f":"VLOOKUP(F42,工作表9!$G$1:$I$136, 3, FALSE )","v":"混合物"},null,{"$f":"VLOOKUP(F42,工作表9!$G$1:$H$142, 2, FALSE )","v":0},0]
[null,null,null,null,null,null,{"$f":"VLOOKUP(F43,工作表9!$G$1:$I$136, 3, FALSE )","v":"混合物"},null,{"$f":"VLOOKUP(F43,工作表9!$G$1:$H$142, 2, FALSE )","v":0},0]
[null,null,null,null,null,null,{"$f":"VLOOKUP(F44,工作表9!$G$1:$I$136, 3, FALSE )","v":"混合物"},null,{"$f":"VLOOKUP(F44,工作表9!$G$1:$H$142, 2, FALSE )","v":0},0]
[null,null,null,null,null,null,{"$f":"VLOOKUP(F45,工作表9!$G$1:$I$136, 3, FALSE )","v":"混合物"},null,{"$f":"VLOOKUP(F45,工作表9!$G$1:$H$142, 2, FALSE )","v":0},0]
[null,null,null,null,null,null,{"$f":"VLOOKUP(F46,工作表9!$G$1:$I$136, 3, FALSE )","v":"混合物"},null,{"$f":"VLOOKUP(F46,工作表9!$G$1:$H$142, 2, FALSE )","v":0},0]
[null,null,null,null,null,null,{"$f":"VLOOKUP(F47,工作表9!$G$1:$I$136, 3, FALSE )","v":"混合物"},null,{"$f":"VLOOKUP(F47,工作表9!$G$1:$H$142, 2, FALSE )","v":0},0]
[null,null,null,null,null,null,{"$f":"VLOOKUP(F48,工作表9!$G$1:$I$136, 3, FALSE )","v":"混合物"},null,{"$f":"VLOOKUP(F48,工作表9!$G$1:$H$142, 2, FALSE )","v":0},0]
[null,null,null,null,null,null,{"$f":"VLOOKUP(F49,工作表9!$G$1:$I$136, 3, FALSE )","v":"混合物"},null,{"$f":"VLOOKUP(F49,工作表9!$G$1:$H$142, 2, FALSE )","v":0},0]
[null,null,null,null,null,null,{"$f":"VLOOKUP(F50,工作表9!$G$1:$I$136, 3, FALSE )","v":"混合物"},null,{"$f":"VLOOKUP(F50,工作表9!$G$1:$H$142, 2, FALSE )","v":0},0]
[null,null,null,null,null,null,{"$f":"VLOOKUP(F51,工作表9!$G$1:$I$136, 3, FALSE )","v":"混合物"},null,{"$f":"VLOOKUP(F51,工作表9!$G$1:$H$142, 2, FALSE )","v":0},0]
[null,null,null,null,null,null,{"$f":"VLOOKUP(F52,工作表9!$G$1:$I$136, 3, FALSE )","v":"混合物"},null,{"$f":"VLOOKUP(F52,工作表9!$G$1:$H$142, 2, FALSE )","v":0},0]
[null,null,null,null,null,null,{"$f":"VLOOKUP(F53,工作表9!$G$1:$I$136, 3, FALSE )","v":"混合物"},null,{"$f":"VLOOKUP(F53,工作表9!$G$1:$H$142, 2, FALSE )","v":0},0]
[null,null,null,null,null,null,{"$f":"VLOOKUP(F54,工作表9!$G$1:$I$136, 3, FALSE )","v":"混合物"},null,{"$f":"VLOOKUP(F54,工作表9!$G$1:$H$142, 2, FALSE )","v":0},0]
[null,null,null,null,null,null,{"$f":"VLOOKUP(F55,工作表9!$G$1:$I$136, 3, FALSE )","v":"混合物"},null,{"$f":"VLOOKUP(F55,工作表9!$G$1:$H$142, 2, FALSE )","v":0},0]
[null,null,null,null,null,null,{"$f":"VLOOKUP(F56,工作表9!$G$1:$I$136, 3, FALSE )","v":"混合物"},null,{"$f":"VLOOKUP(F56,工作表9!$G$1:$H$142, 2, FALSE )","v":0},0]
[null,null,null,null,null,null,{"$f":"VLOOKUP(F57,工作表9!$G$1:$I$136, 3, FALSE )","v":"混合物"},null,{"$f":"VLOOKUP(F57,工作表9!$G$1:$H$142, 2, FALSE )","v":0},0]
[null,null,null,null,null,null,{"$f":"VLOOKUP(F58,工作表9!$G$1:$I$136, 3, FALSE )","v":"混合物"},null,{"$f":"VLOOKUP(F58,工作表9!$G$1:$H$142, 2, FALSE )","v":0},0]
[null,null,null,null,null,null,{"$f":"VLOOKUP(F59,工作表9!$G$1:$I$136, 3, FALSE )","v":"混合物"},null,{"$f":"VLOOKUP(F59,工作表9!$G$1:$H$142, 2, FALSE )","v":0},0]
[null,null,null,null,null,null,{"$f":"VLOOKUP(F60,工作表9!$G$1:$I$136, 3, FALSE )","v":"混合物"},null,{"$f":"VLOOKUP(F60,工作表9!$G$1:$H$142, 2, FALSE )","v":0},0]
[null,null,null,null,null,null,{"$f":"VLOOKUP(F61,工作表9!$G$1:$I$136, 3, FALSE )","v":"混合物"},null,{"$f":"VLOOKUP(F61,工作表9!$G$1:$H$142, 2, FALSE )","v":0},0]
[null,null,null,null,null,null,{"$f":"VLOOKUP(F62,工作表9!$G$1:$I$136, 3, FALSE )","v":"混合物"},null,{"$f":"VLOOKUP(F62,工作表9!$G$1:$H$142, 2, FALSE )","v":0},0]
[null,null,null,null,null,null,{"$f":"VLOOKUP(F63,工作表9!$G$1:$I$136, 3, FALSE )","v":"混合物"},null,{"$f":"VLOOKUP(F63,工作表9!$G$1:$H$142, 2, FALSE )","v":0},0]
[null,null,null,null,null,null,{"$f":"VLOOKUP(F64,工作表9!$G$1:$I$136, 3, FALSE )","v":"混合物"},null,{"$f":"VLOOKUP(F64,工作表9!$G$1:$H$142, 2, FALSE )","v":0},0]
[null,null,null,null,null,null,{"$f":"VLOOKUP(F65,工作表9!$G$1:$I$136, 3, FALSE )","v":"混合物"},null,{"$f":"VLOOKUP(F65,工作表9!$G$1:$H$142, 2, FALSE )","v":0},0]
[null,null,null,null,null,null,{"$f":"VLOOKUP(F66,工作表9!$G$1:$I$136, 3, FALSE )","v":"混合物"},null,{"$f":"VLOOKUP(F66,工作表9!$G$1:$H$142, 2, FALSE )","v":0},0]
[null,null,null,null,null,null,{"$f":"VLOOKUP(F67,工作表9!$G$1:$I$136, 3, FALSE )","v":"混合物"},null,{"$f":"VLOOKUP(F67,工作表9!$G$1:$H$142, 2, FALSE )","v":0},0]
[null,null,null,null,null,null,{"$f":"VLOOKUP(F68,工作表9!$G$1:$I$136, 3, FALSE )","v":"混合物"},null,{"$f":"VLOOKUP(F68,工作表9!$G$1:$H$142, 2, FALSE )","v":0},0]
[null,null,null,null,null,null,{"$f":"VLOOKUP(F69,工作表9!$G$1:$I$136, 3, FALSE )","v":"混合物"},null,{"$f":"VLOOKUP(F69,工作表9!$G$1:$H$142, 2, FALSE )","v":0},0]
[null,null,null,null,null,null,{"$f":"VLOOKUP(F70,工作表9!$G$1:$I$136, 3, FALSE )","v":"混合物"},null,{"$f":"VLOOKUP(F70,工作表9!$G$1:$H$142, 2, FALSE )","v":0},{"$f":"H70*I70","v":0}]
[null,null,null,null,null,null,{"$f":"VLOOKUP(F71,工作表9!$G$1:$I$136, 3, FALSE )","v":"混合物"},null,{"$f":"VLOOKUP(F71,工作表9!$G$1:$H$142, 2, FALSE )","v":0},0]
[null,null,null,null,null,null,{"$f":"VLOOKUP(F72,工作表9!$G$1:$I$136, 3, FALSE )","v":"混合物"},null,{"$f":"VLOOKUP(F72,工作表9!$G$1:$H$142, 2, FALSE )","v":0},0]
[null,null,null,null,null,null,{"$f":"VLOOKUP(F73,工作表9!$G$1:$I$136, 3, FALSE )","v":"混合物"},null,{"$f":"VLOOKUP(F73,工作表9!$G$1:$H$142, 2, FALSE )","v":0},0]
[null,null,null,null,null,null,{"$f":"VLOOKUP(F74,工作表9!$G$1:$I$136, 3, FALSE )","v":"混合物"},null,{"$f":"VLOOKUP(F74,工作表9!$G$1:$H$142, 2, FALSE )","v":0},0]
[null,null,null,null,null,null,{"$f":"VLOOKUP(F75,工作表9!$G$1:$I$136, 3, FALSE )","v":"混合物"},null,{"$f":"VLOOKUP(F75,工作表9!$G$1:$H$142, 2, FALSE )","v":0},0]
[null,null,null,null,null,null,{"$f":"VLOOKUP(F76,工作表9!$G$1:$I$136, 3, FALSE )","v":"混合物"},null,{"$f":"VLOOKUP(F76,工作表9!$G$1:$H$142, 2, FALSE )","v":0},0]
[null,null,null,null,null,null,{"$f":"VLOOKUP(F77,工作表9!$G$1:$I$136, 3, FALSE )","v":"混合物"},null,{"$f":"VLOOKUP(F77,工作表9!$G$1:$H$142, 2, FALSE )","v":0},0]
[null,null,null,null,null,null,{"$f":"VLOOKUP(F78,工作表9!$G$1:$I$136, 3, FALSE )","v":"混合物"},null,{"$f":"VLOOKUP(F78,工作表9!$G$1:$H$142, 2, FALSE )","v":0},0]
[null,null,null,null,null,null,{"$f":"VLOOKUP(F79,工作表9!$G$1:$I$136, 3, FALSE )","v":"混合物"},null,{"$f":"VLOOKUP(F79,工作表9!$G$1:$H$142, 2, FALSE )","v":0},0]
[null,null,null,null,null,null,{"$f":"VLOOKUP(F80,工作表9!$G$1:$I$136, 3, FALSE )","v":"混合物"},null,{"$f":"VLOOKUP(F80,工作表9!$G$1:$H$142, 2, FALSE )","v":0},0]
[null,null,null,null,null,null,{"$f":"VLOOKUP(F81,工作表9!$G$1:$I$136, 3, FALSE )","v":"混合物"},null,{"$f":"VLOOKUP(F81,工作表9!$G$1:$H$142, 2, FALSE )","v":0},0]
[null,null,null,null,null,null,{"$f":"VLOOKUP(F82,工作表9!$G$1:$I$136, 3, FALSE )","v":"混合物"},null,{"$f":"VLOOKUP(F82,工作表9!$G$1:$H$142, 2, FALSE )","v":0},0]
[null,null,null,null,null,null,{"$f":"VLOOKUP(F83,工作表9!$G$1:$I$136, 3, FALSE )","v":"混合物"},null,{"$f":"VLOOKUP(F83,工作表9!$G$1:$H$142, 2, FALSE )","v":0},0]
[null,null,null,null,null,null,{"$f":"VLOOKUP(F84,工作表9!$G$1:$I$136, 3, FALSE )","v":"混合物"},null,{"$f":"VLOOKUP(F84,工作表9!$G$1:$H$142, 2, FALSE )","v":0},0]
[null,null,null,null,null,null,{"$f":"VLOOKUP(F85,工作表9!$G$1:$I$136, 3, FALSE )","v":"混合物"},null,{"$f":"VLOOKUP(F85,工作表9!$G$1:$H$142, 2, FALSE )","v":0},0]
[null,null,null,null,null,null,{"$f":"VLOOKUP(F86,工作表9!$G$1:$I$136, 3, FALSE )","v":"混合物"},null,{"$f":"VLOOKUP(F86,工作表9!$G$1:$H$142, 2, FALSE )","v":0},0]
[null,null,null,null,null,null,{"$f":"VLOOKUP(F87,工作表9!$G$1:$I$136, 3, FALSE )","v":"混合物"},null,{"$f":"VLOOKUP(F87,工作表9!$G$1:$H$142, 2, FALSE )","v":0},0]
[null,null,null,null,null,null,{"$f":"VLOOKUP(F88,工作表9!$G$1:$I$136, 3, FALSE )","v":"混合物"},null,{"$f":"VLOOKUP(F88,工作表9!$G$1:$H$142, 2, FALSE )","v":0},0]
[null,null,null,null,null,null,{"$f":"VLOOKUP(F89,工作表9!$G$1:$I$136, 3, FALSE )","v":"混合物"},null,{"$f":"VLOOKUP(F89,工作表9!$G$1:$H$142, 2, FALSE )","v":0},0]
[null,null,null,null,null,null,{"$f":"VLOOKUP(F90,工作表9!$G$1:$I$136, 3, FALSE )","v":"混合物"},null,{"$f":"VLOOKUP(F90,工作表9!$G$1:$H$142, 2, FALSE )","v":0},0]
[null,null,null,null,null,null,{"$f":"VLOOKUP(F91,工作表9!$G$1:$I$136, 3, FALSE )","v":"混合物"},null,{"$f":"VLOOKUP(F91,工作表9!$G$1:$H$142, 2, FALSE )","v":0},0]
[null,null,null,null,null,null,{"$f":"VLOOKUP(F92,工作表9!$G$1:$I$136, 3, FALSE )","v":"混合物"},null,{"$f":"VLOOKUP(F92,工作表9!$G$1:$H$142, 2, FALSE )","v":0},0]
[null,null,null,null,null,null,{"$f":"VLOOKUP(F93,工作表9!$G$1:$I$136, 3, FALSE )","v":"混合物"},null,{"$f":"VLOOKUP(F93,工作表9!$G$1:$H$142, 2, FALSE )","v":0},0]
[null,null,null,null,null,null,{"$f":"VLOOKUP(F94,工作表9!$G$1:$I$136, 3, FALSE )","v":"混合物"},null,{"$f":"VLOOKUP(F94,工作表9!$G$1:$H$142, 2, FALSE )","v":0},0]
[null,null,null,null,null,null,{"$f":"VLOOKUP(F95,工作表9!$G$1:$I$136, 3, FALSE )","v":"混合物"},null,{"$f":"VLOOKUP(F95,工作表9!$G$1:$H$142, 2, FALSE )","v":0},0]
[null,null,null,null,null,null,{"$f":"VLOOKUP(F96,工作表9!$G$1:$I$136, 3, FALSE )","v":"混合物"},null,{"$f":"VLOOKUP(F96,工作表9!$G$1:$H$142, 2, FALSE )","v":0},0]
[null,null,null,null,null,null,{"$f":"VLOOKUP(F97,工作表9!$G$1:$I$136, 3, FALSE )","v":"混合物"},null,{"$f":"VLOOKUP(F97,工作表9!$G$1:$H$142, 2, FALSE )","v":0},0]
[null,null,null,null,null,null,{"$f":"VLOOKUP(F98,工作表9!$G$1:$I$136, 3, FALSE )","v":"混合物"},null,{"$f":"VLOOKUP(F98,工作表9!$G$1:$H$142, 2, FALSE )","v":0},0]
[null,null,null,null,null,null,{"$f":"VLOOKUP(F99,工作表9!$G$1:$I$136, 3, FALSE )","v":"混合物"},null,{"$f":"VLOOKUP(F99,工作表9!$G$1:$H$142, 2, FALSE )","v":0},0]
[null,null,null,null,null,null,{"$f":"VLOOKUP(F100,工作表9!$G$1:$I$136, 3, FALSE )","v":"混合物"},null,{"$f":"VLOOKUP(F100,工作表9!$G$1:$H$142, 2, FALSE )","v":0},0]
[null,null,null,null,null,null,{"$f":"VLOOKUP(F101,工作表9!$G$1:$I$136, 3, FALSE )","v":"混合物"},null,{"$f":"VLOOKUP(F101,工作表9!$G$1:$H$142, 2, FALSE )","v":0},0]
[null,null,null,null,null,null,{"$f":"VLOOKUP(F102,工作表9!$G$1:$I$136, 3, FALSE )","v":"混合物"},null,{"$f":"VLOOKUP(F102,工作表9!$G$1:$H$142, 2, FALSE )","v":0},0]
[null,null,null,null,null,null,{"$f":"VLOOKUP(F103,工作表9!$G$1:$I$136, 3, FALSE )","v":"混合物"},null,{"$f":"VLOOKUP(F103,工作表9!$G$1:$H$142, 2, FALSE )","v":0},0]
[null,null,null,null,null,null,{"$f":"VLOOKUP(F104,工作表9!$G$1:$I$136, 3, FALSE )","v":"混合物"},null,{"$f":"VLOOKUP(F104,工作表9!$G$1:$H$142, 2, FALSE )","v":0},0]
[null,null,null,null,null,null,{"$f":"VLOOKUP(F105,工作表9!$G$1:$I$136, 3, FALSE )","v":"混合物"},null,{"$f":"VLOOKUP(F105,工作表9!$G$1:$H$142, 2, FALSE )","v":0},0]
[null,null,null,null,null,null,{"$f":"VLOOKUP(F106,工作表9!$G$1:$I$136, 3, FALSE )","v":"混合物"},null,{"$f":"VLOOKUP(F106,工作表9!$G$1:$H$142, 2, FALSE )","v":0},0]
[null,null,null,null,null,null,{"$f":"VLOOKUP(F107,工作表9!$G$1:$I$136, 3, FALSE )","v":"混合物"},null,{"$f":"VLOOKUP(F107,工作表9!$G$1:$H$142, 2, FALSE )","v":0},0]
[null,null,null,null,null,null,{"$f":"VLOOKUP(F108,工作表9!$G$1:$I$136, 3, FALSE )","v":"混合物"},null,{"$f":"VLOOKUP(F108,工作表9!$G$1:$H$142, 2, FALSE )","v":0},0]
[null,null,null,null,null,null,{"$f":"VLOOKUP(F109,工作表9!$G$1:$I$136, 3, FALSE )","v":"混合物"},null,{"$f":"VLOOKUP(F109,工作表9!$G$1:$H$142, 2, FALSE )","v":0},0]
[null,null,null,null,null,null,{"$f":"VLOOKUP(F110,工作表9!$G$1:$I$136, 3, FALSE )","v":"混合物"},null,{"$f":"VLOOKUP(F110,工作表9!$G$1:$H$142, 2, FALSE )","v":0},0]
[null,null,null,null,null,null,{"$f":"VLOOKUP(F111,工作表9!$G$1:$I$136, 3, FALSE )","v":"混合物"},null,{"$f":"VLOOKUP(F111,工作表9!$G$1:$H$142, 2, FALSE )","v":0},0]
[null,null,null,null,null,null,{"$f":"VLOOKUP(F112,工作表9!$G$1:$I$136, 3, FALSE )","v":"混合物"},null,{"$f":"VLOOKUP(F112,工作表9!$G$1:$H$142, 2, FALSE )","v":0},0]
[null,null,null,null,null,null,{"$f":"VLOOKUP(F113,工作表9!$G$1:$I$136, 3, FALSE )","v":"混合物"},null,{"$f":"VLOOKUP(F113,工作表9!$G$1:$H$142, 2, FALSE )","v":0},0]
[null,null,null,null,null,null,{"$f":"VLOOKUP(F114,工作表9!$G$1:$I$136, 3, FALSE )","v":"混合物"},null,{"$f":"VLOOKUP(F114,工作表9!$G$1:$H$142, 2, FALSE )","v":0},0]
[null,null,null,null,null,null,{"$f":"VLOOKUP(F115,工作表9!$G$1:$I$136, 3, FALSE )","v":"混合物"},null,{"$f":"VLOOKUP(F115,工作表9!$G$1:$H$142, 2, FALSE )","v":0},0]
[null,null,null,null,null,null,{"$f":"VLOOKUP(F116,工作表9!$G$1:$I$136, 3, FALSE )","v":"混合物"},null,{"$f":"VLOOKUP(F116,工作表9!$G$1:$H$142, 2, FALSE )","v":0},0]
[null,null,null,null,null,null,{"$f":"VLOOKUP(F117,工作表9!$G$1:$I$136, 3, FALSE )","v":"混合物"},null,{"$f":"VLOOKUP(F117,工作表9!$G$1:$H$142, 2, FALSE )","v":0},0]
[null,null,null,null,null,null,{"$f":"VLOOKUP(F118,工作表9!$G$1:$I$136, 3, FALSE )","v":"混合物"},null,{"$f":"VLOOKUP(F118,工作表9!$G$1:$H$142, 2, FALSE )","v":0},0]
[null,null,null,null,null,null,{"$f":"VLOOKUP(F119,工作表9!$G$1:$I$136, 3, FALSE )","v":"混合物"},null,{"$f":"VLOOKUP(F119,工作表9!$G$1:$H$142, 2, FALSE )","v":0},0]
[null,null,null,null,null,null,{"$f":"VLOOKUP(F120,工作表9!$G$1:$I$136, 3, FALSE )","v":"混合物"},null,{"$f":"VLOOKUP(F120,工作表9!$G$1:$H$142, 2, FALSE )","v":0},0]
[null,null,null,null,null,null,{"$f":"VLOOKUP(F121,工作表9!$G$1:$I$136, 3, FALSE )","v":"混合物"},null,{"$f":"VLOOKUP(F121,工作表9!$G$1:$H$142, 2, FALSE )","v":0},0]
[null,null,null,null,null,null,{"$f":"VLOOKUP(F122,工作表9!$G$1:$I$136, 3, FALSE )","v":"混合物"},null,{"$f":"VLOOKUP(F122,工作表9!$G$1:$H$142, 2, FALSE )","v":0},0]
[null,null,null,null,null,null,{"$f":"VLOOKUP(F123,工作表9!$G$1:$I$136, 3, FALSE )","v":"混合物"},null,{"$f":"VLOOKUP(F123,工作表9!$G$1:$H$142, 2, FALSE )","v":0},0]
[null,null,null,null,null,null,{"$f":"VLOOKUP(F124,工作表9!$G$1:$I$136, 3, FALSE )","v":"混合物"},null,{"$f":"VLOOKUP(F124,工作表9!$G$1:$H$142, 2, FALSE )","v":0},0]
[null,null,null,null,null,null,{"$f":"VLOOKUP(F125,工作表9!$G$1:$I$136, 3, FALSE )","v":"混合物"},null,{"$f":"VLOOKUP(F125,工作表9!$G$1:$H$142, 2, FALSE )","v":0},0]
[null,null,null,null,null,null,{"$f":"VLOOKUP(F126,工作表9!$G$1:$I$136, 3, FALSE )","v":"混合物"},null,{"$f":"VLOOKUP(F126,工作表9!$G$1:$H$142, 2, FALSE )","v":0},0]
[null,null,null,null,null,null,{"$f":"VLOOKUP(F127,工作表9!$G$1:$I$136, 3, FALSE )","v":"混合物"},null,{"$f":"VLOOKUP(F127,工作表9!$G$1:$H$142, 2, FALSE )","v":0},0]
[null,null,null,null,null,null,{"$f":"VLOOKUP(F128,工作表9!$G$1:$I$136, 3, FALSE )","v":"混合物"},null,{"$f":"VLOOKUP(F128,工作表9!$G$1:$H$142, 2, FALSE )","v":0},0]
[null,null,null,null,null,null,{"$f":"VLOOKUP(F129,工作表9!$G$1:$I$136, 3, FALSE )","v":"混合物"},null,{"$f":"VLOOKUP(F129,工作表9!$G$1:$H$142, 2, FALSE )","v":0},0]
[null,null,null,null,null,null,{"$f":"VLOOKUP(F130,工作表9!$G$1:$I$136, 3, FALSE )","v":"混合物"},null,{"$f":"VLOOKUP(F130,工作表9!$G$1:$H$142, 2, FALSE )","v":0},0]
[null,null,null,null,null,null,{"$f":"VLOOKUP(F131,工作表9!$G$1:$I$136, 3, FALSE )","v":"混合物"},null,{"$f":"VLOOKUP(F131,工作表9!$G$1:$H$142, 2, FALSE )","v":0},0]
[null,null,null,null,null,null,{"$f":"VLOOKUP(F132,工作表9!$G$1:$I$136, 3, FALSE )","v":"混合物"},null,{"$f":"VLOOKUP(F132,工作表9!$G$1:$H$142, 2, FALSE )","v":0},0]
[null,null,null,null,null,null,{"$f":"VLOOKUP(F133,工作表9!$G$1:$I$136, 3, FALSE )","v":"混合物"},null,{"$f":"VLOOKUP(F133,工作表9!$G$1:$H$142, 2, FALSE )","v":0},0]
[null,null,null,null,null,null,{"$f":"VLOOKUP(F134,工作表9!$G$1:$I$136, 3, FALSE )","v":"混合物"},null,{"$f":"VLOOKUP(F134,工作表9!$G$1:$H$142, 2, FALSE )","v":0},{"$f":"H134*I134","v":0}]
[null,null,null,null,null,null,{"$f":"VLOOKUP(F135,工作表9!$G$1:$I$136, 3, FALSE )","v":"混合物"},null,{"$f":"VLOOKUP(F135,工作表9!$G$1:$H$142, 2, FALSE )","v":0},0]
[null,null,null,null,null,null,{"$f":"VLOOKUP(F136,工作表9!$G$1:$I$136, 3, FALSE )","v":"混合物"},null,{"$f":"VLOOKUP(F136,工作表9!$G$1:$H$142, 2, FALSE )","v":0},0]
[null,null,null,null,null,null,{"$f":"VLOOKUP(F137,工作表9!$G$1:$I$136, 3, FALSE )","v":"混合物"},null,{"$f":"VLOOKUP(F137,工作表9!$G$1:$H$142, 2, FALSE )","v":0},0]
[null,null,null,null,null,null,{"$f":"VLOOKUP(F138,工作表9!$G$1:$I$136, 3, FALSE )","v":"混合物"},null,{"$f":"VLOOKUP(F138,工作表9!$G$1:$H$142, 2, FALSE )","v":0},0]
[null,null,null,null,null,null,{"$f":"VLOOKUP(F139,工作表9!$G$1:$I$136, 3, FALSE )","v":"混合物"},null,{"$f":"VLOOKUP(F139,工作表9!$G$1:$H$142, 2, FALSE )","v":0},0]
[null,null,null,null,null,null,{"$f":"VLOOKUP(F140,工作表9!$G$1:$I$136, 3, FALSE )","v":"混合物"},null,{"$f":"VLOOKUP(F140,工作表9!$G$1:$H$142, 2, FALSE )","v":0},0]
[null,null,null,null,null,null,{"$f":"VLOOKUP(F141,工作表9!$G$1:$I$136, 3, FALSE )","v":"混合物"},null,{"$f":"VLOOKUP(F141,工作表9!$G$1:$H$142, 2, FALSE )","v":0},0]
[null,null,null,null,null,null,{"$f":"VLOOKUP(F142,工作表9!$G$1:$I$136, 3, FALSE )","v":"混合物"},null,{"$f":"VLOOKUP(F142,工作表9!$G$1:$H$142, 2, FALSE )","v":0},0]
[null,null,null,null,null,null,{"$f":"VLOOKUP(F143,工作表9!$G$1:$I$136, 3, FALSE )","v":"混合物"},null,{"$f":"VLOOKUP(F143,工作表9!$G$1:$H$142, 2, FALSE )","v":0},0]
[null,null,null,null,null,null,{"$f":"VLOOKUP(F144,工作表9!$G$1:$I$136, 3, FALSE )","v":"混合物"},null,{"$f":"VLOOKUP(F144,工作表9!$G$1:$H$142, 2, FALSE )","v":0},0]
[null,null,null,null,null,null,{"$f":"VLOOKUP(F145,工作表9!$G$1:$I$136, 3, FALSE )","v":"混合物"},null,{"$f":"VLOOKUP(F145,工作表9!$G$1:$H$142, 2, FALSE )","v":0},0]
[null,null,null,null,null,null,{"$f":"VLOOKUP(F146,工作表9!$G$1:$I$136, 3, FALSE )","v":"混合物"},null,{"$f":"VLOOKUP(F146,工作表9!$G$1:$H$142, 2, FALSE )","v":0},0]
[null,null,null,null,null,null,{"$f":"VLOOKUP(F147,工作表9!$G$1:$I$136, 3, FALSE )","v":"混合物"},null,{"$f":"VLOOKUP(F147,工作表9!$G$1:$H$142, 2, FALSE )","v":0},0]
[null,null,null,null,null,null,{"$f":"VLOOKUP(F148,工作表9!$G$1:$I$136, 3, FALSE )","v":"混合物"},null,{"$f":"VLOOKUP(F148,工作表9!$G$1:$H$142, 2, FALSE )","v":0},0]
[null,null,null,null,null,null,{"$f":"VLOOKUP(F149,工作表9!$G$1:$I$136, 3, FALSE )","v":"混合物"},null,{"$f":"VLOOKUP(F149,工作表9!$G$1:$H$142, 2, FALSE )","v":0},0]
[null,null,null,null,null,null,{"$f":"VLOOKUP(F150,工作表9!$G$1:$I$136, 3, FALSE )","v":"混合物"},null,{"$f":"VLOOKUP(F150,工作表9!$G$1:$H$142, 2, FALSE )","v":0},0]
[null,null,null,null,null,null,{"$f":"VLOOKUP(F151,工作表9!$G$1:$I$136, 3, FALSE )","v":"混合物"},null,{"$f":"VLOOKUP(F151,工作表9!$G$1:$H$142, 2, FALSE )","v":0},0]
[null,null,null,null,null,null,{"$f":"VLOOKUP(F152,工作表9!$G$1:$I$136, 3, FALSE )","v":"混合物"},null,{"$f":"VLOOKUP(F152,工作表9!$G$1:$H$142, 2, FALSE )","v":0},0]
[null,null,null,null,null,null,{"$f":"VLOOKUP(F153,工作表9!$G$1:$I$136, 3, FALSE )","v":"混合物"},null,{"$f":"VLOOKUP(F153,工作表9!$G$1:$H$142, 2, FALSE )","v":0},0]
[null,null,null,null,null,null,{"$f":"VLOOKUP(F154,工作表9!$G$1:$I$136, 3, FALSE )","v":"混合物"},null,{"$f":"VLOOKUP(F154,工作表9!$G$1:$H$142, 2, FALSE )","v":0},0]
[null,null,null,null,null,null,{"$f":"VLOOKUP(F155,工作表9!$G$1:$I$136, 3, FALSE )","v":"混合物"},null,{"$f":"VLOOKUP(F155,工作表9!$G$1:$H$142, 2, FALSE )","v":0},0]
[null,null,null,null,null,null,{"$f":"VLOOKUP(F156,工作表9!$G$1:$I$136, 3, FALSE )","v":"混合物"},null,{"$f":"VLOOKUP(F156,工作表9!$G$1:$H$142, 2, FALSE )","v":0},0]
[null,null,null,null,null,null,{"$f":"VLOOKUP(F157,工作表9!$G$1:$I$136, 3, FALSE )","v":"混合物"},null,{"$f":"VLOOKUP(F157,工作表9!$G$1:$H$142, 2, FALSE )","v":0},0]
[null,null,null,null,null,null,{"$f":"VLOOKUP(F158,工作表9!$G$1:$I$136, 3, FALSE )","v":"混合物"},null,{"$f":"VLOOKUP(F158,工作表9!$G$1:$H$142, 2, FALSE )","v":0},0]
[null,null,null,null,null,null,{"$f":"VLOOKUP(F159,工作表9!$G$1:$I$136, 3, FALSE )","v":"混合物"},null,{"$f":"VLOOKUP(F159,工作表9!$G$1:$H$142, 2, FALSE )","v":0},0]
[null,null,null,null,null,null,{"$f":"VLOOKUP(F160,工作表9!$G$1:$I$136, 3, FALSE )","v":"混合物"},null,{"$f":"VLOOKUP(F160,工作表9!$G$1:$H$142, 2, FALSE )","v":0},0]
[null,null,null,null,null,null,{"$f":"VLOOKUP(F161,工作表9!$G$1:$I$136, 3, FALSE )","v":"混合物"},null,{"$f":"VLOOKUP(F161,工作表9!$G$1:$H$142, 2, FALSE )","v":0},0]
[null,null,null,null,null,null,{"$f":"VLOOKUP(F162,工作表9!$G$1:$I$136, 3, FALSE )","v":"混合物"},null,{"$f":"VLOOKUP(F162,工作表9!$G$1:$H$142, 2, FALSE )","v":0},0]
[null,null,null,null,null,null,{"$f":"VLOOKUP(F163,工作表9!$G$1:$I$136, 3, FALSE )","v":"混合物"},null,{"$f":"VLOOKUP(F163,工作表9!$G$1:$H$142, 2, FALSE )","v":0},0]
[null,null,null,null,null,null,{"$f":"VLOOKUP(F164,工作表9!$G$1:$I$136, 3, FALSE )","v":"混合物"},null,{"$f":"VLOOKUP(F164,工作表9!$G$1:$H$142, 2, FALSE )","v":0},0]
[null,null,null,null,null,null,{"$f":"VLOOKUP(F165,工作表9!$G$1:$I$136, 3, FALSE )","v":"混合物"},null,{"$f":"VLOOKUP(F165,工作表9!$G$1:$H$142, 2, FALSE )","v":0},0]
[null,null,null,null,null,null,{"$f":"VLOOKUP(F166,工作表9!$G$1:$I$136, 3, FALSE )","v":"混合物"},null,{"$f":"VLOOKUP(F166,工作表9!$G$1:$H$142, 2, FALSE )","v":0},0]
[null,null,null,null,null,null,{"$f":"VLOOKUP(F167,工作表9!$G$1:$I$136, 3, FALSE )","v":"混合物"},null,{"$f":"VLOOKUP(F167,工作表9!$G$1:$H$142, 2, FALSE )","v":0},0]
[null,null,null,null,null,null,{"$f":"VLOOKUP(F168,工作表9!$G$1:$I$136, 3, FALSE )","v":"混合物"},null,{"$f":"VLOOKUP(F168,工作表9!$G$1:$H$142, 2, FALSE )","v":0},0]
[null,null,null,null,null,null,{"$f":"VLOOKUP(F169,工作表9!$G$1:$I$136, 3, FALSE )","v":"混合物"},null,{"$f":"VLOOKUP(F169,工作表9!$G$1:$H$142, 2, FALSE )","v":0},0]
[null,null,null,null,null,null,{"$f":"VLOOKUP(F170,工作表9!$G$1:$I$136, 3, FALSE )","v":"混合物"},null,{"$f":"VLOOKUP(F170,工作表9!$G$1:$H$142, 2, FALSE )","v":0},0]
[null,null,null,null,null,null,{"$f":"VLOOKUP(F171,工作表9!$G$1:$I$136, 3, FALSE )","v":"混合物"},null,{"$f":"VLOOKUP(F171,工作表9!$G$1:$H$142, 2, FALSE )","v":0},0]
[null,null,null,null,null,null,{"$f":"VLOOKUP(F172,工作表9!$G$1:$I$136, 3, FALSE )","v":"混合物"},null,{"$f":"VLOOKUP(F172,工作表9!$G$1:$H$142, 2, FALSE )","v":0},0]
[null,null,null,null,null,null,{"$f":"VLOOKUP(F173,工作表9!$G$1:$I$136, 3, FALSE )","v":"混合物"},null,{"$f":"VLOOKUP(F173,工作表9!$G$1:$H$142, 2, FALSE )","v":0},0]
[null,null,null,null,null,null,{"$f":"VLOOKUP(F174,工作表9!$G$1:$I$136, 3, FALSE )","v":"混合物"},null,{"$f":"VLOOKUP(F174,工作表9!$G$1:$H$142, 2, FALSE )","v":0},0]
[null,null,null,null,null,null,{"$f":"VLOOKUP(F175,工作表9!$G$1:$I$136, 3, FALSE )","v":"混合物"},null,{"$f":"VLOOKUP(F175,工作表9!$G$1:$H$142, 2, FALSE )","v":0},0]
[null,null,null,null,null,null,{"$f":"VLOOKUP(F176,工作表9!$G$1:$I$136, 3, FALSE )","v":"混合物"},null,{"$f":"VLOOKUP(F176,工作表9!$G$1:$H$142, 2, FALSE )","v":0},0]
[null,null,null,null,null,null,{"$f":"VLOOKUP(F177,工作表9!$G$1:$I$136, 3, FALSE )","v":"混合物"},null,{"$f":"VLOOKUP(F177,工作表9!$G$1:$H$142, 2, FALSE )","v":0},0]
[null,null,null,null,null,null,{"$f":"VLOOKUP(F178,工作表9!$G$1:$I$136, 3, FALSE )","v":"混合物"},null,{"$f":"VLOOKUP(F178,工作表9!$G$1:$H$142, 2, FALSE )","v":0},0]
[null,null,null,null,null,null,{"$f":"VLOOKUP(F179,工作表9!$G$1:$I$136, 3, FALSE )","v":"混合物"},null,{"$f":"VLOOKUP(F179,工作表9!$G$1:$H$142, 2, FALSE )","v":0},0]
[null,null,null,null,null,null,{"$f":"VLOOKUP(F180,工作表9!$G$1:$I$136, 3, FALSE )","v":"混合物"},null,{"$f":"VLOOKUP(F180,工作表9!$G$1:$H$142, 2, FALSE )","v":0},0]
[null,null,null,null,null,null,{"$f":"VLOOKUP(F181,工作表9!$G$1:$I$136, 3, FALSE )","v":"混合物"},null,{"$f":"VLOOKUP(F181,工作表9!$G$1:$H$142, 2, FALSE )","v":0},0]
[null,null,null,null,null,null,{"$f":"VLOOKUP(F182,工作表9!$G$1:$I$136, 3, FALSE )","v":"混合物"},null,{"$f":"VLOOKUP(F182,工作表9!$G$1:$H$142, 2, FALSE )","v":0},0]
[null,null,null,null,null,null,{"$f":"VLOOKUP(F183,工作表9!$G$1:$I$136, 3, FALSE )","v":"混合物"},null,{"$f":"VLOOKUP(F183,工作表9!$G$1:$H$142, 2, FALSE )","v":0},0]
[null,null,null,null,null,null,{"$f":"VLOOKUP(F184,工作表9!$G$1:$I$136, 3, FALSE )","v":"混合物"},null,{"$f":"VLOOKUP(F184,工作表9!$G$1:$H$142, 2, FALSE )","v":0},0]
[null,null,null,null,null,null,{"$f":"VLOOKUP(F185,工作表9!$G$1:$I$136, 3, FALSE )","v":"混合物"},null,{"$f":"VLOOKUP(F185,工作表9!$G$1:$H$142, 2, FALSE )","v":0},0]
[null,null,null,null,null,null,{"$f":"VLOOKUP(F186,工作表9!$G$1:$I$136, 3, FALSE )","v":"混合物"},null,{"$f":"VLOOKUP(F186,工作表9!$G$1:$H$142, 2, FALSE )","v":0},0]
[null,null,null,null,null,null,{"$f":"VLOOKUP(F187,工作表9!$G$1:$I$136, 3, FALSE )","v":"混合物"},null,{"$f":"VLOOKUP(F187,工作表9!$G$1:$H$142, 2, FALSE )","v":0},0]
[null,null,null,null,null,null,{"$f":"VLOOKUP(F188,工作表9!$G$1:$I$136, 3, FALSE )","v":"混合物"},null,{"$f":"VLOOKUP(F188,工作表9!$G$1:$H$142, 2, FALSE )","v":0},0]
[null,null,null,null,null,null,{"$f":"VLOOKUP(F189,工作表9!$G$1:$I$136, 3, FALSE )","v":"混合物"},null,{"$f":"VLOOKUP(F189,工作表9!$G$1:$H$142, 2, FALSE )","v":0},0]
[null,null,null,null,null,null,{"$f":"VLOOKUP(F190,工作表9!$G$1:$I$136, 3, FALSE )","v":"混合物"},null,{"$f":"VLOOKUP(F190,工作表9!$G$1:$H$142, 2, FALSE )","v":0},0]
[null,null,null,null,null,null,{"$f":"VLOOKUP(F191,工作表9!$G$1:$I$136, 3, FALSE )","v":"混合物"},null,{"$f":"VLOOKUP(F191,工作表9!$G$1:$H$142, 2, FALSE )","v":0},0]
[null,null,null,null,null,null,{"$f":"VLOOKUP(F192,工作表9!$G$1:$I$136, 3, FALSE )","v":"混合物"},null,{"$f":"VLOOKUP(F192,工作表9!$G$1:$H$142, 2, FALSE )","v":0},0]
[null,null,null,null,null,null,{"$f":"VLOOKUP(F193,工作表9!$G$1:$I$136, 3, FALSE )","v":"混合物"},null,{"$f":"VLOOKUP(F193,工作表9!$G$1:$H$142, 2, FALSE )","v":0},0]
[null,null,null,null,null,null,{"$f":"VLOOKUP(F194,工作表9!$G$1:$I$136, 3, FALSE )","v":"混合物"},null,{"$f":"VLOOKUP(F194,工作表9!$G$1:$H$142, 2, FALSE )","v":0},0]
[null,null,null,null,null,null,{"$f":"VLOOKUP(F195,工作表9!$G$1:$I$136, 3, FALSE )","v":"混合物"},null,{"$f":"VLOOKUP(F195,工作表9!$G$1:$H$142, 2, FALSE )","v":0},0]
[null,null,null,null,null,null,{"$f":"VLOOKUP(F196,工作表9!$G$1:$I$136, 3, FALSE )","v":"混合物"},null,{"$f":"VLOOKUP(F196,工作表9!$G$1:$H$142, 2, FALSE )","v":0},0]
[null,null,null,null,null,null,{"$f":"VLOOKUP(F197,工作表9!$G$1:$I$136, 3, FALSE )","v":"混合物"},null,{"$f":"VLOOKUP(F197,工作表9!$G$1:$H$142, 2, FALSE )","v":0},0]
[null,null,null,null,null,null,{"$f":"VLOOKUP(F198,工作表9!$G$1:$I$136, 3, FALSE )","v":"混合物"},null,{"$f":"VLOOKUP(F198,工作表9!$G$1:$H$142, 2, FALSE )","v":0},{"$f":"H198*I198","v":0}]
[null,null,null,null,null,null,{"$f":"VLOOKUP(F199,工作表9!$G$1:$I$136, 3, FALSE )","v":"混合物"},null,{"$f":"VLOOKUP(F199,工作表9!$G$1:$H$142, 2, FALSE )","v":0},0]
[null,null,null,null,null,null,{"$f":"VLOOKUP(F200,工作表9!$G$1:$I$136, 3, FALSE )","v":"混合物"},null,{"$f":"VLOOKUP(F200,工作表9!$G$1:$H$142, 2, FALSE )","v":0},0]
[null,null,null,null,null,null,{"$f":"VLOOKUP(F201,工作表9!$G$1:$I$136, 3, FALSE )","v":"混合物"},null,{"$f":"VLOOKUP(F201,工作表9!$G$1:$H$142, 2, FALSE )","v":0},0]
[null,null,null,null,null,null,{"$f":"VLOOKUP(F202,工作表9!$G$1:$I$136, 3, FALSE )","v":"混合物"},null,{"$f":"VLOOKUP(F202,工作表9!$G$1:$H$142, 2, FALSE )","v":0},0]
[null,null,null,null,null,null,{"$f":"VLOOKUP(F203,工作表9!$G$1:$I$136, 3, FALSE )","v":"混合物"},null,{"$f":"VLOOKUP(F203,工作表9!$G$1:$H$142, 2, FALSE )","v":0},0]
[null,null,null,null,null,null,{"$f":"VLOOKUP(F204,工作表9!$G$1:$I$136, 3, FALSE )","v":"混合物"},null,{"$f":"VLOOKUP(F204,工作表9!$G$1:$H$142, 2, FALSE )","v":0},0]
[null,null,null,null,null,null,{"$f":"VLOOKUP(F205,工作表9!$G$1:$I$136, 3, FALSE )","v":"混合物"},null,{"$f":"VLOOKUP(F205,工作表9!$G$1:$H$142, 2, FALSE )","v":0},0]
[null,null,null,null,null,null,{"$f":"VLOOKUP(F206,工作表9!$G$1:$I$136, 3, FALSE )","v":"混合物"},null,{"$f":"VLOOKUP(F206,工作表9!$G$1:$H$142, 2, FALSE )","v":0},0]
[null,null,null,null,null,null,{"$f":"VLOOKUP(F207,工作表9!$G$1:$I$136, 3, FALSE )","v":"混合物"},null,{"$f":"VLOOKUP(F207,工作表9!$G$1:$H$142, 2, FALSE )","v":0},0]
[null,null,null,null,null,null,{"$f":"VLOOKUP(F208,工作表9!$G$1:$I$136, 3, FALSE )","v":"混合物"},null,{"$f":"VLOOKUP(F208,工作表9!$G$1:$H$142, 2, FALSE )","v":0},0]
[null,null,null,null,null,null,{"$f":"VLOOKUP(F209,工作表9!$G$1:$I$136, 3, FALSE )","v":"混合物"},null,{"$f":"VLOOKUP(F209,工作表9!$G$1:$H$142, 2, FALSE )","v":0},0]
[null,null,null,null,null,null,{"$f":"VLOOKUP(F210,工作表9!$G$1:$I$136, 3, FALSE )","v":"混合物"},null,{"$f":"VLOOKUP(F210,工作表9!$G$1:$H$142, 2, FALSE )","v":0},0]
[null,null,null,null,null,null,{"$f":"VLOOKUP(F211,工作表9!$G$1:$I$136, 3, FALSE )","v":"混合物"},null,{"$f":"VLOOKUP(F211,工作表9!$G$1:$H$142, 2, FALSE )","v":0},0]
[null,null,null,null,null,null,{"$f":"VLOOKUP(F212,工作表9!$G$1:$I$136, 3, FALSE )","v":"混合物"},null,{"$f":"VLOOKUP(F212,工作表9!$G$1:$H$142, 2, FALSE )","v":0},0]
[null,null,null,null,null,null,{"$f":"VLOOKUP(F213,工作表9!$G$1:$I$136, 3, FALSE )","v":"混合物"},null,{"$f":"VLOOKUP(F213,工作表9!$G$1:$H$142, 2, FALSE )","v":0},0]
[null,null,null,null,null,null,{"$f":"VLOOKUP(F214,工作表9!$G$1:$I$136, 3, FALSE )","v":"混合物"},null,{"$f":"VLOOKUP(F214,工作表9!$G$1:$H$142, 2, FALSE )","v":0},0]
[null,null,null,null,null,null,{"$f":"VLOOKUP(F215,工作表9!$G$1:$I$136, 3, FALSE )","v":"混合物"},null,{"$f":"VLOOKUP(F215,工作表9!$G$1:$H$142, 2, FALSE )","v":0},0]
[null,null,null,null,null,null,{"$f":"VLOOKUP(F216,工作表9!$G$1:$I$136, 3, FALSE )","v":"混合物"},null,{"$f":"VLOOKUP(F216,工作表9!$G$1:$H$142, 2, FALSE )","v":0},0]
[null,null,null,null,null,null,{"$f":"VLOOKUP(F217,工作表9!$G$1:$I$136, 3, FALSE )","v":"混合物"},null,{"$f":"VLOOKUP(F217,工作表9!$G$1:$H$142, 2, FALSE )","v":0},0]
[null,null,null,null,null,null,{"$f":"VLOOKUP(F218,工作表9!$G$1:$I$136, 3, FALSE )","v":"混合物"},null,{"$f":"VLOOKUP(F218,工作表9!$G$1:$H$142, 2, FALSE )","v":0},0]
[null,null,null,null,null,null,{"$f":"VLOOKUP(F219,工作表9!$G$1:$I$136, 3, FALSE )","v":"混合物"},null,{"$f":"VLOOKUP(F219,工作表9!$G$1:$H$142, 2, FALSE )","v":0},0]
[null,null,null,null,null,null,{"$f":"VLOOKUP(F220,工作表9!$G$1:$I$136, 3, FALSE )","v":"混合物"},null,{"$f":"VLOOKUP(F220,工作表9!$G$1:$H$142, 2, FALSE )","v":0},0]
[null,null,null,null,null,null,{"$f":"VLOOKUP(F221,工作表9!$G$1:$I$136, 3, FALSE )","v":"混合物"},null,{"$f":"VLOOKUP(F221,工作表9!$G$1:$H$142, 2, FALSE )","v":0},0]
[null,null,null,null,null,null,{"$f":"VLOOKUP(F222,工作表9!$G$1:$I$136, 3, FALSE )","v":"混合物"},null,{"$f":"VLOOKUP(F222,工作表9!$G$1:$H$142, 2, FALSE )","v":0},0]
[null,null,null,null,null,null,{"$f":"VLOOKUP(F223,工作表9!$G$1:$I$136, 3, FALSE )","v":"混合物"},null,{"$f":"VLOOKUP(F223,工作表9!$G$1:$H$142, 2, FALSE )","v":0},0]
[null,null,null,null,null,null,{"$f":"VLOOKUP(F224,工作表9!$G$1:$I$136, 3, FALSE )","v":"混合物"},null,{"$f":"VLOOKUP(F224,工作表9!$G$1:$H$142, 2, FALSE )","v":0},0]
[null,null,null,null,null,null,{"$f":"VLOOKUP(F225,工作表9!$G$1:$I$136, 3, FALSE )","v":"混合物"},null,{"$f":"VLOOKUP(F225,工作表9!$G$1:$H$142, 2, FALSE )","v":0},0]
[null,null,null,null,null,null,{"$f":"VLOOKUP(F226,工作表9!$G$1:$I$136, 3, FALSE )","v":"混合物"},null,{"$f":"VLOOKUP(F226,工作表9!$G$1:$H$142, 2, FALSE )","v":0},0]
[null,null,null,null,null,null,{"$f":"VLOOKUP(F227,工作表9!$G$1:$I$136, 3, FALSE )","v":"混合物"},null,{"$f":"VLOOKUP(F227,工作表9!$G$1:$H$142, 2, FALSE )","v":0},0]
[null,null,null,null,null,null,{"$f":"VLOOKUP(F228,工作表9!$G$1:$I$136, 3, FALSE )","v":"混合物"},null,{"$f":"VLOOKUP(F228,工作表9!$G$1:$H$142, 2, FALSE )","v":0},0]
[null,null,null,null,null,null,{"$f":"VLOOKUP(F229,工作表9!$G$1:$I$136, 3, FALSE )","v":"混合物"},null,{"$f":"VLOOKUP(F229,工作表9!$G$1:$H$142, 2, FALSE )","v":0},0]
[null,null,null,null,null,null,{"$f":"VLOOKUP(F230,工作表9!$G$1:$I$136, 3, FALSE )","v":"混合物"},null,{"$f":"VLOOKUP(F230,工作表9!$G$1:$H$142, 2, FALSE )","v":0},0]
[null,null,null,null,null,null,{"$f":"VLOOKUP(F231,工作表9!$G$1:$I$136, 3, FALSE )","v":"混合物"},null,{"$f":"VLOOKUP(F231,工作表9!$G$1:$H$142, 2, FALSE )","v":0},0]
[null,null,null,null,null,null,{"$f":"VLOOKUP(F232,工作表9!$G$1:$I$136, 3, FALSE )","v":"混合物"},null,{"$f":"VLOOKUP(F232,工作表9!$G$1:$H$142, 2, FALSE )","v":0},0]
[null,null,null,null,null,null,{"$f":"VLOOKUP(F233,工作表9!$G$1:$I$136, 3, FALSE )","v":"混合物"},null,{"$f":"VLOOKUP(F233,工作表9!$G$1:$H$142, 2, FALSE )","v":0},0]
[null,null,null,null,null,null,{"$f":"VLOOKUP(F234,工作表9!$G$1:$I$136, 3, FALSE )","v":"混合物"},null,{"$f":"VLOOKUP(F234,工作表9!$G$1:$H$142, 2, FALSE )","v":0},0]
[null,null,null,null,null,null,{"$f":"VLOOKUP(F235,工作表9!$G$1:$I$136, 3, FALSE )","v":"混合物"},null,{"$f":"VLOOKUP(F235,工作表9!$G$1:$H$142, 2, FALSE )","v":0},0]
[null,null,null,null,null,null,{"$f":"VLOOKUP(F236,工作表9!$G$1:$I$136, 3, FALSE )","v":"混合物"},null,{"$f":"VLOOKUP(F236,工作表9!$G$1:$H$142, 2, FALSE )","v":0},0]
[null,null,null,null,null,null,{"$f":"VLOOKUP(F237,工作表9!$G$1:$I$136, 3, FALSE )","v":"混合物"},null,{"$f":"VLOOKUP(F237,工作表9!$G$1:$H$142, 2, FALSE )","v":0},0]
[null,null,null,null,null,null,{"$f":"VLOOKUP(F238,工作表9!$G$1:$I$136, 3, FALSE )","v":"混合物"},null,{"$f":"VLOOKUP(F238,工作表9!$G$1:$H$142, 2, FALSE )","v":0},0]
[null,null,null,null,null,null,{"$f":"VLOOKUP(F239,工作表9!$G$1:$I$136, 3, FALSE )","v":"混合物"},null,{"$f":"VLOOKUP(F239,工作表9!$G$1:$H$142, 2, FALSE )","v":0},0]
[null,null,null,null,null,null,{"$f":"VLOOKUP(F240,工作表9!$G$1:$I$136, 3, FALSE )","v":"混合物"},null,{"$f":"VLOOKUP(F240,工作表9!$G$1:$H$142, 2, FALSE )","v":0},0]
[null,null,null,null,null,null,{"$f":"VLOOKUP(F241,工作表9!$G$1:$I$136, 3, FALSE )","v":"混合物"},null,{"$f":"VLOOKUP(F241,工作表9!$G$1:$H$142, 2, FALSE )","v":0},0]
[null,null,null,null,null,null,{"$f":"VLOOKUP(F242,工作表9!$G$1:$I$136, 3, FALSE )","v":"混合物"},null,{"$f":"VLOOKUP(F242,工作表9!$G$1:$H$142, 2, FALSE )","v":0},0]
[null,null,null,null,null,null,{"$f":"VLOOKUP(F243,工作表9!$G$1:$I$136, 3, FALSE )","v":"混合物"},null,{"$f":"VLOOKUP(F243,工作表9!$G$1:$H$142, 2, FALSE )","v":0},0]
[null,null,null,null,null,null,{"$f":"VLOOKUP(F244,工作表9!$G$1:$I$136, 3, FALSE )","v":"混合物"},null,{"$f":"VLOOKUP(F244,工作表9!$G$1:$H$142, 2, FALSE )","v":0},0]
[null,null,null,null,null,null,{"$f":"VLOOKUP(F245,工作表9!$G$1:$I$136, 3, FALSE )","v":"混合物"},null,{"$f":"VLOOKUP(F245,工作表9!$G$1:$H$142, 2, FALSE )","v":0},0]
[null,null,null,null,null,null,{"$f":"VLOOKUP(F246,工作表9!$G$1:$I$136, 3, FALSE )","v":"混合物"},null,{"$f":"VLOOKUP(F246,工作表9!$G$1:$H$142, 2, FALSE )","v":0},0]
[null,null,null,null,null,null,{"$f":"VLOOKUP(F247,工作表9!$G$1:$I$136, 3, FALSE )","v":"混合物"},null,{"$f":"VLOOKUP(F247,工作表9!$G$1:$H$142, 2, FALSE )","v":0},0]
[null,null,null,null,null,null,{"$f":"VLOOKUP(F248,工作表9!$G$1:$I$136, 3, FALSE )","v":"混合物"},null,{"$f":"VLOOKUP(F248,工作表9!$G$1:$H$142, 2, FALSE )","v":0},0]
[null,null,null,null,null,null,{"$f":"VLOOKUP(F249,工作表9!$G$1:$I$136, 3, FALSE )","v":"混合物"},null,{"$f":"VLOOKUP(F249,工作表9!$G$1:$H$142, 2, FALSE )","v":0},0]
[null,null,null,null,null,null,{"$f":"VLOOKUP(F250,工作表9!$G$1:$I$136, 3, FALSE )","v":"混合物"},null,{"$f":"VLOOKUP(F250,工作表9!$G$1:$H$142, 2, FALSE )","v":0},0]
[null,null,null,null,null,null,{"$f":"VLOOKUP(F251,工作表9!$G$1:$I$136, 3, FALSE )","v":"混合物"},null,{"$f":"VLOOKUP(F251,工作表9!$G$1:$H$142, 2, FALSE )","v":0},0]
[null,null,null,null,null,null,{"$f":"VLOOKUP(F252,工作表9!$G$1:$I$136, 3, FALSE )","v":"混合物"},null,{"$f":"VLOOKUP(F252,工作表9!$G$1:$H$142, 2, FALSE )","v":0},0]
[null,null,null,null,null,null,{"$f":"VLOOKUP(F253,工作表9!$G$1:$I$136, 3, FALSE )","v":"混合物"},null,{"$f":"VLOOKUP(F253,工作表9!$G$1:$H$142, 2, FALSE )","v":0},0]
[null,null,null,null,null,null,{"$f":"VLOOKUP(F254,工作表9!$G$1:$I$136, 3, FALSE )","v":"混合物"},null,{"$f":"VLOOKUP(F254,工作表9!$G$1:$H$142, 2, FALSE )","v":0},0]
[null,null,null,null,null,null,{"$f":"VLOOKUP(F255,工作表9!$G$1:$I$136, 3, FALSE )","v":"混合物"},null,{"$f":"VLOOKUP(F255,工作表9!$G$1:$H$142, 2, FALSE )","v":0},0]
[null,null,null,null,null,null,{"$f":"VLOOKUP(F256,工作表9!$G$1:$I$136, 3, FALSE )","v":"混合物"},null,{"$f":"VLOOKUP(F256,工作表9!$G$1:$H$142, 2, FALSE )","v":0},0]
[null,null,null,null,null,null,{"$f":"VLOOKUP(F257,工作表9!$G$1:$I$136, 3, FALSE )","v":"混合物"},null,{"$f":"VLOOKUP(F257,工作表9!$G$1:$H$142, 2, FALSE )","v":0},0]
[null,null,null,null,null,null,{"$f":"VLOOKUP(F258,工作表9!$G$1:$I$136, 3, FALSE )","v":"混合物"},null,{"$f":"VLOOKUP(F258,工作表9!$G$1:$H$142, 2, FALSE )","v":0},0]
[null,null,null,null,null,null,{"$f":"VLOOKUP(F259,工作表9!$G$1:$I$136, 3, FALSE )","v":"混合物"},null,{"$f":"VLOOKUP(F259,工作表9!$G$1:$H$142, 2, FALSE )","v":0},0]
[null,null,null,null,null,null,{"$f":"VLOOKUP(F260,工作表9!$G$1:$I$136, 3, FALSE )","v":"混合物"},null,{"$f":"VLOOKUP(F260,工作表9!$G$1:$H$142, 2, FALSE )","v":0},0]
[null,null,null,null,null,null,{"$f":"VLOOKUP(F261,工作表9!$G$1:$I$136, 3, FALSE )","v":"混合物"},null,{"$f":"VLOOKUP(F261,工作表9!$G$1:$H$142, 2, FALSE )","v":0},0]
[null,null,null,null,null,null,{"$f":"VLOOKUP(F262,工作表9!$G$1:$I$136, 3, FALSE )","v":"混合物"},null,{"$f":"VLOOKUP(F262,工作表9!$G$1:$H$142, 2, FALSE )","v":0},{"$f":"H262*I262","v":0}]
[null,null,null,null,null,null,{"$f":"VLOOKUP(F263,工作表9!$G$1:$I$136, 3, FALSE )","v":"混合物"},null,{"$f":"VLOOKUP(F263,工作表9!$G$1:$H$142, 2, FALSE )","v":0},0]
[null,null,null,null,null,null,{"$f":"VLOOKUP(F264,工作表9!$G$1:$I$136, 3, FALSE )","v":"混合物"},null,{"$f":"VLOOKUP(F264,工作表9!$G$1:$H$142, 2, FALSE )","v":0},0]
[null,null,null,null,null,null,{"$f":"VLOOKUP(F265,工作表9!$G$1:$I$136, 3, FALSE )","v":"混合物"},null,{"$f":"VLOOKUP(F265,工作表9!$G$1:$H$142, 2, FALSE )","v":0},0]
[null,null,null,null,null,null,{"$f":"VLOOKUP(F266,工作表9!$G$1:$I$136, 3, FALSE )","v":"混合物"},null,{"$f":"VLOOKUP(F266,工作表9!$G$1:$H$142, 2, FALSE )","v":0},0]
[null,null,null,null,null,null,{"$f":"VLOOKUP(F267,工作表9!$G$1:$I$136, 3, FALSE )","v":"混合物"},null,{"$f":"VLOOKUP(F267,工作表9!$G$1:$H$142, 2, FALSE )","v":0},0]
[null,null,null,null,null,null,{"$f":"VLOOKUP(F268,工作表9!$G$1:$I$136, 3, FALSE )","v":"混合物"},null,{"$f":"VLOOKUP(F268,工作表9!$G$1:$H$142, 2, FALSE )","v":0},0]
[null,null,null,null,null,null,{"$f":"VLOOKUP(F269,工作表9!$G$1:$I$136, 3, FALSE )","v":"混合物"},null,{"$f":"VLOOKUP(F269,工作表9!$G$1:$H$142, 2, FALSE )","v":0},0]
[null,null,null,null,null,null,{"$f":"VLOOKUP(F270,工作表9!$G$1:$I$136, 3, FALSE )","v":"混合物"},null,{"$f":"VLOOKUP(F270,工作表9!$G$1:$H$142, 2, FALSE )","v":0},0]
[null,null,null,null,null,null,{"$f":"VLOOKUP(F271,工作表9!$G$1:$I$136, 3, FALSE )","v":"混合物"},null,{"$f":"VLOOKUP(F271,工作表9!$G$1:$H$142, 2, FALSE )","v":0},0]
[null,null,null,null,null,null,{"$f":"VLOOKUP(F272,工作表9!$G$1:$I$136, 3, FALSE )","v":"混合物"},null,{"$f":"VLOOKUP(F272,工作表9!$G$1:$H$142, 2, FALSE )","v":0},0]
[null,null,null,null,null,null,{"$f":"VLOOKUP(F273,工作表9!$G$1:$I$136, 3, FALSE )","v":"混合物"},null,{"$f":"VLOOKUP(F273,工作表9!$G$1:$H$142, 2, FALSE )","v":0},0]
[null,null,null,null,null,null,{"$f":"VLOOKUP(F274,工作表9!$G$1:$I$136, 3, FALSE )","v":"混合物"},null,{"$f":"VLOOKUP(F274,工作表9!$G$1:$H$142, 2, FALSE )","v":0},0]
[null,null,null,null,null,null,{"$f":"VLOOKUP(F275,工作表9!$G$1:$I$136, 3, FALSE )","v":"混合物"},null,{"$f":"VLOOKUP(F275,工作表9!$G$1:$H$142, 2, FALSE )","v":0},0]
[null,null,null,null,null,null,{"$f":"VLOOKUP(F276,工作表9!$G$1:$I$136, 3, FALSE )","v":"混合物"},null,{"$f":"VLOOKUP(F276,工作表9!$G$1:$H$142, 2, FALSE )","v":0},0]
[null,null,null,null,null,null,{"$f":"VLOOKUP(F277,工作表9!$G$1:$I$136, 3, FALSE )","v":"混合物"},null,{"$f":"VLOOKUP(F277,工作表9!$G$1:$H$142, 2, FALSE )","v":0},0]
[null,null,null,null,null,null,{"$f":"VLOOKUP(F278,工作表9!$G$1:$I$136, 3, FALSE )","v":"混合物"},null,{"$f":"VLOOKUP(F278,工作表9!$G$1:$H$142, 2, FALSE )","v":0},0]
[null,null,null,null,null,null,{"$f":"VLOOKUP(F279,工作表9!$G$1:$I$136, 3, FALSE )","v":"混合物"},null,{"$f":"VLOOKUP(F279,工作表9!$G$1:$H$142, 2, FALSE )","v":0},0]
[null,null,null,null,null,null,{"$f":"VLOOKUP(F280,工作表9!$G$1:$I$136, 3, FALSE )","v":"混合物"},null,{"$f":"VLOOKUP(F280,工作表9!$G$1:$H$142, 2, FALSE )","v":0},0]
[null,null,null,null,null,null,{"$f":"VLOOKUP(F281,工作表9!$G$1:$I$136, 3, FALSE )","v":"混合物"},null,{"$f":"VLOOKUP(F281,工作表9!$G$1:$H$142, 2, FALSE )","v":0},0]
[null,null,null,null,null,null,{"$f":"VLOOKUP(F282,工作表9!$G$1:$I$136, 3, FALSE )","v":"混合物"},null,{"$f":"VLOOKUP(F282,工作表9!$G$1:$H$142, 2, FALSE )","v":0},0]
[null,null,null,null,null,null,{"$f":"VLOOKUP(F283,工作表9!$G$1:$I$136, 3, FALSE )","v":"混合物"},null,{"$f":"VLOOKUP(F283,工作表9!$G$1:$H$142, 2, FALSE )","v":0},0]
[null,null,null,null,null,null,{"$f":"VLOOKUP(F284,工作表9!$G$1:$I$136, 3, FALSE )","v":"混合物"},null,{"$f":"VLOOKUP(F284,工作表9!$G$1:$H$142, 2, FALSE )","v":0},0]
[null,null,null,null,null,null,{"$f":"VLOOKUP(F285,工作表9!$G$1:$I$136, 3, FALSE )","v":"混合物"},null,{"$f":"VLOOKUP(F285,工作表9!$G$1:$H$142, 2, FALSE )","v":0},0]
[null,null,null,null,null,null,{"$f":"VLOOKUP(F286,工作表9!$G$1:$I$136, 3, FALSE )","v":"混合物"},null,{"$f":"VLOOKUP(F286,工作表9!$G$1:$H$142, 2, FALSE )","v":0},0]
[null,null,null,null,null,null,{"$f":"VLOOKUP(F287,工作表9!$G$1:$I$136, 3, FALSE )","v":"混合物"},null,{"$f":"VLOOKUP(F287,工作表9!$G$1:$H$142, 2, FALSE )","v":0},0]
[null,null,null,null,null,null,{"$f":"VLOOKUP(F288,工作表9!$G$1:$I$136, 3, FALSE )","v":"混合物"},null,{"$f":"VLOOKUP(F288,工作表9!$G$1:$H$142, 2, FALSE )","v":0},0]
[null,null,null,null,null,null,{"$f":"VLOOKUP(F289,工作表9!$G$1:$I$136, 3, FALSE )","v":"混合物"},null,{"$f":"VLOOKUP(F289,工作表9!$G$1:$H$142, 2, FALSE )","v":0},0]
[null,null,null,null,null,null,{"$f":"VLOOKUP(F290,工作表9!$G$1:$I$136, 3, FALSE )","v":"混合物"},null,{"$f":"VLOOKUP(F290,工作表9!$G$1:$H$142, 2, FALSE )","v":0},0]
[null,null,null,null,null,null,{"$f":"VLOOKUP(F291,工作表9!$G$1:$I$136, 3, FALSE )","v":"混合物"},null,{"$f":"VLOOKUP(F291,工作表9!$G$1:$H$142, 2, FALSE )","v":0},0]
[null,null,null,null,null,null,{"$f":"VLOOKUP(F292,工作表9!$G$1:$I$136, 3, FALSE )","v":"混合物"},null,{"$f":"VLOOKUP(F292,工作表9!$G$1:$H$142, 2, FALSE )","v":0},0]
[null,null,null,null,null,null,{"$f":"VLOOKUP(F293,工作表9!$G$1:$I$136, 3, FALSE )","v":"混合物"},null,{"$f":"VLOOKUP(F293,工作表9!$G$1:$H$142, 2, FALSE )","v":0},0]
[null,null,null,null,null,null,{"$f":"VLOOKUP(F294,工作表9!$G$1:$I$136, 3, FALSE )","v":"混合物"},null,{"$f":"VLOOKUP(F294,工作表9!$G$1:$H$142, 2, FALSE )","v":0},0]
[null,null,null,null,null,null,{"$f":"VLOOKUP(F295,工作表9!$G$1:$I$136, 3, FALSE )","v":"混合物"},null,{"$f":"VLOOKUP(F295,工作表9!$G$1:$H$142, 2, FALSE )","v":0},0]
[null,null,null,null,null,null,{"$f":"VLOOKUP(F296,工作表9!$G$1:$I$136, 3, FALSE )","v":"混合物"},null,{"$f":"VLOOKUP(F296,工作表9!$G$1:$H$142, 2, FALSE )","v":0},0]
[null,null,null,null,null,null,{"$f":"VLOOKUP(F297,工作表9!$G$1:$I$136, 3, FALSE )","v":"混合物"},null,{"$f":"VLOOKUP(F297,工作表9!$G$1:$H$142, 2, FALSE )","v":0},0]
[null,null,null,null,null,null,{"$f":"VLOOKUP(F298,工作表9!$G$1:$I$136, 3, FALSE )","v":"混合物"},null,{"$f":"VLOOKUP(F298,工作表9!$G$1:$H$142, 2, FALSE )","v":0},0]
[null,null,null,null,null,null,{"$f":"VLOOKUP(F299,工作表9!$G$1:$I$136, 3, FALSE )","v":"混合物"},null,{"$f":"VLOOKUP(F299,工作表9!$G$1:$H$142, 2, FALSE )","v":0},0]
[null,null,null,null,null,null,{"$f":"VLOOKUP(F300,工作表9!$G$1:$I$136, 3, FALSE )","v":"混合物"},null,{"$f":"VLOOKUP(F300,工作表9!$G$1:$H$142, 2, FALSE )","v":0},0]
[null,null,null,null,null,null,{"$f":"VLOOKUP(F301,工作表9!$G$1:$I$136, 3, FALSE )","v":"混合物"},null,{"$f":"VLOOKUP(F301,工作表9!$G$1:$H$142, 2, FALSE )","v":0},0]
[null,null,null,null,null,null,{"$f":"VLOOKUP(F302,工作表9!$G$1:$I$136, 3, FALSE )","v":"混合物"},null,{"$f":"VLOOKUP(F302,工作表9!$G$1:$H$142, 2, FALSE )","v":0},0]
[null,null,null,null,null,null,{"$f":"VLOOKUP(F303,工作表9!$G$1:$I$136, 3, FALSE )","v":"混合物"},null,{"$f":"VLOOKUP(F303,工作表9!$G$1:$H$142, 2, FALSE )","v":0},0]
[null,null,null,null,null,null,{"$f":"VLOOKUP(F304,工作表9!$G$1:$I$136, 3, FALSE )","v":"混合物"},null,{"$f":"VLOOKUP(F304,工作表9!$G$1:$H$142, 2, FALSE )","v":0},0]
[null,null,null,null,null,null,{"$f":"VLOOKUP(F305,工作表9!$G$1:$I$136, 3, FALSE )","v":"混合物"},null,{"$f":"VLOOKUP(F305,工作表9!$G$1:$H$142, 2, FALSE )","v":0},0]
[null,null,null,null,null,null,{"$f":"VLOOKUP(F306,工作表9!$G$1:$I$136, 3, FALSE )","v":"混合物"},null,{"$f":"VLOOKUP(F306,工作表9!$G$1:$H$142, 2, FALSE )","v":0},0]
[null,null,null,null,null,null,{"$f":"VLOOKUP(F307,工作表9!$G$1:$I$136, 3, FALSE )","v":"混合物"},null,{"$f":"VLOOKUP(F307,工作表9!$G$1:$H$142, 2, FALSE )","v":0},0]
[null,null,null,null,null,null,{"$f":"VLOOKUP(F308,工作表9!$G$1:$I$136, 3, FALSE )","v":"混合物"},null,{"$f":"VLOOKUP(F308,工作表9!$G$1:$H$142, 2, FALSE )","v":0},0]
[null,null,null,null,null,null,{"$f":"VLOOKUP(F309,工作表9!$G$1:$I$136, 3, FALSE )","v":"混合物"},null,{"$f":"VLOOKUP(F309,工作表9!$G$1:$H$142, 2, FALSE )","v":0},0]
[null,null,null,null,null,null,{"$f":"VLOOKUP(F310,工作表9!$G$1:$I$136, 3, FALSE )","v":"混合物"},null,{"$f":"VLOOKUP(F310,工作表9!$G$1:$H$142, 2, FALSE )","v":0},0]
[null,null,null,null,null,null,{"$f":"VLOOKUP(F311,工作表9!$G$1:$I$136, 3, FALSE )","v":"混合物"},null,{"$f":"VLOOKUP(F311,工作表9!$G$1:$H$142, 2, FALSE )","v":0},0]
[null,null,null,null,null,null,{"$f":"VLOOKUP(F312,工作表9!$G$1:$I$136, 3, FALSE )","v":"混合物"},null,{"$f":"VLOOKUP(F312,工作表9!$G$1:$H$142, 2, FALSE )","v":0},0]
[null,null,null,null,null,null,{"$f":"VLOOKUP(F313,工作表9!$G$1:$I$136, 3, FALSE )","v":"混合物"},null,{"$f":"VLOOKUP(F313,工作表9!$G$1:$H$142, 2, FALSE )","v":0},0]
[null,null,null,null,null,null,{"$f":"VLOOKUP(F314,工作表9!$G$1:$I$136, 3, FALSE )","v":"混合物"},null,{"$f":"VLOOKUP(F314,工作表9!$G$1:$H$142, 2, FALSE )","v":0},0]
[null,null,null,null,null,null,{"$f":"VLOOKUP(F315,工作表9!$G$1:$I$136, 3, FALSE )","v":"混合物"},null,{"$f":"VLOOKUP(F315,工作表9!$G$1:$H$142, 2, FALSE )","v":0},0]
[null,null,null,null,null,null,{"$f":"VLOOKUP(F316,工作表9!$G$1:$I$136, 3, FALSE )","v":"混合物"},null,{"$f":"VLOOKUP(F316,工作表9!$G$1:$H$142, 2, FALSE )","v":0},0]
[null,null,null,null,null,null,{"$f":"VLOOKUP(F317,工作表9!$G$1:$I$136, 3, FALSE )","v":"混合物"},null,{"$f":"VLOOKUP(F317,工作表9!$G$1:$H$142, 2, FALSE )","v":0},0]
[null,null,null,null,null,null,{"$f":"VLOOKUP(F318,工作表9!$G$1:$I$136, 3, FALSE )","v":"混合物"},null,{"$f":"VLOOKUP(F318,工作表9!$G$1:$H$142, 2, FALSE )","v":0},0]
[null,null,null,null,null,null,{"$f":"VLOOKUP(F319,工作表9!$G$1:$I$136, 3, FALSE )","v":"混合物"},null,{"$f":"VLOOKUP(F319,工作表9!$G$1:$H$142, 2, FALSE )","v":0},0]
[null,null,null,null,null,null,{"$f":"VLOOKUP(F320,工作表9!$G$1:$I$136, 3, FALSE )","v":"混合物"},null,{"$f":"VLOOKUP(F320,工作表9!$G$1:$H$142, 2, FALSE )","v":0},0]
[null,null,null,null,null,null,{"$f":"VLOOKUP(F321,工作表9!$G$1:$I$136, 3, FALSE )","v":"混合物"},null,{"$f":"VLOOKUP(F321,工作表9!$G$1:$H$142, 2, FALSE )","v":0},0]
[null,null,null,null,null,null,{"$f":"VLOOKUP(F322,工作表9!$G$1:$I$136, 3, FALSE )","v":"混合物"},null,{"$f":"VLOOKUP(F322,工作表9!$G$1:$H$142, 2, FALSE )","v":0},0]
[null,null,null,null,null,null,{"$f":"VLOOKUP(F323,工作表9!$G$1:$I$136, 3, FALSE )","v":"混合物"},null,{"$f":"VLOOKUP(F323,工作表9!$G$1:$H$142, 2, FALSE )","v":0},0]
[null,null,null,null,null,null,{"$f":"VLOOKUP(F324,工作表9!$G$1:$I$136, 3, FALSE )","v":"混合物"},null,{"$f":"VLOOKUP(F324,工作表9!$G$1:$H$142, 2, FALSE )","v":0},0]
[null,null,null,null,null,null,{"$f":"VLOOKUP(F325,工作表9!$G$1:$I$136, 3, FALSE )","v":"混合物"},null,{"$f":"VLOOKUP(F325,工作表9!$G$1:$H$142, 2, FALSE )","v":0},0]
[null,null,null,null,null,null,{"$f":"VLOOKUP(F326,工作表9!$G$1:$I$136, 3, FALSE )","v":"混合物"},null,{"$f":"VLOOKUP(F326,工作表9!$G$1:$H$142, 2, FALSE )","v":0},{"$f":"H326*I326","v":0}]
[null,null,null,null,null,null,{"$f":"VLOOKUP(F327,工作表9!$G$1:$I$136, 3, FALSE )","v":"混合物"},null,{"$f":"VLOOKUP(F327,工作表9!$G$1:$H$142, 2, FALSE )","v":0},0]
[null,null,null,null,null,null,{"$f":"VLOOKUP(F328,工作表9!$G$1:$I$136, 3, FALSE )","v":"混合物"},null,{"$f":"VLOOKUP(F328,工作表9!$G$1:$H$142, 2, FALSE )","v":0},0]
[null,null,null,null,null,null,{"$f":"VLOOKUP(F329,工作表9!$G$1:$I$136, 3, FALSE )","v":"混合物"},null,{"$f":"VLOOKUP(F329,工作表9!$G$1:$H$142, 2, FALSE )","v":0},0]
[null,null,null,null,null,null,{"$f":"VLOOKUP(F330,工作表9!$G$1:$I$136, 3, FALSE )","v":"混合物"},null,{"$f":"VLOOKUP(F330,工作表9!$G$1:$H$142, 2, FALSE )","v":0},0]
[null,null,null,null,null,null,{"$f":"VLOOKUP(F331,工作表9!$G$1:$I$136, 3, FALSE )","v":"混合物"},null,{"$f":"VLOOKUP(F331,工作表9!$G$1:$H$142, 2, FALSE )","v":0},0]
[null,null,null,null,null,null,{"$f":"VLOOKUP(F332,工作表9!$G$1:$I$136, 3, FALSE )","v":"混合物"},null,{"$f":"VLOOKUP(F332,工作表9!$G$1:$H$142, 2, FALSE )","v":0},0]
[null,null,null,null,null,null,{"$f":"VLOOKUP(F333,工作表9!$G$1:$I$136, 3, FALSE )","v":"混合物"},null,{"$f":"VLOOKUP(F333,工作表9!$G$1:$H$142, 2, FALSE )","v":0},0]
[null,null,null,null,null,null,{"$f":"VLOOKUP(F334,工作表9!$G$1:$I$136, 3, FALSE )","v":"混合物"},null,{"$f":"VLOOKUP(F334,工作表9!$G$1:$H$142, 2, FALSE )","v":0},0]
[null,null,null,null,null,null,{"$f":"VLOOKUP(F335,工作表9!$G$1:$I$136, 3, FALSE )","v":"混合物"},null,{"$f":"VLOOKUP(F335,工作表9!$G$1:$H$142, 2, FALSE )","v":0},0]
[null,null,null,null,null,null,{"$f":"VLOOKUP(F336,工作表9!$G$1:$I$136, 3, FALSE )","v":"混合物"},null,{"$f":"VLOOKUP(F336,工作表9!$G$1:$H$142, 2, FALSE )","v":0},0]
[null,null,null,null,null,null,{"$f":"VLOOKUP(F337,工作表9!$G$1:$I$136, 3, FALSE )","v":"混合物"},null,{"$f":"VLOOKUP(F337,工作表9!$G$1:$H$142, 2, FALSE )","v":0},0]
[null,null,null,null,null,null,{"$f":"VLOOKUP(F338,工作表9!$G$1:$I$136, 3, FALSE )","v":"混合物"},null,{"$f":"VLOOKUP(F338,工作表9!$G$1:$H$142, 2, FALSE )","v":0},0]
[null,null,null,null,null,null,{"$f":"VLOOKUP(F339,工作表9!$G$1:$I$136, 3, FALSE )","v":"混合物"},null,{"$f":"VLOOKUP(F339,工作表9!$G$1:$H$142, 2, FALSE )","v":0},0]
[null,null,null,null,null,null,{"$f":"VLOOKUP(F340,工作表9!$G$1:$I$136, 3, FALSE )","v":"混合物"},null,{"$f":"VLOOKUP(F340,工作表9!$G$1:$H$142, 2, FALSE )","v":0},0]
[null,null,null,null,null,null,{"$f":"VLOOKUP(F341,工作表9!$G$1:$I$136, 3, FALSE )","v":"混合物"},null,{"$f":"VLOOKUP(F341,工作表9!$G$1:$H$142, 2, FALSE )","v":0},0]
[null,null,null,null,null,null,{"$f":"VLOOKUP(F342,工作表9!$G$1:$I$136, 3, FALSE )","v":"混合物"},null,{"$f":"VLOOKUP(F342,工作表9!$G$1:$H$142, 2, FALSE )","v":0},0]
[null,null,null,null,null,null,{"$f":"VLOOKUP(F343,工作表9!$G$1:$I$136, 3, FALSE )","v":"混合物"},null,{"$f":"VLOOKUP(F343,工作表9!$G$1:$H$142, 2, FALSE )","v":0},0]
[null,null,null,null,null,null,{"$f":"VLOOKUP(F344,工作表9!$G$1:$I$136, 3, FALSE )","v":"混合物"},null,{"$f":"VLOOKUP(F344,工作表9!$G$1:$H$142, 2, FALSE )","v":0},0]
[null,null,null,null,null,null,{"$f":"VLOOKUP(F345,工作表9!$G$1:$I$136, 3, FALSE )","v":"混合物"},null,{"$f":"VLOOKUP(F345,工作表9!$G$1:$H$142, 2, FALSE )","v":0},0]
[null,null,null,null,null,null,{"$f":"VLOOKUP(F346,工作表9!$G$1:$I$136, 3, FALSE )","v":"混合物"},null,{"$f":"VLOOKUP(F346,工作表9!$G$1:$H$142, 2, FALSE )","v":0},0]
[null,null,null,null,null,null,{"$f":"VLOOKUP(F347,工作表9!$G$1:$I$136, 3, FALSE )","v":"混合物"},null,{"$f":"VLOOKUP(F347,工作表9!$G$1:$H$142, 2, FALSE )","v":0},0]
[null,null,null,null,null,null,{"$f":"VLOOKUP(F348,工作表9!$G$1:$I$136, 3, FALSE )","v":"混合物"},null,{"$f":"VLOOKUP(F348,工作表9!$G$1:$H$142, 2, FALSE )","v":0},0]
[null,null,null,null,null,null,{"$f":"VLOOKUP(F349,工作表9!$G$1:$I$136, 3, FALSE )","v":"混合物"},null,{"$f":"VLOOKUP(F349,工作表9!$G$1:$H$142, 2, FALSE )","v":0},0]
[null,null,null,null,null,null,{"$f":"VLOOKUP(F350,工作表9!$G$1:$I$136, 3, FALSE )","v":"混合物"},null,{"$f":"VLOOKUP(F350,工作表9!$G$1:$H$142, 2, FALSE )","v":0},0]
[null,null,null,null,null,null,{"$f":"VLOOKUP(F351,工作表9!$G$1:$I$136, 3, FALSE )","v":"混合物"},null,{"$f":"VLOOKUP(F351,工作表9!$G$1:$H$142, 2, FALSE )","v":0},0]
[null,null,null,null,null,null,{"$f":"VLOOKUP(F352,工作表9!$G$1:$I$136, 3, FALSE )","v":"混合物"},null,{"$f":"VLOOKUP(F352,工作表9!$G$1:$H$142, 2, FALSE )","v":0},0]
[null,null,null,null,null,null,{"$f":"VLOOKUP(F353,工作表9!$G$1:$I$136, 3, FALSE )","v":"混合物"},null,{"$f":"VLOOKUP(F353,工作表9!$G$1:$H$142, 2, FALSE )","v":0},0]
[null,null,null,null,null,null,{"$f":"VLOOKUP(F354,工作表9!$G$1:$I$136, 3, FALSE )","v":"混合物"},null,{"$f":"VLOOKUP(F354,工作表9!$G$1:$H$142, 2, FALSE )","v":0},0]
[null,null,null,null,null,null,{"$f":"VLOOKUP(F355,工作表9!$G$1:$I$136, 3, FALSE )","v":"混合物"},null,{"$f":"VLOOKUP(F355,工作表9!$G$1:$H$142, 2, FALSE )","v":0},0]
[null,null,null,null,null,null,{"$f":"VLOOKUP(F356,工作表9!$G$1:$I$136, 3, FALSE )","v":"混合物"},null,{"$f":"VLOOKUP(F356,工作表9!$G$1:$H$142, 2, FALSE )","v":0},0]
[null,null,null,null,null,null,{"$f":"VLOOKUP(F357,工作表9!$G$1:$I$136, 3, FALSE )","v":"混合物"},null,{"$f":"VLOOKUP(F357,工作表9!$G$1:$H$142, 2, FALSE )","v":0},0]
[null,null,null,null,null,null,{"$f":"VLOOKUP(F358,工作表9!$G$1:$I$136, 3, FALSE )","v":"混合物"},null,{"$f":"VLOOKUP(F358,工作表9!$G$1:$H$142, 2, FALSE )","v":0},0]
[null,null,null,null,null,null,{"$f":"VLOOKUP(F359,工作表9!$G$1:$I$136, 3, FALSE )","v":"混合物"},null,{"$f":"VLOOKUP(F359,工作表9!$G$1:$H$142, 2, FALSE )","v":0},0]
[null,null,null,null,null,null,{"$f":"VLOOKUP(F360,工作表9!$G$1:$I$136, 3, FALSE )","v":"混合物"},null,{"$f":"VLOOKUP(F360,工作表9!$G$1:$H$142, 2, FALSE )","v":0},0]
[null,null,null,null,null,null,{"$f":"VLOOKUP(F361,工作表9!$G$1:$I$136, 3, FALSE )","v":"混合物"},null,{"$f":"VLOOKUP(F361,工作表9!$G$1:$H$142, 2, FALSE )","v":0},0]
[null,null,null,null,null,null,{"$f":"VLOOKUP(F362,工作表9!$G$1:$I$136, 3, FALSE )","v":"混合物"},null,{"$f":"VLOOKUP(F362,工作表9!$G$1:$H$142, 2, FALSE )","v":0},0]
[null,null,null,null,null,null,{"$f":"VLOOKUP(F363,工作表9!$G$1:$I$136, 3, FALSE )","v":"混合物"},null,{"$f":"VLOOKUP(F363,工作表9!$G$1:$H$142, 2, FALSE )","v":0},0]
[null,null,null,null,null,null,{"$f":"VLOOKUP(F364,工作表9!$G$1:$I$136, 3, FALSE )","v":"混合物"},null,{"$f":"VLOOKUP(F364,工作表9!$G$1:$H$142, 2, FALSE )","v":0},0]
[null,null,null,null,null,null,{"$f":"VLOOKUP(F365,工作表9!$G$1:$I$136, 3, FALSE )","v":"混合物"},null,{"$f":"VLOOKUP(F365,工作表9!$G$1:$H$142, 2, FALSE )","v":0},0]
[null,null,null,null,null,null,{"$f":"VLOOKUP(F366,工作表9!$G$1:$I$136, 3, FALSE )","v":"混合物"},null,{"$f":"VLOOKUP(F366,工作表9!$G$1:$H$142, 2, FALSE )","v":0},0]
[null,null,null,null,null,null,{"$f":"VLOOKUP(F367,工作表9!$G$1:$I$136, 3, FALSE )","v":"混合物"},null,{"$f":"VLOOKUP(F367,工作表9!$G$1:$H$142, 2, FALSE )","v":0},0]
[null,null,null,null,null,null,{"$f":"VLOOKUP(F368,工作表9!$G$1:$I$136, 3, FALSE )","v":"混合物"},null,{"$f":"VLOOKUP(F368,工作表9!$G$1:$H$142, 2, FALSE )","v":0},0]
[null,null,null,null,null,null,{"$f":"VLOOKUP(F369,工作表9!$G$1:$I$136, 3, FALSE )","v":"混合物"},null,{"$f":"VLOOKUP(F369,工作表9!$G$1:$H$142, 2, FALSE )","v":0},0]
[null,null,null,null,null,null,{"$f":"VLOOKUP(F370,工作表9!$G$1:$I$136, 3, FALSE )","v":"混合物"},null,{"$f":"VLOOKUP(F370,工作表9!$G$1:$H$142, 2, FALSE )","v":0},0]
[null,null,null,null,null,null,{"$f":"VLOOKUP(F371,工作表9!$G$1:$I$136, 3, FALSE )","v":"混合物"},null,{"$f":"VLOOKUP(F371,工作表9!$G$1:$H$142, 2, FALSE )","v":0},0]
[null,null,null,null,null,null,{"$f":"VLOOKUP(F372,工作表9!$G$1:$I$136, 3, FALSE )","v":"混合物"},null,{"$f":"VLOOKUP(F372,工作表9!$G$1:$H$142, 2, FALSE )","v":0},0]
[null,null,null,null,null,null,{"$f":"VLOOKUP(F373,工作表9!$G$1:$I$136, 3, FALSE )","v":"混合物"},null,{"$f":"VLOOKUP(F373,工作表9!$G$1:$H$142, 2, FALSE )","v":0},0]
[null,null,null,null,null,null,{"$f":"VLOOKUP(F374,工作表9!$G$1:$I$136, 3, FALSE )","v":"混合物"},null,{"$f":"VLOOKUP(F374,工作表9!$G$1:$H$142, 2, FALSE )","v":0},0]
[null,null,null,null,null,null,{"$f":"VLOOKUP(F375,工作表9!$G$1:$I$136, 3, FALSE )","v":"混合物"},null,{"$f":"VLOOKUP(F375,工作表9!$G$1:$H$142, 2, FALSE )","v":0},0]
[null,null,null,null,null,null,{"$f":"VLOOKUP(F376,工作表9!$G$1:$I$136, 3, FALSE )","v":"混合物"},null,{"$f":"VLOOKUP(F376,工作表9!$G$1:$H$142, 2, FALSE )","v":0},0]
[null,null,null,null,null,null,{"$f":"VLOOKUP(F377,工作表9!$G$1:$I$136, 3, FALSE )","v":"混合物"},null,{"$f":"VLOOKUP(F377,工作表9!$G$1:$H$142, 2, FALSE )","v":0},0]
[null,null,null,null,null,null,{"$f":"VLOOKUP(F378,工作表9!$G$1:$I$136, 3, FALSE )","v":"混合物"},null,{"$f":"VLOOKUP(F378,工作表9!$G$1:$H$142, 2, FALSE )","v":0},0]
[null,null,null,null,null,null,{"$f":"VLOOKUP(F379,工作表9!$G$1:$I$136, 3, FALSE )","v":"混合物"},null,{"$f":"VLOOKUP(F379,工作表9!$G$1:$H$142, 2, FALSE )","v":0},0]
[null,null,null,null,null,null,{"$f":"VLOOKUP(F380,工作表9!$G$1:$I$136, 3, FALSE )","v":"混合物"},null,{"$f":"VLOOKUP(F380,工作表9!$G$1:$H$142, 2, FALSE )","v":0},0]
[null,null,null,null,null,null,{"$f":"VLOOKUP(F381,工作表9!$G$1:$I$136, 3, FALSE )","v":"混合物"},null,{"$f":"VLOOKUP(F381,工作表9!$G$1:$H$142, 2, FALSE )","v":0},0]
[null,null,null,null,null,null,{"$f":"VLOOKUP(F382,工作表9!$G$1:$I$136, 3, FALSE )","v":"混合物"},null,{"$f":"VLOOKUP(F382,工作表9!$G$1:$H$142, 2, FALSE )","v":0},0]
[null,null,null,null,null,null,{"$f":"VLOOKUP(F383,工作表9!$G$1:$I$136, 3, FALSE )","v":"混合物"},null,{"$f":"VLOOKUP(F383,工作表9!$G$1:$H$142, 2, FALSE )","v":0},0]
[null,null,null,null,null,null,{"$f":"VLOOKUP(F384,工作表9!$G$1:$I$136, 3, FALSE )","v":"混合物"},null,{"$f":"VLOOKUP(F384,工作表9!$G$1:$H$142, 2, FALSE )","v":0},0]
[null,null,null,null,null,null,{"$f":"VLOOKUP(F385,工作表9!$G$1:$I$136, 3, FALSE )","v":"混合物"},null,{"$f":"VLOOKUP(F385,工作表9!$G$1:$H$142, 2, FALSE )","v":0},0]
[null,null,null,null,null,null,{"$f":"VLOOKUP(F386,工作表9!$G$1:$I$136, 3, FALSE )","v":"混合物"},null,{"$f":"VLOOKUP(F386,工作表9!$G$1:$H$142, 2, FALSE )","v":0},0]
[null,null,null,null,null,null,{"$f":"VLOOKUP(F387,工作表9!$G$1:$I$136, 3, FALSE )","v":"混合物"},null,{"$f":"VLOOKUP(F387,工作表9!$G$1:$H$142, 2, FALSE )","v":0},0]
[null,null,null,null,null,null,{"$f":"VLOOKUP(F388,工作表9!$G$1:$I$136, 3, FALSE )","v":"混合物"},null,{"$f":"VLOOKUP(F388,工作表9!$G$1:$H$142, 2, FALSE )","v":0},0]
[null,null,null,null,null,null,{"$f":"VLOOKUP(F389,工作表9!$G$1:$I$136, 3, FALSE )","v":"混合物"},null,{"$f":"VLOOKUP(F389,工作表9!$G$1:$H$142, 2, FALSE )","v":0},0]
[null,null,null,null,null,null,{"$f":"VLOOKUP(F390,工作表9!$G$1:$I$136, 3, FALSE )","v":"混合物"},null,{"$f":"VLOOKUP(F390,工作表9!$G$1:$H$142, 2, FALSE )","v":0},{"$f":"H390*I390","v":0}]
[null,null,null,null,null,null,{"$f":"VLOOKUP(F391,工作表9!$G$1:$I$136, 3, FALSE )","v":"混合物"},null,{"$f":"VLOOKUP(F391,工作表9!$G$1:$H$142, 2, FALSE )","v":0},0]
[null,null,null,null,null,null,{"$f":"VLOOKUP(F392,工作表9!$G$1:$I$136, 3, FALSE )","v":"混合物"},null,{"$f":"VLOOKUP(F392,工作表9!$G$1:$H$142, 2, FALSE )","v":0},0]
[null,null,null,null,null,null,{"$f":"VLOOKUP(F393,工作表9!$G$1:$I$136, 3, FALSE )","v":"混合物"},null,{"$f":"VLOOKUP(F393,工作表9!$G$1:$H$142, 2, FALSE )","v":0},0]
[null,null,null,null,null,null,{"$f":"VLOOKUP(F394,工作表9!$G$1:$I$136, 3, FALSE )","v":"混合物"},null,{"$f":"VLOOKUP(F394,工作表9!$G$1:$H$142, 2, FALSE )","v":0},0]
[null,null,null,null,null,null,{"$f":"VLOOKUP(F395,工作表9!$G$1:$I$136, 3, FALSE )","v":"混合物"},null,{"$f":"VLOOKUP(F395,工作表9!$G$1:$H$142, 2, FALSE )","v":0},0]
[null,null,null,null,null,null,{"$f":"VLOOKUP(F396,工作表9!$G$1:$I$136, 3, FALSE )","v":"混合物"},null,{"$f":"VLOOKUP(F396,工作表9!$G$1:$H$142, 2, FALSE )","v":0},0]
[null,null,null,null,null,null,{"$f":"VLOOKUP(F397,工作表9!$G$1:$I$136, 3, FALSE )","v":"混合物"},null,{"$f":"VLOOKUP(F397,工作表9!$G$1:$H$142, 2, FALSE )","v":0},0]
[null,null,null,null,null,null,{"$f":"VLOOKUP(F398,工作表9!$G$1:$I$136, 3, FALSE )","v":"混合物"},null,{"$f":"VLOOKUP(F398,工作表9!$G$1:$H$142, 2, FALSE )","v":0},0]
[null,null,null,null,null,null,{"$f":"VLOOKUP(F399,工作表9!$G$1:$I$136, 3, FALSE )","v":"混合物"},null,{"$f":"VLOOKUP(F399,工作表9!$G$1:$H$142, 2, FALSE )","v":0},0]
[null,null,null,null,null,null,{"$f":"VLOOKUP(F400,工作表9!$G$1:$I$136, 3, FALSE )","v":"混合物"},null,{"$f":"VLOOKUP(F400,工作表9!$G$1:$H$142, 2, FALSE )","v":0},0]
[null,null,null,null,null,null,{"$f":"VLOOKUP(F401,工作表9!$G$1:$I$136, 3, FALSE )","v":"混合物"},null,{"$f":"VLOOKUP(F401,工作表9!$G$1:$H$142, 2, FALSE )","v":0},0]
[null,null,null,null,null,null,{"$f":"VLOOKUP(F402,工作表9!$G$1:$I$136, 3, FALSE )","v":"混合物"},null,{"$f":"VLOOKUP(F402,工作表9!$G$1:$H$142, 2, FALSE )","v":0},0]
[null,null,null,null,null,null,{"$f":"VLOOKUP(F403,工作表9!$G$1:$I$136, 3, FALSE )","v":"混合物"},null,{"$f":"VLOOKUP(F403,工作表9!$G$1:$H$142, 2, FALSE )","v":0},0]
[null,null,null,null,null,null,{"$f":"VLOOKUP(F404,工作表9!$G$1:$I$136, 3, FALSE )","v":"混合物"},null,{"$f":"VLOOKUP(F404,工作表9!$G$1:$H$142, 2, FALSE )","v":0},0]
[null,null,null,null,null,null,{"$f":"VLOOKUP(F405,工作表9!$G$1:$I$136, 3, FALSE )","v":"混合物"},null,{"$f":"VLOOKUP(F405,工作表9!$G$1:$H$142, 2, FALSE )","v":0},0]
[null,null,null,null,null,null,{"$f":"VLOOKUP(F406,工作表9!$G$1:$I$136, 3, FALSE )","v":"混合物"},null,{"$f":"VLOOKUP(F406,工作表9!$G$1:$H$142, 2, FALSE )","v":0},0]
[null,null,null,null,null,null,{"$f":"VLOOKUP(F407,工作表9!$G$1:$I$136, 3, FALSE )","v":"混合物"},null,{"$f":"VLOOKUP(F407,工作表9!$G$1:$H$142, 2, FALSE )","v":0},0]
[null,null,null,null,null,null,{"$f":"VLOOKUP(F408,工作表9!$G$1:$I$136, 3, FALSE )","v":"混合物"},null,{"$f":"VLOOKUP(F408,工作表9!$G$1:$H$142, 2, FALSE )","v":0},0]
[null,null,null,null,null,null,{"$f":"VLOOKUP(F409,工作表9!$G$1:$I$136, 3, FALSE )","v":"混合物"},null,{"$f":"VLOOKUP(F409,工作表9!$G$1:$H$142, 2, FALSE )","v":0},0]
[null,null,null,null,null,null,{"$f":"VLOOKUP(F410,工作表9!$G$1:$I$136, 3, FALSE )","v":"混合物"},null,{"$f":"VLOOKUP(F410,工作表9!$G$1:$H$142, 2, FALSE )","v":0},0]
[null,null,null,null,null,null,{"$f":"VLOOKUP(F411,工作表9!$G$1:$I$136, 3, FALSE )","v":"混合物"},null,{"$f":"VLOOKUP(F411,工作表9!$G$1:$H$142, 2, FALSE )","v":0},0]
[null,null,null,null,null,null,{"$f":"VLOOKUP(F412,工作表9!$G$1:$I$136, 3, FALSE )","v":"混合物"},null,{"$f":"VLOOKUP(F412,工作表9!$G$1:$H$142, 2, FALSE )","v":0},0]
[null,null,null,null,null,null,{"$f":"VLOOKUP(F413,工作表9!$G$1:$I$136, 3, FALSE )","v":"混合物"},null,{"$f":"VLOOKUP(F413,工作表9!$G$1:$H$142, 2, FALSE )","v":0},0]
[null,null,null,null,null,null,{"$f":"VLOOKUP(F414,工作表9!$G$1:$I$136, 3, FALSE )","v":"混合物"},null,{"$f":"VLOOKUP(F414,工作表9!$G$1:$H$142, 2, FALSE )","v":0},0]
[null,null,null,null,null,null,{"$f":"VLOOKUP(F415,工作表9!$G$1:$I$136, 3, FALSE )","v":"混合物"},null,{"$f":"VLOOKUP(F415,工作表9!$G$1:$H$142, 2, FALSE )","v":0},0]
[null,null,null,null,null,null,{"$f":"VLOOKUP(F416,工作表9!$G$1:$I$136, 3, FALSE )","v":"混合物"},null,{"$f":"VLOOKUP(F416,工作表9!$G$1:$H$142, 2, FALSE )","v":0},0]
[null,null,null,null,null,null,{"$f":"VLOOKUP(F417,工作表9!$G$1:$I$136, 3, FALSE )","v":"混合物"},null,{"$f":"VLOOKUP(F417,工作表9!$G$1:$H$142, 2, FALSE )","v":0},0]
[null,null,null,null,null,null,{"$f":"VLOOKUP(F418,工作表9!$G$1:$I$136, 3, FALSE )","v":"混合物"},null,{"$f":"VLOOKUP(F418,工作表9!$G$1:$H$142, 2, FALSE )","v":0},0]
[null,null,null,null,null,null,{"$f":"VLOOKUP(F419,工作表9!$G$1:$I$136, 3, FALSE )","v":"混合物"},null,{"$f":"VLOOKUP(F419,工作表9!$G$1:$H$142, 2, FALSE )","v":0},0]
[null,null,null,null,null,null,{"$f":"VLOOKUP(F420,工作表9!$G$1:$I$136, 3, FALSE )","v":"混合物"},null,{"$f":"VLOOKUP(F420,工作表9!$G$1:$H$142, 2, FALSE )","v":0},0]
[null,null,null,null,null,null,{"$f":"VLOOKUP(F421,工作表9!$G$1:$I$136, 3, FALSE )","v":"混合物"},null,{"$f":"VLOOKUP(F421,工作表9!$G$1:$H$142, 2, FALSE )","v":0},0]
[null,null,null,null,null,null,{"$f":"VLOOKUP(F422,工作表9!$G$1:$I$136, 3, FALSE )","v":"混合物"},null,{"$f":"VLOOKUP(F422,工作表9!$G$1:$H$142, 2, FALSE )","v":0},0]
[null,null,null,null,null,null,{"$f":"VLOOKUP(F423,工作表9!$G$1:$I$136, 3, FALSE )","v":"混合物"},null,{"$f":"VLOOKUP(F423,工作表9!$G$1:$H$142, 2, FALSE )","v":0},0]
[null,null,null,null,null,null,{"$f":"VLOOKUP(F424,工作表9!$G$1:$I$136, 3, FALSE )","v":"混合物"},null,{"$f":"VLOOKUP(F424,工作表9!$G$1:$H$142, 2, FALSE )","v":0},0]
[null,null,null,null,null,null,{"$f":"VLOOKUP(F425,工作表9!$G$1:$I$136, 3, FALSE )","v":"混合物"},null,{"$f":"VLOOKUP(F425,工作表9!$G$1:$H$142, 2, FALSE )","v":0},0]
[null,null,null,null,null,null,{"$f":"VLOOKUP(F426,工作表9!$G$1:$I$136, 3, FALSE )","v":"混合物"},null,{"$f":"VLOOKUP(F426,工作表9!$G$1:$H$142, 2, FALSE )","v":0},0]
[null,null,null,null,null,null,{"$f":"VLOOKUP(F427,工作表9!$G$1:$I$136, 3, FALSE )","v":"混合物"},null,{"$f":"VLOOKUP(F427,工作表9!$G$1:$H$142, 2, FALSE )","v":0},0]
[null,null,null,null,null,null,{"$f":"VLOOKUP(F428,工作表9!$G$1:$I$136, 3, FALSE )","v":"混合物"},null,{"$f":"VLOOKUP(F428,工作表9!$G$1:$H$142, 2, FALSE )","v":0},0]
[null,null,null,null,null,null,{"$f":"VLOOKUP(F429,工作表9!$G$1:$I$136, 3, FALSE )","v":"混合物"},null,{"$f":"VLOOKUP(F429,工作表9!$G$1:$H$142, 2, FALSE )","v":0},0]
[null,null,null,null,null,null,{"$f":"VLOOKUP(F430,工作表9!$G$1:$I$136, 3, FALSE )","v":"混合物"},null,{"$f":"VLOOKUP(F430,工作表9!$G$1:$H$142, 2, FALSE )","v":0},0]
[null,null,null,null,null,null,{"$f":"VLOOKUP(F431,工作表9!$G$1:$I$136, 3, FALSE )","v":"混合物"},null,{"$f":"VLOOKUP(F431,工作表9!$G$1:$H$142, 2, FALSE )","v":0},0]
[null,null,null,null,null,null,{"$f":"VLOOKUP(F432,工作表9!$G$1:$I$136, 3, FALSE )","v":"混合物"},null,{"$f":"VLOOKUP(F432,工作表9!$G$1:$H$142, 2, FALSE )","v":0},0]
[null,null,null,null,null,null,{"$f":"VLOOKUP(F433,工作表9!$G$1:$I$136, 3, FALSE )","v":"混合物"},null,{"$f":"VLOOKUP(F433,工作表9!$G$1:$H$142, 2, FALSE )","v":0},0]
[null,null,null,null,null,null,{"$f":"VLOOKUP(F434,工作表9!$G$1:$I$136, 3, FALSE )","v":"混合物"},null,{"$f":"VLOOKUP(F434,工作表9!$G$1:$H$142, 2, FALSE )","v":0},0]
[null,null,null,null,null,null,{"$f":"VLOOKUP(F435,工作表9!$G$1:$I$136, 3, FALSE )","v":"混合物"},null,{"$f":"VLOOKUP(F435,工作表9!$G$1:$H$142, 2, FALSE )","v":0},0]
[null,null,null,null,null,null,{"$f":"VLOOKUP(F436,工作表9!$G$1:$I$136, 3, FALSE )","v":"混合物"},null,{"$f":"VLOOKUP(F436,工作表9!$G$1:$H$142, 2, FALSE )","v":0},0]
[null,null,null,null,null,null,{"$f":"VLOOKUP(F437,工作表9!$G$1:$I$136, 3, FALSE )","v":"混合物"},null,{"$f":"VLOOKUP(F437,工作表9!$G$1:$H$142, 2, FALSE )","v":0},0]
[null,null,null,null,null,null,{"$f":"VLOOKUP(F438,工作表9!$G$1:$I$136, 3, FALSE )","v":"混合物"},null,{"$f":"VLOOKUP(F438,工作表9!$G$1:$H$142, 2, FALSE )","v":0},0]
[null,null,null,null,null,null,{"$f":"VLOOKUP(F439,工作表9!$G$1:$I$136, 3, FALSE )","v":"混合物"},null,{"$f":"VLOOKUP(F439,工作表9!$G$1:$H$142, 2, FALSE )","v":0},0]
[null,null,null,null,null,null,{"$f":"VLOOKUP(F440,工作表9!$G$1:$I$136, 3, FALSE )","v":"混合物"},null,{"$f":"VLOOKUP(F440,工作表9!$G$1:$H$142, 2, FALSE )","v":0},0]
[null,null,null,null,null,null,{"$f":"VLOOKUP(F441,工作表9!$G$1:$I$136, 3, FALSE )","v":"混合物"},null,{"$f":"VLOOKUP(F441,工作表9!$G$1:$H$142, 2, FALSE )","v":0},0]
[null,null,null,null,null,null,{"$f":"VLOOKUP(F442,工作表9!$G$1:$I$136, 3, FALSE )","v":"混合物"},null,{"$f":"VLOOKUP(F442,工作表9!$G$1:$H$142, 2, FALSE )","v":0},0]
[null,null,null,null,null,null,{"$f":"VLOOKUP(F443,工作表9!$G$1:$I$136, 3, FALSE )","v":"混合物"},null,{"$f":"VLOOKUP(F443,工作表9!$G$1:$H$142, 2, FALSE )","v":0},0]
[null,null,null,null,null,null,{"$f":"VLOOKUP(F444,工作表9!$G$1:$I$136, 3, FALSE )","v":"混合物"},null,{"$f":"VLOOKUP(F444,工作表9!$G$1:$H$142, 2, FALSE )","v":0},0]
[null,null,null,null,null,null,{"$f":"VLOOKUP(F445,工作表9!$G$1:$I$136, 3, FALSE )","v":"混合物"},null,{"$f":"VLOOKUP(F445,工作表9!$G$1:$H$142, 2, FALSE )","v":0},0]
[null,null,null,null,null,null,{"$f":"VLOOKUP(F446,工作表9!$G$1:$I$136, 3, FALSE )","v":"混合物"},null,{"$f":"VLOOKUP(F446,工作表9!$G$1:$H$142, 2, FALSE )","v":0},0]
[null,null,null,null,null,null,{"$f":"VLOOKUP(F447,工作表9!$G$1:$I$136, 3, FALSE )","v":"混合物"},null,{"$f":"VLOOKUP(F447,工作表9!$G$1:$H$142, 2, FALSE )","v":0},0]
[null,null,null,null,null,null,{"$f":"VLOOKUP(F448,工作表9!$G$1:$I$136, 3, FALSE )","v":"混合物"},null,{"$f":"VLOOKUP(F448,工作表9!$G$1:$H$142, 2, FALSE )","v":0},0]
[null,null,null,null,null,null,{"$f":"VLOOKUP(F449,工作表9!$G$1:$I$136, 3, FALSE )","v":"混合物"},null,{"$f":"VLOOKUP(F449,工作表9!$G$1:$H$142, 2, FALSE )","v":0},0]
[null,null,null,null,null,null,{"$f":"VLOOKUP(F450,工作表9!$G$1:$I$136, 3, FALSE )","v":"混合物"},null,{"$f":"VLOOKUP(F450,工作表9!$G$1:$H$142, 2, FALSE )","v":0},0]
[null,null,null,null,null,null,{"$f":"VLOOKUP(F451,工作表9!$G$1:$I$136, 3, FALSE )","v":"混合物"},null,{"$f":"VLOOKUP(F451,工作表9!$G$1:$H$142, 2, FALSE )","v":0},0]
[null,null,null,null,null,null,{"$f":"VLOOKUP(F452,工作表9!$G$1:$I$136, 3, FALSE )","v":"混合物"},null,{"$f":"VLOOKUP(F452,工作表9!$G$1:$H$142, 2, FALSE )","v":0},0]
[null,null,null,null,null,null,{"$f":"VLOOKUP(F453,工作表9!$G$1:$I$136, 3, FALSE )","v":"混合物"},null,{"$f":"VLOOKUP(F453,工作表9!$G$1:$H$142, 2, FALSE )","v":0},0]
[null,null,null,null,null,null,{"$f":"VLOOKUP(F454,工作表9!$G$1:$I$136, 3, FALSE )","v":"混合物"},null,{"$f":"VLOOKUP(F454,工作表9!$G$1:$H$142, 2, FALSE )","v":0},{"$f":"H454*I454","v":0}]
[null,null,null,null,null,null,{"$f":"VLOOKUP(F455,工作表9!$G$1:$I$136, 3, FALSE )","v":"混合物"},null,{"$f":"VLOOKUP(F455,工作表9!$G$1:$H$142, 2, FALSE )","v":0},0]
[null,null,null,null,null,null,{"$f":"VLOOKUP(F456,工作表9!$G$1:$I$136, 3, FALSE )","v":"混合物"},null,{"$f":"VLOOKUP(F456,工作表9!$G$1:$H$142, 2, FALSE )","v":0},0]
[null,null,null,null,null,null,{"$f":"VLOOKUP(F457,工作表9!$G$1:$I$136, 3, FALSE )","v":"混合物"},null,{"$f":"VLOOKUP(F457,工作表9!$G$1:$H$142, 2, FALSE )","v":0},0]
[null,null,null,null,null,null,{"$f":"VLOOKUP(F458,工作表9!$G$1:$I$136, 3, FALSE )","v":"混合物"},null,{"$f":"VLOOKUP(F458,工作表9!$G$1:$H$142, 2, FALSE )","v":0},0]
[null,null,null,null,null,null,{"$f":"VLOOKUP(F459,工作表9!$G$1:$I$136, 3, FALSE )","v":"混合物"},null,{"$f":"VLOOKUP(F459,工作表9!$G$1:$H$142, 2, FALSE )","v":0},0]
[null,null,null,null,null,null,{"$f":"VLOOKUP(F460,工作表9!$G$1:$I$136, 3, FALSE )","v":"混合物"},null,{"$f":"VLOOKUP(F460,工作表9!$G$1:$H$142, 2, FALSE )","v":0},0]
[null,null,null,null,null,null,{"$f":"VLOOKUP(F461,工作表9!$G$1:$I$136, 3, FALSE )","v":"混合物"},null,{"$f":"VLOOKUP(F461,工作表9!$G$1:$H$142, 2, FALSE )","v":0},0]
[null,null,null,null,null,null,{"$f":"VLOOKUP(F462,工作表9!$G$1:$I$136, 3, FALSE )","v":"混合物"},null,{"$f":"VLOOKUP(F462,工作表9!$G$1:$H$142, 2, FALSE )","v":0},0]
[null,null,null,null,null,null,{"$f":"VLOOKUP(F463,工作表9!$G$1:$I$136, 3, FALSE )","v":"混合物"},null,{"$f":"VLOOKUP(F463,工作表9!$G$1:$H$142, 2, FALSE )","v":0},0]
[null,null,null,null,null,null,{"$f":"VLOOKUP(F464,工作表9!$G$1:$I$136, 3, FALSE )","v":"混合物"},null,{"$f":"VLOOKUP(F464,工作表9!$G$1:$H$142, 2, FALSE )","v":0},0]
[null,null,null,null,null,null,{"$f":"VLOOKUP(F465,工作表9!$G$1:$I$136, 3, FALSE )","v":"混合物"},null,{"$f":"VLOOKUP(F465,工作表9!$G$1:$H$142, 2, FALSE )","v":0},0]
[null,null,null,null,null,null,{"$f":"VLOOKUP(F466,工作表9!$G$1:$I$136, 3, FALSE )","v":"混合物"},null,{"$f":"VLOOKUP(F466,工作表9!$G$1:$H$142, 2, FALSE )","v":0},0]
[null,null,null,null,null,null,{"$f":"VLOOKUP(F467,工作表9!$G$1:$I$136, 3, FALSE )","v":"混合物"},null,{"$f":"VLOOKUP(F467,工作表9!$G$1:$H$142, 2, FALSE )","v":0},0]
[null,null,null,null,null,null,{"$f":"VLOOKUP(F468,工作表9!$G$1:$I$136, 3, FALSE )","v":"混合物"},null,{"$f":"VLOOKUP(F468,工作表9!$G$1:$H$142, 2, FALSE )","v":0},0]
[null,null,null,null,null,null,{"$f":"VLOOKUP(F469,工作表9!$G$1:$I$136, 3, FALSE )","v":"混合物"},null,{"$f":"VLOOKUP(F469,工作表9!$G$1:$H$142, 2, FALSE )","v":0},0]
[null,null,null,null,null,null,{"$f":"VLOOKUP(F470,工作表9!$G$1:$I$136, 3, FALSE )","v":"混合物"},null,{"$f":"VLOOKUP(F470,工作表9!$G$1:$H$142, 2, FALSE )","v":0},0]
[null,null,null,null,null,null,{"$f":"VLOOKUP(F471,工作表9!$G$1:$I$136, 3, FALSE )","v":"混合物"},null,{"$f":"VLOOKUP(F471,工作表9!$G$1:$H$142, 2, FALSE )","v":0},0]
[null,null,null,null,null,null,{"$f":"VLOOKUP(F472,工作表9!$G$1:$I$136, 3, FALSE )","v":"混合物"},null,{"$f":"VLOOKUP(F472,工作表9!$G$1:$H$142, 2, FALSE )","v":0},0]
[null,null,null,null,null,null,{"$f":"VLOOKUP(F473,工作表9!$G$1:$I$136, 3, FALSE )","v":"混合物"},null,{"$f":"VLOOKUP(F473,工作表9!$G$1:$H$142, 2, FALSE )","v":0},0]
[null,null,null,null,null,null,{"$f":"VLOOKUP(F474,工作表9!$G$1:$I$136, 3, FALSE )","v":"混合物"},null,{"$f":"VLOOKUP(F474,工作表9!$G$1:$H$142, 2, FALSE )","v":0},0]
[null,null,null,null,null,null,{"$f":"VLOOKUP(F475,工作表9!$G$1:$I$136, 3, FALSE )","v":"混合物"},null,{"$f":"VLOOKUP(F475,工作表9!$G$1:$H$142, 2, FALSE )","v":0},0]
[null,null,null,null,null,null,{"$f":"VLOOKUP(F476,工作表9!$G$1:$I$136, 3, FALSE )","v":"混合物"},null,{"$f":"VLOOKUP(F476,工作表9!$G$1:$H$142, 2, FALSE )","v":0},0]
[null,null,null,null,null,null,{"$f":"VLOOKUP(F477,工作表9!$G$1:$I$136, 3, FALSE )","v":"混合物"},null,{"$f":"VLOOKUP(F477,工作表9!$G$1:$H$142, 2, FALSE )","v":0},0]
[null,null,null,null,null,null,{"$f":"VLOOKUP(F478,工作表9!$G$1:$I$136, 3, FALSE )","v":"混合物"},null,{"$f":"VLOOKUP(F478,工作表9!$G$1:$H$142, 2, FALSE )","v":0},0]
[null,null,null,null,null,null,{"$f":"VLOOKUP(F479,工作表9!$G$1:$I$136, 3, FALSE )","v":"混合物"},null,{"$f":"VLOOKUP(F479,工作表9!$G$1:$H$142, 2, FALSE )","v":0},0]
[null,null,null,null,null,null,{"$f":"VLOOKUP(F480,工作表9!$G$1:$I$136, 3, FALSE )","v":"混合物"},null,{"$f":"VLOOKUP(F480,工作表9!$G$1:$H$142, 2, FALSE )","v":0},0]
[null,null,null,null,null,null,{"$f":"VLOOKUP(F481,工作表9!$G$1:$I$136, 3, FALSE )","v":"混合物"},null,{"$f":"VLOOKUP(F481,工作表9!$G$1:$H$142, 2, FALSE )","v":0},0]
[null,null,null,null,null,null,{"$f":"VLOOKUP(F482,工作表9!$G$1:$I$136, 3, FALSE )","v":"混合物"},null,{"$f":"VLOOKUP(F482,工作表9!$G$1:$H$142, 2, FALSE )","v":0},0]
[null,null,null,null,null,null,{"$f":"VLOOKUP(F483,工作表9!$G$1:$I$136, 3, FALSE )","v":"混合物"},null,{"$f":"VLOOKUP(F483,工作表9!$G$1:$H$142, 2, FALSE )","v":0},0]
[null,null,null,null,null,null,{"$f":"VLOOKUP(F484,工作表9!$G$1:$I$136, 3, FALSE )","v":"混合物"},null,{"$f":"VLOOKUP(F484,工作表9!$G$1:$H$142, 2, FALSE )","v":0},0]
[null,null,null,null,null,null,{"$f":"VLOOKUP(F485,工作表9!$G$1:$I$136, 3, FALSE )","v":"混合物"},null,{"$f":"VLOOKUP(F485,工作表9!$G$1:$H$142, 2, FALSE )","v":0},0]
[null,null,null,null,null,null,{"$f":"VLOOKUP(F486,工作表9!$G$1:$I$136, 3, FALSE )","v":"混合物"},null,{"$f":"VLOOKUP(F486,工作表9!$G$1:$H$142, 2, FALSE )","v":0},0]
[null,null,null,null,null,null,{"$f":"VLOOKUP(F487,工作表9!$G$1:$I$136, 3, FALSE )","v":"混合物"},null,{"$f":"VLOOKUP(F487,工作表9!$G$1:$H$142, 2, FALSE )","v":0},0]
[null,null,null,null,null,null,{"$f":"VLOOKUP(F488,工作表9!$G$1:$I$136, 3, FALSE )","v":"混合物"},null,{"$f":"VLOOKUP(F488,工作表9!$G$1:$H$142, 2, FALSE )","v":0},0]
[null,null,null,null,null,null,{"$f":"VLOOKUP(F489,工作表9!$G$1:$I$136, 3, FALSE )","v":"混合物"},null,{"$f":"VLOOKUP(F489,工作表9!$G$1:$H$142, 2, FALSE )","v":0},0]
[null,null,null,null,null,null,{"$f":"VLOOKUP(F490,工作表9!$G$1:$I$136, 3, FALSE )","v":"混合物"},null,{"$f":"VLOOKUP(F490,工作表9!$G$1:$H$142, 2, FALSE )","v":0},0]
[null,null,null,null,null,null,{"$f":"VLOOKUP(F491,工作表9!$G$1:$I$136, 3, FALSE )","v":"混合物"},null,{"$f":"VLOOKUP(F491,工作表9!$G$1:$H$142, 2, FALSE )","v":0},0]
[null,null,null,null,null,null,{"$f":"VLOOKUP(F492,工作表9!$G$1:$I$136, 3, FALSE )","v":"混合物"},null,{"$f":"VLOOKUP(F492,工作表9!$G$1:$H$142, 2, FALSE )","v":0},0]
[null,null,null,null,null,null,{"$f":"VLOOKUP(F493,工作表9!$G$1:$I$136, 3, FALSE )","v":"混合物"},null,{"$f":"VLOOKUP(F493,工作表9!$G$1:$H$142, 2, FALSE )","v":0},0]
[null,null,null,null,null,null,{"$f":"VLOOKUP(F494,工作表9!$G$1:$I$136, 3, FALSE )","v":"混合物"},null,{"$f":"VLOOKUP(F494,工作表9!$G$1:$H$142, 2, FALSE )","v":0},0]
[null,null,null,null,null,null,{"$f":"VLOOKUP(F495,工作表9!$G$1:$I$136, 3, FALSE )","v":"混合物"},null,{"$f":"VLOOKUP(F495,工作表9!$G$1:$H$142, 2, FALSE )","v":0},0]
[null,null,null,null,null,null,{"$f":"VLOOKUP(F496,工作表9!$G$1:$I$136, 3, FALSE )","v":"混合物"},null,{"$f":"VLOOKUP(F496,工作表9!$G$1:$H$142, 2, FALSE )","v":0},0]
[null,null,null,null,null,null,{"$f":"VLOOKUP(F497,工作表9!$G$1:$I$136, 3, FALSE )","v":"混合物"},null,{"$f":"VLOOKUP(F497,工作表9!$G$1:$H$142, 2, FALSE )","v":0},0]
[null,null,null,null,null,null,{"$f":"VLOOKUP(F498,工作表9!$G$1:$I$136, 3, FALSE )","v":"混合物"},null,{"$f":"VLOOKUP(F498,工作表9!$G$1:$H$142, 2, FALSE )","v":0},0]
[null,null,null,null,null,null,{"$f":"VLOOKUP(F499,工作表9!$G$1:$I$136, 3, FALSE )","v":"混合物"},null,{"$f":"VLOOKUP(F499,工作表9!$G$1:$H$142, 2, FALSE )","v":0},0]
[null,null,null,null,null,null,{"$f":"VLOOKUP(F500,工作表9!$G$1:$I$136, 3, FALSE )","v":"混合物"},null,{"$f":"VLOOKUP(F500,工作表9!$G$1:$H$142, 2, FALSE )","v":0},0]
[null,null,null,null,null,null,{"$f":"VLOOKUP(F501,工作表9!$G$1:$I$136, 3, FALSE )","v":"混合物"},null,{"$f":"VLOOKUP(F501,工作表9!$G$1:$H$142, 2, FALSE )","v":0},0]
[null,null,null,null,null,null,{"$f":"VLOOKUP(F502,工作表9!$G$1:$I$136, 3, FALSE )","v":"混合物"},null,{"$f":"VLOOKUP(F502,工作表9!$G$1:$H$142, 2, FALSE )","v":0},0]
[null,null,null,null,null,null,{"$f":"VLOOKUP(F503,工作表9!$G$1:$I$136, 3, FALSE )","v":"混合物"},null,{"$f":"VLOOKUP(F503,工作表9!$G$1:$H$142, 2, FALSE )","v":0},0]
[null,null,null,null,null,null,{"$f":"VLOOKUP(F504,工作表9!$G$1:$I$136, 3, FALSE )","v":"混合物"},null,{"$f":"VLOOKUP(F504,工作表9!$G$1:$H$142, 2, FALSE )","v":0},0]
[null,null,null,null,null,null,{"$f":"VLOOKUP(F505,工作表9!$G$1:$I$136, 3, FALSE )","v":"混合物"},null,{"$f":"VLOOKUP(F505,工作表9!$G$1:$H$142, 2, FALSE )","v":0},0]
[null,null,null,null,null,null,{"$f":"VLOOKUP(F506,工作表9!$G$1:$I$136, 3, FALSE )","v":"混合物"},null,{"$f":"VLOOKUP(F506,工作表9!$G$1:$H$142, 2, FALSE )","v":0},0]
[null,null,null,null,null,null,{"$f":"VLOOKUP(F507,工作表9!$G$1:$I$136, 3, FALSE )","v":"混合物"},null,{"$f":"VLOOKUP(F507,工作表9!$G$1:$H$142, 2, FALSE )","v":0},0]
[null,null,null,null,null,null,{"$f":"VLOOKUP(F508,工作表9!$G$1:$I$136, 3, FALSE )","v":"混合物"},null,{"$f":"VLOOKUP(F508,工作表9!$G$1:$H$142, 2, FALSE )","v":0},0]
[null,null,null,null,null,null,{"$f":"VLOOKUP(F509,工作表9!$G$1:$I$136, 3, FALSE )","v":"混合物"},null,{"$f":"VLOOKUP(F509,工作表9!$G$1:$H$142, 2, FALSE )","v":0},0]
[null,null,null,null,null,null,{"$f":"VLOOKUP(F510,工作表9!$G$1:$I$136, 3, FALSE )","v":"混合物"},null,{"$f":"VLOOKUP(F510,工作表9!$G$1:$H$142, 2, FALSE )","v":0},0]
[null,null,null,null,null,null,{"$f":"VLOOKUP(F511,工作表9!$G$1:$I$136, 3, FALSE )","v":"混合物"},null,{"$f":"VLOOKUP(F511,工作表9!$G$1:$H$142, 2, FALSE )","v":0},0]
[null,null,null,null,null,null,{"$f":"VLOOKUP(F512,工作表9!$G$1:$I$136, 3, FALSE )","v":"混合物"},null,{"$f":"VLOOKUP(F512,工作表9!$G$1:$H$142, 2, FALSE )","v":0},0]
[null,null,null,null,null,null,{"$f":"VLOOKUP(F513,工作表9!$G$1:$I$136, 3, FALSE )","v":"混合物"},null,{"$f":"VLOOKUP(F513,工作表9!$G$1:$H$142, 2, FALSE )","v":0},0]
[null,null,null,null,null,null,{"$f":"VLOOKUP(F514,工作表9!$G$1:$I$136, 3, FALSE )","v":"混合物"},null,{"$f":"VLOOKUP(F514,工作表9!$G$1:$H$142, 2, FALSE )","v":0},0]
[null,null,null,null,null,null,{"$f":"VLOOKUP(F515,工作表9!$G$1:$I$136, 3, FALSE )","v":"混合物"},null,{"$f":"VLOOKUP(F515,工作表9!$G$1:$H$142, 2, FALSE )","v":0},0]
[null,null,null,null,null,null,{"$f":"VLOOKUP(F516,工作表9!$G$1:$I$136, 3, FALSE )","v":"混合物"},null,{"$f":"VLOOKUP(F516,工作表9!$G$1:$H$142, 2, FALSE )","v":0},0]
[null,null,null,null,null,null,{"$f":"VLOOKUP(F517,工作表9!$G$1:$I$136, 3, FALSE )","v":"混合物"},null,{"$f":"VLOOKUP(F517,工作表9!$G$1:$H$142, 2, FALSE )","v":0},0]
[null,null,null,null,null,null,{"$f":"VLOOKUP(F518,工作表9!$G$1:$I$136, 3, FALSE )","v":"混合物"},null,{"$f":"VLOOKUP(F518,工作表9!$G$1:$H$142, 2, FALSE )","v":0},{"$f":"H518*I518","v":0}]
[null,null,null,null,null,null,{"$f":"VLOOKUP(F519,工作表9!$G$1:$I$136, 3, FALSE )","v":"混合物"},null,{"$f":"VLOOKUP(F519,工作表9!$G$1:$H$142, 2, FALSE )","v":0},0]
[null,null,null,null,null,null,{"$f":"VLOOKUP(F520,工作表9!$G$1:$I$136, 3, FALSE )","v":"混合物"},null,{"$f":"VLOOKUP(F520,工作表9!$G$1:$H$142, 2, FALSE )","v":0},0]
[null,null,null,null,null,null,{"$f":"VLOOKUP(F521,工作表9!$G$1:$I$136, 3, FALSE )","v":"混合物"},null,{"$f":"VLOOKUP(F521,工作表9!$G$1:$H$142, 2, FALSE )","v":0},0]
[null,null,null,null,null,null,{"$f":"VLOOKUP(F522,工作表9!$G$1:$I$136, 3, FALSE )","v":"混合物"},null,{"$f":"VLOOKUP(F522,工作表9!$G$1:$H$142, 2, FALSE )","v":0},0]
[null,null,null,null,null,null,{"$f":"VLOOKUP(F523,工作表9!$G$1:$I$136, 3, FALSE )","v":"混合物"},null,{"$f":"VLOOKUP(F523,工作表9!$G$1:$H$142, 2, FALSE )","v":0},0]
[null,null,null,null,null,null,{"$f":"VLOOKUP(F524,工作表9!$G$1:$I$136, 3, FALSE )","v":"混合物"},null,{"$f":"VLOOKUP(F524,工作表9!$G$1:$H$142, 2, FALSE )","v":0},0]
[null,null,null,null,null,null,{"$f":"VLOOKUP(F525,工作表9!$G$1:$I$136, 3, FALSE )","v":"混合物"},null,{"$f":"VLOOKUP(F525,工作表9!$G$1:$H$142, 2, FALSE )","v":0},0]
[null,null,null,null,null,null,{"$f":"VLOOKUP(F526,工作表9!$G$1:$I$136, 3, FALSE )","v":"混合物"},null,{"$f":"VLOOKUP(F526,工作表9!$G$1:$H$142, 2, FALSE )","v":0},0]
[null,null,null,null,null,null,{"$f":"VLOOKUP(F527,工作表9!$G$1:$I$136, 3, FALSE )","v":"混合物"},null,{"$f":"VLOOKUP(F527,工作表9!$G$1:$H$142, 2, FALSE )","v":0},0]
[null,null,null,null,null,null,{"$f":"VLOOKUP(F528,工作表9!$G$1:$I$136, 3, FALSE )","v":"混合物"},null,{"$f":"VLOOKUP(F528,工作表9!$G$1:$H$142, 2, FALSE )","v":0},0]
[null,null,null,null,null,null,{"$f":"VLOOKUP(F529,工作表9!$G$1:$I$136, 3, FALSE )","v":"混合物"},null,{"$f":"VLOOKUP(F529,工作表9!$G$1:$H$142, 2, FALSE )","v":0},0]
[null,null,null,null,null,null,{"$f":"VLOOKUP(F530,工作表9!$G$1:$I$136, 3, FALSE )","v":"混合物"},null,{"$f":"VLOOKUP(F530,工作表9!$G$1:$H$142, 2, FALSE )","v":0},0]
[null,null,null,null,null,null,{"$f":"VLOOKUP(F531,工作表9!$G$1:$I$136, 3, FALSE )","v":"混合物"},null,{"$f":"VLOOKUP(F531,工作表9!$G$1:$H$142, 2, FALSE )","v":0},0]
[null,null,null,null,null,null,{"$f":"VLOOKUP(F532,工作表9!$G$1:$I$136, 3, FALSE )","v":"混合物"},null,{"$f":"VLOOKUP(F532,工作表9!$G$1:$H$142, 2, FALSE )","v":0},0]
[null,null,null,null,null,null,{"$f":"VLOOKUP(F533,工作表9!$G$1:$I$136, 3, FALSE )","v":"混合物"},null,{"$f":"VLOOKUP(F533,工作表9!$G$1:$H$142, 2, FALSE )","v":0},0]
[null,null,null,null,null,null,{"$f":"VLOOKUP(F534,工作表9!$G$1:$I$136, 3, FALSE )","v":"混合物"},null,{"$f":"VLOOKUP(F534,工作表9!$G$1:$H$142, 2, FALSE )","v":0},0]
[null,null,null,null,null,null,{"$f":"VLOOKUP(F535,工作表9!$G$1:$I$136, 3, FALSE )","v":"混合物"},null,{"$f":"VLOOKUP(F535,工作表9!$G$1:$H$142, 2, FALSE )","v":0},0]
[null,null,null,null,null,null,{"$f":"VLOOKUP(F536,工作表9!$G$1:$I$136, 3, FALSE )","v":"混合物"},null,{"$f":"VLOOKUP(F536,工作表9!$G$1:$H$142, 2, FALSE )","v":0},0]
[null,null,null,null,null,null,{"$f":"VLOOKUP(F537,工作表9!$G$1:$I$136, 3, FALSE )","v":"混合物"},null,{"$f":"VLOOKUP(F537,工作表9!$G$1:$H$142, 2, FALSE )","v":0},0]
[null,null,null,null,null,null,{"$f":"VLOOKUP(F538,工作表9!$G$1:$I$136, 3, FALSE )","v":"混合物"},null,{"$f":"VLOOKUP(F538,工作表9!$G$1:$H$142, 2, FALSE )","v":0},0]
[null,null,null,null,null,null,{"$f":"VLOOKUP(F539,工作表9!$G$1:$I$136, 3, FALSE )","v":"混合物"},null,{"$f":"VLOOKUP(F539,工作表9!$G$1:$H$142, 2, FALSE )","v":0},0]
[null,null,null,null,null,null,{"$f":"VLOOKUP(F540,工作表9!$G$1:$I$136, 3, FALSE )","v":"混合物"},null,{"$f":"VLOOKUP(F540,工作表9!$G$1:$H$142, 2, FALSE )","v":0},0]
[null,null,null,null,null,null,{"$f":"VLOOKUP(F541,工作表9!$G$1:$I$136, 3, FALSE )","v":"混合物"},null,{"$f":"VLOOKUP(F541,工作表9!$G$1:$H$142, 2, FALSE )","v":0},0]
[null,null,null,null,null,null,{"$f":"VLOOKUP(F542,工作表9!$G$1:$I$136, 3, FALSE )","v":"混合物"},null,{"$f":"VLOOKUP(F542,工作表9!$G$1:$H$142, 2, FALSE )","v":0},0]
[null,null,null,null,null,null,{"$f":"VLOOKUP(F543,工作表9!$G$1:$I$136, 3, FALSE )","v":"混合物"},null,{"$f":"VLOOKUP(F543,工作表9!$G$1:$H$142, 2, FALSE )","v":0},0]
[null,null,null,null,null,null,{"$f":"VLOOKUP(F544,工作表9!$G$1:$I$136, 3, FALSE )","v":"混合物"},null,{"$f":"VLOOKUP(F544,工作表9!$G$1:$H$142, 2, FALSE )","v":0},0]
[null,null,null,null,null,null,{"$f":"VLOOKUP(F545,工作表9!$G$1:$I$136, 3, FALSE )","v":"混合物"},null,{"$f":"VLOOKUP(F545,工作表9!$G$1:$H$142, 2, FALSE )","v":0},0]
[null,null,null,null,null,null,{"$f":"VLOOKUP(F546,工作表9!$G$1:$I$136, 3, FALSE )","v":"混合物"},null,{"$f":"VLOOKUP(F546,工作表9!$G$1:$H$142, 2, FALSE )","v":0},0]
[null,null,null,null,null,null,{"$f":"VLOOKUP(F547,工作表9!$G$1:$I$136, 3, FALSE )","v":"混合物"},null,{"$f":"VLOOKUP(F547,工作表9!$G$1:$H$142, 2, FALSE )","v":0},0]
[null,null,null,null,null,null,{"$f":"VLOOKUP(F548,工作表9!$G$1:$I$136, 3, FALSE )","v":"混合物"},null,{"$f":"VLOOKUP(F548,工作表9!$G$1:$H$142, 2, FALSE )","v":0},0]
[null,null,null,null,null,null,{"$f":"VLOOKUP(F549,工作表9!$G$1:$I$136, 3, FALSE )","v":"混合物"},null,{"$f":"VLOOKUP(F549,工作表9!$G$1:$H$142, 2, FALSE )","v":0},0]
[null,null,null,null,null,null,{"$f":"VLOOKUP(F550,工作表9!$G$1:$I$136, 3, FALSE )","v":"混合物"},null,{"$f":"VLOOKUP(F550,工作表9!$G$1:$H$142, 2, FALSE )","v":0},0]
[null,null,null,null,null,null,{"$f":"VLOOKUP(F551,工作表9!$G$1:$I$136, 3, FALSE )","v":"混合物"},null,{"$f":"VLOOKUP(F551,工作表9!$G$1:$H$142, 2, FALSE )","v":0},0]
[null,null,null,null,null,null,{"$f":"VLOOKUP(F552,工作表9!$G$1:$I$136, 3, FALSE )","v":"混合物"},null,{"$f":"VLOOKUP(F552,工作表9!$G$1:$H$142, 2, FALSE )","v":0},0]
[null,null,null,null,null,null,{"$f":"VLOOKUP(F553,工作表9!$G$1:$I$136, 3, FALSE )","v":"混合物"},null,{"$f":"VLOOKUP(F553,工作表9!$G$1:$H$142, 2, FALSE )","v":0},0]
[null,null,null,null,null,null,{"$f":"VLOOKUP(F554,工作表9!$G$1:$I$136, 3, FALSE )","v":"混合物"},null,{"$f":"VLOOKUP(F554,工作表9!$G$1:$H$142, 2, FALSE )","v":0},0]
[null,null,null,null,null,null,{"$f":"VLOOKUP(F555,工作表9!$G$1:$I$136, 3, FALSE )","v":"混合物"},null,{"$f":"VLOOKUP(F555,工作表9!$G$1:$H$142, 2, FALSE )","v":0},0]
[null,null,null,null,null,null,{"$f":"VLOOKUP(F556,工作表9!$G$1:$I$136, 3, FALSE )","v":"混合物"},null,{"$f":"VLOOKUP(F556,工作表9!$G$1:$H$142, 2, FALSE )","v":0},0]
[null,null,null,null,null,null,{"$f":"VLOOKUP(F557,工作表9!$G$1:$I$136, 3, FALSE )","v":"混合物"},null,{"$f":"VLOOKUP(F557,工作表9!$G$1:$H$142, 2, FALSE )","v":0},0]
[null,null,null,null,null,null,{"$f":"VLOOKUP(F558,工作表9!$G$1:$I$136, 3, FALSE )","v":"混合物"},null,{"$f":"VLOOKUP(F558,工作表9!$G$1:$H$142, 2, FALSE )","v":0},0]
[null,null,null,null,null,null,{"$f":"VLOOKUP(F559,工作表9!$G$1:$I$136, 3, FALSE )","v":"混合物"},null,{"$f":"VLOOKUP(F559,工作表9!$G$1:$H$142, 2, FALSE )","v":0},0]
[null,null,null,null,null,null,{"$f":"VLOOKUP(F560,工作表9!$G$1:$I$136, 3, FALSE )","v":"混合物"},null,{"$f":"VLOOKUP(F560,工作表9!$G$1:$H$142, 2, FALSE )","v":0},0]
[null,null,null,null,null,null,{"$f":"VLOOKUP(F561,工作表9!$G$1:$I$136, 3, FALSE )","v":"混合物"},null,{"$f":"VLOOKUP(F561,工作表9!$G$1:$H$142, 2, FALSE )","v":0},0]
[null,null,null,null,null,null,{"$f":"VLOOKUP(F562,工作表9!$G$1:$I$136, 3, FALSE )","v":"混合物"},null,{"$f":"VLOOKUP(F562,工作表9!$G$1:$H$142, 2, FALSE )","v":0},0]
[null,null,null,null,null,null,{"$f":"VLOOKUP(F563,工作表9!$G$1:$I$136, 3, FALSE )","v":"混合物"},null,{"$f":"VLOOKUP(F563,工作表9!$G$1:$H$142, 2, FALSE )","v":0},0]
[null,null,null,null,null,null,{"$f":"VLOOKUP(F564,工作表9!$G$1:$I$136, 3, FALSE )","v":"混合物"},null,{"$f":"VLOOKUP(F564,工作表9!$G$1:$H$142, 2, FALSE )","v":0},0]
[null,null,null,null,null,null,{"$f":"VLOOKUP(F565,工作表9!$G$1:$I$136, 3, FALSE )","v":"混合物"},null,{"$f":"VLOOKUP(F565,工作表9!$G$1:$H$142, 2, FALSE )","v":0},0]
[null,null,null,null,null,null,{"$f":"VLOOKUP(F566,工作表9!$G$1:$I$136, 3, FALSE )","v":"混合物"},null,{"$f":"VLOOKUP(F566,工作表9!$G$1:$H$142, 2, FALSE )","v":0},0]
[null,null,null,null,null,null,{"$f":"VLOOKUP(F567,工作表9!$G$1:$I$136, 3, FALSE )","v":"混合物"},null,{"$f":"VLOOKUP(F567,工作表9!$G$1:$H$142, 2, FALSE )","v":0},0]
[null,null,null,null,null,null,{"$f":"VLOOKUP(F568,工作表9!$G$1:$I$136, 3, FALSE )","v":"混合物"},null,{"$f":"VLOOKUP(F568,工作表9!$G$1:$H$142, 2, FALSE )","v":0},0]
[null,null,null,null,null,null,{"$f":"VLOOKUP(F569,工作表9!$G$1:$I$136, 3, FALSE )","v":"混合物"},null,{"$f":"VLOOKUP(F569,工作表9!$G$1:$H$142, 2, FALSE )","v":0},0]
[null,null,null,null,null,null,{"$f":"VLOOKUP(F570,工作表9!$G$1:$I$136, 3, FALSE )","v":"混合物"},null,{"$f":"VLOOKUP(F570,工作表9!$G$1:$H$142, 2, FALSE )","v":0},0]
[null,null,null,null,null,null,{"$f":"VLOOKUP(F571,工作表9!$G$1:$I$136, 3, FALSE )","v":"混合物"},null,{"$f":"VLOOKUP(F571,工作表9!$G$1:$H$142, 2, FALSE )","v":0},0]
[null,null,null,null,null,null,{"$f":"VLOOKUP(F572,工作表9!$G$1:$I$136, 3, FALSE )","v":"混合物"},null,{"$f":"VLOOKUP(F572,工作表9!$G$1:$H$142, 2, FALSE )","v":0},0]
[null,null,null,null,null,null,{"$f":"VLOOKUP(F573,工作表9!$G$1:$I$136, 3, FALSE )","v":"混合物"},null,{"$f":"VLOOKUP(F573,工作表9!$G$1:$H$142, 2, FALSE )","v":0},0]
[null,null,null,null,null,null,{"$f":"VLOOKUP(F574,工作表9!$G$1:$I$136, 3, FALSE )","v":"混合物"},null,{"$f":"VLOOKUP(F574,工作表9!$G$1:$H$142, 2, FALSE )","v":0},0]
[null,null,null,null,null,null,{"$f":"VLOOKUP(F575,工作表9!$G$1:$I$136, 3, FALSE )","v":"混合物"},null,{"$f":"VLOOKUP(F575,工作表9!$G$1:$H$142, 2, FALSE )","v":0},0]
[null,null,null,null,null,null,{"$f":"VLOOKUP(F576,工作表9!$G$1:$I$136, 3, FALSE )","v":"混合物"},null,{"$f":"VLOOKUP(F576,工作表9!$G$1:$H$142, 2, FALSE )","v":0},0]
[null,null,null,null,null,null,{"$f":"VLOOKUP(F577,工作表9!$G$1:$I$136, 3, FALSE )","v":"混合物"},null,{"$f":"VLOOKUP(F577,工作表9!$G$1:$H$142, 2, FALSE )","v":0},0]
[null,null,null,null,null,null,{"$f":"VLOOKUP(F578,工作表9!$G$1:$I$136, 3, FALSE )","v":"混合物"},null,{"$f":"VLOOKUP(F578,工作表9!$G$1:$H$142, 2, FALSE )","v":0},0]
[null,null,null,null,null,null,{"$f":"VLOOKUP(F579,工作表9!$G$1:$I$136, 3, FALSE )","v":"混合物"},null,{"$f":"VLOOKUP(F579,工作表9!$G$1:$H$142, 2, FALSE )","v":0},0]
[null,null,null,null,null,null,{"$f":"VLOOKUP(F580,工作表9!$G$1:$I$136, 3, FALSE )","v":"混合物"},null,{"$f":"VLOOKUP(F580,工作表9!$G$1:$H$142, 2, FALSE )","v":0},0]
[null,null,null,null,null,null,{"$f":"VLOOKUP(F581,工作表9!$G$1:$I$136, 3, FALSE )","v":"混合物"},null,{"$f":"VLOOKUP(F581,工作表9!$G$1:$H$142, 2, FALSE )","v":0},0]
[null,null,null,null,null,null,{"$f":"VLOOKUP(F582,工作表9!$G$1:$I$136, 3, FALSE )","v":"混合物"},null,{"$f":"VLOOKUP(F582,工作表9!$G$1:$H$142, 2, FALSE )","v":0},{"$f":"H582*I582","v":0}]
[null,null,null,null,null,null,{"$f":"VLOOKUP(F583,工作表9!$G$1:$I$136, 3, FALSE )","v":"混合物"},null,{"$f":"VLOOKUP(F583,工作表9!$G$1:$H$142, 2, FALSE )","v":0},0]
[null,null,null,null,null,null,{"$f":"VLOOKUP(F584,工作表9!$G$1:$I$136, 3, FALSE )","v":"混合物"},null,{"$f":"VLOOKUP(F584,工作表9!$G$1:$H$142, 2, FALSE )","v":0},0]
[null,null,null,null,null,null,{"$f":"VLOOKUP(F585,工作表9!$G$1:$I$136, 3, FALSE )","v":"混合物"},null,{"$f":"VLOOKUP(F585,工作表9!$G$1:$H$142, 2, FALSE )","v":0},0]
[null,null,null,null,null,null,{"$f":"VLOOKUP(F586,工作表9!$G$1:$I$136, 3, FALSE )","v":"混合物"},null,{"$f":"VLOOKUP(F586,工作表9!$G$1:$H$142, 2, FALSE )","v":0},0]
[null,null,null,null,null,null,{"$f":"VLOOKUP(F587,工作表9!$G$1:$I$136, 3, FALSE )","v":"混合物"},null,{"$f":"VLOOKUP(F587,工作表9!$G$1:$H$142, 2, FALSE )","v":0},0]
[null,null,null,null,null,null,{"$f":"VLOOKUP(F588,工作表9!$G$1:$I$136, 3, FALSE )","v":"混合物"},null,{"$f":"VLOOKUP(F588,工作表9!$G$1:$H$142, 2, FALSE )","v":0},0]
[null,null,null,null,null,null,{"$f":"VLOOKUP(F589,工作表9!$G$1:$I$136, 3, FALSE )","v":"混合物"},null,{"$f":"VLOOKUP(F589,工作表9!$G$1:$H$142, 2, FALSE )","v":0},0]
[null,null,null,null,null,null,{"$f":"VLOOKUP(F590,工作表9!$G$1:$I$136, 3, FALSE )","v":"混合物"},null,{"$f":"VLOOKUP(F590,工作表9!$G$1:$H$142, 2, FALSE )","v":0},0]
[null,null,null,null,null,null,{"$f":"VLOOKUP(F591,工作表9!$G$1:$I$136, 3, FALSE )","v":"混合物"},null,{"$f":"VLOOKUP(F591,工作表9!$G$1:$H$142, 2, FALSE )","v":0},0]
[null,null,null,null,null,null,{"$f":"VLOOKUP(F592,工作表9!$G$1:$I$136, 3, FALSE )","v":"混合物"},null,{"$f":"VLOOKUP(F592,工作表9!$G$1:$H$142, 2, FALSE )","v":0},0]
[null,null,null,null,null,null,{"$f":"VLOOKUP(F593,工作表9!$G$1:$I$136, 3, FALSE )","v":"混合物"},null,{"$f":"VLOOKUP(F593,工作表9!$G$1:$H$142, 2, FALSE )","v":0},0]
[null,null,null,null,null,null,{"$f":"VLOOKUP(F594,工作表9!$G$1:$I$136, 3, FALSE )","v":"混合物"},null,{"$f":"VLOOKUP(F594,工作表9!$G$1:$H$142, 2, FALSE )","v":0},0]
[null,null,null,null,null,null,{"$f":"VLOOKUP(F595,工作表9!$G$1:$I$136, 3, FALSE )","v":"混合物"},null,{"$f":"VLOOKUP(F595,工作表9!$G$1:$H$142, 2, FALSE )","v":0},0]
[null,null,null,null,null,null,{"$f":"VLOOKUP(F596,工作表9!$G$1:$I$136, 3, FALSE )","v":"混合物"},null,{"$f":"VLOOKUP(F596,工作表9!$G$1:$H$142, 2, FALSE )","v":0},0]
[null,null,null,null,null,null,{"$f":"VLOOKUP(F597,工作表9!$G$1:$I$136, 3, FALSE )","v":"混合物"},null,{"$f":"VLOOKUP(F597,工作表9!$G$1:$H$142, 2, FALSE )","v":0},0]
[null,null,null,null,null,null,{"$f":"VLOOKUP(F598,工作表9!$G$1:$I$136, 3, FALSE )","v":"混合物"},null,{"$f":"VLOOKUP(F598,工作表9!$G$1:$H$142, 2, FALSE )","v":0},0]
[null,null,null,null,null,null,{"$f":"VLOOKUP(F599,工作表9!$G$1:$I$136, 3, FALSE )","v":"混合物"},null,{"$f":"VLOOKUP(F599,工作表9!$G$1:$H$142, 2, FALSE )","v":0},0]
[null,null,null,null,null,null,{"$f":"VLOOKUP(F600,工作表9!$G$1:$I$136, 3, FALSE )","v":"混合物"},null,{"$f":"VLOOKUP(F600,工作表9!$G$1:$H$142, 2, FALSE )","v":0},0]
[null,null,null,null,null,null,{"$f":"VLOOKUP(F601,工作表9!$G$1:$I$136, 3, FALSE )","v":"混合物"},null,{"$f":"VLOOKUP(F601,工作表9!$G$1:$H$142, 2, FALSE )","v":0},0]
[null,null,null,null,null,null,{"$f":"VLOOKUP(F602,工作表9!$G$1:$I$136, 3, FALSE )","v":"混合物"},null,{"$f":"VLOOKUP(F602,工作表9!$G$1:$H$142, 2, FALSE )","v":0},0]
[null,null,null,null,null,null,{"$f":"VLOOKUP(F603,工作表9!$G$1:$I$136, 3, FALSE )","v":"混合物"},null,{"$f":"VLOOKUP(F603,工作表9!$G$1:$H$142, 2, FALSE )","v":0},0]
[null,null,null,null,null,null,{"$f":"VLOOKUP(F604,工作表9!$G$1:$I$136, 3, FALSE )","v":"混合物"},null,{"$f":"VLOOKUP(F604,工作表9!$G$1:$H$142, 2, FALSE )","v":0},0]
[null,null,null,null,null,null,{"$f":"VLOOKUP(F605,工作表9!$G$1:$I$136, 3, FALSE )","v":"混合物"},null,{"$f":"VLOOKUP(F605,工作表9!$G$1:$H$142, 2, FALSE )","v":0},0]
[null,null,null,null,null,null,{"$f":"VLOOKUP(F606,工作表9!$G$1:$I$136, 3, FALSE )","v":"混合物"},null,{"$f":"VLOOKUP(F606,工作表9!$G$1:$H$142, 2, FALSE )","v":0},0]
[null,null,null,null,null,null,{"$f":"VLOOKUP(F607,工作表9!$G$1:$I$136, 3, FALSE )","v":"混合物"},null,{"$f":"VLOOKUP(F607,工作表9!$G$1:$H$142, 2, FALSE )","v":0},0]
[null,null,null,null,null,null,{"$f":"VLOOKUP(F608,工作表9!$G$1:$I$136, 3, FALSE )","v":"混合物"},null,{"$f":"VLOOKUP(F608,工作表9!$G$1:$H$142, 2, FALSE )","v":0},0]
[null,null,null,null,null,null,{"$f":"VLOOKUP(F609,工作表9!$G$1:$I$136, 3, FALSE )","v":"混合物"},null,{"$f":"VLOOKUP(F609,工作表9!$G$1:$H$142, 2, FALSE )","v":0},0]
[null,null,null,null,null,null,{"$f":"VLOOKUP(F610,工作表9!$G$1:$I$136, 3, FALSE )","v":"混合物"},null,{"$f":"VLOOKUP(F610,工作表9!$G$1:$H$142, 2, FALSE )","v":0},0]
[null,null,null,null,null,null,{"$f":"VLOOKUP(F611,工作表9!$G$1:$I$136, 3, FALSE )","v":"混合物"},null,{"$f":"VLOOKUP(F611,工作表9!$G$1:$H$142, 2, FALSE )","v":0},0]
[null,null,null,null,null,null,{"$f":"VLOOKUP(F612,工作表9!$G$1:$I$136, 3, FALSE )","v":"混合物"},null,{"$f":"VLOOKUP(F612,工作表9!$G$1:$H$142, 2, FALSE )","v":0},0]
[null,null,null,null,null,null,{"$f":"VLOOKUP(F613,工作表9!$G$1:$I$136, 3, FALSE )","v":"混合物"},null,{"$f":"VLOOKUP(F613,工作表9!$G$1:$H$142, 2, FALSE )","v":0},0]
[null,null,null,null,null,null,{"$f":"VLOOKUP(F614,工作表9!$G$1:$I$136, 3, FALSE )","v":"混合物"},null,{"$f":"VLOOKUP(F614,工作表9!$G$1:$H$142, 2, FALSE )","v":0},0]
[null,null,null,null,null,null,{"$f":"VLOOKUP(F615,工作表9!$G$1:$I$136, 3, FALSE )","v":"混合物"},null,{"$f":"VLOOKUP(F615,工作表9!$G$1:$H$142, 2, FALSE )","v":0},0]
[null,null,null,null,null,null,{"$f":"VLOOKUP(F616,工作表9!$G$1:$I$136, 3, FALSE )","v":"混合物"},null,{"$f":"VLOOKUP(F616,工作表9!$G$1:$H$142, 2, FALSE )","v":0},0]
[null,null,null,null,null,null,{"$f":"VLOOKUP(F617,工作表9!$G$1:$I$136, 3, FALSE )","v":"混合物"},null,{"$f":"VLOOKUP(F617,工作表9!$G$1:$H$142, 2, FALSE )","v":0},0]
[null,null,null,null,null,null,{"$f":"VLOOKUP(F618,工作表9!$G$1:$I$136, 3, FALSE )","v":"混合物"},null,{"$f":"VLOOKUP(F618,工作表9!$G$1:$H$142, 2, FALSE )","v":0},0]
[null,null,null,null,null,null,{"$f":"VLOOKUP(F619,工作表9!$G$1:$I$136, 3, FALSE )","v":"混合物"},null,{"$f":"VLOOKUP(F619,工作表9!$G$1:$H$142, 2, FALSE )","v":0},0]
[null,null,null,null,null,null,{"$f":"VLOOKUP(F620,工作表9!$G$1:$I$136, 3, FALSE )","v":"混合物"},null,{"$f":"VLOOKUP(F620,工作表9!$G$1:$H$142, 2, FALSE )","v":0},0]
[null,null,null,null,null,null,{"$f":"VLOOKUP(F621,工作表9!$G$1:$I$136, 3, FALSE )","v":"混合物"},null,{"$f":"VLOOKUP(F621,工作表9!$G$1:$H$142, 2, FALSE )","v":0},0]
[null,null,null,null,null,null,{"$f":"VLOOKUP(F622,工作表9!$G$1:$I$136, 3, FALSE )","v":"混合物"},null,{"$f":"VLOOKUP(F622,工作表9!$G$1:$H$142, 2, FALSE )","v":0},0]
[null,null,null,null,null,null,{"$f":"VLOOKUP(F623,工作表9!$G$1:$I$136, 3, FALSE )","v":"混合物"},null,{"$f":"VLOOKUP(F623,工作表9!$G$1:$H$142, 2, FALSE )","v":0},0]
[null,null,null,null,null,null,{"$f":"VLOOKUP(F624,工作表9!$G$1:$I$136, 3, FALSE )","v":"混合物"},null,{"$f":"VLOOKUP(F624,工作表9!$G$1:$H$142, 2, FALSE )","v":0},0]
[null,null,null,null,null,null,{"$f":"VLOOKUP(F625,工作表9!$G$1:$I$136, 3, FALSE )","v":"混合物"},null,{"$f":"VLOOKUP(F625,工作表9!$G$1:$H$142, 2, FALSE )","v":0},0]
[null,null,null,null,null,null,{"$f":"VLOOKUP(F626,工作表9!$G$1:$I$136, 3, FALSE )","v":"混合物"},null,{"$f":"VLOOKUP(F626,工作表9!$G$1:$H$142, 2, FALSE )","v":0},0]
[null,null,null,null,null,null,{"$f":"VLOOKUP(F627,工作表9!$G$1:$I$136, 3, FALSE )","v":"混合物"},null,{"$f":"VLOOKUP(F627,工作表9!$G$1:$H$142, 2, FALSE )","v":0},0]
[null,null,null,null,null,null,{"$f":"VLOOKUP(F628,工作表9!$G$1:$I$136, 3, FALSE )","v":"混合物"},null,{"$f":"VLOOKUP(F628,工作表9!$G$1:$H$142, 2, FALSE )","v":0},0]
[null,null,null,null,null,null,{"$f":"VLOOKUP(F629,工作表9!$G$1:$I$136, 3, FALSE )","v":"混合物"},null,{"$f":"VLOOKUP(F629,工作表9!$G$1:$H$142, 2, FALSE )","v":0},0]
[null,null,null,null,null,null,{"$f":"VLOOKUP(F630,工作表9!$G$1:$I$136, 3, FALSE )","v":"混合物"},null,{"$f":"VLOOKUP(F630,工作表9!$G$1:$H$142, 2, FALSE )","v":0},0]
[null,null,null,null,null,null,{"$f":"VLOOKUP(F631,工作表9!$G$1:$I$136, 3, FALSE )","v":"混合物"},null,{"$f":"VLOOKUP(F631,工作表9!$G$1:$H$142, 2, FALSE )","v":0},0]
[null,null,null,null,null,null,{"$f":"VLOOKUP(F632,工作表9!$G$1:$I$136, 3, FALSE )","v":"混合物"},null,{"$f":"VLOOKUP(F632,工作表9!$G$1:$H$142, 2, FALSE )","v":0},0]
[null,null,null,null,null,null,{"$f":"VLOOKUP(F633,工作表9!$G$1:$I$136, 3, FALSE )","v":"混合物"},null,{"$f":"VLOOKUP(F633,工作表9!$G$1:$H$142, 2, FALSE )","v":0},0]
[null,null,null,null,null,null,{"$f":"VLOOKUP(F634,工作表9!$G$1:$I$136, 3, FALSE )","v":"混合物"},null,{"$f":"VLOOKUP(F634,工作表9!$G$1:$H$142, 2, FALSE )","v":0},0]
[null,null,null,null,null,null,{"$f":"VLOOKUP(F635,工作表9!$G$1:$I$136, 3, FALSE )","v":"混合物"},null,{"$f":"VLOOKUP(F635,工作表9!$G$1:$H$142, 2, FALSE )","v":0},0]
[null,null,null,null,null,null,{"$f":"VLOOKUP(F636,工作表9!$G$1:$I$136, 3, FALSE )","v":"混合物"},null,{"$f":"VLOOKUP(F636,工作表9!$G$1:$H$142, 2, FALSE )","v":0},0]
[null,null,null,null,null,null,{"$f":"VLOOKUP(F637,工作表9!$G$1:$I$136, 3, FALSE )","v":"混合物"},null,{"$f":"VLOOKUP(F637,工作表9!$G$1:$H$142, 2, FALSE )","v":0},0]
[null,null,null,null,null,null,{"$f":"VLOOKUP(F638,工作表9!$G$1:$I$136, 3, FALSE )","v":"混合物"},null,{"$f":"VLOOKUP(F638,工作表9!$G$1:$H$142, 2, FALSE )","v":0},0]
[null,null,null,null,null,null,{"$f":"VLOOKUP(F639,工作表9!$G$1:$I$136, 3, FALSE )","v":"混合物"},null,{"$f":"VLOOKUP(F639,工作表9!$G$1:$H$142, 2, FALSE )","v":0},0]
[null,null,null,null,null,null,{"$f":"VLOOKUP(F640,工作表9!$G$1:$I$136, 3, FALSE )","v":"混合物"},null,{"$f":"VLOOKUP(F640,工作表9!$G$1:$H$142, 2, FALSE )","v":0},0]
[null,null,null,null,null,null,{"$f":"VLOOKUP(F641,工作表9!$G$1:$I$136, 3, FALSE )","v":"混合物"},null,{"$f":"VLOOKUP(F641,工作表9!$G$1:$H$142, 2, FALSE )","v":0},0]
[null,null,null,null,null,null,{"$f":"VLOOKUP(F642,工作表9!$G$1:$I$136, 3, FALSE )","v":"混合物"},null,{"$f":"VLOOKUP(F642,工作表9!$G$1:$H$142, 2, FALSE )","v":0},0]
[null,null,null,null,null,null,{"$f":"VLOOKUP(F643,工作表9!$G$1:$I$136, 3, FALSE )","v":"混合物"},null,{"$f":"VLOOKUP(F643,工作表9!$G$1:$H$142, 2, FALSE )","v":0},0]
[null,null,null,null,null,null,{"$f":"VLOOKUP(F644,工作表9!$G$1:$I$136, 3, FALSE )","v":"混合物"},null,{"$f":"VLOOKUP(F644,工作表9!$G$1:$H$142, 2, FALSE )","v":0},0]
[null,null,null,null,null,null,{"$f":"VLOOKUP(F645,工作表9!$G$1:$I$136, 3, FALSE )","v":"混合物"},null,{"$f":"VLOOKUP(F645,工作表9!$G$1:$H$142, 2, FALSE )","v":0},0]
[null,null,null,null,null,null,{"$f":"VLOOKUP(F646,工作表9!$G$1:$I$136, 3, FALSE )","v":"混合物"},null,{"$f":"VLOOKUP(F646,工作表9!$G$1:$H$142, 2, FALSE )","v":0},{"$f":"H646*I646","v":0}]
[null,null,null,null,null,null,{"$f":"VLOOKUP(F647,工作表9!$G$1:$I$136, 3, FALSE )","v":"混合物"},null,{"$f":"VLOOKUP(F647,工作表9!$G$1:$H$142, 2, FALSE )","v":0},0]
[null,null,null,null,null,null,{"$f":"VLOOKUP(F648,工作表9!$G$1:$I$136, 3, FALSE )","v":"混合物"},null,{"$f":"VLOOKUP(F648,工作表9!$G$1:$H$142, 2, FALSE )","v":0},0]
[null,null,null,null,null,null,{"$f":"VLOOKUP(F649,工作表9!$G$1:$I$136, 3, FALSE )","v":"混合物"},null,{"$f":"VLOOKUP(F649,工作表9!$G$1:$H$142, 2, FALSE )","v":0},0]
[null,null,null,null,null,null,{"$f":"VLOOKUP(F650,工作表9!$G$1:$I$136, 3, FALSE )","v":"混合物"},null,{"$f":"VLOOKUP(F650,工作表9!$G$1:$H$142, 2, FALSE )","v":0},0]
[null,null,null,null,null,null,{"$f":"VLOOKUP(F651,工作表9!$G$1:$I$136, 3, FALSE )","v":"混合物"},null,{"$f":"VLOOKUP(F651,工作表9!$G$1:$H$142, 2, FALSE )","v":0},0]
[null,null,null,null,null,null,{"$f":"VLOOKUP(F652,工作表9!$G$1:$I$136, 3, FALSE )","v":"混合物"},null,{"$f":"VLOOKUP(F652,工作表9!$G$1:$H$142, 2, FALSE )","v":0},0]
[null,null,null,null,null,null,{"$f":"VLOOKUP(F653,工作表9!$G$1:$I$136, 3, FALSE )","v":"混合物"},null,{"$f":"VLOOKUP(F653,工作表9!$G$1:$H$142, 2, FALSE )","v":0},0]
[null,null,null,null,null,null,{"$f":"VLOOKUP(F654,工作表9!$G$1:$I$136, 3, FALSE )","v":"混合物"},null,{"$f":"VLOOKUP(F654,工作表9!$G$1:$H$142, 2, FALSE )","v":0},0]
[null,null,null,null,null,null,{"$f":"VLOOKUP(F655,工作表9!$G$1:$I$136, 3, FALSE )","v":"混合物"},null,{"$f":"VLOOKUP(F655,工作表9!$G$1:$H$142, 2, FALSE )","v":0},0]
[null,null,null,null,null,null,{"$f":"VLOOKUP(F656,工作表9!$G$1:$I$136, 3, FALSE )","v":"混合物"},null,{"$f":"VLOOKUP(F656,工作表9!$G$1:$H$142, 2, FALSE )","v":0},0]
[null,null,null,null,null,null,{"$f":"VLOOKUP(F657,工作表9!$G$1:$I$136, 3, FALSE )","v":"混合物"},null,{"$f":"VLOOKUP(F657,工作表9!$G$1:$H$142, 2, FALSE )","v":0},0]
[null,null,null,null,null,null,{"$f":"VLOOKUP(F658,工作表9!$G$1:$I$136, 3, FALSE )","v":"混合物"},null,{"$f":"VLOOKUP(F658,工作表9!$G$1:$H$142, 2, FALSE )","v":0},0]
[null,null,null,null,null,null,{"$f":"VLOOKUP(F659,工作表9!$G$1:$I$136, 3, FALSE )","v":"混合物"},null,{"$f":"VLOOKUP(F659,工作表9!$G$1:$H$142, 2, FALSE )","v":0},0]
[null,null,null,null,null,null,{"$f":"VLOOKUP(F660,工作表9!$G$1:$I$136, 3, FALSE )","v":"混合物"},null,{"$f":"VLOOKUP(F660,工作表9!$G$1:$H$142, 2, FALSE )","v":0},0]
[null,null,null,null,null,null,{"$f":"VLOOKUP(F661,工作表9!$G$1:$I$136, 3, FALSE )","v":"混合物"},null,{"$f":"VLOOKUP(F661,工作表9!$G$1:$H$142, 2, FALSE )","v":0},0]
[null,null,null,null,null,null,{"$f":"VLOOKUP(F662,工作表9!$G$1:$I$136, 3, FALSE )","v":"混合物"},null,{"$f":"VLOOKUP(F662,工作表9!$G$1:$H$142, 2, FALSE )","v":0},0]
[null,null,null,null,null,null,{"$f":"VLOOKUP(F663,工作表9!$G$1:$I$136, 3, FALSE )","v":"混合物"},null,{"$f":"VLOOKUP(F663,工作表9!$G$1:$H$142, 2, FALSE )","v":0},0]
[null,null,null,null,null,null,{"$f":"VLOOKUP(F664,工作表9!$G$1:$I$136, 3, FALSE )","v":"混合物"},null,{"$f":"VLOOKUP(F664,工作表9!$G$1:$H$142, 2, FALSE )","v":0},0]
[null,null,null,null,null,null,{"$f":"VLOOKUP(F665,工作表9!$G$1:$I$136, 3, FALSE )","v":"混合物"},null,{"$f":"VLOOKUP(F665,工作表9!$G$1:$H$142, 2, FALSE )","v":0},0]
[null,null,null,null,null,null,{"$f":"VLOOKUP(F666,工作表9!$G$1:$I$136, 3, FALSE )","v":"混合物"},null,{"$f":"VLOOKUP(F666,工作表9!$G$1:$H$142, 2, FALSE )","v":0},0]
[null,null,null,null,null,null,{"$f":"VLOOKUP(F667,工作表9!$G$1:$I$136, 3, FALSE )","v":"混合物"},null,{"$f":"VLOOKUP(F667,工作表9!$G$1:$H$142, 2, FALSE )","v":0},0]
[null,null,null,null,null,null,{"$f":"VLOOKUP(F668,工作表9!$G$1:$I$136, 3, FALSE )","v":"混合物"},null,{"$f":"VLOOKUP(F668,工作表9!$G$1:$H$142, 2, FALSE )","v":0},0]
[null,null,null,null,null,null,{"$f":"VLOOKUP(F669,工作表9!$G$1:$I$136, 3, FALSE )","v":"混合物"},null,{"$f":"VLOOKUP(F669,工作表9!$G$1:$H$142, 2, FALSE )","v":0},0]
[null,null,null,null,null,null,{"$f":"VLOOKUP(F670,工作表9!$G$1:$I$136, 3, FALSE )","v":"混合物"},null,{"$f":"VLOOKUP(F670,工作表9!$G$1:$H$142, 2, FALSE )","v":0},0]
[null,null,null,null,null,null,{"$f":"VLOOKUP(F671,工作表9!$G$1:$I$136, 3, FALSE )","v":"混合物"},null,{"$f":"VLOOKUP(F671,工作表9!$G$1:$H$142, 2, FALSE )","v":0},0]
[null,null,null,null,null,null,{"$f":"VLOOKUP(F672,工作表9!$G$1:$I$136, 3, FALSE )","v":"混合物"},null,{"$f":"VLOOKUP(F672,工作表9!$G$1:$H$142, 2, FALSE )","v":0},0]
[null,null,null,null,null,null,{"$f":"VLOOKUP(F673,工作表9!$G$1:$I$136, 3, FALSE )","v":"混合物"},null,{"$f":"VLOOKUP(F673,工作表9!$G$1:$H$142, 2, FALSE )","v":0},0]
[null,null,null,null,null,null,{"$f":"VLOOKUP(F674,工作表9!$G$1:$I$136, 3, FALSE )","v":"混合物"},null,{"$f":"VLOOKUP(F674,工作表9!$G$1:$H$142, 2, FALSE )","v":0},0]
[null,null,null,null,null,null,{"$f":"VLOOKUP(F675,工作表9!$G$1:$I$136, 3, FALSE )","v":"混合物"},null,{"$f":"VLOOKUP(F675,工作表9!$G$1:$H$142, 2, FALSE )","v":0},0]
[null,null,null,null,null,null,{"$f":"VLOOKUP(F676,工作表9!$G$1:$I$136, 3, FALSE )","v":"混合物"},null,{"$f":"VLOOKUP(F676,工作表9!$G$1:$H$142, 2, FALSE )","v":0},0]
[null,null,null,null,null,null,{"$f":"VLOOKUP(F677,工作表9!$G$1:$I$136, 3, FALSE )","v":"混合物"},null,{"$f":"VLOOKUP(F677,工作表9!$G$1:$H$142, 2, FALSE )","v":0},0]
[null,null,null,null,null,null,{"$f":"VLOOKUP(F678,工作表9!$G$1:$I$136, 3, FALSE )","v":"混合物"},null,{"$f":"VLOOKUP(F678,工作表9!$G$1:$H$142, 2, FALSE )","v":0},0]
[null,null,null,null,null,null,{"$f":"VLOOKUP(F679,工作表9!$G$1:$I$136, 3, FALSE )","v":"混合物"},null,{"$f":"VLOOKUP(F679,工作表9!$G$1:$H$142, 2, FALSE )","v":0},0]
[null,null,null,null,null,null,{"$f":"VLOOKUP(F680,工作表9!$G$1:$I$136, 3, FALSE )","v":"混合物"},null,{"$f":"VLOOKUP(F680,工作表9!$G$1:$H$142, 2, FALSE )","v":0},0]
[null,null,null,null,null,null,{"$f":"VLOOKUP(F681,工作表9!$G$1:$I$136, 3, FALSE )","v":"混合物"},null,{"$f":"VLOOKUP(F681,工作表9!$G$1:$H$142, 2, FALSE )","v":0},0]
[null,null,null,null,null,null,{"$f":"VLOOKUP(F682,工作表9!$G$1:$I$136, 3, FALSE )","v":"混合物"},null,{"$f":"VLOOKUP(F682,工作表9!$G$1:$H$142, 2, FALSE )","v":0},0]
[null,null,null,null,null,null,{"$f":"VLOOKUP(F683,工作表9!$G$1:$I$136, 3, FALSE )","v":"混合物"},null,{"$f":"VLOOKUP(F683,工作表9!$G$1:$H$142, 2, FALSE )","v":0},0]
[null,null,null,null,null,null,{"$f":"VLOOKUP(F684,工作表9!$G$1:$I$136, 3, FALSE )","v":"混合物"},null,{"$f":"VLOOKUP(F684,工作表9!$G$1:$H$142, 2, FALSE )","v":0},0]
[null,null,null,null,null,null,{"$f":"VLOOKUP(F685,工作表9!$G$1:$I$136, 3, FALSE )","v":"混合物"},null,{"$f":"VLOOKUP(F685,工作表9!$G$1:$H$142, 2, FALSE )","v":0},0]
[null,null,null,null,null,null,{"$f":"VLOOKUP(F686,工作表9!$G$1:$I$136, 3, FALSE )","v":"混合物"},null,{"$f":"VLOOKUP(F686,工作表9!$G$1:$H$142, 2, FALSE )","v":0},0]
[null,null,null,null,null,null,{"$f":"VLOOKUP(F687,工作表9!$G$1:$I$136, 3, FALSE )","v":"混合物"},null,{"$f":"VLOOKUP(F687,工作表9!$G$1:$H$142, 2, FALSE )","v":0},0]
[null,null,null,null,null,null,{"$f":"VLOOKUP(F688,工作表9!$G$1:$I$136, 3, FALSE )","v":"混合物"},null,{"$f":"VLOOKUP(F688,工作表9!$G$1:$H$142, 2, FALSE )","v":0},0]
[null,null,null,null,null,null,{"$f":"VLOOKUP(F689,工作表9!$G$1:$I$136, 3, FALSE )","v":"混合物"},null,{"$f":"VLOOKUP(F689,工作表9!$G$1:$H$142, 2, FALSE )","v":0},0]
[null,null,null,null,null,null,{"$f":"VLOOKUP(F690,工作表9!$G$1:$I$136, 3, FALSE )","v":"混合物"},null,{"$f":"VLOOKUP(F690,工作表9!$G$1:$H$142, 2, FALSE )","v":0},0]
[null,null,null,null,null,null,{"$f":"VLOOKUP(F691,工作表9!$G$1:$I$136, 3, FALSE )","v":"混合物"},null,{"$f":"VLOOKUP(F691,工作表9!$G$1:$H$142, 2, FALSE )","v":0},0]
[null,null,null,null,null,null,{"$f":"VLOOKUP(F692,工作表9!$G$1:$I$136, 3, FALSE )","v":"混合物"},null,{"$f":"VLOOKUP(F692,工作表9!$G$1:$H$142, 2, FALSE )","v":0},0]
[null,null,null,null,null,null,{"$f":"VLOOKUP(F693,工作表9!$G$1:$I$136, 3, FALSE )","v":"混合物"},null,{"$f":"VLOOKUP(F693,工作表9!$G$1:$H$142, 2, FALSE )","v":0},0]
[null,null,null,null,null,null,{"$f":"VLOOKUP(F694,工作表9!$G$1:$I$136, 3, FALSE )","v":"混合物"},null,{"$f":"VLOOKUP(F694,工作表9!$G$1:$H$142, 2, FALSE )","v":0},0]
[null,null,null,null,null,null,{"$f":"VLOOKUP(F695,工作表9!$G$1:$I$136, 3, FALSE )","v":"混合物"},null,{"$f":"VLOOKUP(F695,工作表9!$G$1:$H$142, 2, FALSE )","v":0},0]
[null,null,null,null,null,null,{"$f":"VLOOKUP(F696,工作表9!$G$1:$I$136, 3, FALSE )","v":"混合物"},null,{"$f":"VLOOKUP(F696,工作表9!$G$1:$H$142, 2, FALSE )","v":0},0]
[null,null,null,null,null,null,{"$f":"VLOOKUP(F697,工作表9!$G$1:$I$136, 3, FALSE )","v":"混合物"},null,{"$f":"VLOOKUP(F697,工作表9!$G$1:$H$142, 2, FALSE )","v":0},0]
[null,null,null,null,null,null,{"$f":"VLOOKUP(F698,工作表9!$G$1:$I$136, 3, FALSE )","v":"混合物"},null,{"$f":"VLOOKUP(F698,工作表9!$G$1:$H$142, 2, FALSE )","v":0},0]
[null,null,null,null,null,null,{"$f":"VLOOKUP(F699,工作表9!$G$1:$I$136, 3, FALSE )","v":"混合物"},null,{"$f":"VLOOKUP(F699,工作表9!$G$1:$H$142, 2, FALSE )","v":0},0]
[null,null,null,null,null,null,{"$f":"VLOOKUP(F700,工作表9!$G$1:$I$136, 3, FALSE )","v":"混合物"},null,{"$f":"VLOOKUP(F700,工作表9!$G$1:$H$142, 2, FALSE )","v":0},0]
[null,null,null,null,null,null,{"$f":"VLOOKUP(F701,工作表9!$G$1:$I$136, 3, FALSE )","v":"混合物"},null,{"$f":"VLOOKUP(F701,工作表9!$G$1:$H$142, 2, FALSE )","v":0},0]
[null,null,null,null,null,null,{"$f":"VLOOKUP(F702,工作表9!$G$1:$I$136, 3, FALSE )","v":"混合物"},null,{"$f":"VLOOKUP(F702,工作表9!$G$1:$H$142, 2, FALSE )","v":0},0]
[null,null,null,null,null,null,{"$f":"VLOOKUP(F703,工作表9!$G$1:$I$136, 3, FALSE )","v":"混合物"},null,{"$f":"VLOOKUP(F703,工作表9!$G$1:$H$142, 2, FALSE )","v":0},0]
[null,null,null,null,null,null,{"$f":"VLOOKUP(F704,工作表9!$G$1:$I$136, 3, FALSE )","v":"混合物"},null,{"$f":"VLOOKUP(F704,工作表9!$G$1:$H$142, 2, FALSE )","v":0},0]
[null,null,null,null,null,null,{"$f":"VLOOKUP(F705,工作表9!$G$1:$I$136, 3, FALSE )","v":"混合物"},null,{"$f":"VLOOKUP(F705,工作表9!$G$1:$H$142, 2, FALSE )","v":0},0]
[null,null,null,null,null,null,{"$f":"VLOOKUP(F706,工作表9!$G$1:$I$136, 3, FALSE )","v":"混合物"},null,{"$f":"VLOOKUP(F706,工作表9!$G$1:$H$142, 2, FALSE )","v":0},0]
[null,null,null,null,null,null,{"$f":"VLOOKUP(F707,工作表9!$G$1:$I$136, 3, FALSE )","v":"混合物"},null,{"$f":"VLOOKUP(F707,工作表9!$G$1:$H$142, 2, FALSE )","v":0},0]
[null,null,null,null,null,null,{"$f":"VLOOKUP(F708,工作表9!$G$1:$I$136, 3, FALSE )","v":"混合物"},null,{"$f":"VLOOKUP(F708,工作表9!$G$1:$H$142, 2, FALSE )","v":0},0]
[null,null,null,null,null,null,{"$f":"VLOOKUP(F709,工作表9!$G$1:$I$136, 3, FALSE )","v":"混合物"},null,{"$f":"VLOOKUP(F709,工作表9!$G$1:$H$142, 2, FALSE )","v":0},0]
[null,null,null,null,null,null,{"$f":"VLOOKUP(F710,工作表9!$G$1:$I$136, 3, FALSE )","v":"混合物"},null,{"$f":"VLOOKUP(F710,工作表9!$G$1:$H$142, 2, FALSE )","v":0},{"$f":"H710*I710","v":0}]
[null,null,null,null,null,null,{"$f":"VLOOKUP(F711,工作表9!$G$1:$I$136, 3, FALSE )","v":"混合物"},null,{"$f":"VLOOKUP(F711,工作表9!$G$1:$H$142, 2, FALSE )","v":0},0]
[null,null,null,null,null,null,{"$f":"VLOOKUP(F712,工作表9!$G$1:$I$136, 3, FALSE )","v":"混合物"},null,{"$f":"VLOOKUP(F712,工作表9!$G$1:$H$142, 2, FALSE )","v":0},0]
[null,null,null,null,null,null,{"$f":"VLOOKUP(F713,工作表9!$G$1:$I$136, 3, FALSE )","v":"混合物"},null,{"$f":"VLOOKUP(F713,工作表9!$G$1:$H$142, 2, FALSE )","v":0},0]
[null,null,null,null,null,null,{"$f":"VLOOKUP(F714,工作表9!$G$1:$I$136, 3, FALSE )","v":"混合物"},null,{"$f":"VLOOKUP(F714,工作表9!$G$1:$H$142, 2, FALSE )","v":0},0]
[null,null,null,null,null,null,{"$f":"VLOOKUP(F715,工作表9!$G$1:$I$136, 3, FALSE )","v":"混合物"},null,{"$f":"VLOOKUP(F715,工作表9!$G$1:$H$142, 2, FALSE )","v":0},0]
[null,null,null,null,null,null,{"$f":"VLOOKUP(F716,工作表9!$G$1:$I$136, 3, FALSE )","v":"混合物"},null,{"$f":"VLOOKUP(F716,工作表9!$G$1:$H$142, 2, FALSE )","v":0},0]
[null,null,null,null,null,null,{"$f":"VLOOKUP(F717,工作表9!$G$1:$I$136, 3, FALSE )","v":"混合物"},null,{"$f":"VLOOKUP(F717,工作表9!$G$1:$H$142, 2, FALSE )","v":0},0]
[null,null,null,null,null,null,{"$f":"VLOOKUP(F718,工作表9!$G$1:$I$136, 3, FALSE )","v":"混合物"},null,{"$f":"VLOOKUP(F718,工作表9!$G$1:$H$142, 2, FALSE )","v":0},0]
[null,null,null,null,null,null,{"$f":"VLOOKUP(F719,工作表9!$G$1:$I$136, 3, FALSE )","v":"混合物"},null,{"$f":"VLOOKUP(F719,工作表9!$G$1:$H$142, 2, FALSE )","v":0},0]
[null,null,null,null,null,null,{"$f":"VLOOKUP(F720,工作表9!$G$1:$I$136, 3, FALSE )","v":"混合物"},null,{"$f":"VLOOKUP(F720,工作表9!$G$1:$H$142, 2, FALSE )","v":0},0]
[null,null,null,null,null,null,{"$f":"VLOOKUP(F721,工作表9!$G$1:$I$136, 3, FALSE )","v":"混合物"},null,{"$f":"VLOOKUP(F721,工作表9!$G$1:$H$142, 2, FALSE )","v":0},0]
[null,null,null,null,null,null,{"$f":"VLOOKUP(F722,工作表9!$G$1:$I$136, 3, FALSE )","v":"混合物"},null,{"$f":"VLOOKUP(F722,工作表9!$G$1:$H$142, 2, FALSE )","v":0},0]
[null,null,null,null,null,null,{"$f":"VLOOKUP(F723,工作表9!$G$1:$I$136, 3, FALSE )","v":"混合物"},null,{"$f":"VLOOKUP(F723,工作表9!$G$1:$H$142, 2, FALSE )","v":0},0]
[null,null,null,null,null,null,{"$f":"VLOOKUP(F724,工作表9!$G$1:$I$136, 3, FALSE )","v":"混合物"},null,{"$f":"VLOOKUP(F724,工作表9!$G$1:$H$142, 2, FALSE )","v":0},0]
[null,null,null,null,null,null,{"$f":"VLOOKUP(F725,工作表9!$G$1:$I$136, 3, FALSE )","v":"混合物"},null,{"$f":"VLOOKUP(F725,工作表9!$G$1:$H$142, 2, FALSE )","v":0},0]
[null,null,null,null,null,null,{"$f":"VLOOKUP(F726,工作表9!$G$1:$I$136, 3, FALSE )","v":"混合物"},null,{"$f":"VLOOKUP(F726,工作表9!$G$1:$H$142, 2, FALSE )","v":0},0]
[null,null,null,null,null,null,{"$f":"VLOOKUP(F727,工作表9!$G$1:$I$136, 3, FALSE )","v":"混合物"},null,{"$f":"VLOOKUP(F727,工作表9!$G$1:$H$142, 2, FALSE )","v":0},0]
[null,null,null,null,null,null,{"$f":"VLOOKUP(F728,工作表9!$G$1:$I$136, 3, FALSE )","v":"混合物"},null,{"$f":"VLOOKUP(F728,工作表9!$G$1:$H$142, 2, FALSE )","v":0},0]
[null,null,null,null,null,null,{"$f":"VLOOKUP(F729,工作表9!$G$1:$I$136, 3, FALSE )","v":"混合物"},null,{"$f":"VLOOKUP(F729,工作表9!$G$1:$H$142, 2, FALSE )","v":0},0]
[null,null,null,null,null,null,{"$f":"VLOOKUP(F730,工作表9!$G$1:$I$136, 3, FALSE )","v":"混合物"},null,{"$f":"VLOOKUP(F730,工作表9!$G$1:$H$142, 2, FALSE )","v":0},0]
[null,null,null,null,null,null,{"$f":"VLOOKUP(F731,工作表9!$G$1:$I$136, 3, FALSE )","v":"混合物"},null,{"$f":"VLOOKUP(F731,工作表9!$G$1:$H$142, 2, FALSE )","v":0},0]
[null,null,null,null,null,null,{"$f":"VLOOKUP(F732,工作表9!$G$1:$I$136, 3, FALSE )","v":"混合物"},null,{"$f":"VLOOKUP(F732,工作表9!$G$1:$H$142, 2, FALSE )","v":0},0]
[null,null,null,null,null,null,{"$f":"VLOOKUP(F733,工作表9!$G$1:$I$136, 3, FALSE )","v":"混合物"},null,{"$f":"VLOOKUP(F733,工作表9!$G$1:$H$142, 2, FALSE )","v":0},0]
[null,null,null,null,null,null,{"$f":"VLOOKUP(F734,工作表9!$G$1:$I$136, 3, FALSE )","v":"混合物"},null,{"$f":"VLOOKUP(F734,工作表9!$G$1:$H$142, 2, FALSE )","v":0},0]
[null,null,null,null,null,null,{"$f":"VLOOKUP(F735,工作表9!$G$1:$I$136, 3, FALSE )","v":"混合物"},null,{"$f":"VLOOKUP(F735,工作表9!$G$1:$H$142, 2, FALSE )","v":0},0]
[null,null,null,null,null,null,{"$f":"VLOOKUP(F736,工作表9!$G$1:$I$136, 3, FALSE )","v":"混合物"},null,{"$f":"VLOOKUP(F736,工作表9!$G$1:$H$142, 2, FALSE )","v":0},0]
[null,null,null,null,null,null,{"$f":"VLOOKUP(F737,工作表9!$G$1:$I$136, 3, FALSE )","v":"混合物"},null,{"$f":"VLOOKUP(F737,工作表9!$G$1:$H$142, 2, FALSE )","v":0},0]
[null,null,null,null,null,null,{"$f":"VLOOKUP(F738,工作表9!$G$1:$I$136, 3, FALSE )","v":"混合物"},null,{"$f":"VLOOKUP(F738,工作表9!$G$1:$H$142, 2, FALSE )","v":0},0]
[null,null,null,null,null,null,{"$f":"VLOOKUP(F739,工作表9!$G$1:$I$136, 3, FALSE )","v":"混合物"},null,{"$f":"VLOOKUP(F739,工作表9!$G$1:$H$142, 2, FALSE )","v":0},0]
[null,null,null,null,null,null,{"$f":"VLOOKUP(F740,工作表9!$G$1:$I$136, 3, FALSE )","v":"混合物"},null,{"$f":"VLOOKUP(F740,工作表9!$G$1:$H$142, 2, FALSE )","v":0},0]
[null,null,null,null,null,null,{"$f":"VLOOKUP(F741,工作表9!$G$1:$I$136, 3, FALSE )","v":"混合物"},null,{"$f":"VLOOKUP(F741,工作表9!$G$1:$H$142, 2, FALSE )","v":0},0]
[null,null,null,null,null,null,{"$f":"VLOOKUP(F742,工作表9!$G$1:$I$136, 3, FALSE )","v":"混合物"},null,{"$f":"VLOOKUP(F742,工作表9!$G$1:$H$142, 2, FALSE )","v":0},0]
[null,null,null,null,null,null,{"$f":"VLOOKUP(F743,工作表9!$G$1:$I$136, 3, FALSE )","v":"混合物"},null,{"$f":"VLOOKUP(F743,工作表9!$G$1:$H$142, 2, FALSE )","v":0},0]
[null,null,null,null,null,null,{"$f":"VLOOKUP(F744,工作表9!$G$1:$I$136, 3, FALSE )","v":"混合物"},null,{"$f":"VLOOKUP(F744,工作表9!$G$1:$H$142, 2, FALSE )","v":0},0]
[null,null,null,null,null,null,{"$f":"VLOOKUP(F745,工作表9!$G$1:$I$136, 3, FALSE )","v":"混合物"},null,{"$f":"VLOOKUP(F745,工作表9!$G$1:$H$142, 2, FALSE )","v":0},0]
[null,null,null,null,null,null,{"$f":"VLOOKUP(F746,工作表9!$G$1:$I$136, 3, FALSE )","v":"混合物"},null,{"$f":"VLOOKUP(F746,工作表9!$G$1:$H$142, 2, FALSE )","v":0},0]
[null,null,null,null,null,null,{"$f":"VLOOKUP(F747,工作表9!$G$1:$I$136, 3, FALSE )","v":"混合物"},null,{"$f":"VLOOKUP(F747,工作表9!$G$1:$H$142, 2, FALSE )","v":0},0]
[null,null,null,null,null,null,{"$f":"VLOOKUP(F748,工作表9!$G$1:$I$136, 3, FALSE )","v":"混合物"},null,{"$f":"VLOOKUP(F748,工作表9!$G$1:$H$142, 2, FALSE )","v":0},0]
[null,null,null,null,null,null,{"$f":"VLOOKUP(F749,工作表9!$G$1:$I$136, 3, FALSE )","v":"混合物"},null,{"$f":"VLOOKUP(F749,工作表9!$G$1:$H$142, 2, FALSE )","v":0},0]
[null,null,null,null,null,null,{"$f":"VLOOKUP(F750,工作表9!$G$1:$I$136, 3, FALSE )","v":"混合物"},null,{"$f":"VLOOKUP(F750,工作表9!$G$1:$H$142, 2, FALSE )","v":0},0]
[null,null,null,null,null,null,{"$f":"VLOOKUP(F751,工作表9!$G$1:$I$136, 3, FALSE )","v":"混合物"},null,{"$f":"VLOOKUP(F751,工作表9!$G$1:$H$142, 2, FALSE )","v":0},0]
[null,null,null,null,null,null,{"$f":"VLOOKUP(F752,工作表9!$G$1:$I$136, 3, FALSE )","v":"混合物"},null,{"$f":"VLOOKUP(F752,工作表9!$G$1:$H$142, 2, FALSE )","v":0},0]
[null,null,null,null,null,null,{"$f":"VLOOKUP(F753,工作表9!$G$1:$I$136, 3, FALSE )","v":"混合物"},null,{"$f":"VLOOKUP(F753,工作表9!$G$1:$H$142, 2, FALSE )","v":0},0]
[null,null,null,null,null,null,{"$f":"VLOOKUP(F754,工作表9!$G$1:$I$136, 3, FALSE )","v":"混合物"},null,{"$f":"VLOOKUP(F754,工作表9!$G$1:$H$142, 2, FALSE )","v":0},0]
[null,null,null,null,null,null,{"$f":"VLOOKUP(F755,工作表9!$G$1:$I$136, 3, FALSE )","v":"混合物"},null,{"$f":"VLOOKUP(F755,工作表9!$G$1:$H$142, 2, FALSE )","v":0},0]
[null,null,null,null,null,null,{"$f":"VLOOKUP(F756,工作表9!$G$1:$I$136, 3, FALSE )","v":"混合物"},null,{"$f":"VLOOKUP(F756,工作表9!$G$1:$H$142, 2, FALSE )","v":0},0]
[null,null,null,null,null,null,{"$f":"VLOOKUP(F757,工作表9!$G$1:$I$136, 3, FALSE )","v":"混合物"},null,{"$f":"VLOOKUP(F757,工作表9!$G$1:$H$142, 2, FALSE )","v":0},0]
[null,null,null,null,null,null,{"$f":"VLOOKUP(F758,工作表9!$G$1:$I$136, 3, FALSE )","v":"混合物"},null,{"$f":"VLOOKUP(F758,工作表9!$G$1:$H$142, 2, FALSE )","v":0},0]
[null,null,null,null,null,null,{"$f":"VLOOKUP(F759,工作表9!$G$1:$I$136, 3, FALSE )","v":"混合物"},null,{"$f":"VLOOKUP(F759,工作表9!$G$1:$H$142, 2, FALSE )","v":0},0]
[null,null,null,null,null,null,{"$f":"VLOOKUP(F760,工作表9!$G$1:$I$136, 3, FALSE )","v":"混合物"},null,{"$f":"VLOOKUP(F760,工作表9!$G$1:$H$142, 2, FALSE )","v":0},0]
[null,null,null,null,null,null,{"$f":"VLOOKUP(F761,工作表9!$G$1:$I$136, 3, FALSE )","v":"混合物"},null,{"$f":"VLOOKUP(F761,工作表9!$G$1:$H$142, 2, FALSE )","v":0},0]
[null,null,null,null,null,null,{"$f":"VLOOKUP(F762,工作表9!$G$1:$I$136, 3, FALSE )","v":"混合物"},null,{"$f":"VLOOKUP(F762,工作表9!$G$1:$H$142, 2, FALSE )","v":0},0]
[null,null,null,null,null,null,{"$f":"VLOOKUP(F763,工作表9!$G$1:$I$136, 3, FALSE )","v":"混合物"},null,{"$f":"VLOOKUP(F763,工作表9!$G$1:$H$142, 2, FALSE )","v":0},0]
[null,null,null,null,null,null,{"$f":"VLOOKUP(F764,工作表9!$G$1:$I$136, 3, FALSE )","v":"混合物"},null,{"$f":"VLOOKUP(F764,工作表9!$G$1:$H$142, 2, FALSE )","v":0},0]
[null,null,null,null,null,null,{"$f":"VLOOKUP(F765,工作表9!$G$1:$I$136, 3, FALSE )","v":"混合物"},null,{"$f":"VLOOKUP(F765,工作表9!$G$1:$H$142, 2, FALSE )","v":0},0]
[null,null,null,null,null,null,{"$f":"VLOOKUP(F766,工作表9!$G$1:$I$136, 3, FALSE )","v":"混合物"},null,{"$f":"VLOOKUP(F766,工作表9!$G$1:$H$142, 2, FALSE )","v":0},0]
[null,null,null,null,null,null,{"$f":"VLOOKUP(F767,工作表9!$G$1:$I$136, 3, FALSE )","v":"混合物"},null,{"$f":"VLOOKUP(F767,工作表9!$G$1:$H$142, 2, FALSE )","v":0},0]
[null,null,null,null,null,null,{"$f":"VLOOKUP(F768,工作表9!$G$1:$I$136, 3, FALSE )","v":"混合物"},null,{"$f":"VLOOKUP(F768,工作表9!$G$1:$H$142, 2, FALSE )","v":0},0]
[null,null,null,null,null,null,{"$f":"VLOOKUP(F769,工作表9!$G$1:$I$136, 3, FALSE )","v":"混合物"},null,{"$f":"VLOOKUP(F769,工作表9!$G$1:$H$142, 2, FALSE )","v":0},0]
[null,null,null,null,null,null,{"$f":"VLOOKUP(F770,工作表9!$G$1:$I$136, 3, FALSE )","v":"混合物"},null,{"$f":"VLOOKUP(F770,工作表9!$G$1:$H$142, 2, FALSE )","v":0},0]
[null,null,null,null,null,null,{"$f":"VLOOKUP(F771,工作表9!$G$1:$I$136, 3, FALSE )","v":"混合物"},null,{"$f":"VLOOKUP(F771,工作表9!$G$1:$H$142, 2, FALSE )","v":0},0]
[null,null,null,null,null,null,{"$f":"VLOOKUP(F772,工作表9!$G$1:$I$136, 3, FALSE )","v":"混合物"},null,{"$f":"VLOOKUP(F772,工作表9!$G$1:$H$142, 2, FALSE )","v":0},0]
[null,null,null,null,null,null,{"$f":"VLOOKUP(F773,工作表9!$G$1:$I$136, 3, FALSE )","v":"混合物"},null,{"$f":"VLOOKUP(F773,工作表9!$G$1:$H$142, 2, FALSE )","v":0},0]
[null,null,null,null,null,null,{"$f":"VLOOKUP(F774,工作表9!$G$1:$I$136, 3, FALSE )","v":"混合物"},null,{"$f":"VLOOKUP(F774,工作表9!$G$1:$H$142, 2, FALSE )","v":0},{"$f":"H774*I774","v":0}]
[null,null,null,null,null,null,{"$f":"VLOOKUP(F775,工作表9!$G$1:$I$136, 3, FALSE )","v":"混合物"},null,{"$f":"VLOOKUP(F775,工作表9!$G$1:$H$142, 2, FALSE )","v":0},0]
[null,null,null,null,null,null,{"$f":"VLOOKUP(F776,工作表9!$G$1:$I$136, 3, FALSE )","v":"混合物"},null,{"$f":"VLOOKUP(F776,工作表9!$G$1:$H$142, 2, FALSE )","v":0},0]
[null,null,null,null,null,null,{"$f":"VLOOKUP(F777,工作表9!$G$1:$I$136, 3, FALSE )","v":"混合物"},null,{"$f":"VLOOKUP(F777,工作表9!$G$1:$H$142, 2, FALSE )","v":0},0]
[null,null,null,null,null,null,{"$f":"VLOOKUP(F778,工作表9!$G$1:$I$136, 3, FALSE )","v":"混合物"},null,{"$f":"VLOOKUP(F778,工作表9!$G$1:$H$142, 2, FALSE )","v":0},0]
[null,null,null,null,null,null,{"$f":"VLOOKUP(F779,工作表9!$G$1:$I$136, 3, FALSE )","v":"混合物"},null,{"$f":"VLOOKUP(F779,工作表9!$G$1:$H$142, 2, FALSE )","v":0},0]
[null,null,null,null,null,null,{"$f":"VLOOKUP(F780,工作表9!$G$1:$I$136, 3, FALSE )","v":"混合物"},null,{"$f":"VLOOKUP(F780,工作表9!$G$1:$H$142, 2, FALSE )","v":0},0]
[null,null,null,null,null,null,{"$f":"VLOOKUP(F781,工作表9!$G$1:$I$136, 3, FALSE )","v":"混合物"},null,{"$f":"VLOOKUP(F781,工作表9!$G$1:$H$142, 2, FALSE )","v":0},0]
[null,null,null,null,null,null,{"$f":"VLOOKUP(F782,工作表9!$G$1:$I$136, 3, FALSE )","v":"混合物"},null,{"$f":"VLOOKUP(F782,工作表9!$G$1:$H$142, 2, FALSE )","v":0},0]
[null,null,null,null,null,null,{"$f":"VLOOKUP(F783,工作表9!$G$1:$I$136, 3, FALSE )","v":"混合物"},null,{"$f":"VLOOKUP(F783,工作表9!$G$1:$H$142, 2, FALSE )","v":0},0]
[null,null,null,null,null,null,{"$f":"VLOOKUP(F784,工作表9!$G$1:$I$136, 3, FALSE )","v":"混合物"},null,{"$f":"VLOOKUP(F784,工作表9!$G$1:$H$142, 2, FALSE )","v":0},0]
[null,null,null,null,null,null,{"$f":"VLOOKUP(F785,工作表9!$G$1:$I$136, 3, FALSE )","v":"混合物"},null,{"$f":"VLOOKUP(F785,工作表9!$G$1:$H$142, 2, FALSE )","v":0},0]
[null,null,null,null,null,null,{"$f":"VLOOKUP(F786,工作表9!$G$1:$I$136, 3, FALSE )","v":"混合物"},null,{"$f":"VLOOKUP(F786,工作表9!$G$1:$H$142, 2, FALSE )","v":0},0]
[null,null,null,null,null,null,{"$f":"VLOOKUP(F787,工作表9!$G$1:$I$136, 3, FALSE )","v":"混合物"},null,{"$f":"VLOOKUP(F787,工作表9!$G$1:$H$142, 2, FALSE )","v":0},0]
[null,null,null,null,null,null,{"$f":"VLOOKUP(F788,工作表9!$G$1:$I$136, 3, FALSE )","v":"混合物"},null,{"$f":"VLOOKUP(F788,工作表9!$G$1:$H$142, 2, FALSE )","v":0},0]
[null,null,null,null,null,null,{"$f":"VLOOKUP(F789,工作表9!$G$1:$I$136, 3, FALSE )","v":"混合物"},null,{"$f":"VLOOKUP(F789,工作表9!$G$1:$H$142, 2, FALSE )","v":0},0]
[null,null,null,null,null,null,{"$f":"VLOOKUP(F790,工作表9!$G$1:$I$136, 3, FALSE )","v":"混合物"},null,{"$f":"VLOOKUP(F790,工作表9!$G$1:$H$142, 2, FALSE )","v":0},0]
[null,null,null,null,null,null,{"$f":"VLOOKUP(F791,工作表9!$G$1:$I$136, 3, FALSE )","v":"混合物"},null,{"$f":"VLOOKUP(F791,工作表9!$G$1:$H$142, 2, FALSE )","v":0},0]
[null,null,null,null,null,null,{"$f":"VLOOKUP(F792,工作表9!$G$1:$I$136, 3, FALSE )","v":"混合物"},null,{"$f":"VLOOKUP(F792,工作表9!$G$1:$H$142, 2, FALSE )","v":0},0]
[null,null,null,null,null,null,{"$f":"VLOOKUP(F793,工作表9!$G$1:$I$136, 3, FALSE )","v":"混合物"},null,{"$f":"VLOOKUP(F793,工作表9!$G$1:$H$142, 2, FALSE )","v":0},0]
[null,null,null,null,null,null,{"$f":"VLOOKUP(F794,工作表9!$G$1:$I$136, 3, FALSE )","v":"混合物"},null,{"$f":"VLOOKUP(F794,工作表9!$G$1:$H$142, 2, FALSE )","v":0},0]
[null,null,null,null,null,null,{"$f":"VLOOKUP(F795,工作表9!$G$1:$I$136, 3, FALSE )","v":"混合物"},null,{"$f":"VLOOKUP(F795,工作表9!$G$1:$H$142, 2, FALSE )","v":0},0]
[null,null,null,null,null,null,{"$f":"VLOOKUP(F796,工作表9!$G$1:$I$136, 3, FALSE )","v":"混合物"},null,{"$f":"VLOOKUP(F796,工作表9!$G$1:$H$142, 2, FALSE )","v":0},0]
[null,null,null,null,null,null,{"$f":"VLOOKUP(F797,工作表9!$G$1:$I$136, 3, FALSE )","v":"混合物"},null,{"$f":"VLOOKUP(F797,工作表9!$G$1:$H$142, 2, FALSE )","v":0},0]
[null,null,null,null,null,null,{"$f":"VLOOKUP(F798,工作表9!$G$1:$I$136, 3, FALSE )","v":"混合物"},null,{"$f":"VLOOKUP(F798,工作表9!$G$1:$H$142, 2, FALSE )","v":0},0]
[null,null,null,null,null,null,{"$f":"VLOOKUP(F799,工作表9!$G$1:$I$136, 3, FALSE )","v":"混合物"},null,{"$f":"VLOOKUP(F799,工作表9!$G$1:$H$142, 2, FALSE )","v":0},0]
[null,null,null,null,null,null,{"$f":"VLOOKUP(F800,工作表9!$G$1:$I$136, 3, FALSE )","v":"混合物"},null,{"$f":"VLOOKUP(F800,工作表9!$G$1:$H$142, 2, FALSE )","v":0},0]
[null,null,null,null,null,null,{"$f":"VLOOKUP(F801,工作表9!$G$1:$I$136, 3, FALSE )","v":"混合物"},null,{"$f":"VLOOKUP(F801,工作表9!$G$1:$H$142, 2, FALSE )","v":0},0]
[null,null,null,null,null,null,{"$f":"VLOOKUP(F802,工作表9!$G$1:$I$136, 3, FALSE )","v":"混合物"},null,{"$f":"VLOOKUP(F802,工作表9!$G$1:$H$142, 2, FALSE )","v":0},0]
[null,null,null,null,null,null,{"$f":"VLOOKUP(F803,工作表9!$G$1:$I$136, 3, FALSE )","v":"混合物"},null,{"$f":"VLOOKUP(F803,工作表9!$G$1:$H$142, 2, FALSE )","v":0},0]
[null,null,null,null,null,null,{"$f":"VLOOKUP(F804,工作表9!$G$1:$I$136, 3, FALSE )","v":"混合物"},null,{"$f":"VLOOKUP(F804,工作表9!$G$1:$H$142, 2, FALSE )","v":0},0]
[null,null,null,null,null,null,{"$f":"VLOOKUP(F805,工作表9!$G$1:$I$136, 3, FALSE )","v":"混合物"},null,{"$f":"VLOOKUP(F805,工作表9!$G$1:$H$142, 2, FALSE )","v":0},0]
[null,null,null,null,null,null,{"$f":"VLOOKUP(F806,工作表9!$G$1:$I$136, 3, FALSE )","v":"混合物"},null,{"$f":"VLOOKUP(F806,工作表9!$G$1:$H$142, 2, FALSE )","v":0},0]
[null,null,null,null,null,null,{"$f":"VLOOKUP(F807,工作表9!$G$1:$I$136, 3, FALSE )","v":"混合物"},null,{"$f":"VLOOKUP(F807,工作表9!$G$1:$H$142, 2, FALSE )","v":0},0]
[null,null,null,null,null,null,{"$f":"VLOOKUP(F808,工作表9!$G$1:$I$136, 3, FALSE )","v":"混合物"},null,{"$f":"VLOOKUP(F808,工作表9!$G$1:$H$142, 2, FALSE )","v":0},0]
[null,null,null,null,null,null,{"$f":"VLOOKUP(F809,工作表9!$G$1:$I$136, 3, FALSE )","v":"混合物"},null,{"$f":"VLOOKUP(F809,工作表9!$G$1:$H$142, 2, FALSE )","v":0},0]
[null,null,null,null,null,null,{"$f":"VLOOKUP(F810,工作表9!$G$1:$I$136, 3, FALSE )","v":"混合物"},null,{"$f":"VLOOKUP(F810,工作表9!$G$1:$H$142, 2, FALSE )","v":0},0]
[null,null,null,null,null,null,{"$f":"VLOOKUP(F811,工作表9!$G$1:$I$136, 3, FALSE )","v":"混合物"},null,{"$f":"VLOOKUP(F811,工作表9!$G$1:$H$142, 2, FALSE )","v":0},0]
[null,null,null,null,null,null,{"$f":"VLOOKUP(F812,工作表9!$G$1:$I$136, 3, FALSE )","v":"混合物"},null,{"$f":"VLOOKUP(F812,工作表9!$G$1:$H$142, 2, FALSE )","v":0},0]
[null,null,null,null,null,null,{"$f":"VLOOKUP(F813,工作表9!$G$1:$I$136, 3, FALSE )","v":"混合物"},null,{"$f":"VLOOKUP(F813,工作表9!$G$1:$H$142, 2, FALSE )","v":0},0]
[null,null,null,null,null,null,{"$f":"VLOOKUP(F814,工作表9!$G$1:$I$136, 3, FALSE )","v":"混合物"},null,{"$f":"VLOOKUP(F814,工作表9!$G$1:$H$142, 2, FALSE )","v":0},0]
[null,null,null,null,null,null,{"$f":"VLOOKUP(F815,工作表9!$G$1:$I$136, 3, FALSE )","v":"混合物"},null,{"$f":"VLOOKUP(F815,工作表9!$G$1:$H$142, 2, FALSE )","v":0},0]
[null,null,null,null,null,null,{"$f":"VLOOKUP(F816,工作表9!$G$1:$I$136, 3, FALSE )","v":"混合物"},null,{"$f":"VLOOKUP(F816,工作表9!$G$1:$H$142, 2, FALSE )","v":0},0]
[null,null,null,null,null,null,{"$f":"VLOOKUP(F817,工作表9!$G$1:$I$136, 3, FALSE )","v":"混合物"},null,{"$f":"VLOOKUP(F817,工作表9!$G$1:$H$142, 2, FALSE )","v":0},0]
[null,null,null,null,null,null,{"$f":"VLOOKUP(F818,工作表9!$G$1:$I$136, 3, FALSE )","v":"混合物"},null,{"$f":"VLOOKUP(F818,工作表9!$G$1:$H$142, 2, FALSE )","v":0},0]
[null,null,null,null,null,null,{"$f":"VLOOKUP(F819,工作表9!$G$1:$I$136, 3, FALSE )","v":"混合物"},null,{"$f":"VLOOKUP(F819,工作表9!$G$1:$H$142, 2, FALSE )","v":0},0]
[null,null,null,null,null,null,{"$f":"VLOOKUP(F820,工作表9!$G$1:$I$136, 3, FALSE )","v":"混合物"},null,{"$f":"VLOOKUP(F820,工作表9!$G$1:$H$142, 2, FALSE )","v":0},0]
[null,null,null,null,null,null,{"$f":"VLOOKUP(F821,工作表9!$G$1:$I$136, 3, FALSE )","v":"混合物"},null,{"$f":"VLOOKUP(F821,工作表9!$G$1:$H$142, 2, FALSE )","v":0},0]
[null,null,null,null,null,null,{"$f":"VLOOKUP(F822,工作表9!$G$1:$I$136, 3, FALSE )","v":"混合物"},null,{"$f":"VLOOKUP(F822,工作表9!$G$1:$H$142, 2, FALSE )","v":0},0]
[null,null,null,null,null,null,{"$f":"VLOOKUP(F823,工作表9!$G$1:$I$136, 3, FALSE )","v":"混合物"},null,{"$f":"VLOOKUP(F823,工作表9!$G$1:$H$142, 2, FALSE )","v":0},0]
[null,null,null,null,null,null,{"$f":"VLOOKUP(F824,工作表9!$G$1:$I$136, 3, FALSE )","v":"混合物"},null,{"$f":"VLOOKUP(F824,工作表9!$G$1:$H$142, 2, FALSE )","v":0},0]
[null,null,null,null,null,null,{"$f":"VLOOKUP(F825,工作表9!$G$1:$I$136, 3, FALSE )","v":"混合物"},null,{"$f":"VLOOKUP(F825,工作表9!$G$1:$H$142, 2, FALSE )","v":0},0]
[null,null,null,null,null,null,{"$f":"VLOOKUP(F826,工作表9!$G$1:$I$136, 3, FALSE )","v":"混合物"},null,{"$f":"VLOOKUP(F826,工作表9!$G$1:$H$142, 2, FALSE )","v":0},0]
[null,null,null,null,null,null,{"$f":"VLOOKUP(F827,工作表9!$G$1:$I$136, 3, FALSE )","v":"混合物"},null,{"$f":"VLOOKUP(F827,工作表9!$G$1:$H$142, 2, FALSE )","v":0},0]
[null,null,null,null,null,null,{"$f":"VLOOKUP(F828,工作表9!$G$1:$I$136, 3, FALSE )","v":"混合物"},null,{"$f":"VLOOKUP(F828,工作表9!$G$1:$H$142, 2, FALSE )","v":0},0]
[null,null,null,null,null,null,{"$f":"VLOOKUP(F829,工作表9!$G$1:$I$136, 3, FALSE )","v":"混合物"},null,{"$f":"VLOOKUP(F829,工作表9!$G$1:$H$142, 2, FALSE )","v":0},0]
[null,null,null,null,null,null,{"$f":"VLOOKUP(F830,工作表9!$G$1:$I$136, 3, FALSE )","v":"混合物"},null,{"$f":"VLOOKUP(F830,工作表9!$G$1:$H$142, 2, FALSE )","v":0},0]
[null,null,null,null,null,null,{"$f":"VLOOKUP(F831,工作表9!$G$1:$I$136, 3, FALSE )","v":"混合物"},null,{"$f":"VLOOKUP(F831,工作表9!$G$1:$H$142, 2, FALSE )","v":0},0]
[null,null,null,null,null,null,{"$f":"VLOOKUP(F832,工作表9!$G$1:$I$136, 3, FALSE )","v":"混合物"},null,{"$f":"VLOOKUP(F832,工作表9!$G$1:$H$142, 2, FALSE )","v":0},0]
[null,null,null,null,null,null,{"$f":"VLOOKUP(F833,工作表9!$G$1:$I$136, 3, FALSE )","v":"混合物"},null,{"$f":"VLOOKUP(F833,工作表9!$G$1:$H$142, 2, FALSE )","v":0},0]
[null,null,null,null,null,null,{"$f":"VLOOKUP(F834,工作表9!$G$1:$I$136, 3, FALSE )","v":"混合物"},null,{"$f":"VLOOKUP(F834,工作表9!$G$1:$H$142, 2, FALSE )","v":0},0]
[null,null,null,null,null,null,{"$f":"VLOOKUP(F835,工作表9!$G$1:$I$136, 3, FALSE )","v":"混合物"},null,{"$f":"VLOOKUP(F835,工作表9!$G$1:$H$142, 2, FALSE )","v":0},0]
[null,null,null,null,null,null,{"$f":"VLOOKUP(F836,工作表9!$G$1:$I$136, 3, FALSE )","v":"混合物"},null,{"$f":"VLOOKUP(F836,工作表9!$G$1:$H$142, 2, FALSE )","v":0},0]
[null,null,null,null,null,null,{"$f":"VLOOKUP(F837,工作表9!$G$1:$I$136, 3, FALSE )","v":"混合物"},null,{"$f":"VLOOKUP(F837,工作表9!$G$1:$H$142, 2, FALSE )","v":0},0]
[null,null,null,null,null,null,{"$f":"VLOOKUP(F838,工作表9!$G$1:$I$136, 3, FALSE )","v":"混合物"},null,{"$f":"VLOOKUP(F838,工作表9!$G$1:$H$142, 2, FALSE )","v":0},{"$f":"H838*I838","v":0}]
[null,null,null,null,null,null,{"$f":"VLOOKUP(F839,工作表9!$G$1:$I$136, 3, FALSE )","v":"混合物"},null,{"$f":"VLOOKUP(F839,工作表9!$G$1:$H$142, 2, FALSE )","v":0},0]
[null,null,null,null,null,null,{"$f":"VLOOKUP(F840,工作表9!$G$1:$I$136, 3, FALSE )","v":"混合物"},null,{"$f":"VLOOKUP(F840,工作表9!$G$1:$H$142, 2, FALSE )","v":0},0]
[null,null,null,null,null,null,{"$f":"VLOOKUP(F841,工作表9!$G$1:$I$136, 3, FALSE )","v":"混合物"},null,{"$f":"VLOOKUP(F841,工作表9!$G$1:$H$142, 2, FALSE )","v":0},0]
[null,null,null,null,null,null,{"$f":"VLOOKUP(F842,工作表9!$G$1:$I$136, 3, FALSE )","v":"混合物"},null,{"$f":"VLOOKUP(F842,工作表9!$G$1:$H$142, 2, FALSE )","v":0},0]
[null,null,null,null,null,null,{"$f":"VLOOKUP(F843,工作表9!$G$1:$I$136, 3, FALSE )","v":"混合物"},null,{"$f":"VLOOKUP(F843,工作表9!$G$1:$H$142, 2, FALSE )","v":0},0]
[null,null,null,null,null,null,{"$f":"VLOOKUP(F844,工作表9!$G$1:$I$136, 3, FALSE )","v":"混合物"},null,{"$f":"VLOOKUP(F844,工作表9!$G$1:$H$142, 2, FALSE )","v":0},0]
[null,null,null,null,null,null,{"$f":"VLOOKUP(F845,工作表9!$G$1:$I$136, 3, FALSE )","v":"混合物"},null,{"$f":"VLOOKUP(F845,工作表9!$G$1:$H$142, 2, FALSE )","v":0},0]
[null,null,null,null,null,null,{"$f":"VLOOKUP(F846,工作表9!$G$1:$I$136, 3, FALSE )","v":"混合物"},null,{"$f":"VLOOKUP(F846,工作表9!$G$1:$H$142, 2, FALSE )","v":0},0]
[null,null,null,null,null,null,{"$f":"VLOOKUP(F847,工作表9!$G$1:$I$136, 3, FALSE )","v":"混合物"},null,{"$f":"VLOOKUP(F847,工作表9!$G$1:$H$142, 2, FALSE )","v":0},0]
[null,null,null,null,null,null,{"$f":"VLOOKUP(F848,工作表9!$G$1:$I$136, 3, FALSE )","v":"混合物"},null,{"$f":"VLOOKUP(F848,工作表9!$G$1:$H$142, 2, FALSE )","v":0},0]
[null,null,null,null,null,null,{"$f":"VLOOKUP(F849,工作表9!$G$1:$I$136, 3, FALSE )","v":"混合物"},null,{"$f":"VLOOKUP(F849,工作表9!$G$1:$H$142, 2, FALSE )","v":0},0]
[null,null,null,null,null,null,{"$f":"VLOOKUP(F850,工作表9!$G$1:$I$136, 3, FALSE )","v":"混合物"},null,{"$f":"VLOOKUP(F850,工作表9!$G$1:$H$142, 2, FALSE )","v":0},0]
[null,null,null,null,null,null,{"$f":"VLOOKUP(F851,工作表9!$G$1:$I$136, 3, FALSE )","v":"混合物"},null,{"$f":"VLOOKUP(F851,工作表9!$G$1:$H$142, 2, FALSE )","v":0},0]
[null,null,null,null,null,null,{"$f":"VLOOKUP(F852,工作表9!$G$1:$I$136, 3, FALSE )","v":"混合物"},null,{"$f":"VLOOKUP(F852,工作表9!$G$1:$H$142, 2, FALSE )","v":0},0]
[null,null,null,null,null,null,{"$f":"VLOOKUP(F853,工作表9!$G$1:$I$136, 3, FALSE )","v":"混合物"},null,{"$f":"VLOOKUP(F853,工作表9!$G$1:$H$142, 2, FALSE )","v":0},0]
[null,null,null,null,null,null,{"$f":"VLOOKUP(F854,工作表9!$G$1:$I$136, 3, FALSE )","v":"混合物"},null,{"$f":"VLOOKUP(F854,工作表9!$G$1:$H$142, 2, FALSE )","v":0},0]
[null,null,null,null,null,null,{"$f":"VLOOKUP(F855,工作表9!$G$1:$I$136, 3, FALSE )","v":"混合物"},null,{"$f":"VLOOKUP(F855,工作表9!$G$1:$H$142, 2, FALSE )","v":0},0]
[null,null,null,null,null,null,{"$f":"VLOOKUP(F856,工作表9!$G$1:$I$136, 3, FALSE )","v":"混合物"},null,{"$f":"VLOOKUP(F856,工作表9!$G$1:$H$142, 2, FALSE )","v":0},0]
[null,null,null,null,null,null,{"$f":"VLOOKUP(F857,工作表9!$G$1:$I$136, 3, FALSE )","v":"混合物"},null,{"$f":"VLOOKUP(F857,工作表9!$G$1:$H$142, 2, FALSE )","v":0},0]
[null,null,null,null,null,null,{"$f":"VLOOKUP(F858,工作表9!$G$1:$I$136, 3, FALSE )","v":"混合物"},null,{"$f":"VLOOKUP(F858,工作表9!$G$1:$H$142, 2, FALSE )","v":0},0]
[null,null,null,null,null,null,{"$f":"VLOOKUP(F859,工作表9!$G$1:$I$136, 3, FALSE )","v":"混合物"},null,{"$f":"VLOOKUP(F859,工作表9!$G$1:$H$142, 2, FALSE )","v":0},0]
[null,null,null,null,null,null,{"$f":"VLOOKUP(F860,工作表9!$G$1:$I$136, 3, FALSE )","v":"混合物"},null,{"$f":"VLOOKUP(F860,工作表9!$G$1:$H$142, 2, FALSE )","v":0},0]
[null,null,null,null,null,null,{"$f":"VLOOKUP(F861,工作表9!$G$1:$I$136, 3, FALSE )","v":"混合物"},null,{"$f":"VLOOKUP(F861,工作表9!$G$1:$H$142, 2, FALSE )","v":0},0]
[null,null,null,null,null,null,{"$f":"VLOOKUP(F862,工作表9!$G$1:$I$136, 3, FALSE )","v":"混合物"},null,{"$f":"VLOOKUP(F862,工作表9!$G$1:$H$142, 2, FALSE )","v":0},0]
[null,null,null,null,null,null,{"$f":"VLOOKUP(F863,工作表9!$G$1:$I$136, 3, FALSE )","v":"混合物"},null,{"$f":"VLOOKUP(F863,工作表9!$G$1:$H$142, 2, FALSE )","v":0},0]
[null,null,null,null,null,null,{"$f":"VLOOKUP(F864,工作表9!$G$1:$I$136, 3, FALSE )","v":"混合物"},null,{"$f":"VLOOKUP(F864,工作表9!$G$1:$H$142, 2, FALSE )","v":0},0]
[null,null,null,null,null,null,{"$f":"VLOOKUP(F865,工作表9!$G$1:$I$136, 3, FALSE )","v":"混合物"},null,{"$f":"VLOOKUP(F865,工作表9!$G$1:$H$142, 2, FALSE )","v":0},0]
[null,null,null,null,null,null,{"$f":"VLOOKUP(F866,工作表9!$G$1:$I$136, 3, FALSE )","v":"混合物"},null,{"$f":"VLOOKUP(F866,工作表9!$G$1:$H$142, 2, FALSE )","v":0},0]
[null,null,null,null,null,null,{"$f":"VLOOKUP(F867,工作表9!$G$1:$I$136, 3, FALSE )","v":"混合物"},null,{"$f":"VLOOKUP(F867,工作表9!$G$1:$H$142, 2, FALSE )","v":0},0]
[null,null,null,null,null,null,{"$f":"VLOOKUP(F868,工作表9!$G$1:$I$136, 3, FALSE )","v":"混合物"},null,{"$f":"VLOOKUP(F868,工作表9!$G$1:$H$142, 2, FALSE )","v":0},0]
[null,null,null,null,null,null,{"$f":"VLOOKUP(F869,工作表9!$G$1:$I$136, 3, FALSE )","v":"混合物"},null,{"$f":"VLOOKUP(F869,工作表9!$G$1:$H$142, 2, FALSE )","v":0},0]
[null,null,null,null,null,null,{"$f":"VLOOKUP(F870,工作表9!$G$1:$I$136, 3, FALSE )","v":"混合物"},null,{"$f":"VLOOKUP(F870,工作表9!$G$1:$H$142, 2, FALSE )","v":0},0]
[null,null,null,null,null,null,{"$f":"VLOOKUP(F871,工作表9!$G$1:$I$136, 3, FALSE )","v":"混合物"},null,{"$f":"VLOOKUP(F871,工作表9!$G$1:$H$142, 2, FALSE )","v":0},0]
[null,null,null,null,null,null,{"$f":"VLOOKUP(F872,工作表9!$G$1:$I$136, 3, FALSE )","v":"混合物"},null,{"$f":"VLOOKUP(F872,工作表9!$G$1:$H$142, 2, FALSE )","v":0},0]
[null,null,null,null,null,null,{"$f":"VLOOKUP(F873,工作表9!$G$1:$I$136, 3, FALSE )","v":"混合物"},null,{"$f":"VLOOKUP(F873,工作表9!$G$1:$H$142, 2, FALSE )","v":0},0]
[null,null,null,null,null,null,{"$f":"VLOOKUP(F874,工作表9!$G$1:$I$136, 3, FALSE )","v":"混合物"},null,{"$f":"VLOOKUP(F874,工作表9!$G$1:$H$142, 2, FALSE )","v":0},0]
[null,null,null,null,null,null,{"$f":"VLOOKUP(F875,工作表9!$G$1:$I$136, 3, FALSE )","v":"混合物"},null,{"$f":"VLOOKUP(F875,工作表9!$G$1:$H$142, 2, FALSE )","v":0},0]
[null,null,null,null,null,null,{"$f":"VLOOKUP(F876,工作表9!$G$1:$I$136, 3, FALSE )","v":"混合物"},null,{"$f":"VLOOKUP(F876,工作表9!$G$1:$H$142, 2, FALSE )","v":0},0]
[null,null,null,null,null,null,{"$f":"VLOOKUP(F877,工作表9!$G$1:$I$136, 3, FALSE )","v":"混合物"},null,{"$f":"VLOOKUP(F877,工作表9!$G$1:$H$142, 2, FALSE )","v":0},0]
[null,null,null,null,null,null,{"$f":"VLOOKUP(F878,工作表9!$G$1:$I$136, 3, FALSE )","v":"混合物"},null,{"$f":"VLOOKUP(F878,工作表9!$G$1:$H$142, 2, FALSE )","v":0},0]
[null,null,null,null,null,null,{"$f":"VLOOKUP(F879,工作表9!$G$1:$I$136, 3, FALSE )","v":"混合物"},null,{"$f":"VLOOKUP(F879,工作表9!$G$1:$H$142, 2, FALSE )","v":0},0]
[null,null,null,null,null,null,{"$f":"VLOOKUP(F880,工作表9!$G$1:$I$136, 3, FALSE )","v":"混合物"},null,{"$f":"VLOOKUP(F880,工作表9!$G$1:$H$142, 2, FALSE )","v":0},0]
[null,null,null,null,null,null,{"$f":"VLOOKUP(F881,工作表9!$G$1:$I$136, 3, FALSE )","v":"混合物"},null,{"$f":"VLOOKUP(F881,工作表9!$G$1:$H$142, 2, FALSE )","v":0},0]
[null,null,null,null,null,null,{"$f":"VLOOKUP(F882,工作表9!$G$1:$I$136, 3, FALSE )","v":"混合物"},null,{"$f":"VLOOKUP(F882,工作表9!$G$1:$H$142, 2, FALSE )","v":0},0]
[null,null,null,null,null,null,{"$f":"VLOOKUP(F883,工作表9!$G$1:$I$136, 3, FALSE )","v":"混合物"},null,{"$f":"VLOOKUP(F883,工作表9!$G$1:$H$142, 2, FALSE )","v":0},0]
[null,null,null,null,null,null,{"$f":"VLOOKUP(F884,工作表9!$G$1:$I$136, 3, FALSE )","v":"混合物"},null,{"$f":"VLOOKUP(F884,工作表9!$G$1:$H$142, 2, FALSE )","v":0},0]
[null,null,null,null,null,null,{"$f":"VLOOKUP(F885,工作表9!$G$1:$I$136, 3, FALSE )","v":"混合物"},null,{"$f":"VLOOKUP(F885,工作表9!$G$1:$H$142, 2, FALSE )","v":0},0]
[null,null,null,null,null,null,{"$f":"VLOOKUP(F886,工作表9!$G$1:$I$136, 3, FALSE )","v":"混合物"},null,{"$f":"VLOOKUP(F886,工作表9!$G$1:$H$142, 2, FALSE )","v":0},0]
[null,null,null,null,null,null,{"$f":"VLOOKUP(F887,工作表9!$G$1:$I$136, 3, FALSE )","v":"混合物"},null,{"$f":"VLOOKUP(F887,工作表9!$G$1:$H$142, 2, FALSE )","v":0},0]
[null,null,null,null,null,null,{"$f":"VLOOKUP(F888,工作表9!$G$1:$I$136, 3, FALSE )","v":"混合物"},null,{"$f":"VLOOKUP(F888,工作表9!$G$1:$H$142, 2, FALSE )","v":0},0]
[null,null,null,null,null,null,{"$f":"VLOOKUP(F889,工作表9!$G$1:$I$136, 3, FALSE )","v":"混合物"},null,{"$f":"VLOOKUP(F889,工作表9!$G$1:$H$142, 2, FALSE )","v":0},0]
[null,null,null,null,null,null,{"$f":"VLOOKUP(F890,工作表9!$G$1:$I$136, 3, FALSE )","v":"混合物"},null,{"$f":"VLOOKUP(F890,工作表9!$G$1:$H$142, 2, FALSE )","v":0},0]
[null,null,null,null,null,null,{"$f":"VLOOKUP(F891,工作表9!$G$1:$I$136, 3, FALSE )","v":"混合物"},null,{"$f":"VLOOKUP(F891,工作表9!$G$1:$H$142, 2, FALSE )","v":0},0]
[null,null,null,null,null,null,{"$f":"VLOOKUP(F892,工作表9!$G$1:$I$136, 3, FALSE )","v":"混合物"},null,{"$f":"VLOOKUP(F892,工作表9!$G$1:$H$142, 2, FALSE )","v":0},0]
[null,null,null,null,null,null,{"$f":"VLOOKUP(F893,工作表9!$G$1:$I$136, 3, FALSE )","v":"混合物"},null,{"$f":"VLOOKUP(F893,工作表9!$G$1:$H$142, 2, FALSE )","v":0},0]
[null,null,null,null,null,null,{"$f":"VLOOKUP(F894,工作表9!$G$1:$I$136, 3, FALSE )","v":"混合物"},null,{"$f":"VLOOKUP(F894,工作表9!$G$1:$H$142, 2, FALSE )","v":0},0]
[null,null,null,null,null,null,{"$f":"VLOOKUP(F895,工作表9!$G$1:$I$136, 3, FALSE )","v":"混合物"},null,{"$f":"VLOOKUP(F895,工作表9!$G$1:$H$142, 2, FALSE )","v":0},0]
[null,null,null,null,null,null,{"$f":"VLOOKUP(F896,工作表9!$G$1:$I$136, 3, FALSE )","v":"混合物"},null,{"$f":"VLOOKUP(F896,工作表9!$G$1:$H$142, 2, FALSE )","v":0},0]
[null,null,null,null,null,null,{"$f":"VLOOKUP(F897,工作表9!$G$1:$I$136, 3, FALSE )","v":"混合物"},null,{"$f":"VLOOKUP(F897,工作表9!$G$1:$H$142, 2, FALSE )","v":0},0]
[null,null,null,null,null,null,{"$f":"VLOOKUP(F898,工作表9!$G$1:$I$136, 3, FALSE )","v":"混合物"},null,{"$f":"VLOOKUP(F898,工作表9!$G$1:$H$142, 2, FALSE )","v":0},0]
[null,null,null,null,null,null,{"$f":"VLOOKUP(F899,工作表9!$G$1:$I$136, 3, FALSE )","v":"混合物"},null,{"$f":"VLOOKUP(F899,工作表9!$G$1:$H$142, 2, FALSE )","v":0},0]
[null,null,null,null,null,null,{"$f":"VLOOKUP(F900,工作表9!$G$1:$I$136, 3, FALSE )","v":"混合物"},null,{"$f":"VLOOKUP(F900,工作表9!$G$1:$H$142, 2, FALSE )","v":0},0]
[null,null,null,null,null,null,{"$f":"VLOOKUP(F901,工作表9!$G$1:$I$136, 3, FALSE )","v":"混合物"},null,{"$f":"VLOOKUP(F901,工作表9!$G$1:$H$142, 2, FALSE )","v":0},0]
[null,null,null,null,null,null,{"$f":"VLOOKUP(F902,工作表9!$G$1:$I$136, 3, FALSE )","v":"混合物"},null,{"$f":"VLOOKUP(F902,工作表9!$G$1:$H$142, 2, FALSE )","v":0},{"$f":"H902*I902","v":0}]
[null,null,null,null,null,null,{"$f":"VLOOKUP(F903,工作表9!$G$1:$I$136, 3, FALSE )","v":"混合物"},null,{"$f":"VLOOKUP(F903,工作表9!$G$1:$H$142, 2, FALSE )","v":0},0]
[null,null,null,null,null,null,{"$f":"VLOOKUP(F904,工作表9!$G$1:$I$136, 3, FALSE )","v":"混合物"},null,{"$f":"VLOOKUP(F904,工作表9!$G$1:$H$142, 2, FALSE )","v":0},0]
[null,null,null,null,null,null,{"$f":"VLOOKUP(F905,工作表9!$G$1:$I$136, 3, FALSE )","v":"混合物"},null,{"$f":"VLOOKUP(F905,工作表9!$G$1:$H$142, 2, FALSE )","v":0},0]
[null,null,null,null,null,null,{"$f":"VLOOKUP(F906,工作表9!$G$1:$I$136, 3, FALSE )","v":"混合物"},null,{"$f":"VLOOKUP(F906,工作表9!$G$1:$H$142, 2, FALSE )","v":0},0]
[null,null,null,null,null,null,{"$f":"VLOOKUP(F907,工作表9!$G$1:$I$136, 3, FALSE )","v":"混合物"},null,{"$f":"VLOOKUP(F907,工作表9!$G$1:$H$142, 2, FALSE )","v":0},0]
[null,null,null,null,null,null,{"$f":"VLOOKUP(F908,工作表9!$G$1:$I$136, 3, FALSE )","v":"混合物"},null,{"$f":"VLOOKUP(F908,工作表9!$G$1:$H$142, 2, FALSE )","v":0},0]
[null,null,null,null,null,null,{"$f":"VLOOKUP(F909,工作表9!$G$1:$I$136, 3, FALSE )","v":"混合物"},null,{"$f":"VLOOKUP(F909,工作表9!$G$1:$H$142, 2, FALSE )","v":0},0]
[null,null,null,null,null,null,{"$f":"VLOOKUP(F910,工作表9!$G$1:$I$136, 3, FALSE )","v":"混合物"},null,{"$f":"VLOOKUP(F910,工作表9!$G$1:$H$142, 2, FALSE )","v":0},0]
[null,null,null,null,null,null,{"$f":"VLOOKUP(F911,工作表9!$G$1:$I$136, 3, FALSE )","v":"混合物"},null,{"$f":"VLOOKUP(F911,工作表9!$G$1:$H$142, 2, FALSE )","v":0},0]
[null,null,null,null,null,null,{"$f":"VLOOKUP(F912,工作表9!$G$1:$I$136, 3, FALSE )","v":"混合物"},null,{"$f":"VLOOKUP(F912,工作表9!$G$1:$H$142, 2, FALSE )","v":0},0]
[null,null,null,null,null,null,{"$f":"VLOOKUP(F913,工作表9!$G$1:$I$136, 3, FALSE )","v":"混合物"},null,{"$f":"VLOOKUP(F913,工作表9!$G$1:$H$142, 2, FALSE )","v":0},0]
[null,null,null,null,null,null,{"$f":"VLOOKUP(F914,工作表9!$G$1:$I$136, 3, FALSE )","v":"混合物"},null,{"$f":"VLOOKUP(F914,工作表9!$G$1:$H$142, 2, FALSE )","v":0},0]
[null,null,null,null,null,null,{"$f":"VLOOKUP(F915,工作表9!$G$1:$I$136, 3, FALSE )","v":"混合物"},null,{"$f":"VLOOKUP(F915,工作表9!$G$1:$H$142, 2, FALSE )","v":0},0]
[null,null,null,null,null,null,{"$f":"VLOOKUP(F916,工作表9!$G$1:$I$136, 3, FALSE )","v":"混合物"},null,{"$f":"VLOOKUP(F916,工作表9!$G$1:$H$142, 2, FALSE )","v":0},0]
[null,null,null,null,null,null,{"$f":"VLOOKUP(F917,工作表9!$G$1:$I$136, 3, FALSE )","v":"混合物"},null,{"$f":"VLOOKUP(F917,工作表9!$G$1:$H$142, 2, FALSE )","v":0},0]
[null,null,null,null,null,null,{"$f":"VLOOKUP(F918,工作表9!$G$1:$I$136, 3, FALSE )","v":"混合物"},null,{"$f":"VLOOKUP(F918,工作表9!$G$1:$H$142, 2, FALSE )","v":0},0]
[null,null,null,null,null,null,{"$f":"VLOOKUP(F919,工作表9!$G$1:$I$136, 3, FALSE )","v":"混合物"},null,{"$f":"VLOOKUP(F919,工作表9!$G$1:$H$142, 2, FALSE )","v":0},0]
[null,null,null,null,null,null,{"$f":"VLOOKUP(F920,工作表9!$G$1:$I$136, 3, FALSE )","v":"混合物"},null,{"$f":"VLOOKUP(F920,工作表9!$G$1:$H$142, 2, FALSE )","v":0},0]
[null,null,null,null,null,null,{"$f":"VLOOKUP(F921,工作表9!$G$1:$I$136, 3, FALSE )","v":"混合物"},null,{"$f":"VLOOKUP(F921,工作表9!$G$1:$H$142, 2, FALSE )","v":0},0]
[null,null,null,null,null,null,{"$f":"VLOOKUP(F922,工作表9!$G$1:$I$136, 3, FALSE )","v":"混合物"},null,{"$f":"VLOOKUP(F922,工作表9!$G$1:$H$142, 2, FALSE )","v":0},0]
[null,null,null,null,null,null,{"$f":"VLOOKUP(F923,工作表9!$G$1:$I$136, 3, FALSE )","v":"混合物"},null,{"$f":"VLOOKUP(F923,工作表9!$G$1:$H$142, 2, FALSE )","v":0},0]
[null,null,null,null,null,null,{"$f":"VLOOKUP(F924,工作表9!$G$1:$I$136, 3, FALSE )","v":"混合物"},null,{"$f":"VLOOKUP(F924,工作表9!$G$1:$H$142, 2, FALSE )","v":0},0]
[null,null,null,null,null,null,{"$f":"VLOOKUP(F925,工作表9!$G$1:$I$136, 3, FALSE )","v":"混合物"},null,{"$f":"VLOOKUP(F925,工作表9!$G$1:$H$142, 2, FALSE )","v":0},0]
[null,null,null,null,null,null,{"$f":"VLOOKUP(F926,工作表9!$G$1:$I$136, 3, FALSE )","v":"混合物"},null,{"$f":"VLOOKUP(F926,工作表9!$G$1:$H$142, 2, FALSE )","v":0},0]
[null,null,null,null,null,null,{"$f":"VLOOKUP(F927,工作表9!$G$1:$I$136, 3, FALSE )","v":"混合物"},null,{"$f":"VLOOKUP(F927,工作表9!$G$1:$H$142, 2, FALSE )","v":0},0]
[null,null,null,null,null,null,{"$f":"VLOOKUP(F928,工作表9!$G$1:$I$136, 3, FALSE )","v":"混合物"},null,{"$f":"VLOOKUP(F928,工作表9!$G$1:$H$142, 2, FALSE )","v":0},0]
[null,null,null,null,null,null,{"$f":"VLOOKUP(F929,工作表9!$G$1:$I$136, 3, FALSE )","v":"混合物"},null,{"$f":"VLOOKUP(F929,工作表9!$G$1:$H$142, 2, FALSE )","v":0},0]
[null,null,null,null,null,null,{"$f":"VLOOKUP(F930,工作表9!$G$1:$I$136, 3, FALSE )","v":"混合物"},null,{"$f":"VLOOKUP(F930,工作表9!$G$1:$H$142, 2, FALSE )","v":0},0]
[null,null,null,null,null,null,{"$f":"VLOOKUP(F931,工作表9!$G$1:$I$136, 3, FALSE )","v":"混合物"},null,{"$f":"VLOOKUP(F931,工作表9!$G$1:$H$142, 2, FALSE )","v":0},0]
[null,null,null,null,null,null,{"$f":"VLOOKUP(F932,工作表9!$G$1:$I$136, 3, FALSE )","v":"混合物"},null,{"$f":"VLOOKUP(F932,工作表9!$G$1:$H$142, 2, FALSE )","v":0},0]
[null,null,null,null,null,null,{"$f":"VLOOKUP(F933,工作表9!$G$1:$I$136, 3, FALSE )","v":"混合物"},null,{"$f":"VLOOKUP(F933,工作表9!$G$1:$H$142, 2, FALSE )","v":0},0]
[null,null,null,null,null,null,{"$f":"VLOOKUP(F934,工作表9!$G$1:$I$136, 3, FALSE )","v":"混合物"},null,{"$f":"VLOOKUP(F934,工作表9!$G$1:$H$142, 2, FALSE )","v":0},0]
[null,null,null,null,null,null,{"$f":"VLOOKUP(F935,工作表9!$G$1:$I$136, 3, FALSE )","v":"混合物"},null,{"$f":"VLOOKUP(F935,工作表9!$G$1:$H$142, 2, FALSE )","v":0},0]
[null,null,null,null,null,null,{"$f":"VLOOKUP(F936,工作表9!$G$1:$I$136, 3, FALSE )","v":"混合物"},null,{"$f":"VLOOKUP(F936,工作表9!$G$1:$H$142, 2, FALSE )","v":0},0]
[null,null,null,null,null,null,{"$f":"VLOOKUP(F937,工作表9!$G$1:$I$136, 3, FALSE )","v":"混合物"},null,{"$f":"VLOOKUP(F937,工作表9!$G$1:$H$142, 2, FALSE )","v":0},0]
[null,null,null,null,null,null,{"$f":"VLOOKUP(F938,工作表9!$G$1:$I$136, 3, FALSE )","v":"混合物"},null,{"$f":"VLOOKUP(F938,工作表9!$G$1:$H$142, 2, FALSE )","v":0},0]
[null,null,null,null,null,null,{"$f":"VLOOKUP(F939,工作表9!$G$1:$I$136, 3, FALSE )","v":"混合物"},null,{"$f":"VLOOKUP(F939,工作表9!$G$1:$H$142, 2, FALSE )","v":0},0]
[null,null,null,null,null,null,{"$f":"VLOOKUP(F940,工作表9!$G$1:$I$136, 3, FALSE )","v":"混合物"},null,{"$f":"VLOOKUP(F940,工作表9!$G$1:$H$142, 2, FALSE )","v":0},0]
[null,null,null,null,null,null,{"$f":"VLOOKUP(F941,工作表9!$G$1:$I$136, 3, FALSE )","v":"混合物"},null,{"$f":"VLOOKUP(F941,工作表9!$G$1:$H$142, 2, FALSE )","v":0},0]
[null,null,null,null,null,null,{"$f":"VLOOKUP(F942,工作表9!$G$1:$I$136, 3, FALSE )","v":"混合物"},null,{"$f":"VLOOKUP(F942,工作表9!$G$1:$H$142, 2, FALSE )","v":0},0]
[null,null,null,null,null,null,{"$f":"VLOOKUP(F943,工作表9!$G$1:$I$136, 3, FALSE )","v":"混合物"},null,{"$f":"VLOOKUP(F943,工作表9!$G$1:$H$142, 2, FALSE )","v":0},0]
[null,null,null,null,null,null,{"$f":"VLOOKUP(F944,工作表9!$G$1:$I$136, 3, FALSE )","v":"混合物"},null,{"$f":"VLOOKUP(F944,工作表9!$G$1:$H$142, 2, FALSE )","v":0},0]
[null,null,null,null,null,null,{"$f":"VLOOKUP(F945,工作表9!$G$1:$I$136, 3, FALSE )","v":"混合物"},null,{"$f":"VLOOKUP(F945,工作表9!$G$1:$H$142, 2, FALSE )","v":0},0]
[null,null,null,null,null,null,{"$f":"VLOOKUP(F946,工作表9!$G$1:$I$136, 3, FALSE )","v":"混合物"},null,{"$f":"VLOOKUP(F946,工作表9!$G$1:$H$142, 2, FALSE )","v":0},0]
[null,null,null,null,null,null,{"$f":"VLOOKUP(F947,工作表9!$G$1:$I$136, 3, FALSE )","v":"混合物"},null,{"$f":"VLOOKUP(F947,工作表9!$G$1:$H$142, 2, FALSE )","v":0},0]
[null,null,null,null,null,null,{"$f":"VLOOKUP(F948,工作表9!$G$1:$I$136, 3, FALSE )","v":"混合物"},null,{"$f":"VLOOKUP(F948,工作表9!$G$1:$H$142, 2, FALSE )","v":0},0]
[null,null,null,null,null,null,{"$f":"VLOOKUP(F949,工作表9!$G$1:$I$136, 3, FALSE )","v":"混合物"},null,{"$f":"VLOOKUP(F949,工作表9!$G$1:$H$142, 2, FALSE )","v":0},0]
[null,null,null,null,null,null,{"$f":"VLOOKUP(F950,工作表9!$G$1:$I$136, 3, FALSE )","v":"混合物"},null,{"$f":"VLOOKUP(F950,工作表9!$G$1:$H$142, 2, FALSE )","v":0},0]
[null,null,null,null,null,null,{"$f":"VLOOKUP(F951,工作表9!$G$1:$I$136, 3, FALSE )","v":"混合物"},null,{"$f":"VLOOKUP(F951,工作表9!$G$1:$H$142, 2, FALSE )","v":0},0]
[null,null,null,null,null,null,{"$f":"VLOOKUP(F952,工作表9!$G$1:$I$136, 3, FALSE )","v":"混合物"},null,{"$f":"VLOOKUP(F952,工作表9!$G$1:$H$142, 2, FALSE )","v":0},0]
[null,null,null,null,null,null,{"$f":"VLOOKUP(F953,工作表9!$G$1:$I$136, 3, FALSE )","v":"混合物"},null,{"$f":"VLOOKUP(F953,工作表9!$G$1:$H$142, 2, FALSE )","v":0},0]
[null,null,null,null,null,null,{"$f":"VLOOKUP(F954,工作表9!$G$1:$I$136, 3, FALSE )","v":"混合物"},null,{"$f":"VLOOKUP(F954,工作表9!$G$1:$H$142, 2, FALSE )","v":0},0]
[null,null,null,null,null,null,{"$f":"VLOOKUP(F955,工作表9!$G$1:$I$136, 3, FALSE )","v":"混合物"},null,{"$f":"VLOOKUP(F955,工作表9!$G$1:$H$142, 2, FALSE )","v":0},0]
[null,null,null,null,null,null,{"$f":"VLOOKUP(F956,工作表9!$G$1:$I$136, 3, FALSE )","v":"混合物"},null,{"$f":"VLOOKUP(F956,工作表9!$G$1:$H$142, 2, FALSE )","v":0},0]
[null,null,null,null,null,null,{"$f":"VLOOKUP(F957,工作表9!$G$1:$I$136, 3, FALSE )","v":"混合物"},null,{"$f":"VLOOKUP(F957,工作表9!$G$1:$H$142, 2, FALSE )","v":0},0]
[null,null,null,null,null,null,{"$f":"VLOOKUP(F958,工作表9!$G$1:$I$136, 3, FALSE )","v":"混合物"},null,{"$f":"VLOOKUP(F958,工作表9!$G$1:$H$142, 2, FALSE )","v":0},0]
[null,null,null,null,null,null,{"$f":"VLOOKUP(F959,工作表9!$G$1:$I$136, 3, FALSE )","v":"混合物"},null,{"$f":"VLOOKUP(F959,工作表9!$G$1:$H$142, 2, FALSE )","v":0},0]
[null,null,null,null,null,null,{"$f":"VLOOKUP(F960,工作表9!$G$1:$I$136, 3, FALSE )","v":"混合物"},null,{"$f":"VLOOKUP(F960,工作表9!$G$1:$H$142, 2, FALSE )","v":0},0]
[null,null,null,null,null,null,{"$f":"VLOOKUP(F961,工作表9!$G$1:$I$136, 3, FALSE )","v":"混合物"},null,{"$f":"VLOOKUP(F961,工作表9!$G$1:$H$142, 2, FALSE )","v":0},0]
[null,null,null,null,null,null,{"$f":"VLOOKUP(F962,工作表9!$G$1:$I$136, 3, FALSE )","v":"混合物"},null,{"$f":"VLOOKUP(F962,工作表9!$G$1:$H$142, 2, FALSE )","v":0},0]
[null,null,null,null,null,null,{"$f":"VLOOKUP(F963,工作表9!$G$1:$I$136, 3, FALSE )","v":"混合物"},null,{"$f":"VLOOKUP(F963,工作表9!$G$1:$H$142, 2, FALSE )","v":0},0]
[null,null,null,null,null,null,{"$f":"VLOOKUP(F964,工作表9!$G$1:$I$136, 3, FALSE )","v":"混合物"},null,{"$f":"VLOOKUP(F964,工作表9!$G$1:$H$142, 2, FALSE )","v":0},0]
[null,null,null,null,null,null,{"$f":"VLOOKUP(F965,工作表9!$G$1:$I$136, 3, FALSE )","v":"混合物"},null,{"$f":"VLOOKUP(F965,工作表9!$G$1:$H$142, 2, FALSE )","v":0},0]
[null,null,null,null,null,null,{"$f":"VLOOKUP(F966,工作表9!$G$1:$I$136, 3, FALSE )","v":"混合物"},null,{"$f":"VLOOKUP(F966,工作表9!$G$1:$H$142, 2, FALSE )","v":0},{"$f":"H966*I966","v":0}]
[null,null,null,null,null,null,{"$f":"VLOOKUP(F967,工作表9!$G$1:$I$136, 3, FALSE )","v":"混合物"},null,{"$f":"VLOOKUP(F967,工作表9!$G$1:$H$142, 2, FALSE )","v":0},0]
[null,null,null,null,null,null,{"$f":"VLOOKUP(F968,工作表9!$G$1:$I$136, 3, FALSE )","v":"混合物"},null,{"$f":"VLOOKUP(F968,工作表9!$G$1:$H$142, 2, FALSE )","v":0},0]
[null,null,null,null,null,null,{"$f":"VLOOKUP(F969,工作表9!$G$1:$I$136, 3, FALSE )","v":"混合物"},null,{"$f":"VLOOKUP(F969,工作表9!$G$1:$H$142, 2, FALSE )","v":0},0]
[null,null,null,null,null,null,{"$f":"VLOOKUP(F970,工作表9!$G$1:$I$136, 3, FALSE )","v":"混合物"},null,{"$f":"VLOOKUP(F970,工作表9!$G$1:$H$142, 2, FALSE )","v":0},0]
[null,null,null,null,null,null,{"$f":"VLOOKUP(F971,工作表9!$G$1:$I$136, 3, FALSE )","v":"混合物"},null,{"$f":"VLOOKUP(F971,工作表9!$G$1:$H$142, 2, FALSE )","v":0},0]
[null,null,null,null,null,null,{"$f":"VLOOKUP(F972,工作表9!$G$1:$I$136, 3, FALSE )","v":"混合物"},null,{"$f":"VLOOKUP(F972,工作表9!$G$1:$H$142, 2, FALSE )","v":0},0]
[null,null,null,null,null,null,{"$f":"VLOOKUP(F973,工作表9!$G$1:$I$136, 3, FALSE )","v":"混合物"},null,{"$f":"VLOOKUP(F973,工作表9!$G$1:$H$142, 2, FALSE )","v":0},0]
[null,null,null,null,null,null,{"$f":"VLOOKUP(F974,工作表9!$G$1:$I$136, 3, FALSE )","v":"混合物"},null,{"$f":"VLOOKUP(F974,工作表9!$G$1:$H$142, 2, FALSE )","v":0},0]
[null,null,null,null,null,null,{"$f":"VLOOKUP(F975,工作表9!$G$1:$I$136, 3, FALSE )","v":"混合物"},null,{"$f":"VLOOKUP(F975,工作表9!$G$1:$H$142, 2, FALSE )","v":0},0]
[null,null,null,null,null,null,{"$f":"VLOOKUP(F976,工作表9!$G$1:$I$136, 3, FALSE )","v":"混合物"},null,{"$f":"VLOOKUP(F976,工作表9!$G$1:$H$142, 2, FALSE )","v":0},0]
[null,null,null,null,null,null,{"$f":"VLOOKUP(F977,工作表9!$G$1:$I$136, 3, FALSE )","v":"混合物"},null,{"$f":"VLOOKUP(F977,工作表9!$G$1:$H$142, 2, FALSE )","v":0},0]
[null,null,null,null,null,null,{"$f":"VLOOKUP(F978,工作表9!$G$1:$I$136, 3, FALSE )","v":"混合物"},null,{"$f":"VLOOKUP(F978,工作表9!$G$1:$H$142, 2, FALSE )","v":0},0]
[null,null,null,null,null,null,{"$f":"VLOOKUP(F979,工作表9!$G$1:$I$136, 3, FALSE )","v":"混合物"},null,{"$f":"VLOOKUP(F979,工作表9!$G$1:$H$142, 2, FALSE )","v":0},0]
[null,null,null,null,null,null,{"$f":"VLOOKUP(F980,工作表9!$G$1:$I$136, 3, FALSE )","v":"混合物"},null,{"$f":"VLOOKUP(F980,工作表9!$G$1:$H$142, 2, FALSE )","v":0},0]
[null,null,null,null,null,null,{"$f":"VLOOKUP(F981,工作表9!$G$1:$I$136, 3, FALSE )","v":"混合物"},null,{"$f":"VLOOKUP(F981,工作表9!$G$1:$H$142, 2, FALSE )","v":0},0]
[null,null,null,null,null,null,{"$f":"VLOOKUP(F982,工作表9!$G$1:$I$136, 3, FALSE )","v":"混合物"},null,{"$f":"VLOOKUP(F982,工作表9!$G$1:$H$142, 2, FALSE )","v":0},0]
[null,null,null,null,null,null,{"$f":"VLOOKUP(F983,工作表9!$G$1:$I$136, 3, FALSE )","v":"混合物"},null,{"$f":"VLOOKUP(F983,工作表9!$G$1:$H$142, 2, FALSE )","v":0},0]
[null,null,null,null,null,null,{"$f":"VLOOKUP(F984,工作表9!$G$1:$I$136, 3, FALSE )","v":"混合物"},null,{"$f":"VLOOKUP(F984,工作表9!$G$1:$H$142, 2, FALSE )","v":0},0]
[null,null,null,null,null,null,{"$f":"VLOOKUP(F985,工作表9!$G$1:$I$136, 3, FALSE )","v":"混合物"},null,{"$f":"VLOOKUP(F985,工作表9!$G$1:$H$142, 2, FALSE )","v":0},0]
[null,null,null,null,null,null,{"$f":"VLOOKUP(F986,工作表9!$G$1:$I$136, 3, FALSE )","v":"混合物"},null,{"$f":"VLOOKUP(F986,工作表9!$G$1:$H$142, 2, FALSE )","v":0},0]
[null,null,null,null,null,null,{"$f":"VLOOKUP(F987,工作表9!$G$1:$I$136, 3, FALSE )","v":"混合物"},null,{"$f":"VLOOKUP(F987,工作表9!$G$1:$H$142, 2, FALSE )","v":0},0]
[null,null,null,null,null,null,{"$f":"VLOOKUP(F988,工作表9!$G$1:$I$136, 3, FALSE )","v":"混合物"},null,{"$f":"VLOOKUP(F988,工作表9!$G$1:$H$142, 2, FALSE )","v":0},0]
[null,null,null,null,null,null,{"$f":"VLOOKUP(F989,工作表9!$G$1:$I$136, 3, FALSE )","v":"混合物"},null,{"$f":"VLOOKUP(F989,工作表9!$G$1:$H$142, 2, FALSE )","v":0},0]
[null,null,null,null,null,null,{"$f":"VLOOKUP(F990,工作表9!$G$1:$I$136, 3, FALSE )","v":"混合物"},null,{"$f":"VLOOKUP(F990,工作表9!$G$1:$H$142, 2, FALSE )","v":0},0]
[null,null,null,null,null,null,{"$f":"VLOOKUP(F991,工作表9!$G$1:$I$136, 3, FALSE )","v":"混合物"},null,{"$f":"VLOOKUP(F991,工作表9!$G$1:$H$142, 2, FALSE )","v":0},0]
[null,null,null,null,null,null,{"$f":"VLOOKUP(F992,工作表9!$G$1:$I$136, 3, FALSE )","v":"混合物"},null,{"$f":"VLOOKUP(F992,工作表9!$G$1:$H$142, 2, FALSE )","v":0},0]
[null,null,null,null,null,null,{"$f":"VLOOKUP(F993,工作表9!$G$1:$I$136, 3, FALSE )","v":"混合物"},null,{"$f":"VLOOKUP(F993,工作表9!$G$1:$H$142, 2, FALSE )","v":0},0]
[null,null,null,null,null,null,{"$f":"VLOOKUP(F994,工作表9!$G$1:$I$136, 3, FALSE )","v":"混合物"},null,{"$f":"VLOOKUP(F994,工作表9!$G$1:$H$142, 2, FALSE )","v":0},0]
[null,null,null,null,null,null,{"$f":"VLOOKUP(F995,工作表9!$G$1:$I$136, 3, FALSE )","v":"混合物"},null,{"$f":"VLOOKUP(F995,工作表9!$G$1:$H$142, 2, FALSE )","v":0},0]
[null,null,null,null,null,null,{"$f":"VLOOKUP(F996,工作表9!$G$1:$I$136, 3, FALSE )","v":"混合物"},null,{"$f":"VLOOKUP(F996,工作表9!$G$1:$H$142, 2, FALSE )","v":0},0]
[null,null,null,null,null,null,{"$f":"VLOOKUP(F997,工作表9!$G$1:$I$136, 3, FALSE )","v":"混合物"},null,{"$f":"VLOOKUP(F997,工作表9!$G$1:$H$142, 2, FALSE )","v":0},0]
[null,null,null,null,null,null,{"$f":"VLOOKUP(F998,工作表9!$G$1:$I$136, 3, FALSE )","v":"混合物"},null,{"$f":"VLOOKUP(F998,工作表9!$G$1:$H$142, 2, FALSE )","v":0},0]
[null,null,null,null,null,null,{"$f":"VLOOKUP(F999,工作表9!$G$1:$I$136, 3, FALSE )","v":"混合物"},null,{"$f":"VLOOKUP(F999,工作表9!$G$1:$H$142, 2, FALSE )","v":0},0]
[null,null,null,null,null,null,{"$f":"VLOOKUP(F1000,工作表9!$G$1:$I$136, 3, FALSE )","v":"混合物"},null,{"$f":"VLOOKUP(F1000,工作表9!$G$1:$H$142, 2, FALSE )","v":0},0]
["備註：","＊    請參考附件：冷媒GWP值"]

{"sheet":"110年氫氟碳（HFCs）之國內採購統計申報表","index":4,"n_rows":1001,"n_cols":10,"rows_kept":1001,"cut":false,"hidden":false,"merged":[[1,6,3,6],[0,0,0,1],[1,0,3,0],[1,1,3,1],[1,3,3,3],[1,4,3,4],[1,5,3,5],[0,2,0,5],[1,2,3,2]]}
["申報年份",null,"            110         年",null,null,null,"請記得檢附採購發票影本"]
["編號","採購發票編號","供應廠商統一編號","供應廠商名稱","商品名稱","冷媒編號\n請填寫號碼即可，毋須填寫R-","物質類別","採購量","GWP*","公噸CO2eq"]
[null,null,null,null,null,null,null,"（公噸）",null,"C=A*B"]
[null,null,null,null,null,null,null,"A","B"]
["範例 1","UZ07990000","02750961","AA","R23",23,{"$f":"VLOOKUP(F5,工作表9!$G$1:$I$136, 3, FALSE )","v":"純物質"},50,{"$f":"VLOOKUP(F5,工作表9!$G$1:$H$142, 2, FALSE )","v":14800},{"$f":"H5*I5","v":740000}]
["範例 2","UZ07990000","02750961","AA","R134a","134a",{"$f":"VLOOKUP(F6,工作表9!$G$1:$I$136, 3, FALSE )","v":"純物質"},100,{"$f":"VLOOKUP(F6,工作表9!$G$1:$H$142, 2, FALSE )","v":1430},{"$f":"H6*I6","v":143000}]
["範例 3","UZ07990060","02750963","BB","R404A","404A",{"$f":"VLOOKUP(F7,工作表9!$G$1:$I$136, 3, FALSE )","v":"混合物"},20,{"$f":"VLOOKUP(F7,工作表9!$G$1:$H$142, 2, FALSE )","v":3921.6000000000004},78432]
["範例 4","UZ07990060","02750963","BB","R410A","410A",{"$f":"VLOOKUP(F8,工作表9!$G$1:$I$136, 3, FALSE )","v":"混合物"},5,{"$f":"VLOOKUP(F8,工作表9!$G$1:$H$142, 2, FALSE )","v":2087.5},10437.5]
[null,null,null,null,null,null,{"$f":"VLOOKUP(F9,工作表9!$G$1:$I$136, 3, FALSE )","v":"混合物"},null,{"$f":"VLOOKUP(F9,工作表9!$G$1:$H$142, 2, FALSE )","v":0},0]
[null,null,null,null,null,null,{"$f":"VLOOKUP(F10,工作表9!$G$1:$I$136, 3, FALSE )","v":"混合物"},null,{"$f":"VLOOKUP(F10,工作表9!$G$1:$H$142, 2, FALSE )","v":0},0]
[null,null,null,null,null,null,{"$f":"VLOOKUP(F11,工作表9!$G$1:$I$136, 3, FALSE )","v":"混合物"},null,{"$f":"VLOOKUP(F11,工作表9!$G$1:$H$142, 2, FALSE )","v":0},0]
[null,null,null,null,null,null,{"$f":"VLOOKUP(F12,工作表9!$G$1:$I$136, 3, FALSE )","v":"混合物"},null,{"$f":"VLOOKUP(F12,工作表9!$G$1:$H$142, 2, FALSE )","v":0},0]
[null,null,null,null,null,null,{"$f":"VLOOKUP(F13,工作表9!$G$1:$I$136, 3, FALSE )","v":"混合物"},null,{"$f":"VLOOKUP(F13,工作表9!$G$1:$H$142, 2, FALSE )","v":0},0]
[null,null,null,null,null,null,{"$f":"VLOOKUP(F14,工作表9!$G$1:$I$136, 3, FALSE )","v":"混合物"},null,{"$f":"VLOOKUP(F14,工作表9!$G$1:$H$142, 2, FALSE )","v":0},0]
[null,null,null,null,null,null,{"$f":"VLOOKUP(F15,工作表9!$G$1:$I$136, 3, FALSE )","v":"混合物"},null,{"$f":"VLOOKUP(F15,工作表9!$G$1:$H$142, 2, FALSE )","v":0},0]
[null,null,null,null,null,null,{"$f":"VLOOKUP(F16,工作表9!$G$1:$I$136, 3, FALSE )","v":"混合物"},null,{"$f":"VLOOKUP(F16,工作表9!$G$1:$H$142, 2, FALSE )","v":0},0]
[null,null,null,null,null,null,{"$f":"VLOOKUP(F17,工作表9!$G$1:$I$136, 3, FALSE )","v":"混合物"},null,{"$f":"VLOOKUP(F17,工作表9!$G$1:$H$142, 2, FALSE )","v":0},0]
[null,null,null,null,null,null,{"$f":"VLOOKUP(F18,工作表9!$G$1:$I$136, 3, FALSE )","v":"混合物"},null,{"$f":"VLOOKUP(F18,工作表9!$G$1:$H$142, 2, FALSE )","v":0},0]
[null,null,null,null,null,null,{"$f":"VLOOKUP(F19,工作表9!$G$1:$I$136, 3, FALSE )","v":"混合物"},null,{"$f":"VLOOKUP(F19,工作表9!$G$1:$H$142, 2, FALSE )","v":0},0]
[null,null,null,null,null,null,{"$f":"VLOOKUP(F20,工作表9!$G$1:$I$136, 3, FALSE )","v":"混合物"},null,{"$f":"VLOOKUP(F20,工作表9!$G$1:$H$142, 2, FALSE )","v":0},0]
[null,null,null,null,null,null,{"$f":"VLOOKUP(F21,工作表9!$G$1:$I$136, 3, FALSE )","v":"混合物"},null,{"$f":"VLOOKUP(F21,工作表9!$G$1:$H$142, 2, FALSE )","v":0},0]
[null,null,null,null,null,null,{"$f":"VLOOKUP(F22,工作表9!$G$1:$I$136, 3, FALSE )","v":"混合物"},null,{"$f":"VLOOKUP(F22,工作表9!$G$1:$H$142, 2, FALSE )","v":0},0]
[null,null,null,null,null,null,{"$f":"VLOOKUP(F23,工作表9!$G$1:$I$136, 3, FALSE )","v":"混合物"},null,{"$f":"VLOOKUP(F23,工作表9!$G$1:$H$142, 2, FALSE )","v":0},0]
[null,null,null,null,null,null,{"$f":"VLOOKUP(F24,工作表9!$G$1:$I$136, 3, FALSE )","v":"混合物"},null,{"$f":"VLOOKUP(F24,工作表9!$G$1:$H$142, 2, FALSE )","v":0},0]
[null,null,null,null,null,null,{"$f":"VLOOKUP(F25,工作表9!$G$1:$I$136, 3, FALSE )","v":"混合物"},null,{"$f":"VLOOKUP(F25,工作表9!$G$1:$H$142, 2, FALSE )","v":0},0]
[null,null,null,null,null,null,{"$f":"VLOOKUP(F26,工作表9!$G$1:$I$136, 3, FALSE )","v":"混合物"},null,{"$f":"VLOOKUP(F26,工作表9!$G$1:$H$142, 2, FALSE )","v":0},0]
[null,null,null,null,null,null,{"$f":"VLOOKUP(F27,工作表9!$G$1:$I$136, 3, FALSE )","v":"混合物"},null,{"$f":"VLOOKUP(F27,工作表9!$G$1:$H$142, 2, FALSE )","v":0},0]
[null,null,null,null,null,null,{"$f":"VLOOKUP(F28,工作表9!$G$1:$I$136, 3, FALSE )","v":"混合物"},null,{"$f":"VLOOKUP(F28,工作表9!$G$1:$H$142, 2, FALSE )","v":0},0]
[null,null,null,null,null,null,{"$f":"VLOOKUP(F29,工作表9!$G$1:$I$136, 3, FALSE )","v":"混合物"},null,{"$f":"VLOOKUP(F29,工作表9!$G$1:$H$142, 2, FALSE )","v":0},0]
[null,null,null,null,null,null,{"$f":"VLOOKUP(F30,工作表9!$G$1:$I$136, 3, FALSE )","v":"混合物"},null,{"$f":"VLOOKUP(F30,工作表9!$G$1:$H$142, 2, FALSE )","v":0},0]
[null,null,null,null,null,null,{"$f":"VLOOKUP(F31,工作表9!$G$1:$I$136, 3, FALSE )","v":"混合物"},null,{"$f":"VLOOKUP(F31,工作表9!$G$1:$H$142, 2, FALSE )","v":0},0]
[null,null,null,null,null,null,{"$f":"VLOOKUP(F32,工作表9!$G$1:$I$136, 3, FALSE )","v":"混合物"},null,{"$f":"VLOOKUP(F32,工作表9!$G$1:$H$142, 2, FALSE )","v":0},0]
[null,null,null,null,null,null,{"$f":"VLOOKUP(F33,工作表9!$G$1:$I$136, 3, FALSE )","v":"混合物"},null,{"$f":"VLOOKUP(F33,工作表9!$G$1:$H$142, 2, FALSE )","v":0},0]
[null,null,null,null,null,null,{"$f":"VLOOKUP(F34,工作表9!$G$1:$I$136, 3, FALSE )","v":"混合物"},null,{"$f":"VLOOKUP(F34,工作表9!$G$1:$H$142, 2, FALSE )","v":0},0]
[null,null,null,null,null,null,{"$f":"VLOOKUP(F35,工作表9!$G$1:$I$136, 3, FALSE )","v":"混合物"},null,{"$f":"VLOOKUP(F35,工作表9!$G$1:$H$142, 2, FALSE )","v":0},0]
[null,null,null,null,null,null,{"$f":"VLOOKUP(F36,工作表9!$G$1:$I$136, 3, FALSE )","v":"混合物"},null,{"$f":"VLOOKUP(F36,工作表9!$G$1:$H$142, 2, FALSE )","v":0},0]
[null,null,null,null,null,null,{"$f":"VLOOKUP(F37,工作表9!$G$1:$I$136, 3, FALSE )","v":"混合物"},null,{"$f":"VLOOKUP(F37,工作表9!$G$1:$H$142, 2, FALSE )","v":0},0]
[null,null,null,null,null,null,{"$f":"VLOOKUP(F38,工作表9!$G$1:$I$136, 3, FALSE )","v":"混合物"},null,{"$f":"VLOOKUP(F38,工作表9!$G$1:$H$142, 2, FALSE )","v":0},0]
[null,null,null,null,null,null,{"$f":"VLOOKUP(F39,工作表9!$G$1:$I$136, 3, FALSE )","v":"混合物"},null,{"$f":"VLOOKUP(F39,工作表9!$G$1:$H$142, 2, FALSE )","v":0},0]
[null,null,null,null,null,null,{"$f":"VLOOKUP(F40,工作表9!$G$1:$I$136, 3, FALSE )","v":"混合物"},null,{"$f":"VLOOKUP(F40,工作表9!$G$1:$H$142, 2, FALSE )","v":0},0]
[null,null,null,null,null,null,{"$f":"VLOOKUP(F41,工作表9!$G$1:$I$136, 3, FALSE )","v":"混合物"},null,{"$f":"VLOOKUP(F41,工作表9!$G$1:$H$142, 2, FALSE )","v":0},0]
[null,null,null,null,null,null,{"$f":"VLOOKUP(F42,工作表9!$G$1:$I$136, 3, FALSE )","v":"混合物"},null,{"$f":"VLOOKUP(F42,工作表9!$G$1:$H$142, 2, FALSE )","v":0},0]
[null,null,null,null,null,null,{"$f":"VLOOKUP(F43,工作表9!$G$1:$I$136, 3, FALSE )","v":"混合物"},null,{"$f":"VLOOKUP(F43,工作表9!$G$1:$H$142, 2, FALSE )","v":0},0]
[null,null,null,null,null,null,{"$f":"VLOOKUP(F44,工作表9!$G$1:$I$136, 3, FALSE )","v":"混合物"},null,{"$f":"VLOOKUP(F44,工作表9!$G$1:$H$142, 2, FALSE )","v":0},0]
[null,null,null,null,null,null,{"$f":"VLOOKUP(F45,工作表9!$G$1:$I$136, 3, FALSE )","v":"混合物"},null,{"$f":"VLOOKUP(F45,工作表9!$G$1:$H$142, 2, FALSE )","v":0},0]
[null,null,null,null,null,null,{"$f":"VLOOKUP(F46,工作表9!$G$1:$I$136, 3, FALSE )","v":"混合物"},null,{"$f":"VLOOKUP(F46,工作表9!$G$1:$H$142, 2, FALSE )","v":0},0]
[null,null,null,null,null,null,{"$f":"VLOOKUP(F47,工作表9!$G$1:$I$136, 3, FALSE )","v":"混合物"},null,{"$f":"VLOOKUP(F47,工作表9!$G$1:$H$142, 2, FALSE )","v":0},0]
[null,null,null,null,null,null,{"$f":"VLOOKUP(F48,工作表9!$G$1:$I$136, 3, FALSE )","v":"混合物"},null,{"$f":"VLOOKUP(F48,工作表9!$G$1:$H$142, 2, FALSE )","v":0},0]
[null,null,null,null,null,null,{"$f":"VLOOKUP(F49,工作表9!$G$1:$I$136, 3, FALSE )","v":"混合物"},null,{"$f":"VLOOKUP(F49,工作表9!$G$1:$H$142, 2, FALSE )","v":0},0]
[null,null,null,null,null,null,{"$f":"VLOOKUP(F50,工作表9!$G$1:$I$136, 3, FALSE )","v":"混合物"},null,{"$f":"VLOOKUP(F50,工作表9!$G$1:$H$142, 2, FALSE )","v":0},0]
[null,null,null,null,null,null,{"$f":"VLOOKUP(F51,工作表9!$G$1:$I$136, 3, FALSE )","v":"混合物"},null,{"$f":"VLOOKUP(F51,工作表9!$G$1:$H$142, 2, FALSE )","v":0},0]
[null,null,null,null,null,null,{"$f":"VLOOKUP(F52,工作表9!$G$1:$I$136, 3, FALSE )","v":"混合物"},null,{"$f":"VLOOKUP(F52,工作表9!$G$1:$H$142, 2, FALSE )","v":0},0]
[null,null,null,null,null,null,{"$f":"VLOOKUP(F53,工作表9!$G$1:$I$136, 3, FALSE )","v":"混合物"},null,{"$f":"VLOOKUP(F53,工作表9!$G$1:$H$142, 2, FALSE )","v":0},0]
[null,null,null,null,null,null,{"$f":"VLOOKUP(F54,工作表9!$G$1:$I$136, 3, FALSE )","v":"混合物"},null,{"$f":"VLOOKUP(F54,工作表9!$G$1:$H$142, 2, FALSE )","v":0},0]
[null,null,null,null,null,null,{"$f":"VLOOKUP(F55,工作表9!$G$1:$I$136, 3, FALSE )","v":"混合物"},null,{"$f":"VLOOKUP(F55,工作表9!$G$1:$H$142, 2, FALSE )","v":0},0]
[null,null,null,null,null,null,{"$f":"VLOOKUP(F56,工作表9!$G$1:$I$136, 3, FALSE )","v":"混合物"},null,{"$f":"VLOOKUP(F56,工作表9!$G$1:$H$142, 2, FALSE )","v":0},0]
[null,null,null,null,null,null,{"$f":"VLOOKUP(F57,工作表9!$G$1:$I$136, 3, FALSE )","v":"混合物"},null,{"$f":"VLOOKUP(F57,工作表9!$G$1:$H$142, 2, FALSE )","v":0},0]
[null,null,null,null,null,null,{"$f":"VLOOKUP(F58,工作表9!$G$1:$I$136, 3, FALSE )","v":"混合物"},null,{"$f":"VLOOKUP(F58,工作表9!$G$1:$H$142, 2, FALSE )","v":0},0]
[null,null,null,null,null,null,{"$f":"VLOOKUP(F59,工作表9!$G$1:$I$136, 3, FALSE )","v":"混合物"},null,{"$f":"VLOOKUP(F59,工作表9!$G$1:$H$142, 2, FALSE )","v":0},0]
[null,null,null,null,null,null,{"$f":"VLOOKUP(F60,工作表9!$G$1:$I$136, 3, FALSE )","v":"混合物"},null,{"$f":"VLOOKUP(F60,工作表9!$G$1:$H$142, 2, FALSE )","v":0},0]
[null,null,null,null,null,null,{"$f":"VLOOKUP(F61,工作表9!$G$1:$I$136, 3, FALSE )","v":"混合物"},null,{"$f":"VLOOKUP(F61,工作表9!$G$1:$H$142, 2, FALSE )","v":0},0]
[null,null,null,null,null,null,{"$f":"VLOOKUP(F62,工作表9!$G$1:$I$136, 3, FALSE )","v":"混合物"},null,{"$f":"VLOOKUP(F62,工作表9!$G$1:$H$142, 2, FALSE )","v":0},0]
[null,null,null,null,null,null,{"$f":"VLOOKUP(F63,工作表9!$G$1:$I$136, 3, FALSE )","v":"混合物"},null,{"$f":"VLOOKUP(F63,工作表9!$G$1:$H$142, 2, FALSE )","v":0},0]
[null,null,null,null,null,null,{"$f":"VLOOKUP(F64,工作表9!$G$1:$I$136, 3, FALSE )","v":"混合物"},null,{"$f":"VLOOKUP(F64,工作表9!$G$1:$H$142, 2, FALSE )","v":0},0]
[null,null,null,null,null,null,{"$f":"VLOOKUP(F65,工作表9!$G$1:$I$136, 3, FALSE )","v":"混合物"},null,{"$f":"VLOOKUP(F65,工作表9!$G$1:$H$142, 2, FALSE )","v":0},0]
[null,null,null,null,null,null,{"$f":"VLOOKUP(F66,工作表9!$G$1:$I$136, 3, FALSE )","v":"混合物"},null,{"$f":"VLOOKUP(F66,工作表9!$G$1:$H$142, 2, FALSE )","v":0},0]
[null,null,null,null,null,null,{"$f":"VLOOKUP(F67,工作表9!$G$1:$I$136, 3, FALSE )","v":"混合物"},null,{"$f":"VLOOKUP(F67,工作表9!$G$1:$H$142, 2, FALSE )","v":0},0]
[null,null,null,null,null,null,{"$f":"VLOOKUP(F68,工作表9!$G$1:$I$136, 3, FALSE )","v":"混合物"},null,{"$f":"VLOOKUP(F68,工作表9!$G$1:$H$142, 2, FALSE )","v":0},0]
[null,null,null,null,null,null,{"$f":"VLOOKUP(F69,工作表9!$G$1:$I$136, 3, FALSE )","v":"混合物"},null,{"$f":"VLOOKUP(F69,工作表9!$G$1:$H$142, 2, FALSE )","v":0},0]
[null,null,null,null,null,null,{"$f":"VLOOKUP(F70,工作表9!$G$1:$I$136, 3, FALSE )","v":"混合物"},null,{"$f":"VLOOKUP(F70,工作表9!$G$1:$H$142, 2, FALSE )","v":0},{"$f":"H70*I70","v":0}]
[null,null,null,null,null,null,{"$f":"VLOOKUP(F71,工作表9!$G$1:$I$136, 3, FALSE )","v":"混合物"},null,{"$f":"VLOOKUP(F71,工作表9!$G$1:$H$142, 2, FALSE )","v":0},0]
[null,null,null,null,null,null,{"$f":"VLOOKUP(F72,工作表9!$G$1:$I$136, 3, FALSE )","v":"混合物"},null,{"$f":"VLOOKUP(F72,工作表9!$G$1:$H$142, 2, FALSE )","v":0},0]
[null,null,null,null,null,null,{"$f":"VLOOKUP(F73,工作表9!$G$1:$I$136, 3, FALSE )","v":"混合物"},null,{"$f":"VLOOKUP(F73,工作表9!$G$1:$H$142, 2, FALSE )","v":0},0]
[null,null,null,null,null,null,{"$f":"VLOOKUP(F74,工作表9!$G$1:$I$136, 3, FALSE )","v":"混合物"},null,{"$f":"VLOOKUP(F74,工作表9!$G$1:$H$142, 2, FALSE )","v":0},0]
[null,null,null,null,null,null,{"$f":"VLOOKUP(F75,工作表9!$G$1:$I$136, 3, FALSE )","v":"混合物"},null,{"$f":"VLOOKUP(F75,工作表9!$G$1:$H$142, 2, FALSE )","v":0},0]
[null,null,null,null,null,null,{"$f":"VLOOKUP(F76,工作表9!$G$1:$I$136, 3, FALSE )","v":"混合物"},null,{"$f":"VLOOKUP(F76,工作表9!$G$1:$H$142, 2, FALSE )","v":0},0]
[null,null,null,null,null,null,{"$f":"VLOOKUP(F77,工作表9!$G$1:$I$136, 3, FALSE )","v":"混合物"},null,{"$f":"VLOOKUP(F77,工作表9!$G$1:$H$142, 2, FALSE )","v":0},0]
[null,null,null,null,null,null,{"$f":"VLOOKUP(F78,工作表9!$G$1:$I$136, 3, FALSE )","v":"混合物"},null,{"$f":"VLOOKUP(F78,工作表9!$G$1:$H$142, 2, FALSE )","v":0},0]
[null,null,null,null,null,null,{"$f":"VLOOKUP(F79,工作表9!$G$1:$I$136, 3, FALSE )","v":"混合物"},null,{"$f":"VLOOKUP(F79,工作表9!$G$1:$H$142, 2, FALSE )","v":0},0]
[null,null,null,null,null,null,{"$f":"VLOOKUP(F80,工作表9!$G$1:$I$136, 3, FALSE )","v":"混合物"},null,{"$f":"VLOOKUP(F80,工作表9!$G$1:$H$142, 2, FALSE )","v":0},0]
[null,null,null,null,null,null,{"$f":"VLOOKUP(F81,工作表9!$G$1:$I$136, 3, FALSE )","v":"混合物"},null,{"$f":"VLOOKUP(F81,工作表9!$G$1:$H$142, 2, FALSE )","v":0},0]
[null,null,null,null,null,null,{"$f":"VLOOKUP(F82,工作表9!$G$1:$I$136, 3, FALSE )","v":"混合物"},null,{"$f":"VLOOKUP(F82,工作表9!$G$1:$H$142, 2, FALSE )","v":0},0]
[null,null,null,null,null,null,{"$f":"VLOOKUP(F83,工作表9!$G$1:$I$136, 3, FALSE )","v":"混合物"},null,{"$f":"VLOOKUP(F83,工作表9!$G$1:$H$142, 2, FALSE )","v":0},0]
[null,null,null,null,null,null,{"$f":"VLOOKUP(F84,工作表9!$G$1:$I$136, 3, FALSE )","v":"混合物"},null,{"$f":"VLOOKUP(F84,工作表9!$G$1:$H$142, 2, FALSE )","v":0},0]
[null,null,null,null,null,null,{"$f":"VLOOKUP(F85,工作表9!$G$1:$I$136, 3, FALSE )","v":"混合物"},null,{"$f":"VLOOKUP(F85,工作表9!$G$1:$H$142, 2, FALSE )","v":0},0]
[null,null,null,null,null,null,{"$f":"VLOOKUP(F86,工作表9!$G$1:$I$136, 3, FALSE )","v":"混合物"},null,{"$f":"VLOOKUP(F86,工作表9!$G$1:$H$142, 2, FALSE )","v":0},0]
[null,null,null,null,null,null,{"$f":"VLOOKUP(F87,工作表9!$G$1:$I$136, 3, FALSE )","v":"混合物"},null,{"$f":"VLOOKUP(F87,工作表9!$G$1:$H$142, 2, FALSE )","v":0},0]
[null,null,null,null,null,null,{"$f":"VLOOKUP(F88,工作表9!$G$1:$I$136, 3, FALSE )","v":"混合物"},null,{"$f":"VLOOKUP(F88,工作表9!$G$1:$H$142, 2, FALSE )","v":0},0]
[null,null,null,null,null,null,{"$f":"VLOOKUP(F89,工作表9!$G$1:$I$136, 3, FALSE )","v":"混合物"},null,{"$f":"VLOOKUP(F89,工作表9!$G$1:$H$142, 2, FALSE )","v":0},0]
[null,null,null,null,null,null,{"$f":"VLOOKUP(F90,工作表9!$G$1:$I$136, 3, FALSE )","v":"混合物"},null,{"$f":"VLOOKUP(F90,工作表9!$G$1:$H$142, 2, FALSE )","v":0},0]
[null,null,null,null,null,null,{"$f":"VLOOKUP(F91,工作表9!$G$1:$I$136, 3, FALSE )","v":"混合物"},null,{"$f":"VLOOKUP(F91,工作表9!$G$1:$H$142, 2, FALSE )","v":0},0]
[null,null,null,null,null,null,{"$f":"VLOOKUP(F92,工作表9!$G$1:$I$136, 3, FALSE )","v":"混合物"},null,{"$f":"VLOOKUP(F92,工作表9!$G$1:$H$142, 2, FALSE )","v":0},0]
[null,null,null,null,null,null,{"$f":"VLOOKUP(F93,工作表9!$G$1:$I$136, 3, FALSE )","v":"混合物"},null,{"$f":"VLOOKUP(F93,工作表9!$G$1:$H$142, 2, FALSE )","v":0},0]
[null,null,null,null,null,null,{"$f":"VLOOKUP(F94,工作表9!$G$1:$I$136, 3, FALSE )","v":"混合物"},null,{"$f":"VLOOKUP(F94,工作表9!$G$1:$H$142, 2, FALSE )","v":0},0]
[null,null,null,null,null,null,{"$f":"VLOOKUP(F95,工作表9!$G$1:$I$136, 3, FALSE )","v":"混合物"},null,{"$f":"VLOOKUP(F95,工作表9!$G$1:$H$142, 2, FALSE )","v":0},0]
[null,null,null,null,null,null,{"$f":"VLOOKUP(F96,工作表9!$G$1:$I$136, 3, FALSE )","v":"混合物"},null,{"$f":"VLOOKUP(F96,工作表9!$G$1:$H$142, 2, FALSE )","v":0},0]
[null,null,null,null,null,null,{"$f":"VLOOKUP(F97,工作表9!$G$1:$I$136, 3, FALSE )","v":"混合物"},null,{"$f":"VLOOKUP(F97,工作表9!$G$1:$H$142, 2, FALSE )","v":0},0]
[null,null,null,null,null,null,{"$f":"VLOOKUP(F98,工作表9!$G$1:$I$136, 3, FALSE )","v":"混合物"},null,{"$f":"VLOOKUP(F98,工作表9!$G$1:$H$142, 2, FALSE )","v":0},0]
[null,null,null,null,null,null,{"$f":"VLOOKUP(F99,工作表9!$G$1:$I$136, 3, FALSE )","v":"混合物"},null,{"$f":"VLOOKUP(F99,工作表9!$G$1:$H$142, 2, FALSE )","v":0},0]
[null,null,null,null,null,null,{"$f":"VLOOKUP(F100,工作表9!$G$1:$I$136, 3, FALSE )","v":"混合物"},null,{"$f":"VLOOKUP(F100,工作表9!$G$1:$H$142, 2, FALSE )","v":0},0]
[null,null,null,null,null,null,{"$f":"VLOOKUP(F101,工作表9!$G$1:$I$136, 3, FALSE )","v":"混合物"},null,{"$f":"VLOOKUP(F101,工作表9!$G$1:$H$142, 2, FALSE )","v":0},0]
[null,null,null,null,null,null,{"$f":"VLOOKUP(F102,工作表9!$G$1:$I$136, 3, FALSE )","v":"混合物"},null,{"$f":"VLOOKUP(F102,工作表9!$G$1:$H$142, 2, FALSE )","v":0},0]
[null,null,null,null,null,null,{"$f":"VLOOKUP(F103,工作表9!$G$1:$I$136, 3, FALSE )","v":"混合物"},null,{"$f":"VLOOKUP(F103,工作表9!$G$1:$H$142, 2, FALSE )","v":0},0]
[null,null,null,null,null,null,{"$f":"VLOOKUP(F104,工作表9!$G$1:$I$136, 3, FALSE )","v":"混合物"},null,{"$f":"VLOOKUP(F104,工作表9!$G$1:$H$142, 2, FALSE )","v":0},0]
[null,null,null,null,null,null,{"$f":"VLOOKUP(F105,工作表9!$G$1:$I$136, 3, FALSE )","v":"混合物"},null,{"$f":"VLOOKUP(F105,工作表9!$G$1:$H$142, 2, FALSE )","v":0},0]
[null,null,null,null,null,null,{"$f":"VLOOKUP(F106,工作表9!$G$1:$I$136, 3, FALSE )","v":"混合物"},null,{"$f":"VLOOKUP(F106,工作表9!$G$1:$H$142, 2, FALSE )","v":0},0]
[null,null,null,null,null,null,{"$f":"VLOOKUP(F107,工作表9!$G$1:$I$136, 3, FALSE )","v":"混合物"},null,{"$f":"VLOOKUP(F107,工作表9!$G$1:$H$142, 2, FALSE )","v":0},0]
[null,null,null,null,null,null,{"$f":"VLOOKUP(F108,工作表9!$G$1:$I$136, 3, FALSE )","v":"混合物"},null,{"$f":"VLOOKUP(F108,工作表9!$G$1:$H$142, 2, FALSE )","v":0},0]
[null,null,null,null,null,null,{"$f":"VLOOKUP(F109,工作表9!$G$1:$I$136, 3, FALSE )","v":"混合物"},null,{"$f":"VLOOKUP(F109,工作表9!$G$1:$H$142, 2, FALSE )","v":0},0]
[null,null,null,null,null,null,{"$f":"VLOOKUP(F110,工作表9!$G$1:$I$136, 3, FALSE )","v":"混合物"},null,{"$f":"VLOOKUP(F110,工作表9!$G$1:$H$142, 2, FALSE )","v":0},0]
[null,null,null,null,null,null,{"$f":"VLOOKUP(F111,工作表9!$G$1:$I$136, 3, FALSE )","v":"混合物"},null,{"$f":"VLOOKUP(F111,工作表9!$G$1:$H$142, 2, FALSE )","v":0},0]
[null,null,null,null,null,null,{"$f":"VLOOKUP(F112,工作表9!$G$1:$I$136, 3, FALSE )","v":"混合物"},null,{"$f":"VLOOKUP(F112,工作表9!$G$1:$H$142, 2, FALSE )","v":0},0]
[null,null,null,null,null,null,{"$f":"VLOOKUP(F113,工作表9!$G$1:$I$136, 3, FALSE )","v":"混合物"},null,{"$f":"VLOOKUP(F113,工作表9!$G$1:$H$142, 2, FALSE )","v":0},0]
[null,null,null,null,null,null,{"$f":"VLOOKUP(F114,工作表9!$G$1:$I$136, 3, FALSE )","v":"混合物"},null,{"$f":"VLOOKUP(F114,工作表9!$G$1:$H$142, 2, FALSE )","v":0},0]
[null,null,null,null,null,null,{"$f":"VLOOKUP(F115,工作表9!$G$1:$I$136, 3, FALSE )","v":"混合物"},null,{"$f":"VLOOKUP(F115,工作表9!$G$1:$H$142, 2, FALSE )","v":0},0]
[null,null,null,null,null,null,{"$f":"VLOOKUP(F116,工作表9!$G$1:$I$136, 3, FALSE )","v":"混合物"},null,{"$f":"VLOOKUP(F116,工作表9!$G$1:$H$142, 2, FALSE )","v":0},0]
[null,null,null,null,null,null,{"$f":"VLOOKUP(F117,工作表9!$G$1:$I$136, 3, FALSE )","v":"混合物"},null,{"$f":"VLOOKUP(F117,工作表9!$G$1:$H$142, 2, FALSE )","v":0},0]
[null,null,null,null,null,null,{"$f":"VLOOKUP(F118,工作表9!$G$1:$I$136, 3, FALSE )","v":"混合物"},null,{"$f":"VLOOKUP(F118,工作表9!$G$1:$H$142, 2, FALSE )","v":0},0]
[null,null,null,null,null,null,{"$f":"VLOOKUP(F119,工作表9!$G$1:$I$136, 3, FALSE )","v":"混合物"},null,{"$f":"VLOOKUP(F119,工作表9!$G$1:$H$142, 2, FALSE )","v":0},0]
[null,null,null,null,null,null,{"$f":"VLOOKUP(F120,工作表9!$G$1:$I$136, 3, FALSE )","v":"混合物"},null,{"$f":"VLOOKUP(F120,工作表9!$G$1:$H$142, 2, FALSE )","v":0},0]
[null,null,null,null,null,null,{"$f":"VLOOKUP(F121,工作表9!$G$1:$I$136, 3, FALSE )","v":"混合物"},null,{"$f":"VLOOKUP(F121,工作表9!$G$1:$H$142, 2, FALSE )","v":0},0]
[null,null,null,null,null,null,{"$f":"VLOOKUP(F122,工作表9!$G$1:$I$136, 3, FALSE )","v":"混合物"},null,{"$f":"VLOOKUP(F122,工作表9!$G$1:$H$142, 2, FALSE )","v":0},0]
[null,null,null,null,null,null,{"$f":"VLOOKUP(F123,工作表9!$G$1:$I$136, 3, FALSE )","v":"混合物"},null,{"$f":"VLOOKUP(F123,工作表9!$G$1:$H$142, 2, FALSE )","v":0},0]
[null,null,null,null,null,null,{"$f":"VLOOKUP(F124,工作表9!$G$1:$I$136, 3, FALSE )","v":"混合物"},null,{"$f":"VLOOKUP(F124,工作表9!$G$1:$H$142, 2, FALSE )","v":0},0]
[null,null,null,null,null,null,{"$f":"VLOOKUP(F125,工作表9!$G$1:$I$136, 3, FALSE )","v":"混合物"},null,{"$f":"VLOOKUP(F125,工作表9!$G$1:$H$142, 2, FALSE )","v":0},0]
[null,null,null,null,null,null,{"$f":"VLOOKUP(F126,工作表9!$G$1:$I$136, 3, FALSE )","v":"混合物"},null,{"$f":"VLOOKUP(F126,工作表9!$G$1:$H$142, 2, FALSE )","v":0},0]
[null,null,null,null,null,null,{"$f":"VLOOKUP(F127,工作表9!$G$1:$I$136, 3, FALSE )","v":"混合物"},null,{"$f":"VLOOKUP(F127,工作表9!$G$1:$H$142, 2, FALSE )","v":0},0]
[null,null,null,null,null,null,{"$f":"VLOOKUP(F128,工作表9!$G$1:$I$136, 3, FALSE )","v":"混合物"},null,{"$f":"VLOOKUP(F128,工作表9!$G$1:$H$142, 2, FALSE )","v":0},0]
[null,null,null,null,null,null,{"$f":"VLOOKUP(F129,工作表9!$G$1:$I$136, 3, FALSE )","v":"混合物"},null,{"$f":"VLOOKUP(F129,工作表9!$G$1:$H$142, 2, FALSE )","v":0},0]
[null,null,null,null,null,null,{"$f":"VLOOKUP(F130,工作表9!$G$1:$I$136, 3, FALSE )","v":"混合物"},null,{"$f":"VLOOKUP(F130,工作表9!$G$1:$H$142, 2, FALSE )","v":0},0]
[null,null,null,null,null,null,{"$f":"VLOOKUP(F131,工作表9!$G$1:$I$136, 3, FALSE )","v":"混合物"},null,{"$f":"VLOOKUP(F131,工作表9!$G$1:$H$142, 2, FALSE )","v":0},0]
[null,null,null,null,null,null,{"$f":"VLOOKUP(F132,工作表9!$G$1:$I$136, 3, FALSE )","v":"混合物"},null,{"$f":"VLOOKUP(F132,工作表9!$G$1:$H$142, 2, FALSE )","v":0},0]
[null,null,null,null,null,null,{"$f":"VLOOKUP(F133,工作表9!$G$1:$I$136, 3, FALSE )","v":"混合物"},null,{"$f":"VLOOKUP(F133,工作表9!$G$1:$H$142, 2, FALSE )","v":0},0]
[null,null,null,null,null,null,{"$f":"VLOOKUP(F134,工作表9!$G$1:$I$136, 3, FALSE )","v":"混合物"},null,{"$f":"VLOOKUP(F134,工作表9!$G$1:$H$142, 2, FALSE )","v":0},{"$f":"H134*I134","v":0}]
[null,null,null,null,null,null,{"$f":"VLOOKUP(F135,工作表9!$G$1:$I$136, 3, FALSE )","v":"混合物"},null,{"$f":"VLOOKUP(F135,工作表9!$G$1:$H$142, 2, FALSE )","v":0},0]
[null,null,null,null,null,null,{"$f":"VLOOKUP(F136,工作表9!$G$1:$I$136, 3, FALSE )","v":"混合物"},null,{"$f":"VLOOKUP(F136,工作表9!$G$1:$H$142, 2, FALSE )","v":0},0]
[null,null,null,null,null,null,{"$f":"VLOOKUP(F137,工作表9!$G$1:$I$136, 3, FALSE )","v":"混合物"},null,{"$f":"VLOOKUP(F137,工作表9!$G$1:$H$142, 2, FALSE )","v":0},0]
[null,null,null,null,null,null,{"$f":"VLOOKUP(F138,工作表9!$G$1:$I$136, 3, FALSE )","v":"混合物"},null,{"$f":"VLOOKUP(F138,工作表9!$G$1:$H$142, 2, FALSE )","v":0},0]
[null,null,null,null,null,null,{"$f":"VLOOKUP(F139,工作表9!$G$1:$I$136, 3, FALSE )","v":"混合物"},null,{"$f":"VLOOKUP(F139,工作表9!$G$1:$H$142, 2, FALSE )","v":0},0]
[null,null,null,null,null,null,{"$f":"VLOOKUP(F140,工作表9!$G$1:$I$136, 3, FALSE )","v":"混合物"},null,{"$f":"VLOOKUP(F140,工作表9!$G$1:$H$142, 2, FALSE )","v":0},0]
[null,null,null,null,null,null,{"$f":"VLOOKUP(F141,工作表9!$G$1:$I$136, 3, FALSE )","v":"混合物"},null,{"$f":"VLOOKUP(F141,工作表9!$G$1:$H$142, 2, FALSE )","v":0},0]
[null,null,null,null,null,null,{"$f":"VLOOKUP(F142,工作表9!$G$1:$I$136, 3, FALSE )","v":"混合物"},null,{"$f":"VLOOKUP(F142,工作表9!$G$1:$H$142, 2, FALSE )","v":0},0]
[null,null,null,null,null,null,{"$f":"VLOOKUP(F143,工作表9!$G$1:$I$136, 3, FALSE )","v":"混合物"},null,{"$f":"VLOOKUP(F143,工作表9!$G$1:$H$142, 2, FALSE )","v":0},0]
[null,null,null,null,null,null,{"$f":"VLOOKUP(F144,工作表9!$G$1:$I$136, 3, FALSE )","v":"混合物"},null,{"$f":"VLOOKUP(F144,工作表9!$G$1:$H$142, 2, FALSE )","v":0},0]
[null,null,null,null,null,null,{"$f":"VLOOKUP(F145,工作表9!$G$1:$I$136, 3, FALSE )","v":"混合物"},null,{"$f":"VLOOKUP(F145,工作表9!$G$1:$H$142, 2, FALSE )","v":0},0]
[null,null,null,null,null,null,{"$f":"VLOOKUP(F146,工作表9!$G$1:$I$136, 3, FALSE )","v":"混合物"},null,{"$f":"VLOOKUP(F146,工作表9!$G$1:$H$142, 2, FALSE )","v":0},0]
[null,null,null,null,null,null,{"$f":"VLOOKUP(F147,工作表9!$G$1:$I$136, 3, FALSE )","v":"混合物"},null,{"$f":"VLOOKUP(F147,工作表9!$G$1:$H$142, 2, FALSE )","v":0},0]
[null,null,null,null,null,null,{"$f":"VLOOKUP(F148,工作表9!$G$1:$I$136, 3, FALSE )","v":"混合物"},null,{"$f":"VLOOKUP(F148,工作表9!$G$1:$H$142, 2, FALSE )","v":0},0]
[null,null,null,null,null,null,{"$f":"VLOOKUP(F149,工作表9!$G$1:$I$136, 3, FALSE )","v":"混合物"},null,{"$f":"VLOOKUP(F149,工作表9!$G$1:$H$142, 2, FALSE )","v":0},0]
[null,null,null,null,null,null,{"$f":"VLOOKUP(F150,工作表9!$G$1:$I$136, 3, FALSE )","v":"混合物"},null,{"$f":"VLOOKUP(F150,工作表9!$G$1:$H$142, 2, FALSE )","v":0},0]
[null,null,null,null,null,null,{"$f":"VLOOKUP(F151,工作表9!$G$1:$I$136, 3, FALSE )","v":"混合物"},null,{"$f":"VLOOKUP(F151,工作表9!$G$1:$H$142, 2, FALSE )","v":0},0]
[null,null,null,null,null,null,{"$f":"VLOOKUP(F152,工作表9!$G$1:$I$136, 3, FALSE )","v":"混合物"},null,{"$f":"VLOOKUP(F152,工作表9!$G$1:$H$142, 2, FALSE )","v":0},0]
[null,null,null,null,null,null,{"$f":"VLOOKUP(F153,工作表9!$G$1:$I$136, 3, FALSE )","v":"混合物"},null,{"$f":"VLOOKUP(F153,工作表9!$G$1:$H$142, 2, FALSE )","v":0},0]
[null,null,null,null,null,null,{"$f":"VLOOKUP(F154,工作表9!$G$1:$I$136, 3, FALSE )","v":"混合物"},null,{"$f":"VLOOKUP(F154,工作表9!$G$1:$H$142, 2, FALSE )","v":0},0]
[null,null,null,null,null,null,{"$f":"VLOOKUP(F155,工作表9!$G$1:$I$136, 3, FALSE )","v":"混合物"},null,{"$f":"VLOOKUP(F155,工作表9!$G$1:$H$142, 2, FALSE )","v":0},0]
[null,null,null,null,null,null,{"$f":"VLOOKUP(F156,工作表9!$G$1:$I$136, 3, FALSE )","v":"混合物"},null,{"$f":"VLOOKUP(F156,工作表9!$G$1:$H$142, 2, FALSE )","v":0},0]
[null,null,null,null,null,null,{"$f":"VLOOKUP(F157,工作表9!$G$1:$I$136, 3, FALSE )","v":"混合物"},null,{"$f":"VLOOKUP(F157,工作表9!$G$1:$H$142, 2, FALSE )","v":0},0]
[null,null,null,null,null,null,{"$f":"VLOOKUP(F158,工作表9!$G$1:$I$136, 3, FALSE )","v":"混合物"},null,{"$f":"VLOOKUP(F158,工作表9!$G$1:$H$142, 2, FALSE )","v":0},0]
[null,null,null,null,null,null,{"$f":"VLOOKUP(F159,工作表9!$G$1:$I$136, 3, FALSE )","v":"混合物"},null,{"$f":"VLOOKUP(F159,工作表9!$G$1:$H$142, 2, FALSE )","v":0},0]
[null,null,null,null,null,null,{"$f":"VLOOKUP(F160,工作表9!$G$1:$I$136, 3, FALSE )","v":"混合物"},null,{"$f":"VLOOKUP(F160,工作表9!$G$1:$H$142, 2, FALSE )","v":0},0]
[null,null,null,null,null,null,{"$f":"VLOOKUP(F161,工作表9!$G$1:$I$136, 3, FALSE )","v":"混合物"},null,{"$f":"VLOOKUP(F161,工作表9!$G$1:$H$142, 2, FALSE )","v":0},0]
[null,null,null,null,null,null,{"$f":"VLOOKUP(F162,工作表9!$G$1:$I$136, 3, FALSE )","v":"混合物"},null,{"$f":"VLOOKUP(F162,工作表9!$G$1:$H$142, 2, FALSE )","v":0},0]
[null,null,null,null,null,null,{"$f":"VLOOKUP(F163,工作表9!$G$1:$I$136, 3, FALSE )","v":"混合物"},null,{"$f":"VLOOKUP(F163,工作表9!$G$1:$H$142, 2, FALSE )","v":0},0]
[null,null,null,null,null,null,{"$f":"VLOOKUP(F164,工作表9!$G$1:$I$136, 3, FALSE )","v":"混合物"},null,{"$f":"VLOOKUP(F164,工作表9!$G$1:$H$142, 2, FALSE )","v":0},0]
[null,null,null,null,null,null,{"$f":"VLOOKUP(F165,工作表9!$G$1:$I$136, 3, FALSE )","v":"混合物"},null,{"$f":"VLOOKUP(F165,工作表9!$G$1:$H$142, 2, FALSE )","v":0},0]
[null,null,null,null,null,null,{"$f":"VLOOKUP(F166,工作表9!$G$1:$I$136, 3, FALSE )","v":"混合物"},null,{"$f":"VLOOKUP(F166,工作表9!$G$1:$H$142, 2, FALSE )","v":0},0]
[null,null,null,null,null,null,{"$f":"VLOOKUP(F167,工作表9!$G$1:$I$136, 3, FALSE )","v":"混合物"},null,{"$f":"VLOOKUP(F167,工作表9!$G$1:$H$142, 2, FALSE )","v":0},0]
[null,null,null,null,null,null,{"$f":"VLOOKUP(F168,工作表9!$G$1:$I$136, 3, FALSE )","v":"混合物"},null,{"$f":"VLOOKUP(F168,工作表9!$G$1:$H$142, 2, FALSE )","v":0},0]
[null,null,null,null,null,null,{"$f":"VLOOKUP(F169,工作表9!$G$1:$I$136, 3, FALSE )","v":"混合物"},null,{"$f":"VLOOKUP(F169,工作表9!$G$1:$H$142, 2, FALSE )","v":0},0]
[null,null,null,null,null,null,{"$f":"VLOOKUP(F170,工作表9!$G$1:$I$136, 3, FALSE )","v":"混合物"},null,{"$f":"VLOOKUP(F170,工作表9!$G$1:$H$142, 2, FALSE )","v":0},0]
[null,null,null,null,null,null,{"$f":"VLOOKUP(F171,工作表9!$G$1:$I$136, 3, FALSE )","v":"混合物"},null,{"$f":"VLOOKUP(F171,工作表9!$G$1:$H$142, 2, FALSE )","v":0},0]
[null,null,null,null,null,null,{"$f":"VLOOKUP(F172,工作表9!$G$1:$I$136, 3, FALSE )","v":"混合物"},null,{"$f":"VLOOKUP(F172,工作表9!$G$1:$H$142, 2, FALSE )","v":0},0]
[null,null,null,null,null,null,{"$f":"VLOOKUP(F173,工作表9!$G$1:$I$136, 3, FALSE )","v":"混合物"},null,{"$f":"VLOOKUP(F173,工作表9!$G$1:$H$142, 2, FALSE )","v":0},0]
[null,null,null,null,null,null,{"$f":"VLOOKUP(F174,工作表9!$G$1:$I$136, 3, FALSE )","v":"混合物"},null,{"$f":"VLOOKUP(F174,工作表9!$G$1:$H$142, 2, FALSE )","v":0},0]
[null,null,null,null,null,null,{"$f":"VLOOKUP(F175,工作表9!$G$1:$I$136, 3, FALSE )","v":"混合物"},null,{"$f":"VLOOKUP(F175,工作表9!$G$1:$H$142, 2, FALSE )","v":0},0]
[null,null,null,null,null,null,{"$f":"VLOOKUP(F176,工作表9!$G$1:$I$136, 3, FALSE )","v":"混合物"},null,{"$f":"VLOOKUP(F176,工作表9!$G$1:$H$142, 2, FALSE )","v":0},0]
[null,null,null,null,null,null,{"$f":"VLOOKUP(F177,工作表9!$G$1:$I$136, 3, FALSE )","v":"混合物"},null,{"$f":"VLOOKUP(F177,工作表9!$G$1:$H$142, 2, FALSE )","v":0},0]
[null,null,null,null,null,null,{"$f":"VLOOKUP(F178,工作表9!$G$1:$I$136, 3, FALSE )","v":"混合物"},null,{"$f":"VLOOKUP(F178,工作表9!$G$1:$H$142, 2, FALSE )","v":0},0]
[null,null,null,null,null,null,{"$f":"VLOOKUP(F179,工作表9!$G$1:$I$136, 3, FALSE )","v":"混合物"},null,{"$f":"VLOOKUP(F179,工作表9!$G$1:$H$142, 2, FALSE )","v":0},0]
[null,null,null,null,null,null,{"$f":"VLOOKUP(F180,工作表9!$G$1:$I$136, 3, FALSE )","v":"混合物"},null,{"$f":"VLOOKUP(F180,工作表9!$G$1:$H$142, 2, FALSE )","v":0},0]
[null,null,null,null,null,null,{"$f":"VLOOKUP(F181,工作表9!$G$1:$I$136, 3, FALSE )","v":"混合物"},null,{"$f":"VLOOKUP(F181,工作表9!$G$1:$H$142, 2, FALSE )","v":0},0]
[null,null,null,null,null,null,{"$f":"VLOOKUP(F182,工作表9!$G$1:$I$136, 3, FALSE )","v":"混合物"},null,{"$f":"VLOOKUP(F182,工作表9!$G$1:$H$142, 2, FALSE )","v":0},0]
[null,null,null,null,null,null,{"$f":"VLOOKUP(F183,工作表9!$G$1:$I$136, 3, FALSE )","v":"混合物"},null,{"$f":"VLOOKUP(F183,工作表9!$G$1:$H$142, 2, FALSE )","v":0},0]
[null,null,null,null,null,null,{"$f":"VLOOKUP(F184,工作表9!$G$1:$I$136, 3, FALSE )","v":"混合物"},null,{"$f":"VLOOKUP(F184,工作表9!$G$1:$H$142, 2, FALSE )","v":0},0]
[null,null,null,null,null,null,{"$f":"VLOOKUP(F185,工作表9!$G$1:$I$136, 3, FALSE )","v":"混合物"},null,{"$f":"VLOOKUP(F185,工作表9!$G$1:$H$142, 2, FALSE )","v":0},0]
[null,null,null,null,null,null,{"$f":"VLOOKUP(F186,工作表9!$G$1:$I$136, 3, FALSE )","v":"混合物"},null,{"$f":"VLOOKUP(F186,工作表9!$G$1:$H$142, 2, FALSE )","v":0},0]
[null,null,null,null,null,null,{"$f":"VLOOKUP(F187,工作表9!$G$1:$I$136, 3, FALSE )","v":"混合物"},null,{"$f":"VLOOKUP(F187,工作表9!$G$1:$H$142, 2, FALSE )","v":0},0]
[null,null,null,null,null,null,{"$f":"VLOOKUP(F188,工作表9!$G$1:$I$136, 3, FALSE )","v":"混合物"},null,{"$f":"VLOOKUP(F188,工作表9!$G$1:$H$142, 2, FALSE )","v":0},0]
[null,null,null,null,null,null,{"$f":"VLOOKUP(F189,工作表9!$G$1:$I$136, 3, FALSE )","v":"混合物"},null,{"$f":"VLOOKUP(F189,工作表9!$G$1:$H$142, 2, FALSE )","v":0},0]
[null,null,null,null,null,null,{"$f":"VLOOKUP(F190,工作表9!$G$1:$I$136, 3, FALSE )","v":"混合物"},null,{"$f":"VLOOKUP(F190,工作表9!$G$1:$H$142, 2, FALSE )","v":0},0]
[null,null,null,null,null,null,{"$f":"VLOOKUP(F191,工作表9!$G$1:$I$136, 3, FALSE )","v":"混合物"},null,{"$f":"VLOOKUP(F191,工作表9!$G$1:$H$142, 2, FALSE )","v":0},0]
[null,null,null,null,null,null,{"$f":"VLOOKUP(F192,工作表9!$G$1:$I$136, 3, FALSE )","v":"混合物"},null,{"$f":"VLOOKUP(F192,工作表9!$G$1:$H$142, 2, FALSE )","v":0},0]
[null,null,null,null,null,null,{"$f":"VLOOKUP(F193,工作表9!$G$1:$I$136, 3, FALSE )","v":"混合物"},null,{"$f":"VLOOKUP(F193,工作表9!$G$1:$H$142, 2, FALSE )","v":0},0]
[null,null,null,null,null,null,{"$f":"VLOOKUP(F194,工作表9!$G$1:$I$136, 3, FALSE )","v":"混合物"},null,{"$f":"VLOOKUP(F194,工作表9!$G$1:$H$142, 2, FALSE )","v":0},0]
[null,null,null,null,null,null,{"$f":"VLOOKUP(F195,工作表9!$G$1:$I$136, 3, FALSE )","v":"混合物"},null,{"$f":"VLOOKUP(F195,工作表9!$G$1:$H$142, 2, FALSE )","v":0},0]
[null,null,null,null,null,null,{"$f":"VLOOKUP(F196,工作表9!$G$1:$I$136, 3, FALSE )","v":"混合物"},null,{"$f":"VLOOKUP(F196,工作表9!$G$1:$H$142, 2, FALSE )","v":0},0]
[null,null,null,null,null,null,{"$f":"VLOOKUP(F197,工作表9!$G$1:$I$136, 3, FALSE )","v":"混合物"},null,{"$f":"VLOOKUP(F197,工作表9!$G$1:$H$142, 2, FALSE )","v":0},0]
[null,null,null,null,null,null,{"$f":"VLOOKUP(F198,工作表9!$G$1:$I$136, 3, FALSE )","v":"混合物"},null,{"$f":"VLOOKUP(F198,工作表9!$G$1:$H$142, 2, FALSE )","v":0},{"$f":"H198*I198","v":0}]
[null,null,null,null,null,null,{"$f":"VLOOKUP(F199,工作表9!$G$1:$I$136, 3, FALSE )","v":"混合物"},null,{"$f":"VLOOKUP(F199,工作表9!$G$1:$H$142, 2, FALSE )","v":0},0]
[null,null,null,null,null,null,{"$f":"VLOOKUP(F200,工作表9!$G$1:$I$136, 3, FALSE )","v":"混合物"},null,{"$f":"VLOOKUP(F200,工作表9!$G$1:$H$142, 2, FALSE )","v":0},0]
[null,null,null,null,null,null,{"$f":"VLOOKUP(F201,工作表9!$G$1:$I$136, 3, FALSE )","v":"混合物"},null,{"$f":"VLOOKUP(F201,工作表9!$G$1:$H$142, 2, FALSE )","v":0},0]
[null,null,null,null,null,null,{"$f":"VLOOKUP(F202,工作表9!$G$1:$I$136, 3, FALSE )","v":"混合物"},null,{"$f":"VLOOKUP(F202,工作表9!$G$1:$H$142, 2, FALSE )","v":0},0]
[null,null,null,null,null,null,{"$f":"VLOOKUP(F203,工作表9!$G$1:$I$136, 3, FALSE )","v":"混合物"},null,{"$f":"VLOOKUP(F203,工作表9!$G$1:$H$142, 2, FALSE )","v":0},0]
[null,null,null,null,null,null,{"$f":"VLOOKUP(F204,工作表9!$G$1:$I$136, 3, FALSE )","v":"混合物"},null,{"$f":"VLOOKUP(F204,工作表9!$G$1:$H$142, 2, FALSE )","v":0},0]
[null,null,null,null,null,null,{"$f":"VLOOKUP(F205,工作表9!$G$1:$I$136, 3, FALSE )","v":"混合物"},null,{"$f":"VLOOKUP(F205,工作表9!$G$1:$H$142, 2, FALSE )","v":0},0]
[null,null,null,null,null,null,{"$f":"VLOOKUP(F206,工作表9!$G$1:$I$136, 3, FALSE )","v":"混合物"},null,{"$f":"VLOOKUP(F206,工作表9!$G$1:$H$142, 2, FALSE )","v":0},0]
[null,null,null,null,null,null,{"$f":"VLOOKUP(F207,工作表9!$G$1:$I$136, 3, FALSE )","v":"混合物"},null,{"$f":"VLOOKUP(F207,工作表9!$G$1:$H$142, 2, FALSE )","v":0},0]
[null,null,null,null,null,null,{"$f":"VLOOKUP(F208,工作表9!$G$1:$I$136, 3, FALSE )","v":"混合物"},null,{"$f":"VLOOKUP(F208,工作表9!$G$1:$H$142, 2, FALSE )","v":0},0]
[null,null,null,null,null,null,{"$f":"VLOOKUP(F209,工作表9!$G$1:$I$136, 3, FALSE )","v":"混合物"},null,{"$f":"VLOOKUP(F209,工作表9!$G$1:$H$142, 2, FALSE )","v":0},0]
[null,null,null,null,null,null,{"$f":"VLOOKUP(F210,工作表9!$G$1:$I$136, 3, FALSE )","v":"混合物"},null,{"$f":"VLOOKUP(F210,工作表9!$G$1:$H$142, 2, FALSE )","v":0},0]
[null,null,null,null,null,null,{"$f":"VLOOKUP(F211,工作表9!$G$1:$I$136, 3, FALSE )","v":"混合物"},null,{"$f":"VLOOKUP(F211,工作表9!$G$1:$H$142, 2, FALSE )","v":0},0]
[null,null,null,null,null,null,{"$f":"VLOOKUP(F212,工作表9!$G$1:$I$136, 3, FALSE )","v":"混合物"},null,{"$f":"VLOOKUP(F212,工作表9!$G$1:$H$142, 2, FALSE )","v":0},0]
[null,null,null,null,null,null,{"$f":"VLOOKUP(F213,工作表9!$G$1:$I$136, 3, FALSE )","v":"混合物"},null,{"$f":"VLOOKUP(F213,工作表9!$G$1:$H$142, 2, FALSE )","v":0},0]
[null,null,null,null,null,null,{"$f":"VLOOKUP(F214,工作表9!$G$1:$I$136, 3, FALSE )","v":"混合物"},null,{"$f":"VLOOKUP(F214,工作表9!$G$1:$H$142, 2, FALSE )","v":0},0]
[null,null,null,null,null,null,{"$f":"VLOOKUP(F215,工作表9!$G$1:$I$136, 3, FALSE )","v":"混合物"},null,{"$f":"VLOOKUP(F215,工作表9!$G$1:$H$142, 2, FALSE )","v":0},0]
[null,null,null,null,null,null,{"$f":"VLOOKUP(F216,工作表9!$G$1:$I$136, 3, FALSE )","v":"混合物"},null,{"$f":"VLOOKUP(F216,工作表9!$G$1:$H$142, 2, FALSE )","v":0},0]
[null,null,null,null,null,null,{"$f":"VLOOKUP(F217,工作表9!$G$1:$I$136, 3, FALSE )","v":"混合物"},null,{"$f":"VLOOKUP(F217,工作表9!$G$1:$H$142, 2, FALSE )","v":0},0]
[null,null,null,null,null,null,{"$f":"VLOOKUP(F218,工作表9!$G$1:$I$136, 3, FALSE )","v":"混合物"},null,{"$f":"VLOOKUP(F218,工作表9!$G$1:$H$142, 2, FALSE )","v":0},0]
[null,null,null,null,null,null,{"$f":"VLOOKUP(F219,工作表9!$G$1:$I$136, 3, FALSE )","v":"混合物"},null,{"$f":"VLOOKUP(F219,工作表9!$G$1:$H$142, 2, FALSE )","v":0},0]
[null,null,null,null,null,null,{"$f":"VLOOKUP(F220,工作表9!$G$1:$I$136, 3, FALSE )","v":"混合物"},null,{"$f":"VLOOKUP(F220,工作表9!$G$1:$H$142, 2, FALSE )","v":0},0]
[null,null,null,null,null,null,{"$f":"VLOOKUP(F221,工作表9!$G$1:$I$136, 3, FALSE )","v":"混合物"},null,{"$f":"VLOOKUP(F221,工作表9!$G$1:$H$142, 2, FALSE )","v":0},0]
[null,null,null,null,null,null,{"$f":"VLOOKUP(F222,工作表9!$G$1:$I$136, 3, FALSE )","v":"混合物"},null,{"$f":"VLOOKUP(F222,工作表9!$G$1:$H$142, 2, FALSE )","v":0},0]
[null,null,null,null,null,null,{"$f":"VLOOKUP(F223,工作表9!$G$1:$I$136, 3, FALSE )","v":"混合物"},null,{"$f":"VLOOKUP(F223,工作表9!$G$1:$H$142, 2, FALSE )","v":0},0]
[null,null,null,null,null,null,{"$f":"VLOOKUP(F224,工作表9!$G$1:$I$136, 3, FALSE )","v":"混合物"},null,{"$f":"VLOOKUP(F224,工作表9!$G$1:$H$142, 2, FALSE )","v":0},0]
[null,null,null,null,null,null,{"$f":"VLOOKUP(F225,工作表9!$G$1:$I$136, 3, FALSE )","v":"混合物"},null,{"$f":"VLOOKUP(F225,工作表9!$G$1:$H$142, 2, FALSE )","v":0},0]
[null,null,null,null,null,null,{"$f":"VLOOKUP(F226,工作表9!$G$1:$I$136, 3, FALSE )","v":"混合物"},null,{"$f":"VLOOKUP(F226,工作表9!$G$1:$H$142, 2, FALSE )","v":0},0]
[null,null,null,null,null,null,{"$f":"VLOOKUP(F227,工作表9!$G$1:$I$136, 3, FALSE )","v":"混合物"},null,{"$f":"VLOOKUP(F227,工作表9!$G$1:$H$142, 2, FALSE )","v":0},0]
[null,null,null,null,null,null,{"$f":"VLOOKUP(F228,工作表9!$G$1:$I$136, 3, FALSE )","v":"混合物"},null,{"$f":"VLOOKUP(F228,工作表9!$G$1:$H$142, 2, FALSE )","v":0},0]
[null,null,null,null,null,null,{"$f":"VLOOKUP(F229,工作表9!$G$1:$I$136, 3, FALSE )","v":"混合物"},null,{"$f":"VLOOKUP(F229,工作表9!$G$1:$H$142, 2, FALSE )","v":0},0]
[null,null,null,null,null,null,{"$f":"VLOOKUP(F230,工作表9!$G$1:$I$136, 3, FALSE )","v":"混合物"},null,{"$f":"VLOOKUP(F230,工作表9!$G$1:$H$142, 2, FALSE )","v":0},0]
[null,null,null,null,null,null,{"$f":"VLOOKUP(F231,工作表9!$G$1:$I$136, 3, FALSE )","v":"混合物"},null,{"$f":"VLOOKUP(F231,工作表9!$G$1:$H$142, 2, FALSE )","v":0},0]
[null,null,null,null,null,null,{"$f":"VLOOKUP(F232,工作表9!$G$1:$I$136, 3, FALSE )","v":"混合物"},null,{"$f":"VLOOKUP(F232,工作表9!$G$1:$H$142, 2, FALSE )","v":0},0]
[null,null,null,null,null,null,{"$f":"VLOOKUP(F233,工作表9!$G$1:$I$136, 3, FALSE )","v":"混合物"},null,{"$f":"VLOOKUP(F233,工作表9!$G$1:$H$142, 2, FALSE )","v":0},0]
[null,null,null,null,null,null,{"$f":"VLOOKUP(F234,工作表9!$G$1:$I$136, 3, FALSE )","v":"混合物"},null,{"$f":"VLOOKUP(F234,工作表9!$G$1:$H$142, 2, FALSE )","v":0},0]
[null,null,null,null,null,null,{"$f":"VLOOKUP(F235,工作表9!$G$1:$I$136, 3, FALSE )","v":"混合物"},null,{"$f":"VLOOKUP(F235,工作表9!$G$1:$H$142, 2, FALSE )","v":0},0]
[null,null,null,null,null,null,{"$f":"VLOOKUP(F236,工作表9!$G$1:$I$136, 3, FALSE )","v":"混合物"},null,{"$f":"VLOOKUP(F236,工作表9!$G$1:$H$142, 2, FALSE )","v":0},0]
[null,null,null,null,null,null,{"$f":"VLOOKUP(F237,工作表9!$G$1:$I$136, 3, FALSE )","v":"混合物"},null,{"$f":"VLOOKUP(F237,工作表9!$G$1:$H$142, 2, FALSE )","v":0},0]
[null,null,null,null,null,null,{"$f":"VLOOKUP(F238,工作表9!$G$1:$I$136, 3, FALSE )","v":"混合物"},null,{"$f":"VLOOKUP(F238,工作表9!$G$1:$H$142, 2, FALSE )","v":0},0]
[null,null,null,null,null,null,{"$f":"VLOOKUP(F239,工作表9!$G$1:$I$136, 3, FALSE )","v":"混合物"},null,{"$f":"VLOOKUP(F239,工作表9!$G$1:$H$142, 2, FALSE )","v":0},0]
[null,null,null,null,null,null,{"$f":"VLOOKUP(F240,工作表9!$G$1:$I$136, 3, FALSE )","v":"混合物"},null,{"$f":"VLOOKUP(F240,工作表9!$G$1:$H$142, 2, FALSE )","v":0},0]
[null,null,null,null,null,null,{"$f":"VLOOKUP(F241,工作表9!$G$1:$I$136, 3, FALSE )","v":"混合物"},null,{"$f":"VLOOKUP(F241,工作表9!$G$1:$H$142, 2, FALSE )","v":0},0]
[null,null,null,null,null,null,{"$f":"VLOOKUP(F242,工作表9!$G$1:$I$136, 3, FALSE )","v":"混合物"},null,{"$f":"VLOOKUP(F242,工作表9!$G$1:$H$142, 2, FALSE )","v":0},0]
[null,null,null,null,null,null,{"$f":"VLOOKUP(F243,工作表9!$G$1:$I$136, 3, FALSE )","v":"混合物"},null,{"$f":"VLOOKUP(F243,工作表9!$G$1:$H$142, 2, FALSE )","v":0},0]
[null,null,null,null,null,null,{"$f":"VLOOKUP(F244,工作表9!$G$1:$I$136, 3, FALSE )","v":"混合物"},null,{"$f":"VLOOKUP(F244,工作表9!$G$1:$H$142, 2, FALSE )","v":0},0]
[null,null,null,null,null,null,{"$f":"VLOOKUP(F245,工作表9!$G$1:$I$136, 3, FALSE )","v":"混合物"},null,{"$f":"VLOOKUP(F245,工作表9!$G$1:$H$142, 2, FALSE )","v":0},0]
[null,null,null,null,null,null,{"$f":"VLOOKUP(F246,工作表9!$G$1:$I$136, 3, FALSE )","v":"混合物"},null,{"$f":"VLOOKUP(F246,工作表9!$G$1:$H$142, 2, FALSE )","v":0},0]
[null,null,null,null,null,null,{"$f":"VLOOKUP(F247,工作表9!$G$1:$I$136, 3, FALSE )","v":"混合物"},null,{"$f":"VLOOKUP(F247,工作表9!$G$1:$H$142, 2, FALSE )","v":0},0]
[null,null,null,null,null,null,{"$f":"VLOOKUP(F248,工作表9!$G$1:$I$136, 3, FALSE )","v":"混合物"},null,{"$f":"VLOOKUP(F248,工作表9!$G$1:$H$142, 2, FALSE )","v":0},0]
[null,null,null,null,null,null,{"$f":"VLOOKUP(F249,工作表9!$G$1:$I$136, 3, FALSE )","v":"混合物"},null,{"$f":"VLOOKUP(F249,工作表9!$G$1:$H$142, 2, FALSE )","v":0},0]
[null,null,null,null,null,null,{"$f":"VLOOKUP(F250,工作表9!$G$1:$I$136, 3, FALSE )","v":"混合物"},null,{"$f":"VLOOKUP(F250,工作表9!$G$1:$H$142, 2, FALSE )","v":0},0]
[null,null,null,null,null,null,{"$f":"VLOOKUP(F251,工作表9!$G$1:$I$136, 3, FALSE )","v":"混合物"},null,{"$f":"VLOOKUP(F251,工作表9!$G$1:$H$142, 2, FALSE )","v":0},0]
[null,null,null,null,null,null,{"$f":"VLOOKUP(F252,工作表9!$G$1:$I$136, 3, FALSE )","v":"混合物"},null,{"$f":"VLOOKUP(F252,工作表9!$G$1:$H$142, 2, FALSE )","v":0},0]
[null,null,null,null,null,null,{"$f":"VLOOKUP(F253,工作表9!$G$1:$I$136, 3, FALSE )","v":"混合物"},null,{"$f":"VLOOKUP(F253,工作表9!$G$1:$H$142, 2, FALSE )","v":0},0]
[null,null,null,null,null,null,{"$f":"VLOOKUP(F254,工作表9!$G$1:$I$136, 3, FALSE )","v":"混合物"},null,{"$f":"VLOOKUP(F254,工作表9!$G$1:$H$142, 2, FALSE )","v":0},0]
[null,null,null,null,null,null,{"$f":"VLOOKUP(F255,工作表9!$G$1:$I$136, 3, FALSE )","v":"混合物"},null,{"$f":"VLOOKUP(F255,工作表9!$G$1:$H$142, 2, FALSE )","v":0},0]
[null,null,null,null,null,null,{"$f":"VLOOKUP(F256,工作表9!$G$1:$I$136, 3, FALSE )","v":"混合物"},null,{"$f":"VLOOKUP(F256,工作表9!$G$1:$H$142, 2, FALSE )","v":0},0]
[null,null,null,null,null,null,{"$f":"VLOOKUP(F257,工作表9!$G$1:$I$136, 3, FALSE )","v":"混合物"},null,{"$f":"VLOOKUP(F257,工作表9!$G$1:$H$142, 2, FALSE )","v":0},0]
[null,null,null,null,null,null,{"$f":"VLOOKUP(F258,工作表9!$G$1:$I$136, 3, FALSE )","v":"混合物"},null,{"$f":"VLOOKUP(F258,工作表9!$G$1:$H$142, 2, FALSE )","v":0},0]
[null,null,null,null,null,null,{"$f":"VLOOKUP(F259,工作表9!$G$1:$I$136, 3, FALSE )","v":"混合物"},null,{"$f":"VLOOKUP(F259,工作表9!$G$1:$H$142, 2, FALSE )","v":0},0]
[null,null,null,null,null,null,{"$f":"VLOOKUP(F260,工作表9!$G$1:$I$136, 3, FALSE )","v":"混合物"},null,{"$f":"VLOOKUP(F260,工作表9!$G$1:$H$142, 2, FALSE )","v":0},0]
[null,null,null,null,null,null,{"$f":"VLOOKUP(F261,工作表9!$G$1:$I$136, 3, FALSE )","v":"混合物"},null,{"$f":"VLOOKUP(F261,工作表9!$G$1:$H$142, 2, FALSE )","v":0},0]
[null,null,null,null,null,null,{"$f":"VLOOKUP(F262,工作表9!$G$1:$I$136, 3, FALSE )","v":"混合物"},null,{"$f":"VLOOKUP(F262,工作表9!$G$1:$H$142, 2, FALSE )","v":0},{"$f":"H262*I262","v":0}]
[null,null,null,null,null,null,{"$f":"VLOOKUP(F263,工作表9!$G$1:$I$136, 3, FALSE )","v":"混合物"},null,{"$f":"VLOOKUP(F263,工作表9!$G$1:$H$142, 2, FALSE )","v":0},0]
[null,null,null,null,null,null,{"$f":"VLOOKUP(F264,工作表9!$G$1:$I$136, 3, FALSE )","v":"混合物"},null,{"$f":"VLOOKUP(F264,工作表9!$G$1:$H$142, 2, FALSE )","v":0},0]
[null,null,null,null,null,null,{"$f":"VLOOKUP(F265,工作表9!$G$1:$I$136, 3, FALSE )","v":"混合物"},null,{"$f":"VLOOKUP(F265,工作表9!$G$1:$H$142, 2, FALSE )","v":0},0]
[null,null,null,null,null,null,{"$f":"VLOOKUP(F266,工作表9!$G$1:$I$136, 3, FALSE )","v":"混合物"},null,{"$f":"VLOOKUP(F266,工作表9!$G$1:$H$142, 2, FALSE )","v":0},0]
[null,null,null,null,null,null,{"$f":"VLOOKUP(F267,工作表9!$G$1:$I$136, 3, FALSE )","v":"混合物"},null,{"$f":"VLOOKUP(F267,工作表9!$G$1:$H$142, 2, FALSE )","v":0},0]
[null,null,null,null,null,null,{"$f":"VLOOKUP(F268,工作表9!$G$1:$I$136, 3, FALSE )","v":"混合物"},null,{"$f":"VLOOKUP(F268,工作表9!$G$1:$H$142, 2, FALSE )","v":0},0]
[null,null,null,null,null,null,{"$f":"VLOOKUP(F269,工作表9!$G$1:$I$136, 3, FALSE )","v":"混合物"},null,{"$f":"VLOOKUP(F269,工作表9!$G$1:$H$142, 2, FALSE )","v":0},0]
[null,null,null,null,null,null,{"$f":"VLOOKUP(F270,工作表9!$G$1:$I$136, 3, FALSE )","v":"混合物"},null,{"$f":"VLOOKUP(F270,工作表9!$G$1:$H$142, 2, FALSE )","v":0},0]
[null,null,null,null,null,null,{"$f":"VLOOKUP(F271,工作表9!$G$1:$I$136, 3, FALSE )","v":"混合物"},null,{"$f":"VLOOKUP(F271,工作表9!$G$1:$H$142, 2, FALSE )","v":0},0]
[null,null,null,null,null,null,{"$f":"VLOOKUP(F272,工作表9!$G$1:$I$136, 3, FALSE )","v":"混合物"},null,{"$f":"VLOOKUP(F272,工作表9!$G$1:$H$142, 2, FALSE )","v":0},0]
[null,null,null,null,null,null,{"$f":"VLOOKUP(F273,工作表9!$G$1:$I$136, 3, FALSE )","v":"混合物"},null,{"$f":"VLOOKUP(F273,工作表9!$G$1:$H$142, 2, FALSE )","v":0},0]
[null,null,null,null,null,null,{"$f":"VLOOKUP(F274,工作表9!$G$1:$I$136, 3, FALSE )","v":"混合物"},null,{"$f":"VLOOKUP(F274,工作表9!$G$1:$H$142, 2, FALSE )","v":0},0]
[null,null,null,null,null,null,{"$f":"VLOOKUP(F275,工作表9!$G$1:$I$136, 3, FALSE )","v":"混合物"},null,{"$f":"VLOOKUP(F275,工作表9!$G$1:$H$142, 2, FALSE )","v":0},0]
[null,null,null,null,null,null,{"$f":"VLOOKUP(F276,工作表9!$G$1:$I$136, 3, FALSE )","v":"混合物"},null,{"$f":"VLOOKUP(F276,工作表9!$G$1:$H$142, 2, FALSE )","v":0},0]
[null,null,null,null,null,null,{"$f":"VLOOKUP(F277,工作表9!$G$1:$I$136, 3, FALSE )","v":"混合物"},null,{"$f":"VLOOKUP(F277,工作表9!$G$1:$H$142, 2, FALSE )","v":0},0]
[null,null,null,null,null,null,{"$f":"VLOOKUP(F278,工作表9!$G$1:$I$136, 3, FALSE )","v":"混合物"},null,{"$f":"VLOOKUP(F278,工作表9!$G$1:$H$142, 2, FALSE )","v":0},0]
[null,null,null,null,null,null,{"$f":"VLOOKUP(F279,工作表9!$G$1:$I$136, 3, FALSE )","v":"混合物"},null,{"$f":"VLOOKUP(F279,工作表9!$G$1:$H$142, 2, FALSE )","v":0},0]
[null,null,null,null,null,null,{"$f":"VLOOKUP(F280,工作表9!$G$1:$I$136, 3, FALSE )","v":"混合物"},null,{"$f":"VLOOKUP(F280,工作表9!$G$1:$H$142, 2, FALSE )","v":0},0]
[null,null,null,null,null,null,{"$f":"VLOOKUP(F281,工作表9!$G$1:$I$136, 3, FALSE )","v":"混合物"},null,{"$f":"VLOOKUP(F281,工作表9!$G$1:$H$142, 2, FALSE )","v":0},0]
[null,null,null,null,null,null,{"$f":"VLOOKUP(F282,工作表9!$G$1:$I$136, 3, FALSE )","v":"混合物"},null,{"$f":"VLOOKUP(F282,工作表9!$G$1:$H$142, 2, FALSE )","v":0},0]
[null,null,null,null,null,null,{"$f":"VLOOKUP(F283,工作表9!$G$1:$I$136, 3, FALSE )","v":"混合物"},null,{"$f":"VLOOKUP(F283,工作表9!$G$1:$H$142, 2, FALSE )","v":0},0]
[null,null,null,null,null,null,{"$f":"VLOOKUP(F284,工作表9!$G$1:$I$136, 3, FALSE )","v":"混合物"},null,{"$f":"VLOOKUP(F284,工作表9!$G$1:$H$142, 2, FALSE )","v":0},0]
[null,null,null,null,null,null,{"$f":"VLOOKUP(F285,工作表9!$G$1:$I$136, 3, FALSE )","v":"混合物"},null,{"$f":"VLOOKUP(F285,工作表9!$G$1:$H$142, 2, FALSE )","v":0},0]
[null,null,null,null,null,null,{"$f":"VLOOKUP(F286,工作表9!$G$1:$I$136, 3, FALSE )","v":"混合物"},null,{"$f":"VLOOKUP(F286,工作表9!$G$1:$H$142, 2, FALSE )","v":0},0]
[null,null,null,null,null,null,{"$f":"VLOOKUP(F287,工作表9!$G$1:$I$136, 3, FALSE )","v":"混合物"},null,{"$f":"VLOOKUP(F287,工作表9!$G$1:$H$142, 2, FALSE )","v":0},0]
[null,null,null,null,null,null,{"$f":"VLOOKUP(F288,工作表9!$G$1:$I$136, 3, FALSE )","v":"混合物"},null,{"$f":"VLOOKUP(F288,工作表9!$G$1:$H$142, 2, FALSE )","v":0},0]
[null,null,null,null,null,null,{"$f":"VLOOKUP(F289,工作表9!$G$1:$I$136, 3, FALSE )","v":"混合物"},null,{"$f":"VLOOKUP(F289,工作表9!$G$1:$H$142, 2, FALSE )","v":0},0]
[null,null,null,null,null,null,{"$f":"VLOOKUP(F290,工作表9!$G$1:$I$136, 3, FALSE )","v":"混合物"},null,{"$f":"VLOOKUP(F290,工作表9!$G$1:$H$142, 2, FALSE )","v":0},0]
[null,null,null,null,null,null,{"$f":"VLOOKUP(F291,工作表9!$G$1:$I$136, 3, FALSE )","v":"混合物"},null,{"$f":"VLOOKUP(F291,工作表9!$G$1:$H$142, 2, FALSE )","v":0},0]
[null,null,null,null,null,null,{"$f":"VLOOKUP(F292,工作表9!$G$1:$I$136, 3, FALSE )","v":"混合物"},null,{"$f":"VLOOKUP(F292,工作表9!$G$1:$H$142, 2, FALSE )","v":0},0]
[null,null,null,null,null,null,{"$f":"VLOOKUP(F293,工作表9!$G$1:$I$136, 3, FALSE )","v":"混合物"},null,{"$f":"VLOOKUP(F293,工作表9!$G$1:$H$142, 2, FALSE )","v":0},0]
[null,null,null,null,null,null,{"$f":"VLOOKUP(F294,工作表9!$G$1:$I$136, 3, FALSE )","v":"混合物"},null,{"$f":"VLOOKUP(F294,工作表9!$G$1:$H$142, 2, FALSE )","v":0},0]
[null,null,null,null,null,null,{"$f":"VLOOKUP(F295,工作表9!$G$1:$I$136, 3, FALSE )","v":"混合物"},null,{"$f":"VLOOKUP(F295,工作表9!$G$1:$H$142, 2, FALSE )","v":0},0]
[null,null,null,null,null,null,{"$f":"VLOOKUP(F296,工作表9!$G$1:$I$136, 3, FALSE )","v":"混合物"},null,{"$f":"VLOOKUP(F296,工作表9!$G$1:$H$142, 2, FALSE )","v":0},0]
[null,null,null,null,null,null,{"$f":"VLOOKUP(F297,工作表9!$G$1:$I$136, 3, FALSE )","v":"混合物"},null,{"$f":"VLOOKUP(F297,工作表9!$G$1:$H$142, 2, FALSE )","v":0},0]
[null,null,null,null,null,null,{"$f":"VLOOKUP(F298,工作表9!$G$1:$I$136, 3, FALSE )","v":"混合物"},null,{"$f":"VLOOKUP(F298,工作表9!$G$1:$H$142, 2, FALSE )","v":0},0]
[null,null,null,null,null,null,{"$f":"VLOOKUP(F299,工作表9!$G$1:$I$136, 3, FALSE )","v":"混合物"},null,{"$f":"VLOOKUP(F299,工作表9!$G$1:$H$142, 2, FALSE )","v":0},0]
[null,null,null,null,null,null,{"$f":"VLOOKUP(F300,工作表9!$G$1:$I$136, 3, FALSE )","v":"混合物"},null,{"$f":"VLOOKUP(F300,工作表9!$G$1:$H$142, 2, FALSE )","v":0},0]
[null,null,null,null,null,null,{"$f":"VLOOKUP(F301,工作表9!$G$1:$I$136, 3, FALSE )","v":"混合物"},null,{"$f":"VLOOKUP(F301,工作表9!$G$1:$H$142, 2, FALSE )","v":0},0]
[null,null,null,null,null,null,{"$f":"VLOOKUP(F302,工作表9!$G$1:$I$136, 3, FALSE )","v":"混合物"},null,{"$f":"VLOOKUP(F302,工作表9!$G$1:$H$142, 2, FALSE )","v":0},0]
[null,null,null,null,null,null,{"$f":"VLOOKUP(F303,工作表9!$G$1:$I$136, 3, FALSE )","v":"混合物"},null,{"$f":"VLOOKUP(F303,工作表9!$G$1:$H$142, 2, FALSE )","v":0},0]
[null,null,null,null,null,null,{"$f":"VLOOKUP(F304,工作表9!$G$1:$I$136, 3, FALSE )","v":"混合物"},null,{"$f":"VLOOKUP(F304,工作表9!$G$1:$H$142, 2, FALSE )","v":0},0]
[null,null,null,null,null,null,{"$f":"VLOOKUP(F305,工作表9!$G$1:$I$136, 3, FALSE )","v":"混合物"},null,{"$f":"VLOOKUP(F305,工作表9!$G$1:$H$142, 2, FALSE )","v":0},0]
[null,null,null,null,null,null,{"$f":"VLOOKUP(F306,工作表9!$G$1:$I$136, 3, FALSE )","v":"混合物"},null,{"$f":"VLOOKUP(F306,工作表9!$G$1:$H$142, 2, FALSE )","v":0},0]
[null,null,null,null,null,null,{"$f":"VLOOKUP(F307,工作表9!$G$1:$I$136, 3, FALSE )","v":"混合物"},null,{"$f":"VLOOKUP(F307,工作表9!$G$1:$H$142, 2, FALSE )","v":0},0]
[null,null,null,null,null,null,{"$f":"VLOOKUP(F308,工作表9!$G$1:$I$136, 3, FALSE )","v":"混合物"},null,{"$f":"VLOOKUP(F308,工作表9!$G$1:$H$142, 2, FALSE )","v":0},0]
[null,null,null,null,null,null,{"$f":"VLOOKUP(F309,工作表9!$G$1:$I$136, 3, FALSE )","v":"混合物"},null,{"$f":"VLOOKUP(F309,工作表9!$G$1:$H$142, 2, FALSE )","v":0},0]
[null,null,null,null,null,null,{"$f":"VLOOKUP(F310,工作表9!$G$1:$I$136, 3, FALSE )","v":"混合物"},null,{"$f":"VLOOKUP(F310,工作表9!$G$1:$H$142, 2, FALSE )","v":0},0]
[null,null,null,null,null,null,{"$f":"VLOOKUP(F311,工作表9!$G$1:$I$136, 3, FALSE )","v":"混合物"},null,{"$f":"VLOOKUP(F311,工作表9!$G$1:$H$142, 2, FALSE )","v":0},0]
[null,null,null,null,null,null,{"$f":"VLOOKUP(F312,工作表9!$G$1:$I$136, 3, FALSE )","v":"混合物"},null,{"$f":"VLOOKUP(F312,工作表9!$G$1:$H$142, 2, FALSE )","v":0},0]
[null,null,null,null,null,null,{"$f":"VLOOKUP(F313,工作表9!$G$1:$I$136, 3, FALSE )","v":"混合物"},null,{"$f":"VLOOKUP(F313,工作表9!$G$1:$H$142, 2, FALSE )","v":0},0]
[null,null,null,null,null,null,{"$f":"VLOOKUP(F314,工作表9!$G$1:$I$136, 3, FALSE )","v":"混合物"},null,{"$f":"VLOOKUP(F314,工作表9!$G$1:$H$142, 2, FALSE )","v":0},0]
[null,null,null,null,null,null,{"$f":"VLOOKUP(F315,工作表9!$G$1:$I$136, 3, FALSE )","v":"混合物"},null,{"$f":"VLOOKUP(F315,工作表9!$G$1:$H$142, 2, FALSE )","v":0},0]
[null,null,null,null,null,null,{"$f":"VLOOKUP(F316,工作表9!$G$1:$I$136, 3, FALSE )","v":"混合物"},null,{"$f":"VLOOKUP(F316,工作表9!$G$1:$H$142, 2, FALSE )","v":0},0]
[null,null,null,null,null,null,{"$f":"VLOOKUP(F317,工作表9!$G$1:$I$136, 3, FALSE )","v":"混合物"},null,{"$f":"VLOOKUP(F317,工作表9!$G$1:$H$142, 2, FALSE )","v":0},0]
[null,null,null,null,null,null,{"$f":"VLOOKUP(F318,工作表9!$G$1:$I$136, 3, FALSE )","v":"混合物"},null,{"$f":"VLOOKUP(F318,工作表9!$G$1:$H$142, 2, FALSE )","v":0},0]
[null,null,null,null,null,null,{"$f":"VLOOKUP(F319,工作表9!$G$1:$I$136, 3, FALSE )","v":"混合物"},null,{"$f":"VLOOKUP(F319,工作表9!$G$1:$H$142, 2, FALSE )","v":0},0]
[null,null,null,null,null,null,{"$f":"VLOOKUP(F320,工作表9!$G$1:$I$136, 3, FALSE )","v":"混合物"},null,{"$f":"VLOOKUP(F320,工作表9!$G$1:$H$142, 2, FALSE )","v":0},0]
[null,null,null,null,null,null,{"$f":"VLOOKUP(F321,工作表9!$G$1:$I$136, 3, FALSE )","v":"混合物"},null,{"$f":"VLOOKUP(F321,工作表9!$G$1:$H$142, 2, FALSE )","v":0},0]
[null,null,null,null,null,null,{"$f":"VLOOKUP(F322,工作表9!$G$1:$I$136, 3, FALSE )","v":"混合物"},null,{"$f":"VLOOKUP(F322,工作表9!$G$1:$H$142, 2, FALSE )","v":0},0]
[null,null,null,null,null,null,{"$f":"VLOOKUP(F323,工作表9!$G$1:$I$136, 3, FALSE )","v":"混合物"},null,{"$f":"VLOOKUP(F323,工作表9!$G$1:$H$142, 2, FALSE )","v":0},0]
[null,null,null,null,null,null,{"$f":"VLOOKUP(F324,工作表9!$G$1:$I$136, 3, FALSE )","v":"混合物"},null,{"$f":"VLOOKUP(F324,工作表9!$G$1:$H$142, 2, FALSE )","v":0},0]
[null,null,null,null,null,null,{"$f":"VLOOKUP(F325,工作表9!$G$1:$I$136, 3, FALSE )","v":"混合物"},null,{"$f":"VLOOKUP(F325,工作表9!$G$1:$H$142, 2, FALSE )","v":0},0]
[null,null,null,null,null,null,{"$f":"VLOOKUP(F326,工作表9!$G$1:$I$136, 3, FALSE )","v":"混合物"},null,{"$f":"VLOOKUP(F326,工作表9!$G$1:$H$142, 2, FALSE )","v":0},{"$f":"H326*I326","v":0}]
[null,null,null,null,null,null,{"$f":"VLOOKUP(F327,工作表9!$G$1:$I$136, 3, FALSE )","v":"混合物"},null,{"$f":"VLOOKUP(F327,工作表9!$G$1:$H$142, 2, FALSE )","v":0},0]
[null,null,null,null,null,null,{"$f":"VLOOKUP(F328,工作表9!$G$1:$I$136, 3, FALSE )","v":"混合物"},null,{"$f":"VLOOKUP(F328,工作表9!$G$1:$H$142, 2, FALSE )","v":0},0]
[null,null,null,null,null,null,{"$f":"VLOOKUP(F329,工作表9!$G$1:$I$136, 3, FALSE )","v":"混合物"},null,{"$f":"VLOOKUP(F329,工作表9!$G$1:$H$142, 2, FALSE )","v":0},0]
[null,null,null,null,null,null,{"$f":"VLOOKUP(F330,工作表9!$G$1:$I$136, 3, FALSE )","v":"混合物"},null,{"$f":"VLOOKUP(F330,工作表9!$G$1:$H$142, 2, FALSE )","v":0},0]
[null,null,null,null,null,null,{"$f":"VLOOKUP(F331,工作表9!$G$1:$I$136, 3, FALSE )","v":"混合物"},null,{"$f":"VLOOKUP(F331,工作表9!$G$1:$H$142, 2, FALSE )","v":0},0]
[null,null,null,null,null,null,{"$f":"VLOOKUP(F332,工作表9!$G$1:$I$136, 3, FALSE )","v":"混合物"},null,{"$f":"VLOOKUP(F332,工作表9!$G$1:$H$142, 2, FALSE )","v":0},0]
[null,null,null,null,null,null,{"$f":"VLOOKUP(F333,工作表9!$G$1:$I$136, 3, FALSE )","v":"混合物"},null,{"$f":"VLOOKUP(F333,工作表9!$G$1:$H$142, 2, FALSE )","v":0},0]
[null,null,null,null,null,null,{"$f":"VLOOKUP(F334,工作表9!$G$1:$I$136, 3, FALSE )","v":"混合物"},null,{"$f":"VLOOKUP(F334,工作表9!$G$1:$H$142, 2, FALSE )","v":0},0]
[null,null,null,null,null,null,{"$f":"VLOOKUP(F335,工作表9!$G$1:$I$136, 3, FALSE )","v":"混合物"},null,{"$f":"VLOOKUP(F335,工作表9!$G$1:$H$142, 2, FALSE )","v":0},0]
[null,null,null,null,null,null,{"$f":"VLOOKUP(F336,工作表9!$G$1:$I$136, 3, FALSE )","v":"混合物"},null,{"$f":"VLOOKUP(F336,工作表9!$G$1:$H$142, 2, FALSE )","v":0},0]
[null,null,null,null,null,null,{"$f":"VLOOKUP(F337,工作表9!$G$1:$I$136, 3, FALSE )","v":"混合物"},null,{"$f":"VLOOKUP(F337,工作表9!$G$1:$H$142, 2, FALSE )","v":0},0]
[null,null,null,null,null,null,{"$f":"VLOOKUP(F338,工作表9!$G$1:$I$136, 3, FALSE )","v":"混合物"},null,{"$f":"VLOOKUP(F338,工作表9!$G$1:$H$142, 2, FALSE )","v":0},0]
[null,null,null,null,null,null,{"$f":"VLOOKUP(F339,工作表9!$G$1:$I$136, 3, FALSE )","v":"混合物"},null,{"$f":"VLOOKUP(F339,工作表9!$G$1:$H$142, 2, FALSE )","v":0},0]
[null,null,null,null,null,null,{"$f":"VLOOKUP(F340,工作表9!$G$1:$I$136, 3, FALSE )","v":"混合物"},null,{"$f":"VLOOKUP(F340,工作表9!$G$1:$H$142, 2, FALSE )","v":0},0]
[null,null,null,null,null,null,{"$f":"VLOOKUP(F341,工作表9!$G$1:$I$136, 3, FALSE )","v":"混合物"},null,{"$f":"VLOOKUP(F341,工作表9!$G$1:$H$142, 2, FALSE )","v":0},0]
[null,null,null,null,null,null,{"$f":"VLOOKUP(F342,工作表9!$G$1:$I$136, 3, FALSE )","v":"混合物"},null,{"$f":"VLOOKUP(F342,工作表9!$G$1:$H$142, 2, FALSE )","v":0},0]
[null,null,null,null,null,null,{"$f":"VLOOKUP(F343,工作表9!$G$1:$I$136, 3, FALSE )","v":"混合物"},null,{"$f":"VLOOKUP(F343,工作表9!$G$1:$H$142, 2, FALSE )","v":0},0]
[null,null,null,null,null,null,{"$f":"VLOOKUP(F344,工作表9!$G$1:$I$136, 3, FALSE )","v":"混合物"},null,{"$f":"VLOOKUP(F344,工作表9!$G$1:$H$142, 2, FALSE )","v":0},0]
[null,null,null,null,null,null,{"$f":"VLOOKUP(F345,工作表9!$G$1:$I$136, 3, FALSE )","v":"混合物"},null,{"$f":"VLOOKUP(F345,工作表9!$G$1:$H$142, 2, FALSE )","v":0},0]
[null,null,null,null,null,null,{"$f":"VLOOKUP(F346,工作表9!$G$1:$I$136, 3, FALSE )","v":"混合物"},null,{"$f":"VLOOKUP(F346,工作表9!$G$1:$H$142, 2, FALSE )","v":0},0]
[null,null,null,null,null,null,{"$f":"VLOOKUP(F347,工作表9!$G$1:$I$136, 3, FALSE )","v":"混合物"},null,{"$f":"VLOOKUP(F347,工作表9!$G$1:$H$142, 2, FALSE )","v":0},0]
[null,null,null,null,null,null,{"$f":"VLOOKUP(F348,工作表9!$G$1:$I$136, 3, FALSE )","v":"混合物"},null,{"$f":"VLOOKUP(F348,工作表9!$G$1:$H$142, 2, FALSE )","v":0},0]
[null,null,null,null,null,null,{"$f":"VLOOKUP(F349,工作表9!$G$1:$I$136, 3, FALSE )","v":"混合物"},null,{"$f":"VLOOKUP(F349,工作表9!$G$1:$H$142, 2, FALSE )","v":0},0]
[null,null,null,null,null,null,{"$f":"VLOOKUP(F350,工作表9!$G$1:$I$136, 3, FALSE )","v":"混合物"},null,{"$f":"VLOOKUP(F350,工作表9!$G$1:$H$142, 2, FALSE )","v":0},0]
[null,null,null,null,null,null,{"$f":"VLOOKUP(F351,工作表9!$G$1:$I$136, 3, FALSE )","v":"混合物"},null,{"$f":"VLOOKUP(F351,工作表9!$G$1:$H$142, 2, FALSE )","v":0},0]
[null,null,null,null,null,null,{"$f":"VLOOKUP(F352,工作表9!$G$1:$I$136, 3, FALSE )","v":"混合物"},null,{"$f":"VLOOKUP(F352,工作表9!$G$1:$H$142, 2, FALSE )","v":0},0]
[null,null,null,null,null,null,{"$f":"VLOOKUP(F353,工作表9!$G$1:$I$136, 3, FALSE )","v":"混合物"},null,{"$f":"VLOOKUP(F353,工作表9!$G$1:$H$142, 2, FALSE )","v":0},0]
[null,null,null,null,null,null,{"$f":"VLOOKUP(F354,工作表9!$G$1:$I$136, 3, FALSE )","v":"混合物"},null,{"$f":"VLOOKUP(F354,工作表9!$G$1:$H$142, 2, FALSE )","v":0},0]
[null,null,null,null,null,null,{"$f":"VLOOKUP(F355,工作表9!$G$1:$I$136, 3, FALSE )","v":"混合物"},null,{"$f":"VLOOKUP(F355,工作表9!$G$1:$H$142, 2, FALSE )","v":0},0]
[null,null,null,null,null,null,{"$f":"VLOOKUP(F356,工作表9!$G$1:$I$136, 3, FALSE )","v":"混合物"},null,{"$f":"VLOOKUP(F356,工作表9!$G$1:$H$142, 2, FALSE )","v":0},0]
[null,null,null,null,null,null,{"$f":"VLOOKUP(F357,工作表9!$G$1:$I$136, 3, FALSE )","v":"混合物"},null,{"$f":"VLOOKUP(F357,工作表9!$G$1:$H$142, 2, FALSE )","v":0},0]
[null,null,null,null,null,null,{"$f":"VLOOKUP(F358,工作表9!$G$1:$I$136, 3, FALSE )","v":"混合物"},null,{"$f":"VLOOKUP(F358,工作表9!$G$1:$H$142, 2, FALSE )","v":0},0]
[null,null,null,null,null,null,{"$f":"VLOOKUP(F359,工作表9!$G$1:$I$136, 3, FALSE )","v":"混合物"},null,{"$f":"VLOOKUP(F359,工作表9!$G$1:$H$142, 2, FALSE )","v":0},0]
[null,null,null,null,null,null,{"$f":"VLOOKUP(F360,工作表9!$G$1:$I$136, 3, FALSE )","v":"混合物"},null,{"$f":"VLOOKUP(F360,工作表9!$G$1:$H$142, 2, FALSE )","v":0},0]
[null,null,null,null,null,null,{"$f":"VLOOKUP(F361,工作表9!$G$1:$I$136, 3, FALSE )","v":"混合物"},null,{"$f":"VLOOKUP(F361,工作表9!$G$1:$H$142, 2, FALSE )","v":0},0]
[null,null,null,null,null,null,{"$f":"VLOOKUP(F362,工作表9!$G$1:$I$136, 3, FALSE )","v":"混合物"},null,{"$f":"VLOOKUP(F362,工作表9!$G$1:$H$142, 2, FALSE )","v":0},0]
[null,null,null,null,null,null,{"$f":"VLOOKUP(F363,工作表9!$G$1:$I$136, 3, FALSE )","v":"混合物"},null,{"$f":"VLOOKUP(F363,工作表9!$G$1:$H$142, 2, FALSE )","v":0},0]
[null,null,null,null,null,null,{"$f":"VLOOKUP(F364,工作表9!$G$1:$I$136, 3, FALSE )","v":"混合物"},null,{"$f":"VLOOKUP(F364,工作表9!$G$1:$H$142, 2, FALSE )","v":0},0]
[null,null,null,null,null,null,{"$f":"VLOOKUP(F365,工作表9!$G$1:$I$136, 3, FALSE )","v":"混合物"},null,{"$f":"VLOOKUP(F365,工作表9!$G$1:$H$142, 2, FALSE )","v":0},0]
[null,null,null,null,null,null,{"$f":"VLOOKUP(F366,工作表9!$G$1:$I$136, 3, FALSE )","v":"混合物"},null,{"$f":"VLOOKUP(F366,工作表9!$G$1:$H$142, 2, FALSE )","v":0},0]
[null,null,null,null,null,null,{"$f":"VLOOKUP(F367,工作表9!$G$1:$I$136, 3, FALSE )","v":"混合物"},null,{"$f":"VLOOKUP(F367,工作表9!$G$1:$H$142, 2, FALSE )","v":0},0]
[null,null,null,null,null,null,{"$f":"VLOOKUP(F368,工作表9!$G$1:$I$136, 3, FALSE )","v":"混合物"},null,{"$f":"VLOOKUP(F368,工作表9!$G$1:$H$142, 2, FALSE )","v":0},0]
[null,null,null,null,null,null,{"$f":"VLOOKUP(F369,工作表9!$G$1:$I$136, 3, FALSE )","v":"混合物"},null,{"$f":"VLOOKUP(F369,工作表9!$G$1:$H$142, 2, FALSE )","v":0},0]
[null,null,null,null,null,null,{"$f":"VLOOKUP(F370,工作表9!$G$1:$I$136, 3, FALSE )","v":"混合物"},null,{"$f":"VLOOKUP(F370,工作表9!$G$1:$H$142, 2, FALSE )","v":0},0]
[null,null,null,null,null,null,{"$f":"VLOOKUP(F371,工作表9!$G$1:$I$136, 3, FALSE )","v":"混合物"},null,{"$f":"VLOOKUP(F371,工作表9!$G$1:$H$142, 2, FALSE )","v":0},0]
[null,null,null,null,null,null,{"$f":"VLOOKUP(F372,工作表9!$G$1:$I$136, 3, FALSE )","v":"混合物"},null,{"$f":"VLOOKUP(F372,工作表9!$G$1:$H$142, 2, FALSE )","v":0},0]
[null,null,null,null,null,null,{"$f":"VLOOKUP(F373,工作表9!$G$1:$I$136, 3, FALSE )","v":"混合物"},null,{"$f":"VLOOKUP(F373,工作表9!$G$1:$H$142, 2, FALSE )","v":0},0]
[null,null,null,null,null,null,{"$f":"VLOOKUP(F374,工作表9!$G$1:$I$136, 3, FALSE )","v":"混合物"},null,{"$f":"VLOOKUP(F374,工作表9!$G$1:$H$142, 2, FALSE )","v":0},0]
[null,null,null,null,null,null,{"$f":"VLOOKUP(F375,工作表9!$G$1:$I$136, 3, FALSE )","v":"混合物"},null,{"$f":"VLOOKUP(F375,工作表9!$G$1:$H$142, 2, FALSE )","v":0},0]
[null,null,null,null,null,null,{"$f":"VLOOKUP(F376,工作表9!$G$1:$I$136, 3, FALSE )","v":"混合物"},null,{"$f":"VLOOKUP(F376,工作表9!$G$1:$H$142, 2, FALSE )","v":0},0]
[null,null,null,null,null,null,{"$f":"VLOOKUP(F377,工作表9!$G$1:$I$136, 3, FALSE )","v":"混合物"},null,{"$f":"VLOOKUP(F377,工作表9!$G$1:$H$142, 2, FALSE )","v":0},0]
[null,null,null,null,null,null,{"$f":"VLOOKUP(F378,工作表9!$G$1:$I$136, 3, FALSE )","v":"混合物"},null,{"$f":"VLOOKUP(F378,工作表9!$G$1:$H$142, 2, FALSE )","v":0},0]
[null,null,null,null,null,null,{"$f":"VLOOKUP(F379,工作表9!$G$1:$I$136, 3, FALSE )","v":"混合物"},null,{"$f":"VLOOKUP(F379,工作表9!$G$1:$H$142, 2, FALSE )","v":0},0]
[null,null,null,null,null,null,{"$f":"VLOOKUP(F380,工作表9!$G$1:$I$136, 3, FALSE )","v":"混合物"},null,{"$f":"VLOOKUP(F380,工作表9!$G$1:$H$142, 2, FALSE )","v":0},0]
[null,null,null,null,null,null,{"$f":"VLOOKUP(F381,工作表9!$G$1:$I$136, 3, FALSE )","v":"混合物"},null,{"$f":"VLOOKUP(F381,工作表9!$G$1:$H$142, 2, FALSE )","v":0},0]
[null,null,null,null,null,null,{"$f":"VLOOKUP(F382,工作表9!$G$1:$I$136, 3, FALSE )","v":"混合物"},null,{"$f":"VLOOKUP(F382,工作表9!$G$1:$H$142, 2, FALSE )","v":0},0]
[null,null,null,null,null,null,{"$f":"VLOOKUP(F383,工作表9!$G$1:$I$136, 3, FALSE )","v":"混合物"},null,{"$f":"VLOOKUP(F383,工作表9!$G$1:$H$142, 2, FALSE )","v":0},0]
[null,null,null,null,null,null,{"$f":"VLOOKUP(F384,工作表9!$G$1:$I$136, 3, FALSE )","v":"混合物"},null,{"$f":"VLOOKUP(F384,工作表9!$G$1:$H$142, 2, FALSE )","v":0},0]
[null,null,null,null,null,null,{"$f":"VLOOKUP(F385,工作表9!$G$1:$I$136, 3, FALSE )","v":"混合物"},null,{"$f":"VLOOKUP(F385,工作表9!$G$1:$H$142, 2, FALSE )","v":0},0]
[null,null,null,null,null,null,{"$f":"VLOOKUP(F386,工作表9!$G$1:$I$136, 3, FALSE )","v":"混合物"},null,{"$f":"VLOOKUP(F386,工作表9!$G$1:$H$142, 2, FALSE )","v":0},0]
[null,null,null,null,null,null,{"$f":"VLOOKUP(F387,工作表9!$G$1:$I$136, 3, FALSE )","v":"混合物"},null,{"$f":"VLOOKUP(F387,工作表9!$G$1:$H$142, 2, FALSE )","v":0},0]
[null,null,null,null,null,null,{"$f":"VLOOKUP(F388,工作表9!$G$1:$I$136, 3, FALSE )","v":"混合物"},null,{"$f":"VLOOKUP(F388,工作表9!$G$1:$H$142, 2, FALSE )","v":0},0]
[null,null,null,null,null,null,{"$f":"VLOOKUP(F389,工作表9!$G$1:$I$136, 3, FALSE )","v":"混合物"},null,{"$f":"VLOOKUP(F389,工作表9!$G$1:$H$142, 2, FALSE )","v":0},0]
[null,null,null,null,null,null,{"$f":"VLOOKUP(F390,工作表9!$G$1:$I$136, 3, FALSE )","v":"混合物"},null,{"$f":"VLOOKUP(F390,工作表9!$G$1:$H$142, 2, FALSE )","v":0},{"$f":"H390*I390","v":0}]
[null,null,null,null,null,null,{"$f":"VLOOKUP(F391,工作表9!$G$1:$I$136, 3, FALSE )","v":"混合物"},null,{"$f":"VLOOKUP(F391,工作表9!$G$1:$H$142, 2, FALSE )","v":0},0]
[null,null,null,null,null,null,{"$f":"VLOOKUP(F392,工作表9!$G$1:$I$136, 3, FALSE )","v":"混合物"},null,{"$f":"VLOOKUP(F392,工作表9!$G$1:$H$142, 2, FALSE )","v":0},0]
[null,null,null,null,null,null,{"$f":"VLOOKUP(F393,工作表9!$G$1:$I$136, 3, FALSE )","v":"混合物"},null,{"$f":"VLOOKUP(F393,工作表9!$G$1:$H$142, 2, FALSE )","v":0},0]
[null,null,null,null,null,null,{"$f":"VLOOKUP(F394,工作表9!$G$1:$I$136, 3, FALSE )","v":"混合物"},null,{"$f":"VLOOKUP(F394,工作表9!$G$1:$H$142, 2, FALSE )","v":0},0]
[null,null,null,null,null,null,{"$f":"VLOOKUP(F395,工作表9!$G$1:$I$136, 3, FALSE )","v":"混合物"},null,{"$f":"VLOOKUP(F395,工作表9!$G$1:$H$142, 2, FALSE )","v":0},0]
[null,null,null,null,null,null,{"$f":"VLOOKUP(F396,工作表9!$G$1:$I$136, 3, FALSE )","v":"混合物"},null,{"$f":"VLOOKUP(F396,工作表9!$G$1:$H$142, 2, FALSE )","v":0},0]
[null,null,null,null,null,null,{"$f":"VLOOKUP(F397,工作表9!$G$1:$I$136, 3, FALSE )","v":"混合物"},null,{"$f":"VLOOKUP(F397,工作表9!$G$1:$H$142, 2, FALSE )","v":0},0]
[null,null,null,null,null,null,{"$f":"VLOOKUP(F398,工作表9!$G$1:$I$136, 3, FALSE )","v":"混合物"},null,{"$f":"VLOOKUP(F398,工作表9!$G$1:$H$142, 2, FALSE )","v":0},0]
[null,null,null,null,null,null,{"$f":"VLOOKUP(F399,工作表9!$G$1:$I$136, 3, FALSE )","v":"混合物"},null,{"$f":"VLOOKUP(F399,工作表9!$G$1:$H$142, 2, FALSE )","v":0},0]
[null,null,null,null,null,null,{"$f":"VLOOKUP(F400,工作表9!$G$1:$I$136, 3, FALSE )","v":"混合物"},null,{"$f":"VLOOKUP(F400,工作表9!$G$1:$H$142, 2, FALSE )","v":0},0]
[null,null,null,null,null,null,{"$f":"VLOOKUP(F401,工作表9!$G$1:$I$136, 3, FALSE )","v":"混合物"},null,{"$f":"VLOOKUP(F401,工作表9!$G$1:$H$142, 2, FALSE )","v":0},0]
[null,null,null,null,null,null,{"$f":"VLOOKUP(F402,工作表9!$G$1:$I$136, 3, FALSE )","v":"混合物"},null,{"$f":"VLOOKUP(F402,工作表9!$G$1:$H$142, 2, FALSE )","v":0},0]
[null,null,null,null,null,null,{"$f":"VLOOKUP(F403,工作表9!$G$1:$I$136, 3, FALSE )","v":"混合物"},null,{"$f":"VLOOKUP(F403,工作表9!$G$1:$H$142, 2, FALSE )","v":0},0]
[null,null,null,null,null,null,{"$f":"VLOOKUP(F404,工作表9!$G$1:$I$136, 3, FALSE )","v":"混合物"},null,{"$f":"VLOOKUP(F404,工作表9!$G$1:$H$142, 2, FALSE )","v":0},0]
[null,null,null,null,null,null,{"$f":"VLOOKUP(F405,工作表9!$G$1:$I$136, 3, FALSE )","v":"混合物"},null,{"$f":"VLOOKUP(F405,工作表9!$G$1:$H$142, 2, FALSE )","v":0},0]
[null,null,null,null,null,null,{"$f":"VLOOKUP(F406,工作表9!$G$1:$I$136, 3, FALSE )","v":"混合物"},null,{"$f":"VLOOKUP(F406,工作表9!$G$1:$H$142, 2, FALSE )","v":0},0]
[null,null,null,null,null,null,{"$f":"VLOOKUP(F407,工作表9!$G$1:$I$136, 3, FALSE )","v":"混合物"},null,{"$f":"VLOOKUP(F407,工作表9!$G$1:$H$142, 2, FALSE )","v":0},0]
[null,null,null,null,null,null,{"$f":"VLOOKUP(F408,工作表9!$G$1:$I$136, 3, FALSE )","v":"混合物"},null,{"$f":"VLOOKUP(F408,工作表9!$G$1:$H$142, 2, FALSE )","v":0},0]
[null,null,null,null,null,null,{"$f":"VLOOKUP(F409,工作表9!$G$1:$I$136, 3, FALSE )","v":"混合物"},null,{"$f":"VLOOKUP(F409,工作表9!$G$1:$H$142, 2, FALSE )","v":0},0]
[null,null,null,null,null,null,{"$f":"VLOOKUP(F410,工作表9!$G$1:$I$136, 3, FALSE )","v":"混合物"},null,{"$f":"VLOOKUP(F410,工作表9!$G$1:$H$142, 2, FALSE )","v":0},0]
[null,null,null,null,null,null,{"$f":"VLOOKUP(F411,工作表9!$G$1:$I$136, 3, FALSE )","v":"混合物"},null,{"$f":"VLOOKUP(F411,工作表9!$G$1:$H$142, 2, FALSE )","v":0},0]
[null,null,null,null,null,null,{"$f":"VLOOKUP(F412,工作表9!$G$1:$I$136, 3, FALSE )","v":"混合物"},null,{"$f":"VLOOKUP(F412,工作表9!$G$1:$H$142, 2, FALSE )","v":0},0]
[null,null,null,null,null,null,{"$f":"VLOOKUP(F413,工作表9!$G$1:$I$136, 3, FALSE )","v":"混合物"},null,{"$f":"VLOOKUP(F413,工作表9!$G$1:$H$142, 2, FALSE )","v":0},0]
[null,null,null,null,null,null,{"$f":"VLOOKUP(F414,工作表9!$G$1:$I$136, 3, FALSE )","v":"混合物"},null,{"$f":"VLOOKUP(F414,工作表9!$G$1:$H$142, 2, FALSE )","v":0},0]
[null,null,null,null,null,null,{"$f":"VLOOKUP(F415,工作表9!$G$1:$I$136, 3, FALSE )","v":"混合物"},null,{"$f":"VLOOKUP(F415,工作表9!$G$1:$H$142, 2, FALSE )","v":0},0]
[null,null,null,null,null,null,{"$f":"VLOOKUP(F416,工作表9!$G$1:$I$136, 3, FALSE )","v":"混合物"},null,{"$f":"VLOOKUP(F416,工作表9!$G$1:$H$142, 2, FALSE )","v":0},0]
[null,null,null,null,null,null,{"$f":"VLOOKUP(F417,工作表9!$G$1:$I$136, 3, FALSE )","v":"混合物"},null,{"$f":"VLOOKUP(F417,工作表9!$G$1:$H$142, 2, FALSE )","v":0},0]
[null,null,null,null,null,null,{"$f":"VLOOKUP(F418,工作表9!$G$1:$I$136, 3, FALSE )","v":"混合物"},null,{"$f":"VLOOKUP(F418,工作表9!$G$1:$H$142, 2, FALSE )","v":0},0]
[null,null,null,null,null,null,{"$f":"VLOOKUP(F419,工作表9!$G$1:$I$136, 3, FALSE )","v":"混合物"},null,{"$f":"VLOOKUP(F419,工作表9!$G$1:$H$142, 2, FALSE )","v":0},0]
[null,null,null,null,null,null,{"$f":"VLOOKUP(F420,工作表9!$G$1:$I$136, 3, FALSE )","v":"混合物"},null,{"$f":"VLOOKUP(F420,工作表9!$G$1:$H$142, 2, FALSE )","v":0},0]
[null,null,null,null,null,null,{"$f":"VLOOKUP(F421,工作表9!$G$1:$I$136, 3, FALSE )","v":"混合物"},null,{"$f":"VLOOKUP(F421,工作表9!$G$1:$H$142, 2, FALSE )","v":0},0]
[null,null,null,null,null,null,{"$f":"VLOOKUP(F422,工作表9!$G$1:$I$136, 3, FALSE )","v":"混合物"},null,{"$f":"VLOOKUP(F422,工作表9!$G$1:$H$142, 2, FALSE )","v":0},0]
[null,null,null,null,null,null,{"$f":"VLOOKUP(F423,工作表9!$G$1:$I$136, 3, FALSE )","v":"混合物"},null,{"$f":"VLOOKUP(F423,工作表9!$G$1:$H$142, 2, FALSE )","v":0},0]
[null,null,null,null,null,null,{"$f":"VLOOKUP(F424,工作表9!$G$1:$I$136, 3, FALSE )","v":"混合物"},null,{"$f":"VLOOKUP(F424,工作表9!$G$1:$H$142, 2, FALSE )","v":0},0]
[null,null,null,null,null,null,{"$f":"VLOOKUP(F425,工作表9!$G$1:$I$136, 3, FALSE )","v":"混合物"},null,{"$f":"VLOOKUP(F425,工作表9!$G$1:$H$142, 2, FALSE )","v":0},0]
[null,null,null,null,null,null,{"$f":"VLOOKUP(F426,工作表9!$G$1:$I$136, 3, FALSE )","v":"混合物"},null,{"$f":"VLOOKUP(F426,工作表9!$G$1:$H$142, 2, FALSE )","v":0},0]
[null,null,null,null,null,null,{"$f":"VLOOKUP(F427,工作表9!$G$1:$I$136, 3, FALSE )","v":"混合物"},null,{"$f":"VLOOKUP(F427,工作表9!$G$1:$H$142, 2, FALSE )","v":0},0]
[null,null,null,null,null,null,{"$f":"VLOOKUP(F428,工作表9!$G$1:$I$136, 3, FALSE )","v":"混合物"},null,{"$f":"VLOOKUP(F428,工作表9!$G$1:$H$142, 2, FALSE )","v":0},0]
[null,null,null,null,null,null,{"$f":"VLOOKUP(F429,工作表9!$G$1:$I$136, 3, FALSE )","v":"混合物"},null,{"$f":"VLOOKUP(F429,工作表9!$G$1:$H$142, 2, FALSE )","v":0},0]
[null,null,null,null,null,null,{"$f":"VLOOKUP(F430,工作表9!$G$1:$I$136, 3, FALSE )","v":"混合物"},null,{"$f":"VLOOKUP(F430,工作表9!$G$1:$H$142, 2, FALSE )","v":0},0]
[null,null,null,null,null,null,{"$f":"VLOOKUP(F431,工作表9!$G$1:$I$136, 3, FALSE )","v":"混合物"},null,{"$f":"VLOOKUP(F431,工作表9!$G$1:$H$142, 2, FALSE )","v":0},0]
[null,null,null,null,null,null,{"$f":"VLOOKUP(F432,工作表9!$G$1:$I$136, 3, FALSE )","v":"混合物"},null,{"$f":"VLOOKUP(F432,工作表9!$G$1:$H$142, 2, FALSE )","v":0},0]
[null,null,null,null,null,null,{"$f":"VLOOKUP(F433,工作表9!$G$1:$I$136, 3, FALSE )","v":"混合物"},null,{"$f":"VLOOKUP(F433,工作表9!$G$1:$H$142, 2, FALSE )","v":0},0]
[null,null,null,null,null,null,{"$f":"VLOOKUP(F434,工作表9!$G$1:$I$136, 3, FALSE )","v":"混合物"},null,{"$f":"VLOOKUP(F434,工作表9!$G$1:$H$142, 2, FALSE )","v":0},0]
[null,null,null,null,null,null,{"$f":"VLOOKUP(F435,工作表9!$G$1:$I$136, 3, FALSE )","v":"混合物"},null,{"$f":"VLOOKUP(F435,工作表9!$G$1:$H$142, 2, FALSE )","v":0},0]
[null,null,null,null,null,null,{"$f":"VLOOKUP(F436,工作表9!$G$1:$I$136, 3, FALSE )","v":"混合物"},null,{"$f":"VLOOKUP(F436,工作表9!$G$1:$H$142, 2, FALSE )","v":0},0]
[null,null,null,null,null,null,{"$f":"VLOOKUP(F437,工作表9!$G$1:$I$136, 3, FALSE )","v":"混合物"},null,{"$f":"VLOOKUP(F437,工作表9!$G$1:$H$142, 2, FALSE )","v":0},0]
[null,null,null,null,null,null,{"$f":"VLOOKUP(F438,工作表9!$G$1:$I$136, 3, FALSE )","v":"混合物"},null,{"$f":"VLOOKUP(F438,工作表9!$G$1:$H$142, 2, FALSE )","v":0},0]
[null,null,null,null,null,null,{"$f":"VLOOKUP(F439,工作表9!$G$1:$I$136, 3, FALSE )","v":"混合物"},null,{"$f":"VLOOKUP(F439,工作表9!$G$1:$H$142, 2, FALSE )","v":0},0]
[null,null,null,null,null,null,{"$f":"VLOOKUP(F440,工作表9!$G$1:$I$136, 3, FALSE )","v":"混合物"},null,{"$f":"VLOOKUP(F440,工作表9!$G$1:$H$142, 2, FALSE )","v":0},0]
[null,null,null,null,null,null,{"$f":"VLOOKUP(F441,工作表9!$G$1:$I$136, 3, FALSE )","v":"混合物"},null,{"$f":"VLOOKUP(F441,工作表9!$G$1:$H$142, 2, FALSE )","v":0},0]
[null,null,null,null,null,null,{"$f":"VLOOKUP(F442,工作表9!$G$1:$I$136, 3, FALSE )","v":"混合物"},null,{"$f":"VLOOKUP(F442,工作表9!$G$1:$H$142, 2, FALSE )","v":0},0]
[null,null,null,null,null,null,{"$f":"VLOOKUP(F443,工作表9!$G$1:$I$136, 3, FALSE )","v":"混合物"},null,{"$f":"VLOOKUP(F443,工作表9!$G$1:$H$142, 2, FALSE )","v":0},0]
[null,null,null,null,null,null,{"$f":"VLOOKUP(F444,工作表9!$G$1:$I$136, 3, FALSE )","v":"混合物"},null,{"$f":"VLOOKUP(F444,工作表9!$G$1:$H$142, 2, FALSE )","v":0},0]
[null,null,null,null,null,null,{"$f":"VLOOKUP(F445,工作表9!$G$1:$I$136, 3, FALSE )","v":"混合物"},null,{"$f":"VLOOKUP(F445,工作表9!$G$1:$H$142, 2, FALSE )","v":0},0]
[null,null,null,null,null,null,{"$f":"VLOOKUP(F446,工作表9!$G$1:$I$136, 3, FALSE )","v":"混合物"},null,{"$f":"VLOOKUP(F446,工作表9!$G$1:$H$142, 2, FALSE )","v":0},0]
[null,null,null,null,null,null,{"$f":"VLOOKUP(F447,工作表9!$G$1:$I$136, 3, FALSE )","v":"混合物"},null,{"$f":"VLOOKUP(F447,工作表9!$G$1:$H$142, 2, FALSE )","v":0},0]
[null,null,null,null,null,null,{"$f":"VLOOKUP(F448,工作表9!$G$1:$I$136, 3, FALSE )","v":"混合物"},null,{"$f":"VLOOKUP(F448,工作表9!$G$1:$H$142, 2, FALSE )","v":0},0]
[null,null,null,null,null,null,{"$f":"VLOOKUP(F449,工作表9!$G$1:$I$136, 3, FALSE )","v":"混合物"},null,{"$f":"VLOOKUP(F449,工作表9!$G$1:$H$142, 2, FALSE )","v":0},0]
[null,null,null,null,null,null,{"$f":"VLOOKUP(F450,工作表9!$G$1:$I$136, 3, FALSE )","v":"混合物"},null,{"$f":"VLOOKUP(F450,工作表9!$G$1:$H$142, 2, FALSE )","v":0},0]
[null,null,null,null,null,null,{"$f":"VLOOKUP(F451,工作表9!$G$1:$I$136, 3, FALSE )","v":"混合物"},null,{"$f":"VLOOKUP(F451,工作表9!$G$1:$H$142, 2, FALSE )","v":0},0]
[null,null,null,null,null,null,{"$f":"VLOOKUP(F452,工作表9!$G$1:$I$136, 3, FALSE )","v":"混合物"},null,{"$f":"VLOOKUP(F452,工作表9!$G$1:$H$142, 2, FALSE )","v":0},0]
[null,null,null,null,null,null,{"$f":"VLOOKUP(F453,工作表9!$G$1:$I$136, 3, FALSE )","v":"混合物"},null,{"$f":"VLOOKUP(F453,工作表9!$G$1:$H$142, 2, FALSE )","v":0},0]
[null,null,null,null,null,null,{"$f":"VLOOKUP(F454,工作表9!$G$1:$I$136, 3, FALSE )","v":"混合物"},null,{"$f":"VLOOKUP(F454,工作表9!$G$1:$H$142, 2, FALSE )","v":0},{"$f":"H454*I454","v":0}]
[null,null,null,null,null,null,{"$f":"VLOOKUP(F455,工作表9!$G$1:$I$136, 3, FALSE )","v":"混合物"},null,{"$f":"VLOOKUP(F455,工作表9!$G$1:$H$142, 2, FALSE )","v":0},0]
[null,null,null,null,null,null,{"$f":"VLOOKUP(F456,工作表9!$G$1:$I$136, 3, FALSE )","v":"混合物"},null,{"$f":"VLOOKUP(F456,工作表9!$G$1:$H$142, 2, FALSE )","v":0},0]
[null,null,null,null,null,null,{"$f":"VLOOKUP(F457,工作表9!$G$1:$I$136, 3, FALSE )","v":"混合物"},null,{"$f":"VLOOKUP(F457,工作表9!$G$1:$H$142, 2, FALSE )","v":0},0]
[null,null,null,null,null,null,{"$f":"VLOOKUP(F458,工作表9!$G$1:$I$136, 3, FALSE )","v":"混合物"},null,{"$f":"VLOOKUP(F458,工作表9!$G$1:$H$142, 2, FALSE )","v":0},0]
[null,null,null,null,null,null,{"$f":"VLOOKUP(F459,工作表9!$G$1:$I$136, 3, FALSE )","v":"混合物"},null,{"$f":"VLOOKUP(F459,工作表9!$G$1:$H$142, 2, FALSE )","v":0},0]
[null,null,null,null,null,null,{"$f":"VLOOKUP(F460,工作表9!$G$1:$I$136, 3, FALSE )","v":"混合物"},null,{"$f":"VLOOKUP(F460,工作表9!$G$1:$H$142, 2, FALSE )","v":0},0]
[null,null,null,null,null,null,{"$f":"VLOOKUP(F461,工作表9!$G$1:$I$136, 3, FALSE )","v":"混合物"},null,{"$f":"VLOOKUP(F461,工作表9!$G$1:$H$142, 2, FALSE )","v":0},0]
[null,null,null,null,null,null,{"$f":"VLOOKUP(F462,工作表9!$G$1:$I$136, 3, FALSE )","v":"混合物"},null,{"$f":"VLOOKUP(F462,工作表9!$G$1:$H$142, 2, FALSE )","v":0},0]
[null,null,null,null,null,null,{"$f":"VLOOKUP(F463,工作表9!$G$1:$I$136, 3, FALSE )","v":"混合物"},null,{"$f":"VLOOKUP(F463,工作表9!$G$1:$H$142, 2, FALSE )","v":0},0]
[null,null,null,null,null,null,{"$f":"VLOOKUP(F464,工作表9!$G$1:$I$136, 3, FALSE )","v":"混合物"},null,{"$f":"VLOOKUP(F464,工作表9!$G$1:$H$142, 2, FALSE )","v":0},0]
[null,null,null,null,null,null,{"$f":"VLOOKUP(F465,工作表9!$G$1:$I$136, 3, FALSE )","v":"混合物"},null,{"$f":"VLOOKUP(F465,工作表9!$G$1:$H$142, 2, FALSE )","v":0},0]
[null,null,null,null,null,null,{"$f":"VLOOKUP(F466,工作表9!$G$1:$I$136, 3, FALSE )","v":"混合物"},null,{"$f":"VLOOKUP(F466,工作表9!$G$1:$H$142, 2, FALSE )","v":0},0]
[null,null,null,null,null,null,{"$f":"VLOOKUP(F467,工作表9!$G$1:$I$136, 3, FALSE )","v":"混合物"},null,{"$f":"VLOOKUP(F467,工作表9!$G$1:$H$142, 2, FALSE )","v":0},0]
[null,null,null,null,null,null,{"$f":"VLOOKUP(F468,工作表9!$G$1:$I$136, 3, FALSE )","v":"混合物"},null,{"$f":"VLOOKUP(F468,工作表9!$G$1:$H$142, 2, FALSE )","v":0},0]
[null,null,null,null,null,null,{"$f":"VLOOKUP(F469,工作表9!$G$1:$I$136, 3, FALSE )","v":"混合物"},null,{"$f":"VLOOKUP(F469,工作表9!$G$1:$H$142, 2, FALSE )","v":0},0]
[null,null,null,null,null,null,{"$f":"VLOOKUP(F470,工作表9!$G$1:$I$136, 3, FALSE )","v":"混合物"},null,{"$f":"VLOOKUP(F470,工作表9!$G$1:$H$142, 2, FALSE )","v":0},0]
[null,null,null,null,null,null,{"$f":"VLOOKUP(F471,工作表9!$G$1:$I$136, 3, FALSE )","v":"混合物"},null,{"$f":"VLOOKUP(F471,工作表9!$G$1:$H$142, 2, FALSE )","v":0},0]
[null,null,null,null,null,null,{"$f":"VLOOKUP(F472,工作表9!$G$1:$I$136, 3, FALSE )","v":"混合物"},null,{"$f":"VLOOKUP(F472,工作表9!$G$1:$H$142, 2, FALSE )","v":0},0]
[null,null,null,null,null,null,{"$f":"VLOOKUP(F473,工作表9!$G$1:$I$136, 3, FALSE )","v":"混合物"},null,{"$f":"VLOOKUP(F473,工作表9!$G$1:$H$142, 2, FALSE )","v":0},0]
[null,null,null,null,null,null,{"$f":"VLOOKUP(F474,工作表9!$G$1:$I$136, 3, FALSE )","v":"混合物"},null,{"$f":"VLOOKUP(F474,工作表9!$G$1:$H$142, 2, FALSE )","v":0},0]
[null,null,null,null,null,null,{"$f":"VLOOKUP(F475,工作表9!$G$1:$I$136, 3, FALSE )","v":"混合物"},null,{"$f":"VLOOKUP(F475,工作表9!$G$1:$H$142, 2, FALSE )","v":0},0]
[null,null,null,null,null,null,{"$f":"VLOOKUP(F476,工作表9!$G$1:$I$136, 3, FALSE )","v":"混合物"},null,{"$f":"VLOOKUP(F476,工作表9!$G$1:$H$142, 2, FALSE )","v":0},0]
[null,null,null,null,null,null,{"$f":"VLOOKUP(F477,工作表9!$G$1:$I$136, 3, FALSE )","v":"混合物"},null,{"$f":"VLOOKUP(F477,工作表9!$G$1:$H$142, 2, FALSE )","v":0},0]
[null,null,null,null,null,null,{"$f":"VLOOKUP(F478,工作表9!$G$1:$I$136, 3, FALSE )","v":"混合物"},null,{"$f":"VLOOKUP(F478,工作表9!$G$1:$H$142, 2, FALSE )","v":0},0]
[null,null,null,null,null,null,{"$f":"VLOOKUP(F479,工作表9!$G$1:$I$136, 3, FALSE )","v":"混合物"},null,{"$f":"VLOOKUP(F479,工作表9!$G$1:$H$142, 2, FALSE )","v":0},0]
[null,null,null,null,null,null,{"$f":"VLOOKUP(F480,工作表9!$G$1:$I$136, 3, FALSE )","v":"混合物"},null,{"$f":"VLOOKUP(F480,工作表9!$G$1:$H$142, 2, FALSE )","v":0},0]
[null,null,null,null,null,null,{"$f":"VLOOKUP(F481,工作表9!$G$1:$I$136, 3, FALSE )","v":"混合物"},null,{"$f":"VLOOKUP(F481,工作表9!$G$1:$H$142, 2, FALSE )","v":0},0]
[null,null,null,null,null,null,{"$f":"VLOOKUP(F482,工作表9!$G$1:$I$136, 3, FALSE )","v":"混合物"},null,{"$f":"VLOOKUP(F482,工作表9!$G$1:$H$142, 2, FALSE )","v":0},0]
[null,null,null,null,null,null,{"$f":"VLOOKUP(F483,工作表9!$G$1:$I$136, 3, FALSE )","v":"混合物"},null,{"$f":"VLOOKUP(F483,工作表9!$G$1:$H$142, 2, FALSE )","v":0},0]
[null,null,null,null,null,null,{"$f":"VLOOKUP(F484,工作表9!$G$1:$I$136, 3, FALSE )","v":"混合物"},null,{"$f":"VLOOKUP(F484,工作表9!$G$1:$H$142, 2, FALSE )","v":0},0]
[null,null,null,null,null,null,{"$f":"VLOOKUP(F485,工作表9!$G$1:$I$136, 3, FALSE )","v":"混合物"},null,{"$f":"VLOOKUP(F485,工作表9!$G$1:$H$142, 2, FALSE )","v":0},0]
[null,null,null,null,null,null,{"$f":"VLOOKUP(F486,工作表9!$G$1:$I$136, 3, FALSE )","v":"混合物"},null,{"$f":"VLOOKUP(F486,工作表9!$G$1:$H$142, 2, FALSE )","v":0},0]
[null,null,null,null,null,null,{"$f":"VLOOKUP(F487,工作表9!$G$1:$I$136, 3, FALSE )","v":"混合物"},null,{"$f":"VLOOKUP(F487,工作表9!$G$1:$H$142, 2, FALSE )","v":0},0]
[null,null,null,null,null,null,{"$f":"VLOOKUP(F488,工作表9!$G$1:$I$136, 3, FALSE )","v":"混合物"},null,{"$f":"VLOOKUP(F488,工作表9!$G$1:$H$142, 2, FALSE )","v":0},0]
[null,null,null,null,null,null,{"$f":"VLOOKUP(F489,工作表9!$G$1:$I$136, 3, FALSE )","v":"混合物"},null,{"$f":"VLOOKUP(F489,工作表9!$G$1:$H$142, 2, FALSE )","v":0},0]
[null,null,null,null,null,null,{"$f":"VLOOKUP(F490,工作表9!$G$1:$I$136, 3, FALSE )","v":"混合物"},null,{"$f":"VLOOKUP(F490,工作表9!$G$1:$H$142, 2, FALSE )","v":0},0]
[null,null,null,null,null,null,{"$f":"VLOOKUP(F491,工作表9!$G$1:$I$136, 3, FALSE )","v":"混合物"},null,{"$f":"VLOOKUP(F491,工作表9!$G$1:$H$142, 2, FALSE )","v":0},0]
[null,null,null,null,null,null,{"$f":"VLOOKUP(F492,工作表9!$G$1:$I$136, 3, FALSE )","v":"混合物"},null,{"$f":"VLOOKUP(F492,工作表9!$G$1:$H$142, 2, FALSE )","v":0},0]
[null,null,null,null,null,null,{"$f":"VLOOKUP(F493,工作表9!$G$1:$I$136, 3, FALSE )","v":"混合物"},null,{"$f":"VLOOKUP(F493,工作表9!$G$1:$H$142, 2, FALSE )","v":0},0]
[null,null,null,null,null,null,{"$f":"VLOOKUP(F494,工作表9!$G$1:$I$136, 3, FALSE )","v":"混合物"},null,{"$f":"VLOOKUP(F494,工作表9!$G$1:$H$142, 2, FALSE )","v":0},0]
[null,null,null,null,null,null,{"$f":"VLOOKUP(F495,工作表9!$G$1:$I$136, 3, FALSE )","v":"混合物"},null,{"$f":"VLOOKUP(F495,工作表9!$G$1:$H$142, 2, FALSE )","v":0},0]
[null,null,null,null,null,null,{"$f":"VLOOKUP(F496,工作表9!$G$1:$I$136, 3, FALSE )","v":"混合物"},null,{"$f":"VLOOKUP(F496,工作表9!$G$1:$H$142, 2, FALSE )","v":0},0]
[null,null,null,null,null,null,{"$f":"VLOOKUP(F497,工作表9!$G$1:$I$136, 3, FALSE )","v":"混合物"},null,{"$f":"VLOOKUP(F497,工作表9!$G$1:$H$142, 2, FALSE )","v":0},0]
[null,null,null,null,null,null,{"$f":"VLOOKUP(F498,工作表9!$G$1:$I$136, 3, FALSE )","v":"混合物"},null,{"$f":"VLOOKUP(F498,工作表9!$G$1:$H$142, 2, FALSE )","v":0},0]
[null,null,null,null,null,null,{"$f":"VLOOKUP(F499,工作表9!$G$1:$I$136, 3, FALSE )","v":"混合物"},null,{"$f":"VLOOKUP(F499,工作表9!$G$1:$H$142, 2, FALSE )","v":0},0]
[null,null,null,null,null,null,{"$f":"VLOOKUP(F500,工作表9!$G$1:$I$136, 3, FALSE )","v":"混合物"},null,{"$f":"VLOOKUP(F500,工作表9!$G$1:$H$142, 2, FALSE )","v":0},0]
[null,null,null,null,null,null,{"$f":"VLOOKUP(F501,工作表9!$G$1:$I$136, 3, FALSE )","v":"混合物"},null,{"$f":"VLOOKUP(F501,工作表9!$G$1:$H$142, 2, FALSE )","v":0},0]
[null,null,null,null,null,null,{"$f":"VLOOKUP(F502,工作表9!$G$1:$I$136, 3, FALSE )","v":"混合物"},null,{"$f":"VLOOKUP(F502,工作表9!$G$1:$H$142, 2, FALSE )","v":0},0]
[null,null,null,null,null,null,{"$f":"VLOOKUP(F503,工作表9!$G$1:$I$136, 3, FALSE )","v":"混合物"},null,{"$f":"VLOOKUP(F503,工作表9!$G$1:$H$142, 2, FALSE )","v":0},0]
[null,null,null,null,null,null,{"$f":"VLOOKUP(F504,工作表9!$G$1:$I$136, 3, FALSE )","v":"混合物"},null,{"$f":"VLOOKUP(F504,工作表9!$G$1:$H$142, 2, FALSE )","v":0},0]
[null,null,null,null,null,null,{"$f":"VLOOKUP(F505,工作表9!$G$1:$I$136, 3, FALSE )","v":"混合物"},null,{"$f":"VLOOKUP(F505,工作表9!$G$1:$H$142, 2, FALSE )","v":0},0]
[null,null,null,null,null,null,{"$f":"VLOOKUP(F506,工作表9!$G$1:$I$136, 3, FALSE )","v":"混合物"},null,{"$f":"VLOOKUP(F506,工作表9!$G$1:$H$142, 2, FALSE )","v":0},0]
[null,null,null,null,null,null,{"$f":"VLOOKUP(F507,工作表9!$G$1:$I$136, 3, FALSE )","v":"混合物"},null,{"$f":"VLOOKUP(F507,工作表9!$G$1:$H$142, 2, FALSE )","v":0},0]
[null,null,null,null,null,null,{"$f":"VLOOKUP(F508,工作表9!$G$1:$I$136, 3, FALSE )","v":"混合物"},null,{"$f":"VLOOKUP(F508,工作表9!$G$1:$H$142, 2, FALSE )","v":0},0]
[null,null,null,null,null,null,{"$f":"VLOOKUP(F509,工作表9!$G$1:$I$136, 3, FALSE )","v":"混合物"},null,{"$f":"VLOOKUP(F509,工作表9!$G$1:$H$142, 2, FALSE )","v":0},0]
[null,null,null,null,null,null,{"$f":"VLOOKUP(F510,工作表9!$G$1:$I$136, 3, FALSE )","v":"混合物"},null,{"$f":"VLOOKUP(F510,工作表9!$G$1:$H$142, 2, FALSE )","v":0},0]
[null,null,null,null,null,null,{"$f":"VLOOKUP(F511,工作表9!$G$1:$I$136, 3, FALSE )","v":"混合物"},null,{"$f":"VLOOKUP(F511,工作表9!$G$1:$H$142, 2, FALSE )","v":0},0]
[null,null,null,null,null,null,{"$f":"VLOOKUP(F512,工作表9!$G$1:$I$136, 3, FALSE )","v":"混合物"},null,{"$f":"VLOOKUP(F512,工作表9!$G$1:$H$142, 2, FALSE )","v":0},0]
[null,null,null,null,null,null,{"$f":"VLOOKUP(F513,工作表9!$G$1:$I$136, 3, FALSE )","v":"混合物"},null,{"$f":"VLOOKUP(F513,工作表9!$G$1:$H$142, 2, FALSE )","v":0},0]
[null,null,null,null,null,null,{"$f":"VLOOKUP(F514,工作表9!$G$1:$I$136, 3, FALSE )","v":"混合物"},null,{"$f":"VLOOKUP(F514,工作表9!$G$1:$H$142, 2, FALSE )","v":0},0]
[null,null,null,null,null,null,{"$f":"VLOOKUP(F515,工作表9!$G$1:$I$136, 3, FALSE )","v":"混合物"},null,{"$f":"VLOOKUP(F515,工作表9!$G$1:$H$142, 2, FALSE )","v":0},0]
[null,null,null,null,null,null,{"$f":"VLOOKUP(F516,工作表9!$G$1:$I$136, 3, FALSE )","v":"混合物"},null,{"$f":"VLOOKUP(F516,工作表9!$G$1:$H$142, 2, FALSE )","v":0},0]
[null,null,null,null,null,null,{"$f":"VLOOKUP(F517,工作表9!$G$1:$I$136, 3, FALSE )","v":"混合物"},null,{"$f":"VLOOKUP(F517,工作表9!$G$1:$H$142, 2, FALSE )","v":0},0]
[null,null,null,null,null,null,{"$f":"VLOOKUP(F518,工作表9!$G$1:$I$136, 3, FALSE )","v":"混合物"},null,{"$f":"VLOOKUP(F518,工作表9!$G$1:$H$142, 2, FALSE )","v":0},{"$f":"H518*I518","v":0}]
[null,null,null,null,null,null,{"$f":"VLOOKUP(F519,工作表9!$G$1:$I$136, 3, FALSE )","v":"混合物"},null,{"$f":"VLOOKUP(F519,工作表9!$G$1:$H$142, 2, FALSE )","v":0},0]
[null,null,null,null,null,null,{"$f":"VLOOKUP(F520,工作表9!$G$1:$I$136, 3, FALSE )","v":"混合物"},null,{"$f":"VLOOKUP(F520,工作表9!$G$1:$H$142, 2, FALSE )","v":0},0]
[null,null,null,null,null,null,{"$f":"VLOOKUP(F521,工作表9!$G$1:$I$136, 3, FALSE )","v":"混合物"},null,{"$f":"VLOOKUP(F521,工作表9!$G$1:$H$142, 2, FALSE )","v":0},0]
[null,null,null,null,null,null,{"$f":"VLOOKUP(F522,工作表9!$G$1:$I$136, 3, FALSE )","v":"混合物"},null,{"$f":"VLOOKUP(F522,工作表9!$G$1:$H$142, 2, FALSE )","v":0},0]
[null,null,null,null,null,null,{"$f":"VLOOKUP(F523,工作表9!$G$1:$I$136, 3, FALSE )","v":"混合物"},null,{"$f":"VLOOKUP(F523,工作表9!$G$1:$H$142, 2, FALSE )","v":0},0]
[null,null,null,null,null,null,{"$f":"VLOOKUP(F524,工作表9!$G$1:$I$136, 3, FALSE )","v":"混合物"},null,{"$f":"VLOOKUP(F524,工作表9!$G$1:$H$142, 2, FALSE )","v":0},0]
[null,null,null,null,null,null,{"$f":"VLOOKUP(F525,工作表9!$G$1:$I$136, 3, FALSE )","v":"混合物"},null,{"$f":"VLOOKUP(F525,工作表9!$G$1:$H$142, 2, FALSE )","v":0},0]
[null,null,null,null,null,null,{"$f":"VLOOKUP(F526,工作表9!$G$1:$I$136, 3, FALSE )","v":"混合物"},null,{"$f":"VLOOKUP(F526,工作表9!$G$1:$H$142, 2, FALSE )","v":0},0]
[null,null,null,null,null,null,{"$f":"VLOOKUP(F527,工作表9!$G$1:$I$136, 3, FALSE )","v":"混合物"},null,{"$f":"VLOOKUP(F527,工作表9!$G$1:$H$142, 2, FALSE )","v":0},0]
[null,null,null,null,null,null,{"$f":"VLOOKUP(F528,工作表9!$G$1:$I$136, 3, FALSE )","v":"混合物"},null,{"$f":"VLOOKUP(F528,工作表9!$G$1:$H$142, 2, FALSE )","v":0},0]
[null,null,null,null,null,null,{"$f":"VLOOKUP(F529,工作表9!$G$1:$I$136, 3, FALSE )","v":"混合物"},null,{"$f":"VLOOKUP(F529,工作表9!$G$1:$H$142, 2, FALSE )","v":0},0]
[null,null,null,null,null,null,{"$f":"VLOOKUP(F530,工作表9!$G$1:$I$136, 3, FALSE )","v":"混合物"},null,{"$f":"VLOOKUP(F530,工作表9!$G$1:$H$142, 2, FALSE )","v":0},0]
[null,null,null,null,null,null,{"$f":"VLOOKUP(F531,工作表9!$G$1:$I$136, 3, FALSE )","v":"混合物"},null,{"$f":"VLOOKUP(F531,工作表9!$G$1:$H$142, 2, FALSE )","v":0},0]
[null,null,null,null,null,null,{"$f":"VLOOKUP(F532,工作表9!$G$1:$I$136, 3, FALSE )","v":"混合物"},null,{"$f":"VLOOKUP(F532,工作表9!$G$1:$H$142, 2, FALSE )","v":0},0]
[null,null,null,null,null,null,{"$f":"VLOOKUP(F533,工作表9!$G$1:$I$136, 3, FALSE )","v":"混合物"},null,{"$f":"VLOOKUP(F533,工作表9!$G$1:$H$142, 2, FALSE )","v":0},0]
[null,null,null,null,null,null,{"$f":"VLOOKUP(F534,工作表9!$G$1:$I$136, 3, FALSE )","v":"混合物"},null,{"$f":"VLOOKUP(F534,工作表9!$G$1:$H$142, 2, FALSE )","v":0},0]
[null,null,null,null,null,null,{"$f":"VLOOKUP(F535,工作表9!$G$1:$I$136, 3, FALSE )","v":"混合物"},null,{"$f":"VLOOKUP(F535,工作表9!$G$1:$H$142, 2, FALSE )","v":0},0]
[null,null,null,null,null,null,{"$f":"VLOOKUP(F536,工作表9!$G$1:$I$136, 3, FALSE )","v":"混合物"},null,{"$f":"VLOOKUP(F536,工作表9!$G$1:$H$142, 2, FALSE )","v":0},0]
[null,null,null,null,null,null,{"$f":"VLOOKUP(F537,工作表9!$G$1:$I$136, 3, FALSE )","v":"混合物"},null,{"$f":"VLOOKUP(F537,工作表9!$G$1:$H$142, 2, FALSE )","v":0},0]
[null,null,null,null,null,null,{"$f":"VLOOKUP(F538,工作表9!$G$1:$I$136, 3, FALSE )","v":"混合物"},null,{"$f":"VLOOKUP(F538,工作表9!$G$1:$H$142, 2, FALSE )","v":0},0]
[null,null,null,null,null,null,{"$f":"VLOOKUP(F539,工作表9!$G$1:$I$136, 3, FALSE )","v":"混合物"},null,{"$f":"VLOOKUP(F539,工作表9!$G$1:$H$142, 2, FALSE )","v":0},0]
[null,null,null,null,null,null,{"$f":"VLOOKUP(F540,工作表9!$G$1:$I$136, 3, FALSE )","v":"混合物"},null,{"$f":"VLOOKUP(F540,工作表9!$G$1:$H$142, 2, FALSE )","v":0},0]
[null,null,null,null,null,null,{"$f":"VLOOKUP(F541,工作表9!$G$1:$I$136, 3, FALSE )","v":"混合物"},null,{"$f":"VLOOKUP(F541,工作表9!$G$1:$H$142, 2, FALSE )","v":0},0]
[null,null,null,null,null,null,{"$f":"VLOOKUP(F542,工作表9!$G$1:$I$136, 3, FALSE )","v":"混合物"},null,{"$f":"VLOOKUP(F542,工作表9!$G$1:$H$142, 2, FALSE )","v":0},0]
[null,null,null,null,null,null,{"$f":"VLOOKUP(F543,工作表9!$G$1:$I$136, 3, FALSE )","v":"混合物"},null,{"$f":"VLOOKUP(F543,工作表9!$G$1:$H$142, 2, FALSE )","v":0},0]
[null,null,null,null,null,null,{"$f":"VLOOKUP(F544,工作表9!$G$1:$I$136, 3, FALSE )","v":"混合物"},null,{"$f":"VLOOKUP(F544,工作表9!$G$1:$H$142, 2, FALSE )","v":0},0]
[null,null,null,null,null,null,{"$f":"VLOOKUP(F545,工作表9!$G$1:$I$136, 3, FALSE )","v":"混合物"},null,{"$f":"VLOOKUP(F545,工作表9!$G$1:$H$142, 2, FALSE )","v":0},0]
[null,null,null,null,null,null,{"$f":"VLOOKUP(F546,工作表9!$G$1:$I$136, 3, FALSE )","v":"混合物"},null,{"$f":"VLOOKUP(F546,工作表9!$G$1:$H$142, 2, FALSE )","v":0},0]
[null,null,null,null,null,null,{"$f":"VLOOKUP(F547,工作表9!$G$1:$I$136, 3, FALSE )","v":"混合物"},null,{"$f":"VLOOKUP(F547,工作表9!$G$1:$H$142, 2, FALSE )","v":0},0]
[null,null,null,null,null,null,{"$f":"VLOOKUP(F548,工作表9!$G$1:$I$136, 3, FALSE )","v":"混合物"},null,{"$f":"VLOOKUP(F548,工作表9!$G$1:$H$142, 2, FALSE )","v":0},0]
[null,null,null,null,null,null,{"$f":"VLOOKUP(F549,工作表9!$G$1:$I$136, 3, FALSE )","v":"混合物"},null,{"$f":"VLOOKUP(F549,工作表9!$G$1:$H$142, 2, FALSE )","v":0},0]
[null,null,null,null,null,null,{"$f":"VLOOKUP(F550,工作表9!$G$1:$I$136, 3, FALSE )","v":"混合物"},null,{"$f":"VLOOKUP(F550,工作表9!$G$1:$H$142, 2, FALSE )","v":0},0]
[null,null,null,null,null,null,{"$f":"VLOOKUP(F551,工作表9!$G$1:$I$136, 3, FALSE )","v":"混合物"},null,{"$f":"VLOOKUP(F551,工作表9!$G$1:$H$142, 2, FALSE )","v":0},0]
[null,null,null,null,null,null,{"$f":"VLOOKUP(F552,工作表9!$G$1:$I$136, 3, FALSE )","v":"混合物"},null,{"$f":"VLOOKUP(F552,工作表9!$G$1:$H$142, 2, FALSE )","v":0},0]
[null,null,null,null,null,null,{"$f":"VLOOKUP(F553,工作表9!$G$1:$I$136, 3, FALSE )","v":"混合物"},null,{"$f":"VLOOKUP(F553,工作表9!$G$1:$H$142, 2, FALSE )","v":0},0]
[null,null,null,null,null,null,{"$f":"VLOOKUP(F554,工作表9!$G$1:$I$136, 3, FALSE )","v":"混合物"},null,{"$f":"VLOOKUP(F554,工作表9!$G$1:$H$142, 2, FALSE )","v":0},0]
[null,null,null,null,null,null,{"$f":"VLOOKUP(F555,工作表9!$G$1:$I$136, 3, FALSE )","v":"混合物"},null,{"$f":"VLOOKUP(F555,工作表9!$G$1:$H$142, 2, FALSE )","v":0},0]
[null,null,null,null,null,null,{"$f":"VLOOKUP(F556,工作表9!$G$1:$I$136, 3, FALSE )","v":"混合物"},null,{"$f":"VLOOKUP(F556,工作表9!$G$1:$H$142, 2, FALSE )","v":0},0]
[null,null,null,null,null,null,{"$f":"VLOOKUP(F557,工作表9!$G$1:$I$136, 3, FALSE )","v":"混合物"},null,{"$f":"VLOOKUP(F557,工作表9!$G$1:$H$142, 2, FALSE )","v":0},0]
[null,null,null,null,null,null,{"$f":"VLOOKUP(F558,工作表9!$G$1:$I$136, 3, FALSE )","v":"混合物"},null,{"$f":"VLOOKUP(F558,工作表9!$G$1:$H$142, 2, FALSE )","v":0},0]
[null,null,null,null,null,null,{"$f":"VLOOKUP(F559,工作表9!$G$1:$I$136, 3, FALSE )","v":"混合物"},null,{"$f":"VLOOKUP(F559,工作表9!$G$1:$H$142, 2, FALSE )","v":0},0]
[null,null,null,null,null,null,{"$f":"VLOOKUP(F560,工作表9!$G$1:$I$136, 3, FALSE )","v":"混合物"},null,{"$f":"VLOOKUP(F560,工作表9!$G$1:$H$142, 2, FALSE )","v":0},0]
[null,null,null,null,null,null,{"$f":"VLOOKUP(F561,工作表9!$G$1:$I$136, 3, FALSE )","v":"混合物"},null,{"$f":"VLOOKUP(F561,工作表9!$G$1:$H$142, 2, FALSE )","v":0},0]
[null,null,null,null,null,null,{"$f":"VLOOKUP(F562,工作表9!$G$1:$I$136, 3, FALSE )","v":"混合物"},null,{"$f":"VLOOKUP(F562,工作表9!$G$1:$H$142, 2, FALSE )","v":0},0]
[null,null,null,null,null,null,{"$f":"VLOOKUP(F563,工作表9!$G$1:$I$136, 3, FALSE )","v":"混合物"},null,{"$f":"VLOOKUP(F563,工作表9!$G$1:$H$142, 2, FALSE )","v":0},0]
[null,null,null,null,null,null,{"$f":"VLOOKUP(F564,工作表9!$G$1:$I$136, 3, FALSE )","v":"混合物"},null,{"$f":"VLOOKUP(F564,工作表9!$G$1:$H$142, 2, FALSE )","v":0},0]
[null,null,null,null,null,null,{"$f":"VLOOKUP(F565,工作表9!$G$1:$I$136, 3, FALSE )","v":"混合物"},null,{"$f":"VLOOKUP(F565,工作表9!$G$1:$H$142, 2, FALSE )","v":0},0]
[null,null,null,null,null,null,{"$f":"VLOOKUP(F566,工作表9!$G$1:$I$136, 3, FALSE )","v":"混合物"},null,{"$f":"VLOOKUP(F566,工作表9!$G$1:$H$142, 2, FALSE )","v":0},0]
[null,null,null,null,null,null,{"$f":"VLOOKUP(F567,工作表9!$G$1:$I$136, 3, FALSE )","v":"混合物"},null,{"$f":"VLOOKUP(F567,工作表9!$G$1:$H$142, 2, FALSE )","v":0},0]
[null,null,null,null,null,null,{"$f":"VLOOKUP(F568,工作表9!$G$1:$I$136, 3, FALSE )","v":"混合物"},null,{"$f":"VLOOKUP(F568,工作表9!$G$1:$H$142, 2, FALSE )","v":0},0]
[null,null,null,null,null,null,{"$f":"VLOOKUP(F569,工作表9!$G$1:$I$136, 3, FALSE )","v":"混合物"},null,{"$f":"VLOOKUP(F569,工作表9!$G$1:$H$142, 2, FALSE )","v":0},0]
[null,null,null,null,null,null,{"$f":"VLOOKUP(F570,工作表9!$G$1:$I$136, 3, FALSE )","v":"混合物"},null,{"$f":"VLOOKUP(F570,工作表9!$G$1:$H$142, 2, FALSE )","v":0},0]
[null,null,null,null,null,null,{"$f":"VLOOKUP(F571,工作表9!$G$1:$I$136, 3, FALSE )","v":"混合物"},null,{"$f":"VLOOKUP(F571,工作表9!$G$1:$H$142, 2, FALSE )","v":0},0]
[null,null,null,null,null,null,{"$f":"VLOOKUP(F572,工作表9!$G$1:$I$136, 3, FALSE )","v":"混合物"},null,{"$f":"VLOOKUP(F572,工作表9!$G$1:$H$142, 2, FALSE )","v":0},0]
[null,null,null,null,null,null,{"$f":"VLOOKUP(F573,工作表9!$G$1:$I$136, 3, FALSE )","v":"混合物"},null,{"$f":"VLOOKUP(F573,工作表9!$G$1:$H$142, 2, FALSE )","v":0},0]
[null,null,null,null,null,null,{"$f":"VLOOKUP(F574,工作表9!$G$1:$I$136, 3, FALSE )","v":"混合物"},null,{"$f":"VLOOKUP(F574,工作表9!$G$1:$H$142, 2, FALSE )","v":0},0]
[null,null,null,null,null,null,{"$f":"VLOOKUP(F575,工作表9!$G$1:$I$136, 3, FALSE )","v":"混合物"},null,{"$f":"VLOOKUP(F575,工作表9!$G$1:$H$142, 2, FALSE )","v":0},0]
[null,null,null,null,null,null,{"$f":"VLOOKUP(F576,工作表9!$G$1:$I$136, 3, FALSE )","v":"混合物"},null,{"$f":"VLOOKUP(F576,工作表9!$G$1:$H$142, 2, FALSE )","v":0},0]
[null,null,null,null,null,null,{"$f":"VLOOKUP(F577,工作表9!$G$1:$I$136, 3, FALSE )","v":"混合物"},null,{"$f":"VLOOKUP(F577,工作表9!$G$1:$H$142, 2, FALSE )","v":0},0]
[null,null,null,null,null,null,{"$f":"VLOOKUP(F578,工作表9!$G$1:$I$136, 3, FALSE )","v":"混合物"},null,{"$f":"VLOOKUP(F578,工作表9!$G$1:$H$142, 2, FALSE )","v":0},0]
[null,null,null,null,null,null,{"$f":"VLOOKUP(F579,工作表9!$G$1:$I$136, 3, FALSE )","v":"混合物"},null,{"$f":"VLOOKUP(F579,工作表9!$G$1:$H$142, 2, FALSE )","v":0},0]
[null,null,null,null,null,null,{"$f":"VLOOKUP(F580,工作表9!$G$1:$I$136, 3, FALSE )","v":"混合物"},null,{"$f":"VLOOKUP(F580,工作表9!$G$1:$H$142, 2, FALSE )","v":0},0]
[null,null,null,null,null,null,{"$f":"VLOOKUP(F581,工作表9!$G$1:$I$136, 3, FALSE )","v":"混合物"},null,{"$f":"VLOOKUP(F581,工作表9!$G$1:$H$142, 2, FALSE )","v":0},0]
[null,null,null,null,null,null,{"$f":"VLOOKUP(F582,工作表9!$G$1:$I$136, 3, FALSE )","v":"混合物"},null,{"$f":"VLOOKUP(F582,工作表9!$G$1:$H$142, 2, FALSE )","v":0},{"$f":"H582*I582","v":0}]
[null,null,null,null,null,null,{"$f":"VLOOKUP(F583,工作表9!$G$1:$I$136, 3, FALSE )","v":"混合物"},null,{"$f":"VLOOKUP(F583,工作表9!$G$1:$H$142, 2, FALSE )","v":0},0]
[null,null,null,null,null,null,{"$f":"VLOOKUP(F584,工作表9!$G$1:$I$136, 3, FALSE )","v":"混合物"},null,{"$f":"VLOOKUP(F584,工作表9!$G$1:$H$142, 2, FALSE )","v":0},0]
[null,null,null,null,null,null,{"$f":"VLOOKUP(F585,工作表9!$G$1:$I$136, 3, FALSE )","v":"混合物"},null,{"$f":"VLOOKUP(F585,工作表9!$G$1:$H$142, 2, FALSE )","v":0},0]
[null,null,null,null,null,null,{"$f":"VLOOKUP(F586,工作表9!$G$1:$I$136, 3, FALSE )","v":"混合物"},null,{"$f":"VLOOKUP(F586,工作表9!$G$1:$H$142, 2, FALSE )","v":0},0]
[null,null,null,null,null,null,{"$f":"VLOOKUP(F587,工作表9!$G$1:$I$136, 3, FALSE )","v":"混合物"},null,{"$f":"VLOOKUP(F587,工作表9!$G$1:$H$142, 2, FALSE )","v":0},0]
[null,null,null,null,null,null,{"$f":"VLOOKUP(F588,工作表9!$G$1:$I$136, 3, FALSE )","v":"混合物"},null,{"$f":"VLOOKUP(F588,工作表9!$G$1:$H$142, 2, FALSE )","v":0},0]
[null,null,null,null,null,null,{"$f":"VLOOKUP(F589,工作表9!$G$1:$I$136, 3, FALSE )","v":"混合物"},null,{"$f":"VLOOKUP(F589,工作表9!$G$1:$H$142, 2, FALSE )","v":0},0]
[null,null,null,null,null,null,{"$f":"VLOOKUP(F590,工作表9!$G$1:$I$136, 3, FALSE )","v":"混合物"},null,{"$f":"VLOOKUP(F590,工作表9!$G$1:$H$142, 2, FALSE )","v":0},0]
[null,null,null,null,null,null,{"$f":"VLOOKUP(F591,工作表9!$G$1:$I$136, 3, FALSE )","v":"混合物"},null,{"$f":"VLOOKUP(F591,工作表9!$G$1:$H$142, 2, FALSE )","v":0},0]
[null,null,null,null,null,null,{"$f":"VLOOKUP(F592,工作表9!$G$1:$I$136, 3, FALSE )","v":"混合物"},null,{"$f":"VLOOKUP(F592,工作表9!$G$1:$H$142, 2, FALSE )","v":0},0]
[null,null,null,null,null,null,{"$f":"VLOOKUP(F593,工作表9!$G$1:$I$136, 3, FALSE )","v":"混合物"},null,{"$f":"VLOOKUP(F593,工作表9!$G$1:$H$142, 2, FALSE )","v":0},0]
[null,null,null,null,null,null,{"$f":"VLOOKUP(F594,工作表9!$G$1:$I$136, 3, FALSE )","v":"混合物"},null,{"$f":"VLOOKUP(F594,工作表9!$G$1:$H$142, 2, FALSE )","v":0},0]
[null,null,null,null,null,null,{"$f":"VLOOKUP(F595,工作表9!$G$1:$I$136, 3, FALSE )","v":"混合物"},null,{"$f":"VLOOKUP(F595,工作表9!$G$1:$H$142, 2, FALSE )","v":0},0]
[null,null,null,null,null,null,{"$f":"VLOOKUP(F596,工作表9!$G$1:$I$136, 3, FALSE )","v":"混合物"},null,{"$f":"VLOOKUP(F596,工作表9!$G$1:$H$142, 2, FALSE )","v":0},0]
[null,null,null,null,null,null,{"$f":"VLOOKUP(F597,工作表9!$G$1:$I$136, 3, FALSE )","v":"混合物"},null,{"$f":"VLOOKUP(F597,工作表9!$G$1:$H$142, 2, FALSE )","v":0},0]
[null,null,null,null,null,null,{"$f":"VLOOKUP(F598,工作表9!$G$1:$I$136, 3, FALSE )","v":"混合物"},null,{"$f":"VLOOKUP(F598,工作表9!$G$1:$H$142, 2, FALSE )","v":0},0]
[null,null,null,null,null,null,{"$f":"VLOOKUP(F599,工作表9!$G$1:$I$136, 3, FALSE )","v":"混合物"},null,{"$f":"VLOOKUP(F599,工作表9!$G$1:$H$142, 2, FALSE )","v":0},0]
[null,null,null,null,null,null,{"$f":"VLOOKUP(F600,工作表9!$G$1:$I$136, 3, FALSE )","v":"混合物"},null,{"$f":"VLOOKUP(F600,工作表9!$G$1:$H$142, 2, FALSE )","v":0},0]
[null,null,null,null,null,null,{"$f":"VLOOKUP(F601,工作表9!$G$1:$I$136, 3, FALSE )","v":"混合物"},null,{"$f":"VLOOKUP(F601,工作表9!$G$1:$H$142, 2, FALSE )","v":0},0]
[null,null,null,null,null,null,{"$f":"VLOOKUP(F602,工作表9!$G$1:$I$136, 3, FALSE )","v":"混合物"},null,{"$f":"VLOOKUP(F602,工作表9!$G$1:$H$142, 2, FALSE )","v":0},0]
[null,null,null,null,null,null,{"$f":"VLOOKUP(F603,工作表9!$G$1:$I$136, 3, FALSE )","v":"混合物"},null,{"$f":"VLOOKUP(F603,工作表9!$G$1:$H$142, 2, FALSE )","v":0},0]
[null,null,null,null,null,null,{"$f":"VLOOKUP(F604,工作表9!$G$1:$I$136, 3, FALSE )","v":"混合物"},null,{"$f":"VLOOKUP(F604,工作表9!$G$1:$H$142, 2, FALSE )","v":0},0]
[null,null,null,null,null,null,{"$f":"VLOOKUP(F605,工作表9!$G$1:$I$136, 3, FALSE )","v":"混合物"},null,{"$f":"VLOOKUP(F605,工作表9!$G$1:$H$142, 2, FALSE )","v":0},0]
[null,null,null,null,null,null,{"$f":"VLOOKUP(F606,工作表9!$G$1:$I$136, 3, FALSE )","v":"混合物"},null,{"$f":"VLOOKUP(F606,工作表9!$G$1:$H$142, 2, FALSE )","v":0},0]
[null,null,null,null,null,null,{"$f":"VLOOKUP(F607,工作表9!$G$1:$I$136, 3, FALSE )","v":"混合物"},null,{"$f":"VLOOKUP(F607,工作表9!$G$1:$H$142, 2, FALSE )","v":0},0]
[null,null,null,null,null,null,{"$f":"VLOOKUP(F608,工作表9!$G$1:$I$136, 3, FALSE )","v":"混合物"},null,{"$f":"VLOOKUP(F608,工作表9!$G$1:$H$142, 2, FALSE )","v":0},0]
[null,null,null,null,null,null,{"$f":"VLOOKUP(F609,工作表9!$G$1:$I$136, 3, FALSE )","v":"混合物"},null,{"$f":"VLOOKUP(F609,工作表9!$G$1:$H$142, 2, FALSE )","v":0},0]
[null,null,null,null,null,null,{"$f":"VLOOKUP(F610,工作表9!$G$1:$I$136, 3, FALSE )","v":"混合物"},null,{"$f":"VLOOKUP(F610,工作表9!$G$1:$H$142, 2, FALSE )","v":0},0]
[null,null,null,null,null,null,{"$f":"VLOOKUP(F611,工作表9!$G$1:$I$136, 3, FALSE )","v":"混合物"},null,{"$f":"VLOOKUP(F611,工作表9!$G$1:$H$142, 2, FALSE )","v":0},0]
[null,null,null,null,null,null,{"$f":"VLOOKUP(F612,工作表9!$G$1:$I$136, 3, FALSE )","v":"混合物"},null,{"$f":"VLOOKUP(F612,工作表9!$G$1:$H$142, 2, FALSE )","v":0},0]
[null,null,null,null,null,null,{"$f":"VLOOKUP(F613,工作表9!$G$1:$I$136, 3, FALSE )","v":"混合物"},null,{"$f":"VLOOKUP(F613,工作表9!$G$1:$H$142, 2, FALSE )","v":0},0]
[null,null,null,null,null,null,{"$f":"VLOOKUP(F614,工作表9!$G$1:$I$136, 3, FALSE )","v":"混合物"},null,{"$f":"VLOOKUP(F614,工作表9!$G$1:$H$142, 2, FALSE )","v":0},0]
[null,null,null,null,null,null,{"$f":"VLOOKUP(F615,工作表9!$G$1:$I$136, 3, FALSE )","v":"混合物"},null,{"$f":"VLOOKUP(F615,工作表9!$G$1:$H$142, 2, FALSE )","v":0},0]
[null,null,null,null,null,null,{"$f":"VLOOKUP(F616,工作表9!$G$1:$I$136, 3, FALSE )","v":"混合物"},null,{"$f":"VLOOKUP(F616,工作表9!$G$1:$H$142, 2, FALSE )","v":0},0]
[null,null,null,null,null,null,{"$f":"VLOOKUP(F617,工作表9!$G$1:$I$136, 3, FALSE )","v":"混合物"},null,{"$f":"VLOOKUP(F617,工作表9!$G$1:$H$142, 2, FALSE )","v":0},0]
[null,null,null,null,null,null,{"$f":"VLOOKUP(F618,工作表9!$G$1:$I$136, 3, FALSE )","v":"混合物"},null,{"$f":"VLOOKUP(F618,工作表9!$G$1:$H$142, 2, FALSE )","v":0},0]
[null,null,null,null,null,null,{"$f":"VLOOKUP(F619,工作表9!$G$1:$I$136, 3, FALSE )","v":"混合物"},null,{"$f":"VLOOKUP(F619,工作表9!$G$1:$H$142, 2, FALSE )","v":0},0]
[null,null,null,null,null,null,{"$f":"VLOOKUP(F620,工作表9!$G$1:$I$136, 3, FALSE )","v":"混合物"},null,{"$f":"VLOOKUP(F620,工作表9!$G$1:$H$142, 2, FALSE )","v":0},0]
[null,null,null,null,null,null,{"$f":"VLOOKUP(F621,工作表9!$G$1:$I$136, 3, FALSE )","v":"混合物"},null,{"$f":"VLOOKUP(F621,工作表9!$G$1:$H$142, 2, FALSE )","v":0},0]
[null,null,null,null,null,null,{"$f":"VLOOKUP(F622,工作表9!$G$1:$I$136, 3, FALSE )","v":"混合物"},null,{"$f":"VLOOKUP(F622,工作表9!$G$1:$H$142, 2, FALSE )","v":0},0]
[null,null,null,null,null,null,{"$f":"VLOOKUP(F623,工作表9!$G$1:$I$136, 3, FALSE )","v":"混合物"},null,{"$f":"VLOOKUP(F623,工作表9!$G$1:$H$142, 2, FALSE )","v":0},0]
[null,null,null,null,null,null,{"$f":"VLOOKUP(F624,工作表9!$G$1:$I$136, 3, FALSE )","v":"混合物"},null,{"$f":"VLOOKUP(F624,工作表9!$G$1:$H$142, 2, FALSE )","v":0},0]
[null,null,null,null,null,null,{"$f":"VLOOKUP(F625,工作表9!$G$1:$I$136, 3, FALSE )","v":"混合物"},null,{"$f":"VLOOKUP(F625,工作表9!$G$1:$H$142, 2, FALSE )","v":0},0]
[null,null,null,null,null,null,{"$f":"VLOOKUP(F626,工作表9!$G$1:$I$136, 3, FALSE )","v":"混合物"},null,{"$f":"VLOOKUP(F626,工作表9!$G$1:$H$142, 2, FALSE )","v":0},0]
[null,null,null,null,null,null,{"$f":"VLOOKUP(F627,工作表9!$G$1:$I$136, 3, FALSE )","v":"混合物"},null,{"$f":"VLOOKUP(F627,工作表9!$G$1:$H$142, 2, FALSE )","v":0},0]
[null,null,null,null,null,null,{"$f":"VLOOKUP(F628,工作表9!$G$1:$I$136, 3, FALSE )","v":"混合物"},null,{"$f":"VLOOKUP(F628,工作表9!$G$1:$H$142, 2, FALSE )","v":0},0]
[null,null,null,null,null,null,{"$f":"VLOOKUP(F629,工作表9!$G$1:$I$136, 3, FALSE )","v":"混合物"},null,{"$f":"VLOOKUP(F629,工作表9!$G$1:$H$142, 2, FALSE )","v":0},0]
[null,null,null,null,null,null,{"$f":"VLOOKUP(F630,工作表9!$G$1:$I$136, 3, FALSE )","v":"混合物"},null,{"$f":"VLOOKUP(F630,工作表9!$G$1:$H$142, 2, FALSE )","v":0},0]
[null,null,null,null,null,null,{"$f":"VLOOKUP(F631,工作表9!$G$1:$I$136, 3, FALSE )","v":"混合物"},null,{"$f":"VLOOKUP(F631,工作表9!$G$1:$H$142, 2, FALSE )","v":0},0]
[null,null,null,null,null,null,{"$f":"VLOOKUP(F632,工作表9!$G$1:$I$136, 3, FALSE )","v":"混合物"},null,{"$f":"VLOOKUP(F632,工作表9!$G$1:$H$142, 2, FALSE )","v":0},0]
[null,null,null,null,null,null,{"$f":"VLOOKUP(F633,工作表9!$G$1:$I$136, 3, FALSE )","v":"混合物"},null,{"$f":"VLOOKUP(F633,工作表9!$G$1:$H$142, 2, FALSE )","v":0},0]
[null,null,null,null,null,null,{"$f":"VLOOKUP(F634,工作表9!$G$1:$I$136, 3, FALSE )","v":"混合物"},null,{"$f":"VLOOKUP(F634,工作表9!$G$1:$H$142, 2, FALSE )","v":0},0]
[null,null,null,null,null,null,{"$f":"VLOOKUP(F635,工作表9!$G$1:$I$136, 3, FALSE )","v":"混合物"},null,{"$f":"VLOOKUP(F635,工作表9!$G$1:$H$142, 2, FALSE )","v":0},0]
[null,null,null,null,null,null,{"$f":"VLOOKUP(F636,工作表9!$G$1:$I$136, 3, FALSE )","v":"混合物"},null,{"$f":"VLOOKUP(F636,工作表9!$G$1:$H$142, 2, FALSE )","v":0},0]
[null,null,null,null,null,null,{"$f":"VLOOKUP(F637,工作表9!$G$1:$I$136, 3, FALSE )","v":"混合物"},null,{"$f":"VLOOKUP(F637,工作表9!$G$1:$H$142, 2, FALSE )","v":0},0]
[null,null,null,null,null,null,{"$f":"VLOOKUP(F638,工作表9!$G$1:$I$136, 3, FALSE )","v":"混合物"},null,{"$f":"VLOOKUP(F638,工作表9!$G$1:$H$142, 2, FALSE )","v":0},0]
[null,null,null,null,null,null,{"$f":"VLOOKUP(F639,工作表9!$G$1:$I$136, 3, FALSE )","v":"混合物"},null,{"$f":"VLOOKUP(F639,工作表9!$G$1:$H$142, 2, FALSE )","v":0},0]
[null,null,null,null,null,null,{"$f":"VLOOKUP(F640,工作表9!$G$1:$I$136, 3, FALSE )","v":"混合物"},null,{"$f":"VLOOKUP(F640,工作表9!$G$1:$H$142, 2, FALSE )","v":0},0]
[null,null,null,null,null,null,{"$f":"VLOOKUP(F641,工作表9!$G$1:$I$136, 3, FALSE )","v":"混合物"},null,{"$f":"VLOOKUP(F641,工作表9!$G$1:$H$142, 2, FALSE )","v":0},0]
[null,null,null,null,null,null,{"$f":"VLOOKUP(F642,工作表9!$G$1:$I$136, 3, FALSE )","v":"混合物"},null,{"$f":"VLOOKUP(F642,工作表9!$G$1:$H$142, 2, FALSE )","v":0},0]
[null,null,null,null,null,null,{"$f":"VLOOKUP(F643,工作表9!$G$1:$I$136, 3, FALSE )","v":"混合物"},null,{"$f":"VLOOKUP(F643,工作表9!$G$1:$H$142, 2, FALSE )","v":0},0]
[null,null,null,null,null,null,{"$f":"VLOOKUP(F644,工作表9!$G$1:$I$136, 3, FALSE )","v":"混合物"},null,{"$f":"VLOOKUP(F644,工作表9!$G$1:$H$142, 2, FALSE )","v":0},0]
[null,null,null,null,null,null,{"$f":"VLOOKUP(F645,工作表9!$G$1:$I$136, 3, FALSE )","v":"混合物"},null,{"$f":"VLOOKUP(F645,工作表9!$G$1:$H$142, 2, FALSE )","v":0},0]
[null,null,null,null,null,null,{"$f":"VLOOKUP(F646,工作表9!$G$1:$I$136, 3, FALSE )","v":"混合物"},null,{"$f":"VLOOKUP(F646,工作表9!$G$1:$H$142, 2, FALSE )","v":0},{"$f":"H646*I646","v":0}]
[null,null,null,null,null,null,{"$f":"VLOOKUP(F647,工作表9!$G$1:$I$136, 3, FALSE )","v":"混合物"},null,{"$f":"VLOOKUP(F647,工作表9!$G$1:$H$142, 2, FALSE )","v":0},0]
[null,null,null,null,null,null,{"$f":"VLOOKUP(F648,工作表9!$G$1:$I$136, 3, FALSE )","v":"混合物"},null,{"$f":"VLOOKUP(F648,工作表9!$G$1:$H$142, 2, FALSE )","v":0},0]
[null,null,null,null,null,null,{"$f":"VLOOKUP(F649,工作表9!$G$1:$I$136, 3, FALSE )","v":"混合物"},null,{"$f":"VLOOKUP(F649,工作表9!$G$1:$H$142, 2, FALSE )","v":0},0]
[null,null,null,null,null,null,{"$f":"VLOOKUP(F650,工作表9!$G$1:$I$136, 3, FALSE )","v":"混合物"},null,{"$f":"VLOOKUP(F650,工作表9!$G$1:$H$142, 2, FALSE )","v":0},0]
[null,null,null,null,null,null,{"$f":"VLOOKUP(F651,工作表9!$G$1:$I$136, 3, FALSE )","v":"混合物"},null,{"$f":"VLOOKUP(F651,工作表9!$G$1:$H$142, 2, FALSE )","v":0},0]
[null,null,null,null,null,null,{"$f":"VLOOKUP(F652,工作表9!$G$1:$I$136, 3, FALSE )","v":"混合物"},null,{"$f":"VLOOKUP(F652,工作表9!$G$1:$H$142, 2, FALSE )","v":0},0]
[null,null,null,null,null,null,{"$f":"VLOOKUP(F653,工作表9!$G$1:$I$136, 3, FALSE )","v":"混合物"},null,{"$f":"VLOOKUP(F653,工作表9!$G$1:$H$142, 2, FALSE )","v":0},0]
[null,null,null,null,null,null,{"$f":"VLOOKUP(F654,工作表9!$G$1:$I$136, 3, FALSE )","v":"混合物"},null,{"$f":"VLOOKUP(F654,工作表9!$G$1:$H$142, 2, FALSE )","v":0},0]
[null,null,null,null,null,null,{"$f":"VLOOKUP(F655,工作表9!$G$1:$I$136, 3, FALSE )","v":"混合物"},null,{"$f":"VLOOKUP(F655,工作表9!$G$1:$H$142, 2, FALSE )","v":0},0]
[null,null,null,null,null,null,{"$f":"VLOOKUP(F656,工作表9!$G$1:$I$136, 3, FALSE )","v":"混合物"},null,{"$f":"VLOOKUP(F656,工作表9!$G$1:$H$142, 2, FALSE )","v":0},0]
[null,null,null,null,null,null,{"$f":"VLOOKUP(F657,工作表9!$G$1:$I$136, 3, FALSE )","v":"混合物"},null,{"$f":"VLOOKUP(F657,工作表9!$G$1:$H$142, 2, FALSE )","v":0},0]
[null,null,null,null,null,null,{"$f":"VLOOKUP(F658,工作表9!$G$1:$I$136, 3, FALSE )","v":"混合物"},null,{"$f":"VLOOKUP(F658,工作表9!$G$1:$H$142, 2, FALSE )","v":0},0]
[null,null,null,null,null,null,{"$f":"VLOOKUP(F659,工作表9!$G$1:$I$136, 3, FALSE )","v":"混合物"},null,{"$f":"VLOOKUP(F659,工作表9!$G$1:$H$142, 2, FALSE )","v":0},0]
[null,null,null,null,null,null,{"$f":"VLOOKUP(F660,工作表9!$G$1:$I$136, 3, FALSE )","v":"混合物"},null,{"$f":"VLOOKUP(F660,工作表9!$G$1:$H$142, 2, FALSE )","v":0},0]
[null,null,null,null,null,null,{"$f":"VLOOKUP(F661,工作表9!$G$1:$I$136, 3, FALSE )","v":"混合物"},null,{"$f":"VLOOKUP(F661,工作表9!$G$1:$H$142, 2, FALSE )","v":0},0]
[null,null,null,null,null,null,{"$f":"VLOOKUP(F662,工作表9!$G$1:$I$136, 3, FALSE )","v":"混合物"},null,{"$f":"VLOOKUP(F662,工作表9!$G$1:$H$142, 2, FALSE )","v":0},0]
[null,null,null,null,null,null,{"$f":"VLOOKUP(F663,工作表9!$G$1:$I$136, 3, FALSE )","v":"混合物"},null,{"$f":"VLOOKUP(F663,工作表9!$G$1:$H$142, 2, FALSE )","v":0},0]
[null,null,null,null,null,null,{"$f":"VLOOKUP(F664,工作表9!$G$1:$I$136, 3, FALSE )","v":"混合物"},null,{"$f":"VLOOKUP(F664,工作表9!$G$1:$H$142, 2, FALSE )","v":0},0]
[null,null,null,null,null,null,{"$f":"VLOOKUP(F665,工作表9!$G$1:$I$136, 3, FALSE )","v":"混合物"},null,{"$f":"VLOOKUP(F665,工作表9!$G$1:$H$142, 2, FALSE )","v":0},0]
[null,null,null,null,null,null,{"$f":"VLOOKUP(F666,工作表9!$G$1:$I$136, 3, FALSE )","v":"混合物"},null,{"$f":"VLOOKUP(F666,工作表9!$G$1:$H$142, 2, FALSE )","v":0},0]
[null,null,null,null,null,null,{"$f":"VLOOKUP(F667,工作表9!$G$1:$I$136, 3, FALSE )","v":"混合物"},null,{"$f":"VLOOKUP(F667,工作表9!$G$1:$H$142, 2, FALSE )","v":0},0]
[null,null,null,null,null,null,{"$f":"VLOOKUP(F668,工作表9!$G$1:$I$136, 3, FALSE )","v":"混合物"},null,{"$f":"VLOOKUP(F668,工作表9!$G$1:$H$142, 2, FALSE )","v":0},0]
[null,null,null,null,null,null,{"$f":"VLOOKUP(F669,工作表9!$G$1:$I$136, 3, FALSE )","v":"混合物"},null,{"$f":"VLOOKUP(F669,工作表9!$G$1:$H$142, 2, FALSE )","v":0},0]
[null,null,null,null,null,null,{"$f":"VLOOKUP(F670,工作表9!$G$1:$I$136, 3, FALSE )","v":"混合物"},null,{"$f":"VLOOKUP(F670,工作表9!$G$1:$H$142, 2, FALSE )","v":0},0]
[null,null,null,null,null,null,{"$f":"VLOOKUP(F671,工作表9!$G$1:$I$136, 3, FALSE )","v":"混合物"},null,{"$f":"VLOOKUP(F671,工作表9!$G$1:$H$142, 2, FALSE )","v":0},0]
[null,null,null,null,null,null,{"$f":"VLOOKUP(F672,工作表9!$G$1:$I$136, 3, FALSE )","v":"混合物"},null,{"$f":"VLOOKUP(F672,工作表9!$G$1:$H$142, 2, FALSE )","v":0},0]
[null,null,null,null,null,null,{"$f":"VLOOKUP(F673,工作表9!$G$1:$I$136, 3, FALSE )","v":"混合物"},null,{"$f":"VLOOKUP(F673,工作表9!$G$1:$H$142, 2, FALSE )","v":0},0]
[null,null,null,null,null,null,{"$f":"VLOOKUP(F674,工作表9!$G$1:$I$136, 3, FALSE )","v":"混合物"},null,{"$f":"VLOOKUP(F674,工作表9!$G$1:$H$142, 2, FALSE )","v":0},0]
[null,null,null,null,null,null,{"$f":"VLOOKUP(F675,工作表9!$G$1:$I$136, 3, FALSE )","v":"混合物"},null,{"$f":"VLOOKUP(F675,工作表9!$G$1:$H$142, 2, FALSE )","v":0},0]
[null,null,null,null,null,null,{"$f":"VLOOKUP(F676,工作表9!$G$1:$I$136, 3, FALSE )","v":"混合物"},null,{"$f":"VLOOKUP(F676,工作表9!$G$1:$H$142, 2, FALSE )","v":0},0]
[null,null,null,null,null,null,{"$f":"VLOOKUP(F677,工作表9!$G$1:$I$136, 3, FALSE )","v":"混合物"},null,{"$f":"VLOOKUP(F677,工作表9!$G$1:$H$142, 2, FALSE )","v":0},0]
[null,null,null,null,null,null,{"$f":"VLOOKUP(F678,工作表9!$G$1:$I$136, 3, FALSE )","v":"混合物"},null,{"$f":"VLOOKUP(F678,工作表9!$G$1:$H$142, 2, FALSE )","v":0},0]
[null,null,null,null,null,null,{"$f":"VLOOKUP(F679,工作表9!$G$1:$I$136, 3, FALSE )","v":"混合物"},null,{"$f":"VLOOKUP(F679,工作表9!$G$1:$H$142, 2, FALSE )","v":0},0]
[null,null,null,null,null,null,{"$f":"VLOOKUP(F680,工作表9!$G$1:$I$136, 3, FALSE )","v":"混合物"},null,{"$f":"VLOOKUP(F680,工作表9!$G$1:$H$142, 2, FALSE )","v":0},0]
[null,null,null,null,null,null,{"$f":"VLOOKUP(F681,工作表9!$G$1:$I$136, 3, FALSE )","v":"混合物"},null,{"$f":"VLOOKUP(F681,工作表9!$G$1:$H$142, 2, FALSE )","v":0},0]
[null,null,null,null,null,null,{"$f":"VLOOKUP(F682,工作表9!$G$1:$I$136, 3, FALSE )","v":"混合物"},null,{"$f":"VLOOKUP(F682,工作表9!$G$1:$H$142, 2, FALSE )","v":0},0]
[null,null,null,null,null,null,{"$f":"VLOOKUP(F683,工作表9!$G$1:$I$136, 3, FALSE )","v":"混合物"},null,{"$f":"VLOOKUP(F683,工作表9!$G$1:$H$142, 2, FALSE )","v":0},0]
[null,null,null,null,null,null,{"$f":"VLOOKUP(F684,工作表9!$G$1:$I$136, 3, FALSE )","v":"混合物"},null,{"$f":"VLOOKUP(F684,工作表9!$G$1:$H$142, 2, FALSE )","v":0},0]
[null,null,null,null,null,null,{"$f":"VLOOKUP(F685,工作表9!$G$1:$I$136, 3, FALSE )","v":"混合物"},null,{"$f":"VLOOKUP(F685,工作表9!$G$1:$H$142, 2, FALSE )","v":0},0]
[null,null,null,null,null,null,{"$f":"VLOOKUP(F686,工作表9!$G$1:$I$136, 3, FALSE )","v":"混合物"},null,{"$f":"VLOOKUP(F686,工作表9!$G$1:$H$142, 2, FALSE )","v":0},0]
[null,null,null,null,null,null,{"$f":"VLOOKUP(F687,工作表9!$G$1:$I$136, 3, FALSE )","v":"混合物"},null,{"$f":"VLOOKUP(F687,工作表9!$G$1:$H$142, 2, FALSE )","v":0},0]
[null,null,null,null,null,null,{"$f":"VLOOKUP(F688,工作表9!$G$1:$I$136, 3, FALSE )","v":"混合物"},null,{"$f":"VLOOKUP(F688,工作表9!$G$1:$H$142, 2, FALSE )","v":0},0]
[null,null,null,null,null,null,{"$f":"VLOOKUP(F689,工作表9!$G$1:$I$136, 3, FALSE )","v":"混合物"},null,{"$f":"VLOOKUP(F689,工作表9!$G$1:$H$142, 2, FALSE )","v":0},0]
[null,null,null,null,null,null,{"$f":"VLOOKUP(F690,工作表9!$G$1:$I$136, 3, FALSE )","v":"混合物"},null,{"$f":"VLOOKUP(F690,工作表9!$G$1:$H$142, 2, FALSE )","v":0},0]
[null,null,null,null,null,null,{"$f":"VLOOKUP(F691,工作表9!$G$1:$I$136, 3, FALSE )","v":"混合物"},null,{"$f":"VLOOKUP(F691,工作表9!$G$1:$H$142, 2, FALSE )","v":0},0]
[null,null,null,null,null,null,{"$f":"VLOOKUP(F692,工作表9!$G$1:$I$136, 3, FALSE )","v":"混合物"},null,{"$f":"VLOOKUP(F692,工作表9!$G$1:$H$142, 2, FALSE )","v":0},0]
[null,null,null,null,null,null,{"$f":"VLOOKUP(F693,工作表9!$G$1:$I$136, 3, FALSE )","v":"混合物"},null,{"$f":"VLOOKUP(F693,工作表9!$G$1:$H$142, 2, FALSE )","v":0},0]
[null,null,null,null,null,null,{"$f":"VLOOKUP(F694,工作表9!$G$1:$I$136, 3, FALSE )","v":"混合物"},null,{"$f":"VLOOKUP(F694,工作表9!$G$1:$H$142, 2, FALSE )","v":0},0]
[null,null,null,null,null,null,{"$f":"VLOOKUP(F695,工作表9!$G$1:$I$136, 3, FALSE )","v":"混合物"},null,{"$f":"VLOOKUP(F695,工作表9!$G$1:$H$142, 2, FALSE )","v":0},0]
[null,null,null,null,null,null,{"$f":"VLOOKUP(F696,工作表9!$G$1:$I$136, 3, FALSE )","v":"混合物"},null,{"$f":"VLOOKUP(F696,工作表9!$G$1:$H$142, 2, FALSE )","v":0},0]
[null,null,null,null,null,null,{"$f":"VLOOKUP(F697,工作表9!$G$1:$I$136, 3, FALSE )","v":"混合物"},null,{"$f":"VLOOKUP(F697,工作表9!$G$1:$H$142, 2, FALSE )","v":0},0]
[null,null,null,null,null,null,{"$f":"VLOOKUP(F698,工作表9!$G$1:$I$136, 3, FALSE )","v":"混合物"},null,{"$f":"VLOOKUP(F698,工作表9!$G$1:$H$142, 2, FALSE )","v":0},0]
[null,null,null,null,null,null,{"$f":"VLOOKUP(F699,工作表9!$G$1:$I$136, 3, FALSE )","v":"混合物"},null,{"$f":"VLOOKUP(F699,工作表9!$G$1:$H$142, 2, FALSE )","v":0},0]
[null,null,null,null,null,null,{"$f":"VLOOKUP(F700,工作表9!$G$1:$I$136, 3, FALSE )","v":"混合物"},null,{"$f":"VLOOKUP(F700,工作表9!$G$1:$H$142, 2, FALSE )","v":0},0]
[null,null,null,null,null,null,{"$f":"VLOOKUP(F701,工作表9!$G$1:$I$136, 3, FALSE )","v":"混合物"},null,{"$f":"VLOOKUP(F701,工作表9!$G$1:$H$142, 2, FALSE )","v":0},0]
[null,null,null,null,null,null,{"$f":"VLOOKUP(F702,工作表9!$G$1:$I$136, 3, FALSE )","v":"混合物"},null,{"$f":"VLOOKUP(F702,工作表9!$G$1:$H$142, 2, FALSE )","v":0},0]
[null,null,null,null,null,null,{"$f":"VLOOKUP(F703,工作表9!$G$1:$I$136, 3, FALSE )","v":"混合物"},null,{"$f":"VLOOKUP(F703,工作表9!$G$1:$H$142, 2, FALSE )","v":0},0]
[null,null,null,null,null,null,{"$f":"VLOOKUP(F704,工作表9!$G$1:$I$136, 3, FALSE )","v":"混合物"},null,{"$f":"VLOOKUP(F704,工作表9!$G$1:$H$142, 2, FALSE )","v":0},0]
[null,null,null,null,null,null,{"$f":"VLOOKUP(F705,工作表9!$G$1:$I$136, 3, FALSE )","v":"混合物"},null,{"$f":"VLOOKUP(F705,工作表9!$G$1:$H$142, 2, FALSE )","v":0},0]
[null,null,null,null,null,null,{"$f":"VLOOKUP(F706,工作表9!$G$1:$I$136, 3, FALSE )","v":"混合物"},null,{"$f":"VLOOKUP(F706,工作表9!$G$1:$H$142, 2, FALSE )","v":0},0]
[null,null,null,null,null,null,{"$f":"VLOOKUP(F707,工作表9!$G$1:$I$136, 3, FALSE )","v":"混合物"},null,{"$f":"VLOOKUP(F707,工作表9!$G$1:$H$142, 2, FALSE )","v":0},0]
[null,null,null,null,null,null,{"$f":"VLOOKUP(F708,工作表9!$G$1:$I$136, 3, FALSE )","v":"混合物"},null,{"$f":"VLOOKUP(F708,工作表9!$G$1:$H$142, 2, FALSE )","v":0},0]
[null,null,null,null,null,null,{"$f":"VLOOKUP(F709,工作表9!$G$1:$I$136, 3, FALSE )","v":"混合物"},null,{"$f":"VLOOKUP(F709,工作表9!$G$1:$H$142, 2, FALSE )","v":0},0]
[null,null,null,null,null,null,{"$f":"VLOOKUP(F710,工作表9!$G$1:$I$136, 3, FALSE )","v":"混合物"},null,{"$f":"VLOOKUP(F710,工作表9!$G$1:$H$142, 2, FALSE )","v":0},{"$f":"H710*I710","v":0}]
[null,null,null,null,null,null,{"$f":"VLOOKUP(F711,工作表9!$G$1:$I$136, 3, FALSE )","v":"混合物"},null,{"$f":"VLOOKUP(F711,工作表9!$G$1:$H$142, 2, FALSE )","v":0},0]
[null,null,null,null,null,null,{"$f":"VLOOKUP(F712,工作表9!$G$1:$I$136, 3, FALSE )","v":"混合物"},null,{"$f":"VLOOKUP(F712,工作表9!$G$1:$H$142, 2, FALSE )","v":0},0]
[null,null,null,null,null,null,{"$f":"VLOOKUP(F713,工作表9!$G$1:$I$136, 3, FALSE )","v":"混合物"},null,{"$f":"VLOOKUP(F713,工作表9!$G$1:$H$142, 2, FALSE )","v":0},0]
[null,null,null,null,null,null,{"$f":"VLOOKUP(F714,工作表9!$G$1:$I$136, 3, FALSE )","v":"混合物"},null,{"$f":"VLOOKUP(F714,工作表9!$G$1:$H$142, 2, FALSE )","v":0},0]
[null,null,null,null,null,null,{"$f":"VLOOKUP(F715,工作表9!$G$1:$I$136, 3, FALSE )","v":"混合物"},null,{"$f":"VLOOKUP(F715,工作表9!$G$1:$H$142, 2, FALSE )","v":0},0]
[null,null,null,null,null,null,{"$f":"VLOOKUP(F716,工作表9!$G$1:$I$136, 3, FALSE )","v":"混合物"},null,{"$f":"VLOOKUP(F716,工作表9!$G$1:$H$142, 2, FALSE )","v":0},0]
[null,null,null,null,null,null,{"$f":"VLOOKUP(F717,工作表9!$G$1:$I$136, 3, FALSE )","v":"混合物"},null,{"$f":"VLOOKUP(F717,工作表9!$G$1:$H$142, 2, FALSE )","v":0},0]
[null,null,null,null,null,null,{"$f":"VLOOKUP(F718,工作表9!$G$1:$I$136, 3, FALSE )","v":"混合物"},null,{"$f":"VLOOKUP(F718,工作表9!$G$1:$H$142, 2, FALSE )","v":0},0]
[null,null,null,null,null,null,{"$f":"VLOOKUP(F719,工作表9!$G$1:$I$136, 3, FALSE )","v":"混合物"},null,{"$f":"VLOOKUP(F719,工作表9!$G$1:$H$142, 2, FALSE )","v":0},0]
[null,null,null,null,null,null,{"$f":"VLOOKUP(F720,工作表9!$G$1:$I$136, 3, FALSE )","v":"混合物"},null,{"$f":"VLOOKUP(F720,工作表9!$G$1:$H$142, 2, FALSE )","v":0},0]
[null,null,null,null,null,null,{"$f":"VLOOKUP(F721,工作表9!$G$1:$I$136, 3, FALSE )","v":"混合物"},null,{"$f":"VLOOKUP(F721,工作表9!$G$1:$H$142, 2, FALSE )","v":0},0]
[null,null,null,null,null,null,{"$f":"VLOOKUP(F722,工作表9!$G$1:$I$136, 3, FALSE )","v":"混合物"},null,{"$f":"VLOOKUP(F722,工作表9!$G$1:$H$142, 2, FALSE )","v":0},0]
[null,null,null,null,null,null,{"$f":"VLOOKUP(F723,工作表9!$G$1:$I$136, 3, FALSE )","v":"混合物"},null,{"$f":"VLOOKUP(F723,工作表9!$G$1:$H$142, 2, FALSE )","v":0},0]
[null,null,null,null,null,null,{"$f":"VLOOKUP(F724,工作表9!$G$1:$I$136, 3, FALSE )","v":"混合物"},null,{"$f":"VLOOKUP(F724,工作表9!$G$1:$H$142, 2, FALSE )","v":0},0]
[null,null,null,null,null,null,{"$f":"VLOOKUP(F725,工作表9!$G$1:$I$136, 3, FALSE )","v":"混合物"},null,{"$f":"VLOOKUP(F725,工作表9!$G$1:$H$142, 2, FALSE )","v":0},0]
[null,null,null,null,null,null,{"$f":"VLOOKUP(F726,工作表9!$G$1:$I$136, 3, FALSE )","v":"混合物"},null,{"$f":"VLOOKUP(F726,工作表9!$G$1:$H$142, 2, FALSE )","v":0},0]
[null,null,null,null,null,null,{"$f":"VLOOKUP(F727,工作表9!$G$1:$I$136, 3, FALSE )","v":"混合物"},null,{"$f":"VLOOKUP(F727,工作表9!$G$1:$H$142, 2, FALSE )","v":0},0]
[null,null,null,null,null,null,{"$f":"VLOOKUP(F728,工作表9!$G$1:$I$136, 3, FALSE )","v":"混合物"},null,{"$f":"VLOOKUP(F728,工作表9!$G$1:$H$142, 2, FALSE )","v":0},0]
[null,null,null,null,null,null,{"$f":"VLOOKUP(F729,工作表9!$G$1:$I$136, 3, FALSE )","v":"混合物"},null,{"$f":"VLOOKUP(F729,工作表9!$G$1:$H$142, 2, FALSE )","v":0},0]
[null,null,null,null,null,null,{"$f":"VLOOKUP(F730,工作表9!$G$1:$I$136, 3, FALSE )","v":"混合物"},null,{"$f":"VLOOKUP(F730,工作表9!$G$1:$H$142, 2, FALSE )","v":0},0]
[null,null,null,null,null,null,{"$f":"VLOOKUP(F731,工作表9!$G$1:$I$136, 3, FALSE )","v":"混合物"},null,{"$f":"VLOOKUP(F731,工作表9!$G$1:$H$142, 2, FALSE )","v":0},0]
[null,null,null,null,null,null,{"$f":"VLOOKUP(F732,工作表9!$G$1:$I$136, 3, FALSE )","v":"混合物"},null,{"$f":"VLOOKUP(F732,工作表9!$G$1:$H$142, 2, FALSE )","v":0},0]
[null,null,null,null,null,null,{"$f":"VLOOKUP(F733,工作表9!$G$1:$I$136, 3, FALSE )","v":"混合物"},null,{"$f":"VLOOKUP(F733,工作表9!$G$1:$H$142, 2, FALSE )","v":0},0]
[null,null,null,null,null,null,{"$f":"VLOOKUP(F734,工作表9!$G$1:$I$136, 3, FALSE )","v":"混合物"},null,{"$f":"VLOOKUP(F734,工作表9!$G$1:$H$142, 2, FALSE )","v":0},0]
[null,null,null,null,null,null,{"$f":"VLOOKUP(F735,工作表9!$G$1:$I$136, 3, FALSE )","v":"混合物"},null,{"$f":"VLOOKUP(F735,工作表9!$G$1:$H$142, 2, FALSE )","v":0},0]
[null,null,null,null,null,null,{"$f":"VLOOKUP(F736,工作表9!$G$1:$I$136, 3, FALSE )","v":"混合物"},null,{"$f":"VLOOKUP(F736,工作表9!$G$1:$H$142, 2, FALSE )","v":0},0]
[null,null,null,null,null,null,{"$f":"VLOOKUP(F737,工作表9!$G$1:$I$136, 3, FALSE )","v":"混合物"},null,{"$f":"VLOOKUP(F737,工作表9!$G$1:$H$142, 2, FALSE )","v":0},0]
[null,null,null,null,null,null,{"$f":"VLOOKUP(F738,工作表9!$G$1:$I$136, 3, FALSE )","v":"混合物"},null,{"$f":"VLOOKUP(F738,工作表9!$G$1:$H$142, 2, FALSE )","v":0},0]
[null,null,null,null,null,null,{"$f":"VLOOKUP(F739,工作表9!$G$1:$I$136, 3, FALSE )","v":"混合物"},null,{"$f":"VLOOKUP(F739,工作表9!$G$1:$H$142, 2, FALSE )","v":0},0]
[null,null,null,null,null,null,{"$f":"VLOOKUP(F740,工作表9!$G$1:$I$136, 3, FALSE )","v":"混合物"},null,{"$f":"VLOOKUP(F740,工作表9!$G$1:$H$142, 2, FALSE )","v":0},0]
[null,null,null,null,null,null,{"$f":"VLOOKUP(F741,工作表9!$G$1:$I$136, 3, FALSE )","v":"混合物"},null,{"$f":"VLOOKUP(F741,工作表9!$G$1:$H$142, 2, FALSE )","v":0},0]
[null,null,null,null,null,null,{"$f":"VLOOKUP(F742,工作表9!$G$1:$I$136, 3, FALSE )","v":"混合物"},null,{"$f":"VLOOKUP(F742,工作表9!$G$1:$H$142, 2, FALSE )","v":0},0]
[null,null,null,null,null,null,{"$f":"VLOOKUP(F743,工作表9!$G$1:$I$136, 3, FALSE )","v":"混合物"},null,{"$f":"VLOOKUP(F743,工作表9!$G$1:$H$142, 2, FALSE )","v":0},0]
[null,null,null,null,null,null,{"$f":"VLOOKUP(F744,工作表9!$G$1:$I$136, 3, FALSE )","v":"混合物"},null,{"$f":"VLOOKUP(F744,工作表9!$G$1:$H$142, 2, FALSE )","v":0},0]
[null,null,null,null,null,null,{"$f":"VLOOKUP(F745,工作表9!$G$1:$I$136, 3, FALSE )","v":"混合物"},null,{"$f":"VLOOKUP(F745,工作表9!$G$1:$H$142, 2, FALSE )","v":0},0]
[null,null,null,null,null,null,{"$f":"VLOOKUP(F746,工作表9!$G$1:$I$136, 3, FALSE )","v":"混合物"},null,{"$f":"VLOOKUP(F746,工作表9!$G$1:$H$142, 2, FALSE )","v":0},0]
[null,null,null,null,null,null,{"$f":"VLOOKUP(F747,工作表9!$G$1:$I$136, 3, FALSE )","v":"混合物"},null,{"$f":"VLOOKUP(F747,工作表9!$G$1:$H$142, 2, FALSE )","v":0},0]
[null,null,null,null,null,null,{"$f":"VLOOKUP(F748,工作表9!$G$1:$I$136, 3, FALSE )","v":"混合物"},null,{"$f":"VLOOKUP(F748,工作表9!$G$1:$H$142, 2, FALSE )","v":0},0]
[null,null,null,null,null,null,{"$f":"VLOOKUP(F749,工作表9!$G$1:$I$136, 3, FALSE )","v":"混合物"},null,{"$f":"VLOOKUP(F749,工作表9!$G$1:$H$142, 2, FALSE )","v":0},0]
[null,null,null,null,null,null,{"$f":"VLOOKUP(F750,工作表9!$G$1:$I$136, 3, FALSE )","v":"混合物"},null,{"$f":"VLOOKUP(F750,工作表9!$G$1:$H$142, 2, FALSE )","v":0},0]
[null,null,null,null,null,null,{"$f":"VLOOKUP(F751,工作表9!$G$1:$I$136, 3, FALSE )","v":"混合物"},null,{"$f":"VLOOKUP(F751,工作表9!$G$1:$H$142, 2, FALSE )","v":0},0]
[null,null,null,null,null,null,{"$f":"VLOOKUP(F752,工作表9!$G$1:$I$136, 3, FALSE )","v":"混合物"},null,{"$f":"VLOOKUP(F752,工作表9!$G$1:$H$142, 2, FALSE )","v":0},0]
[null,null,null,null,null,null,{"$f":"VLOOKUP(F753,工作表9!$G$1:$I$136, 3, FALSE )","v":"混合物"},null,{"$f":"VLOOKUP(F753,工作表9!$G$1:$H$142, 2, FALSE )","v":0},0]
[null,null,null,null,null,null,{"$f":"VLOOKUP(F754,工作表9!$G$1:$I$136, 3, FALSE )","v":"混合物"},null,{"$f":"VLOOKUP(F754,工作表9!$G$1:$H$142, 2, FALSE )","v":0},0]
[null,null,null,null,null,null,{"$f":"VLOOKUP(F755,工作表9!$G$1:$I$136, 3, FALSE )","v":"混合物"},null,{"$f":"VLOOKUP(F755,工作表9!$G$1:$H$142, 2, FALSE )","v":0},0]
[null,null,null,null,null,null,{"$f":"VLOOKUP(F756,工作表9!$G$1:$I$136, 3, FALSE )","v":"混合物"},null,{"$f":"VLOOKUP(F756,工作表9!$G$1:$H$142, 2, FALSE )","v":0},0]
[null,null,null,null,null,null,{"$f":"VLOOKUP(F757,工作表9!$G$1:$I$136, 3, FALSE )","v":"混合物"},null,{"$f":"VLOOKUP(F757,工作表9!$G$1:$H$142, 2, FALSE )","v":0},0]
[null,null,null,null,null,null,{"$f":"VLOOKUP(F758,工作表9!$G$1:$I$136, 3, FALSE )","v":"混合物"},null,{"$f":"VLOOKUP(F758,工作表9!$G$1:$H$142, 2, FALSE )","v":0},0]
[null,null,null,null,null,null,{"$f":"VLOOKUP(F759,工作表9!$G$1:$I$136, 3, FALSE )","v":"混合物"},null,{"$f":"VLOOKUP(F759,工作表9!$G$1:$H$142, 2, FALSE )","v":0},0]
[null,null,null,null,null,null,{"$f":"VLOOKUP(F760,工作表9!$G$1:$I$136, 3, FALSE )","v":"混合物"},null,{"$f":"VLOOKUP(F760,工作表9!$G$1:$H$142, 2, FALSE )","v":0},0]
[null,null,null,null,null,null,{"$f":"VLOOKUP(F761,工作表9!$G$1:$I$136, 3, FALSE )","v":"混合物"},null,{"$f":"VLOOKUP(F761,工作表9!$G$1:$H$142, 2, FALSE )","v":0},0]
[null,null,null,null,null,null,{"$f":"VLOOKUP(F762,工作表9!$G$1:$I$136, 3, FALSE )","v":"混合物"},null,{"$f":"VLOOKUP(F762,工作表9!$G$1:$H$142, 2, FALSE )","v":0},0]
[null,null,null,null,null,null,{"$f":"VLOOKUP(F763,工作表9!$G$1:$I$136, 3, FALSE )","v":"混合物"},null,{"$f":"VLOOKUP(F763,工作表9!$G$1:$H$142, 2, FALSE )","v":0},0]
[null,null,null,null,null,null,{"$f":"VLOOKUP(F764,工作表9!$G$1:$I$136, 3, FALSE )","v":"混合物"},null,{"$f":"VLOOKUP(F764,工作表9!$G$1:$H$142, 2, FALSE )","v":0},0]
[null,null,null,null,null,null,{"$f":"VLOOKUP(F765,工作表9!$G$1:$I$136, 3, FALSE )","v":"混合物"},null,{"$f":"VLOOKUP(F765,工作表9!$G$1:$H$142, 2, FALSE )","v":0},0]
[null,null,null,null,null,null,{"$f":"VLOOKUP(F766,工作表9!$G$1:$I$136, 3, FALSE )","v":"混合物"},null,{"$f":"VLOOKUP(F766,工作表9!$G$1:$H$142, 2, FALSE )","v":0},0]
[null,null,null,null,null,null,{"$f":"VLOOKUP(F767,工作表9!$G$1:$I$136, 3, FALSE )","v":"混合物"},null,{"$f":"VLOOKUP(F767,工作表9!$G$1:$H$142, 2, FALSE )","v":0},0]
[null,null,null,null,null,null,{"$f":"VLOOKUP(F768,工作表9!$G$1:$I$136, 3, FALSE )","v":"混合物"},null,{"$f":"VLOOKUP(F768,工作表9!$G$1:$H$142, 2, FALSE )","v":0},0]
[null,null,null,null,null,null,{"$f":"VLOOKUP(F769,工作表9!$G$1:$I$136, 3, FALSE )","v":"混合物"},null,{"$f":"VLOOKUP(F769,工作表9!$G$1:$H$142, 2, FALSE )","v":0},0]
[null,null,null,null,null,null,{"$f":"VLOOKUP(F770,工作表9!$G$1:$I$136, 3, FALSE )","v":"混合物"},null,{"$f":"VLOOKUP(F770,工作表9!$G$1:$H$142, 2, FALSE )","v":0},0]
[null,null,null,null,null,null,{"$f":"VLOOKUP(F771,工作表9!$G$1:$I$136, 3, FALSE )","v":"混合物"},null,{"$f":"VLOOKUP(F771,工作表9!$G$1:$H$142, 2, FALSE )","v":0},0]
[null,null,null,null,null,null,{"$f":"VLOOKUP(F772,工作表9!$G$1:$I$136, 3, FALSE )","v":"混合物"},null,{"$f":"VLOOKUP(F772,工作表9!$G$1:$H$142, 2, FALSE )","v":0},0]
[null,null,null,null,null,null,{"$f":"VLOOKUP(F773,工作表9!$G$1:$I$136, 3, FALSE )","v":"混合物"},null,{"$f":"VLOOKUP(F773,工作表9!$G$1:$H$142, 2, FALSE )","v":0},0]
[null,null,null,null,null,null,{"$f":"VLOOKUP(F774,工作表9!$G$1:$I$136, 3, FALSE )","v":"混合物"},null,{"$f":"VLOOKUP(F774,工作表9!$G$1:$H$142, 2, FALSE )","v":0},{"$f":"H774*I774","v":0}]
[null,null,null,null,null,null,{"$f":"VLOOKUP(F775,工作表9!$G$1:$I$136, 3, FALSE )","v":"混合物"},null,{"$f":"VLOOKUP(F775,工作表9!$G$1:$H$142, 2, FALSE )","v":0},0]
[null,null,null,null,null,null,{"$f":"VLOOKUP(F776,工作表9!$G$1:$I$136, 3, FALSE )","v":"混合物"},null,{"$f":"VLOOKUP(F776,工作表9!$G$1:$H$142, 2, FALSE )","v":0},0]
[null,null,null,null,null,null,{"$f":"VLOOKUP(F777,工作表9!$G$1:$I$136, 3, FALSE )","v":"混合物"},null,{"$f":"VLOOKUP(F777,工作表9!$G$1:$H$142, 2, FALSE )","v":0},0]
[null,null,null,null,null,null,{"$f":"VLOOKUP(F778,工作表9!$G$1:$I$136, 3, FALSE )","v":"混合物"},null,{"$f":"VLOOKUP(F778,工作表9!$G$1:$H$142, 2, FALSE )","v":0},0]
[null,null,null,null,null,null,{"$f":"VLOOKUP(F779,工作表9!$G$1:$I$136, 3, FALSE )","v":"混合物"},null,{"$f":"VLOOKUP(F779,工作表9!$G$1:$H$142, 2, FALSE )","v":0},0]
[null,null,null,null,null,null,{"$f":"VLOOKUP(F780,工作表9!$G$1:$I$136, 3, FALSE )","v":"混合物"},null,{"$f":"VLOOKUP(F780,工作表9!$G$1:$H$142, 2, FALSE )","v":0},0]
[null,null,null,null,null,null,{"$f":"VLOOKUP(F781,工作表9!$G$1:$I$136, 3, FALSE )","v":"混合物"},null,{"$f":"VLOOKUP(F781,工作表9!$G$1:$H$142, 2, FALSE )","v":0},0]
[null,null,null,null,null,null,{"$f":"VLOOKUP(F782,工作表9!$G$1:$I$136, 3, FALSE )","v":"混合物"},null,{"$f":"VLOOKUP(F782,工作表9!$G$1:$H$142, 2, FALSE )","v":0},0]
[null,null,null,null,null,null,{"$f":"VLOOKUP(F783,工作表9!$G$1:$I$136, 3, FALSE )","v":"混合物"},null,{"$f":"VLOOKUP(F783,工作表9!$G$1:$H$142, 2, FALSE )","v":0},0]
[null,null,null,null,null,null,{"$f":"VLOOKUP(F784,工作表9!$G$1:$I$136, 3, FALSE )","v":"混合物"},null,{"$f":"VLOOKUP(F784,工作表9!$G$1:$H$142, 2, FALSE )","v":0},0]
[null,null,null,null,null,null,{"$f":"VLOOKUP(F785,工作表9!$G$1:$I$136, 3, FALSE )","v":"混合物"},null,{"$f":"VLOOKUP(F785,工作表9!$G$1:$H$142, 2, FALSE )","v":0},0]
[null,null,null,null,null,null,{"$f":"VLOOKUP(F786,工作表9!$G$1:$I$136, 3, FALSE )","v":"混合物"},null,{"$f":"VLOOKUP(F786,工作表9!$G$1:$H$142, 2, FALSE )","v":0},0]
[null,null,null,null,null,null,{"$f":"VLOOKUP(F787,工作表9!$G$1:$I$136, 3, FALSE )","v":"混合物"},null,{"$f":"VLOOKUP(F787,工作表9!$G$1:$H$142, 2, FALSE )","v":0},0]
[null,null,null,null,null,null,{"$f":"VLOOKUP(F788,工作表9!$G$1:$I$136, 3, FALSE )","v":"混合物"},null,{"$f":"VLOOKUP(F788,工作表9!$G$1:$H$142, 2, FALSE )","v":0},0]
[null,null,null,null,null,null,{"$f":"VLOOKUP(F789,工作表9!$G$1:$I$136, 3, FALSE )","v":"混合物"},null,{"$f":"VLOOKUP(F789,工作表9!$G$1:$H$142, 2, FALSE )","v":0},0]
[null,null,null,null,null,null,{"$f":"VLOOKUP(F790,工作表9!$G$1:$I$136, 3, FALSE )","v":"混合物"},null,{"$f":"VLOOKUP(F790,工作表9!$G$1:$H$142, 2, FALSE )","v":0},0]
[null,null,null,null,null,null,{"$f":"VLOOKUP(F791,工作表9!$G$1:$I$136, 3, FALSE )","v":"混合物"},null,{"$f":"VLOOKUP(F791,工作表9!$G$1:$H$142, 2, FALSE )","v":0},0]
[null,null,null,null,null,null,{"$f":"VLOOKUP(F792,工作表9!$G$1:$I$136, 3, FALSE )","v":"混合物"},null,{"$f":"VLOOKUP(F792,工作表9!$G$1:$H$142, 2, FALSE )","v":0},0]
[null,null,null,null,null,null,{"$f":"VLOOKUP(F793,工作表9!$G$1:$I$136, 3, FALSE )","v":"混合物"},null,{"$f":"VLOOKUP(F793,工作表9!$G$1:$H$142, 2, FALSE )","v":0},0]
[null,null,null,null,null,null,{"$f":"VLOOKUP(F794,工作表9!$G$1:$I$136, 3, FALSE )","v":"混合物"},null,{"$f":"VLOOKUP(F794,工作表9!$G$1:$H$142, 2, FALSE )","v":0},0]
[null,null,null,null,null,null,{"$f":"VLOOKUP(F795,工作表9!$G$1:$I$136, 3, FALSE )","v":"混合物"},null,{"$f":"VLOOKUP(F795,工作表9!$G$1:$H$142, 2, FALSE )","v":0},0]
[null,null,null,null,null,null,{"$f":"VLOOKUP(F796,工作表9!$G$1:$I$136, 3, FALSE )","v":"混合物"},null,{"$f":"VLOOKUP(F796,工作表9!$G$1:$H$142, 2, FALSE )","v":0},0]
[null,null,null,null,null,null,{"$f":"VLOOKUP(F797,工作表9!$G$1:$I$136, 3, FALSE )","v":"混合物"},null,{"$f":"VLOOKUP(F797,工作表9!$G$1:$H$142, 2, FALSE )","v":0},0]
[null,null,null,null,null,null,{"$f":"VLOOKUP(F798,工作表9!$G$1:$I$136, 3, FALSE )","v":"混合物"},null,{"$f":"VLOOKUP(F798,工作表9!$G$1:$H$142, 2, FALSE )","v":0},0]
[null,null,null,null,null,null,{"$f":"VLOOKUP(F799,工作表9!$G$1:$I$136, 3, FALSE )","v":"混合物"},null,{"$f":"VLOOKUP(F799,工作表9!$G$1:$H$142, 2, FALSE )","v":0},0]
[null,null,null,null,null,null,{"$f":"VLOOKUP(F800,工作表9!$G$1:$I$136, 3, FALSE )","v":"混合物"},null,{"$f":"VLOOKUP(F800,工作表9!$G$1:$H$142, 2, FALSE )","v":0},0]
[null,null,null,null,null,null,{"$f":"VLOOKUP(F801,工作表9!$G$1:$I$136, 3, FALSE )","v":"混合物"},null,{"$f":"VLOOKUP(F801,工作表9!$G$1:$H$142, 2, FALSE )","v":0},0]
[null,null,null,null,null,null,{"$f":"VLOOKUP(F802,工作表9!$G$1:$I$136, 3, FALSE )","v":"混合物"},null,{"$f":"VLOOKUP(F802,工作表9!$G$1:$H$142, 2, FALSE )","v":0},0]
[null,null,null,null,null,null,{"$f":"VLOOKUP(F803,工作表9!$G$1:$I$136, 3, FALSE )","v":"混合物"},null,{"$f":"VLOOKUP(F803,工作表9!$G$1:$H$142, 2, FALSE )","v":0},0]
[null,null,null,null,null,null,{"$f":"VLOOKUP(F804,工作表9!$G$1:$I$136, 3, FALSE )","v":"混合物"},null,{"$f":"VLOOKUP(F804,工作表9!$G$1:$H$142, 2, FALSE )","v":0},0]
[null,null,null,null,null,null,{"$f":"VLOOKUP(F805,工作表9!$G$1:$I$136, 3, FALSE )","v":"混合物"},null,{"$f":"VLOOKUP(F805,工作表9!$G$1:$H$142, 2, FALSE )","v":0},0]
[null,null,null,null,null,null,{"$f":"VLOOKUP(F806,工作表9!$G$1:$I$136, 3, FALSE )","v":"混合物"},null,{"$f":"VLOOKUP(F806,工作表9!$G$1:$H$142, 2, FALSE )","v":0},0]
[null,null,null,null,null,null,{"$f":"VLOOKUP(F807,工作表9!$G$1:$I$136, 3, FALSE )","v":"混合物"},null,{"$f":"VLOOKUP(F807,工作表9!$G$1:$H$142, 2, FALSE )","v":0},0]
[null,null,null,null,null,null,{"$f":"VLOOKUP(F808,工作表9!$G$1:$I$136, 3, FALSE )","v":"混合物"},null,{"$f":"VLOOKUP(F808,工作表9!$G$1:$H$142, 2, FALSE )","v":0},0]
[null,null,null,null,null,null,{"$f":"VLOOKUP(F809,工作表9!$G$1:$I$136, 3, FALSE )","v":"混合物"},null,{"$f":"VLOOKUP(F809,工作表9!$G$1:$H$142, 2, FALSE )","v":0},0]
[null,null,null,null,null,null,{"$f":"VLOOKUP(F810,工作表9!$G$1:$I$136, 3, FALSE )","v":"混合物"},null,{"$f":"VLOOKUP(F810,工作表9!$G$1:$H$142, 2, FALSE )","v":0},0]
[null,null,null,null,null,null,{"$f":"VLOOKUP(F811,工作表9!$G$1:$I$136, 3, FALSE )","v":"混合物"},null,{"$f":"VLOOKUP(F811,工作表9!$G$1:$H$142, 2, FALSE )","v":0},0]
[null,null,null,null,null,null,{"$f":"VLOOKUP(F812,工作表9!$G$1:$I$136, 3, FALSE )","v":"混合物"},null,{"$f":"VLOOKUP(F812,工作表9!$G$1:$H$142, 2, FALSE )","v":0},0]
[null,null,null,null,null,null,{"$f":"VLOOKUP(F813,工作表9!$G$1:$I$136, 3, FALSE )","v":"混合物"},null,{"$f":"VLOOKUP(F813,工作表9!$G$1:$H$142, 2, FALSE )","v":0},0]
[null,null,null,null,null,null,{"$f":"VLOOKUP(F814,工作表9!$G$1:$I$136, 3, FALSE )","v":"混合物"},null,{"$f":"VLOOKUP(F814,工作表9!$G$1:$H$142, 2, FALSE )","v":0},0]
[null,null,null,null,null,null,{"$f":"VLOOKUP(F815,工作表9!$G$1:$I$136, 3, FALSE )","v":"混合物"},null,{"$f":"VLOOKUP(F815,工作表9!$G$1:$H$142, 2, FALSE )","v":0},0]
[null,null,null,null,null,null,{"$f":"VLOOKUP(F816,工作表9!$G$1:$I$136, 3, FALSE )","v":"混合物"},null,{"$f":"VLOOKUP(F816,工作表9!$G$1:$H$142, 2, FALSE )","v":0},0]
[null,null,null,null,null,null,{"$f":"VLOOKUP(F817,工作表9!$G$1:$I$136, 3, FALSE )","v":"混合物"},null,{"$f":"VLOOKUP(F817,工作表9!$G$1:$H$142, 2, FALSE )","v":0},0]
[null,null,null,null,null,null,{"$f":"VLOOKUP(F818,工作表9!$G$1:$I$136, 3, FALSE )","v":"混合物"},null,{"$f":"VLOOKUP(F818,工作表9!$G$1:$H$142, 2, FALSE )","v":0},0]
[null,null,null,null,null,null,{"$f":"VLOOKUP(F819,工作表9!$G$1:$I$136, 3, FALSE )","v":"混合物"},null,{"$f":"VLOOKUP(F819,工作表9!$G$1:$H$142, 2, FALSE )","v":0},0]
[null,null,null,null,null,null,{"$f":"VLOOKUP(F820,工作表9!$G$1:$I$136, 3, FALSE )","v":"混合物"},null,{"$f":"VLOOKUP(F820,工作表9!$G$1:$H$142, 2, FALSE )","v":0},0]
[null,null,null,null,null,null,{"$f":"VLOOKUP(F821,工作表9!$G$1:$I$136, 3, FALSE )","v":"混合物"},null,{"$f":"VLOOKUP(F821,工作表9!$G$1:$H$142, 2, FALSE )","v":0},0]
[null,null,null,null,null,null,{"$f":"VLOOKUP(F822,工作表9!$G$1:$I$136, 3, FALSE )","v":"混合物"},null,{"$f":"VLOOKUP(F822,工作表9!$G$1:$H$142, 2, FALSE )","v":0},0]
[null,null,null,null,null,null,{"$f":"VLOOKUP(F823,工作表9!$G$1:$I$136, 3, FALSE )","v":"混合物"},null,{"$f":"VLOOKUP(F823,工作表9!$G$1:$H$142, 2, FALSE )","v":0},0]
[null,null,null,null,null,null,{"$f":"VLOOKUP(F824,工作表9!$G$1:$I$136, 3, FALSE )","v":"混合物"},null,{"$f":"VLOOKUP(F824,工作表9!$G$1:$H$142, 2, FALSE )","v":0},0]
[null,null,null,null,null,null,{"$f":"VLOOKUP(F825,工作表9!$G$1:$I$136, 3, FALSE )","v":"混合物"},null,{"$f":"VLOOKUP(F825,工作表9!$G$1:$H$142, 2, FALSE )","v":0},0]
[null,null,null,null,null,null,{"$f":"VLOOKUP(F826,工作表9!$G$1:$I$136, 3, FALSE )","v":"混合物"},null,{"$f":"VLOOKUP(F826,工作表9!$G$1:$H$142, 2, FALSE )","v":0},0]
[null,null,null,null,null,null,{"$f":"VLOOKUP(F827,工作表9!$G$1:$I$136, 3, FALSE )","v":"混合物"},null,{"$f":"VLOOKUP(F827,工作表9!$G$1:$H$142, 2, FALSE )","v":0},0]
[null,null,null,null,null,null,{"$f":"VLOOKUP(F828,工作表9!$G$1:$I$136, 3, FALSE )","v":"混合物"},null,{"$f":"VLOOKUP(F828,工作表9!$G$1:$H$142, 2, FALSE )","v":0},0]
[null,null,null,null,null,null,{"$f":"VLOOKUP(F829,工作表9!$G$1:$I$136, 3, FALSE )","v":"混合物"},null,{"$f":"VLOOKUP(F829,工作表9!$G$1:$H$142, 2, FALSE )","v":0},0]
[null,null,null,null,null,null,{"$f":"VLOOKUP(F830,工作表9!$G$1:$I$136, 3, FALSE )","v":"混合物"},null,{"$f":"VLOOKUP(F830,工作表9!$G$1:$H$142, 2, FALSE )","v":0},0]
[null,null,null,null,null,null,{"$f":"VLOOKUP(F831,工作表9!$G$1:$I$136, 3, FALSE )","v":"混合物"},null,{"$f":"VLOOKUP(F831,工作表9!$G$1:$H$142, 2, FALSE )","v":0},0]
[null,null,null,null,null,null,{"$f":"VLOOKUP(F832,工作表9!$G$1:$I$136, 3, FALSE )","v":"混合物"},null,{"$f":"VLOOKUP(F832,工作表9!$G$1:$H$142, 2, FALSE )","v":0},0]
[null,null,null,null,null,null,{"$f":"VLOOKUP(F833,工作表9!$G$1:$I$136, 3, FALSE )","v":"混合物"},null,{"$f":"VLOOKUP(F833,工作表9!$G$1:$H$142, 2, FALSE )","v":0},0]
[null,null,null,null,null,null,{"$f":"VLOOKUP(F834,工作表9!$G$1:$I$136, 3, FALSE )","v":"混合物"},null,{"$f":"VLOOKUP(F834,工作表9!$G$1:$H$142, 2, FALSE )","v":0},0]
[null,null,null,null,null,null,{"$f":"VLOOKUP(F835,工作表9!$G$1:$I$136, 3, FALSE )","v":"混合物"},null,{"$f":"VLOOKUP(F835,工作表9!$G$1:$H$142, 2, FALSE )","v":0},0]
[null,null,null,null,null,null,{"$f":"VLOOKUP(F836,工作表9!$G$1:$I$136, 3, FALSE )","v":"混合物"},null,{"$f":"VLOOKUP(F836,工作表9!$G$1:$H$142, 2, FALSE )","v":0},0]
[null,null,null,null,null,null,{"$f":"VLOOKUP(F837,工作表9!$G$1:$I$136, 3, FALSE )","v":"混合物"},null,{"$f":"VLOOKUP(F837,工作表9!$G$1:$H$142, 2, FALSE )","v":0},0]
[null,null,null,null,null,null,{"$f":"VLOOKUP(F838,工作表9!$G$1:$I$136, 3, FALSE )","v":"混合物"},null,{"$f":"VLOOKUP(F838,工作表9!$G$1:$H$142, 2, FALSE )","v":0},{"$f":"H838*I838","v":0}]
[null,null,null,null,null,null,{"$f":"VLOOKUP(F839,工作表9!$G$1:$I$136, 3, FALSE )","v":"混合物"},null,{"$f":"VLOOKUP(F839,工作表9!$G$1:$H$142, 2, FALSE )","v":0},0]
[null,null,null,null,null,null,{"$f":"VLOOKUP(F840,工作表9!$G$1:$I$136, 3, FALSE )","v":"混合物"},null,{"$f":"VLOOKUP(F840,工作表9!$G$1:$H$142, 2, FALSE )","v":0},0]
[null,null,null,null,null,null,{"$f":"VLOOKUP(F841,工作表9!$G$1:$I$136, 3, FALSE )","v":"混合物"},null,{"$f":"VLOOKUP(F841,工作表9!$G$1:$H$142, 2, FALSE )","v":0},0]
[null,null,null,null,null,null,{"$f":"VLOOKUP(F842,工作表9!$G$1:$I$136, 3, FALSE )","v":"混合物"},null,{"$f":"VLOOKUP(F842,工作表9!$G$1:$H$142, 2, FALSE )","v":0},0]
[null,null,null,null,null,null,{"$f":"VLOOKUP(F843,工作表9!$G$1:$I$136, 3, FALSE )","v":"混合物"},null,{"$f":"VLOOKUP(F843,工作表9!$G$1:$H$142, 2, FALSE )","v":0},0]
[null,null,null,null,null,null,{"$f":"VLOOKUP(F844,工作表9!$G$1:$I$136, 3, FALSE )","v":"混合物"},null,{"$f":"VLOOKUP(F844,工作表9!$G$1:$H$142, 2, FALSE )","v":0},0]
[null,null,null,null,null,null,{"$f":"VLOOKUP(F845,工作表9!$G$1:$I$136, 3, FALSE )","v":"混合物"},null,{"$f":"VLOOKUP(F845,工作表9!$G$1:$H$142, 2, FALSE )","v":0},0]
[null,null,null,null,null,null,{"$f":"VLOOKUP(F846,工作表9!$G$1:$I$136, 3, FALSE )","v":"混合物"},null,{"$f":"VLOOKUP(F846,工作表9!$G$1:$H$142, 2, FALSE )","v":0},0]
[null,null,null,null,null,null,{"$f":"VLOOKUP(F847,工作表9!$G$1:$I$136, 3, FALSE )","v":"混合物"},null,{"$f":"VLOOKUP(F847,工作表9!$G$1:$H$142, 2, FALSE )","v":0},0]
[null,null,null,null,null,null,{"$f":"VLOOKUP(F848,工作表9!$G$1:$I$136, 3, FALSE )","v":"混合物"},null,{"$f":"VLOOKUP(F848,工作表9!$G$1:$H$142, 2, FALSE )","v":0},0]
[null,null,null,null,null,null,{"$f":"VLOOKUP(F849,工作表9!$G$1:$I$136, 3, FALSE )","v":"混合物"},null,{"$f":"VLOOKUP(F849,工作表9!$G$1:$H$142, 2, FALSE )","v":0},0]
[null,null,null,null,null,null,{"$f":"VLOOKUP(F850,工作表9!$G$1:$I$136, 3, FALSE )","v":"混合物"},null,{"$f":"VLOOKUP(F850,工作表9!$G$1:$H$142, 2, FALSE )","v":0},0]
[null,null,null,null,null,null,{"$f":"VLOOKUP(F851,工作表9!$G$1:$I$136, 3, FALSE )","v":"混合物"},null,{"$f":"VLOOKUP(F851,工作表9!$G$1:$H$142, 2, FALSE )","v":0},0]
[null,null,null,null,null,null,{"$f":"VLOOKUP(F852,工作表9!$G$1:$I$136, 3, FALSE )","v":"混合物"},null,{"$f":"VLOOKUP(F852,工作表9!$G$1:$H$142, 2, FALSE )","v":0},0]
[null,null,null,null,null,null,{"$f":"VLOOKUP(F853,工作表9!$G$1:$I$136, 3, FALSE )","v":"混合物"},null,{"$f":"VLOOKUP(F853,工作表9!$G$1:$H$142, 2, FALSE )","v":0},0]
[null,null,null,null,null,null,{"$f":"VLOOKUP(F854,工作表9!$G$1:$I$136, 3, FALSE )","v":"混合物"},null,{"$f":"VLOOKUP(F854,工作表9!$G$1:$H$142, 2, FALSE )","v":0},0]
[null,null,null,null,null,null,{"$f":"VLOOKUP(F855,工作表9!$G$1:$I$136, 3, FALSE )","v":"混合物"},null,{"$f":"VLOOKUP(F855,工作表9!$G$1:$H$142, 2, FALSE )","v":0},0]
[null,null,null,null,null,null,{"$f":"VLOOKUP(F856,工作表9!$G$1:$I$136, 3, FALSE )","v":"混合物"},null,{"$f":"VLOOKUP(F856,工作表9!$G$1:$H$142, 2, FALSE )","v":0},0]
[null,null,null,null,null,null,{"$f":"VLOOKUP(F857,工作表9!$G$1:$I$136, 3, FALSE )","v":"混合物"},null,{"$f":"VLOOKUP(F857,工作表9!$G$1:$H$142, 2, FALSE )","v":0},0]
[null,null,null,null,null,null,{"$f":"VLOOKUP(F858,工作表9!$G$1:$I$136, 3, FALSE )","v":"混合物"},null,{"$f":"VLOOKUP(F858,工作表9!$G$1:$H$142, 2, FALSE )","v":0},0]
[null,null,null,null,null,null,{"$f":"VLOOKUP(F859,工作表9!$G$1:$I$136, 3, FALSE )","v":"混合物"},null,{"$f":"VLOOKUP(F859,工作表9!$G$1:$H$142, 2, FALSE )","v":0},0]
[null,null,null,null,null,null,{"$f":"VLOOKUP(F860,工作表9!$G$1:$I$136, 3, FALSE )","v":"混合物"},null,{"$f":"VLOOKUP(F860,工作表9!$G$1:$H$142, 2, FALSE )","v":0},0]
[null,null,null,null,null,null,{"$f":"VLOOKUP(F861,工作表9!$G$1:$I$136, 3, FALSE )","v":"混合物"},null,{"$f":"VLOOKUP(F861,工作表9!$G$1:$H$142, 2, FALSE )","v":0},0]
[null,null,null,null,null,null,{"$f":"VLOOKUP(F862,工作表9!$G$1:$I$136, 3, FALSE )","v":"混合物"},null,{"$f":"VLOOKUP(F862,工作表9!$G$1:$H$142, 2, FALSE )","v":0},0]
[null,null,null,null,null,null,{"$f":"VLOOKUP(F863,工作表9!$G$1:$I$136, 3, FALSE )","v":"混合物"},null,{"$f":"VLOOKUP(F863,工作表9!$G$1:$H$142, 2, FALSE )","v":0},0]
[null,null,null,null,null,null,{"$f":"VLOOKUP(F864,工作表9!$G$1:$I$136, 3, FALSE )","v":"混合物"},null,{"$f":"VLOOKUP(F864,工作表9!$G$1:$H$142, 2, FALSE )","v":0},0]
[null,null,null,null,null,null,{"$f":"VLOOKUP(F865,工作表9!$G$1:$I$136, 3, FALSE )","v":"混合物"},null,{"$f":"VLOOKUP(F865,工作表9!$G$1:$H$142, 2, FALSE )","v":0},0]
[null,null,null,null,null,null,{"$f":"VLOOKUP(F866,工作表9!$G$1:$I$136, 3, FALSE )","v":"混合物"},null,{"$f":"VLOOKUP(F866,工作表9!$G$1:$H$142, 2, FALSE )","v":0},0]
[null,null,null,null,null,null,{"$f":"VLOOKUP(F867,工作表9!$G$1:$I$136, 3, FALSE )","v":"混合物"},null,{"$f":"VLOOKUP(F867,工作表9!$G$1:$H$142, 2, FALSE )","v":0},0]
[null,null,null,null,null,null,{"$f":"VLOOKUP(F868,工作表9!$G$1:$I$136, 3, FALSE )","v":"混合物"},null,{"$f":"VLOOKUP(F868,工作表9!$G$1:$H$142, 2, FALSE )","v":0},0]
[null,null,null,null,null,null,{"$f":"VLOOKUP(F869,工作表9!$G$1:$I$136, 3, FALSE )","v":"混合物"},null,{"$f":"VLOOKUP(F869,工作表9!$G$1:$H$142, 2, FALSE )","v":0},0]
[null,null,null,null,null,null,{"$f":"VLOOKUP(F870,工作表9!$G$1:$I$136, 3, FALSE )","v":"混合物"},null,{"$f":"VLOOKUP(F870,工作表9!$G$1:$H$142, 2, FALSE )","v":0},0]
[null,null,null,null,null,null,{"$f":"VLOOKUP(F871,工作表9!$G$1:$I$136, 3, FALSE )","v":"混合物"},null,{"$f":"VLOOKUP(F871,工作表9!$G$1:$H$142, 2, FALSE )","v":0},0]
[null,null,null,null,null,null,{"$f":"VLOOKUP(F872,工作表9!$G$1:$I$136, 3, FALSE )","v":"混合物"},null,{"$f":"VLOOKUP(F872,工作表9!$G$1:$H$142, 2, FALSE )","v":0},0]
[null,null,null,null,null,null,{"$f":"VLOOKUP(F873,工作表9!$G$1:$I$136, 3, FALSE )","v":"混合物"},null,{"$f":"VLOOKUP(F873,工作表9!$G$1:$H$142, 2, FALSE )","v":0},0]
[null,null,null,null,null,null,{"$f":"VLOOKUP(F874,工作表9!$G$1:$I$136, 3, FALSE )","v":"混合物"},null,{"$f":"VLOOKUP(F874,工作表9!$G$1:$H$142, 2, FALSE )","v":0},0]
[null,null,null,null,null,null,{"$f":"VLOOKUP(F875,工作表9!$G$1:$I$136, 3, FALSE )","v":"混合物"},null,{"$f":"VLOOKUP(F875,工作表9!$G$1:$H$142, 2, FALSE )","v":0},0]
[null,null,null,null,null,null,{"$f":"VLOOKUP(F876,工作表9!$G$1:$I$136, 3, FALSE )","v":"混合物"},null,{"$f":"VLOOKUP(F876,工作表9!$G$1:$H$142, 2, FALSE )","v":0},0]
[null,null,null,null,null,null,{"$f":"VLOOKUP(F877,工作表9!$G$1:$I$136, 3, FALSE )","v":"混合物"},null,{"$f":"VLOOKUP(F877,工作表9!$G$1:$H$142, 2, FALSE )","v":0},0]
[null,null,null,null,null,null,{"$f":"VLOOKUP(F878,工作表9!$G$1:$I$136, 3, FALSE )","v":"混合物"},null,{"$f":"VLOOKUP(F878,工作表9!$G$1:$H$142, 2, FALSE )","v":0},0]
[null,null,null,null,null,null,{"$f":"VLOOKUP(F879,工作表9!$G$1:$I$136, 3, FALSE )","v":"混合物"},null,{"$f":"VLOOKUP(F879,工作表9!$G$1:$H$142, 2, FALSE )","v":0},0]
[null,null,null,null,null,null,{"$f":"VLOOKUP(F880,工作表9!$G$1:$I$136, 3, FALSE )","v":"混合物"},null,{"$f":"VLOOKUP(F880,工作表9!$G$1:$H$142, 2, FALSE )","v":0},0]
[null,null,null,null,null,null,{"$f":"VLOOKUP(F881,工作表9!$G$1:$I$136, 3, FALSE )","v":"混合物"},null,{"$f":"VLOOKUP(F881,工作表9!$G$1:$H$142, 2, FALSE )","v":0},0]
[null,null,null,null,null,null,{"$f":"VLOOKUP(F882,工作表9!$G$1:$I$136, 3, FALSE )","v":"混合物"},null,{"$f":"VLOOKUP(F882,工作表9!$G$1:$H$142, 2, FALSE )","v":0},0]
[null,null,null,null,null,null,{"$f":"VLOOKUP(F883,工作表9!$G$1:$I$136, 3, FALSE )","v":"混合物"},null,{"$f":"VLOOKUP(F883,工作表9!$G$1:$H$142, 2, FALSE )","v":0},0]
[null,null,null,null,null,null,{"$f":"VLOOKUP(F884,工作表9!$G$1:$I$136, 3, FALSE )","v":"混合物"},null,{"$f":"VLOOKUP(F884,工作表9!$G$1:$H$142, 2, FALSE )","v":0},0]
[null,null,null,null,null,null,{"$f":"VLOOKUP(F885,工作表9!$G$1:$I$136, 3, FALSE )","v":"混合物"},null,{"$f":"VLOOKUP(F885,工作表9!$G$1:$H$142, 2, FALSE )","v":0},0]
[null,null,null,null,null,null,{"$f":"VLOOKUP(F886,工作表9!$G$1:$I$136, 3, FALSE )","v":"混合物"},null,{"$f":"VLOOKUP(F886,工作表9!$G$1:$H$142, 2, FALSE )","v":0},0]
[null,null,null,null,null,null,{"$f":"VLOOKUP(F887,工作表9!$G$1:$I$136, 3, FALSE )","v":"混合物"},null,{"$f":"VLOOKUP(F887,工作表9!$G$1:$H$142, 2, FALSE )","v":0},0]
[null,null,null,null,null,null,{"$f":"VLOOKUP(F888,工作表9!$G$1:$I$136, 3, FALSE )","v":"混合物"},null,{"$f":"VLOOKUP(F888,工作表9!$G$1:$H$142, 2, FALSE )","v":0},0]
[null,null,null,null,null,null,{"$f":"VLOOKUP(F889,工作表9!$G$1:$I$136, 3, FALSE )","v":"混合物"},null,{"$f":"VLOOKUP(F889,工作表9!$G$1:$H$142, 2, FALSE )","v":0},0]
[null,null,null,null,null,null,{"$f":"VLOOKUP(F890,工作表9!$G$1:$I$136, 3, FALSE )","v":"混合物"},null,{"$f":"VLOOKUP(F890,工作表9!$G$1:$H$142, 2, FALSE )","v":0},0]
[null,null,null,null,null,null,{"$f":"VLOOKUP(F891,工作表9!$G$1:$I$136, 3, FALSE )","v":"混合物"},null,{"$f":"VLOOKUP(F891,工作表9!$G$1:$H$142, 2, FALSE )","v":0},0]
[null,null,null,null,null,null,{"$f":"VLOOKUP(F892,工作表9!$G$1:$I$136, 3, FALSE )","v":"混合物"},null,{"$f":"VLOOKUP(F892,工作表9!$G$1:$H$142, 2, FALSE )","v":0},0]
[null,null,null,null,null,null,{"$f":"VLOOKUP(F893,工作表9!$G$1:$I$136, 3, FALSE )","v":"混合物"},null,{"$f":"VLOOKUP(F893,工作表9!$G$1:$H$142, 2, FALSE )","v":0},0]
[null,null,null,null,null,null,{"$f":"VLOOKUP(F894,工作表9!$G$1:$I$136, 3, FALSE )","v":"混合物"},null,{"$f":"VLOOKUP(F894,工作表9!$G$1:$H$142, 2, FALSE )","v":0},0]
[null,null,null,null,null,null,{"$f":"VLOOKUP(F895,工作表9!$G$1:$I$136, 3, FALSE )","v":"混合物"},null,{"$f":"VLOOKUP(F895,工作表9!$G$1:$H$142, 2, FALSE )","v":0},0]
[null,null,null,null,null,null,{"$f":"VLOOKUP(F896,工作表9!$G$1:$I$136, 3, FALSE )","v":"混合物"},null,{"$f":"VLOOKUP(F896,工作表9!$G$1:$H$142, 2, FALSE )","v":0},0]
[null,null,null,null,null,null,{"$f":"VLOOKUP(F897,工作表9!$G$1:$I$136, 3, FALSE )","v":"混合物"},null,{"$f":"VLOOKUP(F897,工作表9!$G$1:$H$142, 2, FALSE )","v":0},0]
[null,null,null,null,null,null,{"$f":"VLOOKUP(F898,工作表9!$G$1:$I$136, 3, FALSE )","v":"混合物"},null,{"$f":"VLOOKUP(F898,工作表9!$G$1:$H$142, 2, FALSE )","v":0},0]
[null,null,null,null,null,null,{"$f":"VLOOKUP(F899,工作表9!$G$1:$I$136, 3, FALSE )","v":"混合物"},null,{"$f":"VLOOKUP(F899,工作表9!$G$1:$H$142, 2, FALSE )","v":0},0]
[null,null,null,null,null,null,{"$f":"VLOOKUP(F900,工作表9!$G$1:$I$136, 3, FALSE )","v":"混合物"},null,{"$f":"VLOOKUP(F900,工作表9!$G$1:$H$142, 2, FALSE )","v":0},0]
[null,null,null,null,null,null,{"$f":"VLOOKUP(F901,工作表9!$G$1:$I$136, 3, FALSE )","v":"混合物"},null,{"$f":"VLOOKUP(F901,工作表9!$G$1:$H$142, 2, FALSE )","v":0},0]
[null,null,null,null,null,null,{"$f":"VLOOKUP(F902,工作表9!$G$1:$I$136, 3, FALSE )","v":"混合物"},null,{"$f":"VLOOKUP(F902,工作表9!$G$1:$H$142, 2, FALSE )","v":0},{"$f":"H902*I902","v":0}]
[null,null,null,null,null,null,{"$f":"VLOOKUP(F903,工作表9!$G$1:$I$136, 3, FALSE )","v":"混合物"},null,{"$f":"VLOOKUP(F903,工作表9!$G$1:$H$142, 2, FALSE )","v":0},0]
[null,null,null,null,null,null,{"$f":"VLOOKUP(F904,工作表9!$G$1:$I$136, 3, FALSE )","v":"混合物"},null,{"$f":"VLOOKUP(F904,工作表9!$G$1:$H$142, 2, FALSE )","v":0},0]
[null,null,null,null,null,null,{"$f":"VLOOKUP(F905,工作表9!$G$1:$I$136, 3, FALSE )","v":"混合物"},null,{"$f":"VLOOKUP(F905,工作表9!$G$1:$H$142, 2, FALSE )","v":0},0]
[null,null,null,null,null,null,{"$f":"VLOOKUP(F906,工作表9!$G$1:$I$136, 3, FALSE )","v":"混合物"},null,{"$f":"VLOOKUP(F906,工作表9!$G$1:$H$142, 2, FALSE )","v":0},0]
[null,null,null,null,null,null,{"$f":"VLOOKUP(F907,工作表9!$G$1:$I$136, 3, FALSE )","v":"混合物"},null,{"$f":"VLOOKUP(F907,工作表9!$G$1:$H$142, 2, FALSE )","v":0},0]
[null,null,null,null,null,null,{"$f":"VLOOKUP(F908,工作表9!$G$1:$I$136, 3, FALSE )","v":"混合物"},null,{"$f":"VLOOKUP(F908,工作表9!$G$1:$H$142, 2, FALSE )","v":0},0]
[null,null,null,null,null,null,{"$f":"VLOOKUP(F909,工作表9!$G$1:$I$136, 3, FALSE )","v":"混合物"},null,{"$f":"VLOOKUP(F909,工作表9!$G$1:$H$142, 2, FALSE )","v":0},0]
[null,null,null,null,null,null,{"$f":"VLOOKUP(F910,工作表9!$G$1:$I$136, 3, FALSE )","v":"混合物"},null,{"$f":"VLOOKUP(F910,工作表9!$G$1:$H$142, 2, FALSE )","v":0},0]
[null,null,null,null,null,null,{"$f":"VLOOKUP(F911,工作表9!$G$1:$I$136, 3, FALSE )","v":"混合物"},null,{"$f":"VLOOKUP(F911,工作表9!$G$1:$H$142, 2, FALSE )","v":0},0]
[null,null,null,null,null,null,{"$f":"VLOOKUP(F912,工作表9!$G$1:$I$136, 3, FALSE )","v":"混合物"},null,{"$f":"VLOOKUP(F912,工作表9!$G$1:$H$142, 2, FALSE )","v":0},0]
[null,null,null,null,null,null,{"$f":"VLOOKUP(F913,工作表9!$G$1:$I$136, 3, FALSE )","v":"混合物"},null,{"$f":"VLOOKUP(F913,工作表9!$G$1:$H$142, 2, FALSE )","v":0},0]
[null,null,null,null,null,null,{"$f":"VLOOKUP(F914,工作表9!$G$1:$I$136, 3, FALSE )","v":"混合物"},null,{"$f":"VLOOKUP(F914,工作表9!$G$1:$H$142, 2, FALSE )","v":0},0]
[null,null,null,null,null,null,{"$f":"VLOOKUP(F915,工作表9!$G$1:$I$136, 3, FALSE )","v":"混合物"},null,{"$f":"VLOOKUP(F915,工作表9!$G$1:$H$142, 2, FALSE )","v":0},0]
[null,null,null,null,null,null,{"$f":"VLOOKUP(F916,工作表9!$G$1:$I$136, 3, FALSE )","v":"混合物"},null,{"$f":"VLOOKUP(F916,工作表9!$G$1:$H$142, 2, FALSE )","v":0},0]
[null,null,null,null,null,null,{"$f":"VLOOKUP(F917,工作表9!$G$1:$I$136, 3, FALSE )","v":"混合物"},null,{"$f":"VLOOKUP(F917,工作表9!$G$1:$H$142, 2, FALSE )","v":0},0]
[null,null,null,null,null,null,{"$f":"VLOOKUP(F918,工作表9!$G$1:$I$136, 3, FALSE )","v":"混合物"},null,{"$f":"VLOOKUP(F918,工作表9!$G$1:$H$142, 2, FALSE )","v":0},0]
[null,null,null,null,null,null,{"$f":"VLOOKUP(F919,工作表9!$G$1:$I$136, 3, FALSE )","v":"混合物"},null,{"$f":"VLOOKUP(F919,工作表9!$G$1:$H$142, 2, FALSE )","v":0},0]
[null,null,null,null,null,null,{"$f":"VLOOKUP(F920,工作表9!$G$1:$I$136, 3, FALSE )","v":"混合物"},null,{"$f":"VLOOKUP(F920,工作表9!$G$1:$H$142, 2, FALSE )","v":0},0]
[null,null,null,null,null,null,{"$f":"VLOOKUP(F921,工作表9!$G$1:$I$136, 3, FALSE )","v":"混合物"},null,{"$f":"VLOOKUP(F921,工作表9!$G$1:$H$142, 2, FALSE )","v":0},0]
[null,null,null,null,null,null,{"$f":"VLOOKUP(F922,工作表9!$G$1:$I$136, 3, FALSE )","v":"混合物"},null,{"$f":"VLOOKUP(F922,工作表9!$G$1:$H$142, 2, FALSE )","v":0},0]
[null,null,null,null,null,null,{"$f":"VLOOKUP(F923,工作表9!$G$1:$I$136, 3, FALSE )","v":"混合物"},null,{"$f":"VLOOKUP(F923,工作表9!$G$1:$H$142, 2, FALSE )","v":0},0]
[null,null,null,null,null,null,{"$f":"VLOOKUP(F924,工作表9!$G$1:$I$136, 3, FALSE )","v":"混合物"},null,{"$f":"VLOOKUP(F924,工作表9!$G$1:$H$142, 2, FALSE )","v":0},0]
[null,null,null,null,null,null,{"$f":"VLOOKUP(F925,工作表9!$G$1:$I$136, 3, FALSE )","v":"混合物"},null,{"$f":"VLOOKUP(F925,工作表9!$G$1:$H$142, 2, FALSE )","v":0},0]
[null,null,null,null,null,null,{"$f":"VLOOKUP(F926,工作表9!$G$1:$I$136, 3, FALSE )","v":"混合物"},null,{"$f":"VLOOKUP(F926,工作表9!$G$1:$H$142, 2, FALSE )","v":0},0]
[null,null,null,null,null,null,{"$f":"VLOOKUP(F927,工作表9!$G$1:$I$136, 3, FALSE )","v":"混合物"},null,{"$f":"VLOOKUP(F927,工作表9!$G$1:$H$142, 2, FALSE )","v":0},0]
[null,null,null,null,null,null,{"$f":"VLOOKUP(F928,工作表9!$G$1:$I$136, 3, FALSE )","v":"混合物"},null,{"$f":"VLOOKUP(F928,工作表9!$G$1:$H$142, 2, FALSE )","v":0},0]
[null,null,null,null,null,null,{"$f":"VLOOKUP(F929,工作表9!$G$1:$I$136, 3, FALSE )","v":"混合物"},null,{"$f":"VLOOKUP(F929,工作表9!$G$1:$H$142, 2, FALSE )","v":0},0]
[null,null,null,null,null,null,{"$f":"VLOOKUP(F930,工作表9!$G$1:$I$136, 3, FALSE )","v":"混合物"},null,{"$f":"VLOOKUP(F930,工作表9!$G$1:$H$142, 2, FALSE )","v":0},0]
[null,null,null,null,null,null,{"$f":"VLOOKUP(F931,工作表9!$G$1:$I$136, 3, FALSE )","v":"混合物"},null,{"$f":"VLOOKUP(F931,工作表9!$G$1:$H$142, 2, FALSE )","v":0},0]
[null,null,null,null,null,null,{"$f":"VLOOKUP(F932,工作表9!$G$1:$I$136, 3, FALSE )","v":"混合物"},null,{"$f":"VLOOKUP(F932,工作表9!$G$1:$H$142, 2, FALSE )","v":0},0]
[null,null,null,null,null,null,{"$f":"VLOOKUP(F933,工作表9!$G$1:$I$136, 3, FALSE )","v":"混合物"},null,{"$f":"VLOOKUP(F933,工作表9!$G$1:$H$142, 2, FALSE )","v":0},0]
[null,null,null,null,null,null,{"$f":"VLOOKUP(F934,工作表9!$G$1:$I$136, 3, FALSE )","v":"混合物"},null,{"$f":"VLOOKUP(F934,工作表9!$G$1:$H$142, 2, FALSE )","v":0},0]
[null,null,null,null,null,null,{"$f":"VLOOKUP(F935,工作表9!$G$1:$I$136, 3, FALSE )","v":"混合物"},null,{"$f":"VLOOKUP(F935,工作表9!$G$1:$H$142, 2, FALSE )","v":0},0]
[null,null,null,null,null,null,{"$f":"VLOOKUP(F936,工作表9!$G$1:$I$136, 3, FALSE )","v":"混合物"},null,{"$f":"VLOOKUP(F936,工作表9!$G$1:$H$142, 2, FALSE )","v":0},0]
[null,null,null,null,null,null,{"$f":"VLOOKUP(F937,工作表9!$G$1:$I$136, 3, FALSE )","v":"混合物"},null,{"$f":"VLOOKUP(F937,工作表9!$G$1:$H$142, 2, FALSE )","v":0},0]
[null,null,null,null,null,null,{"$f":"VLOOKUP(F938,工作表9!$G$1:$I$136, 3, FALSE )","v":"混合物"},null,{"$f":"VLOOKUP(F938,工作表9!$G$1:$H$142, 2, FALSE )","v":0},0]
[null,null,null,null,null,null,{"$f":"VLOOKUP(F939,工作表9!$G$1:$I$136, 3, FALSE )","v":"混合物"},null,{"$f":"VLOOKUP(F939,工作表9!$G$1:$H$142, 2, FALSE )","v":0},0]
[null,null,null,null,null,null,{"$f":"VLOOKUP(F940,工作表9!$G$1:$I$136, 3, FALSE )","v":"混合物"},null,{"$f":"VLOOKUP(F940,工作表9!$G$1:$H$142, 2, FALSE )","v":0},0]
[null,null,null,null,null,null,{"$f":"VLOOKUP(F941,工作表9!$G$1:$I$136, 3, FALSE )","v":"混合物"},null,{"$f":"VLOOKUP(F941,工作表9!$G$1:$H$142, 2, FALSE )","v":0},0]
[null,null,null,null,null,null,{"$f":"VLOOKUP(F942,工作表9!$G$1:$I$136, 3, FALSE )","v":"混合物"},null,{"$f":"VLOOKUP(F942,工作表9!$G$1:$H$142, 2, FALSE )","v":0},0]
[null,null,null,null,null,null,{"$f":"VLOOKUP(F943,工作表9!$G$1:$I$136, 3, FALSE )","v":"混合物"},null,{"$f":"VLOOKUP(F943,工作表9!$G$1:$H$142, 2, FALSE )","v":0},0]
[null,null,null,null,null,null,{"$f":"VLOOKUP(F944,工作表9!$G$1:$I$136, 3, FALSE )","v":"混合物"},null,{"$f":"VLOOKUP(F944,工作表9!$G$1:$H$142, 2, FALSE )","v":0},0]
[null,null,null,null,null,null,{"$f":"VLOOKUP(F945,工作表9!$G$1:$I$136, 3, FALSE )","v":"混合物"},null,{"$f":"VLOOKUP(F945,工作表9!$G$1:$H$142, 2, FALSE )","v":0},0]
[null,null,null,null,null,null,{"$f":"VLOOKUP(F946,工作表9!$G$1:$I$136, 3, FALSE )","v":"混合物"},null,{"$f":"VLOOKUP(F946,工作表9!$G$1:$H$142, 2, FALSE )","v":0},0]
[null,null,null,null,null,null,{"$f":"VLOOKUP(F947,工作表9!$G$1:$I$136, 3, FALSE )","v":"混合物"},null,{"$f":"VLOOKUP(F947,工作表9!$G$1:$H$142, 2, FALSE )","v":0},0]
[null,null,null,null,null,null,{"$f":"VLOOKUP(F948,工作表9!$G$1:$I$136, 3, FALSE )","v":"混合物"},null,{"$f":"VLOOKUP(F948,工作表9!$G$1:$H$142, 2, FALSE )","v":0},0]
[null,null,null,null,null,null,{"$f":"VLOOKUP(F949,工作表9!$G$1:$I$136, 3, FALSE )","v":"混合物"},null,{"$f":"VLOOKUP(F949,工作表9!$G$1:$H$142, 2, FALSE )","v":0},0]
[null,null,null,null,null,null,{"$f":"VLOOKUP(F950,工作表9!$G$1:$I$136, 3, FALSE )","v":"混合物"},null,{"$f":"VLOOKUP(F950,工作表9!$G$1:$H$142, 2, FALSE )","v":0},0]
[null,null,null,null,null,null,{"$f":"VLOOKUP(F951,工作表9!$G$1:$I$136, 3, FALSE )","v":"混合物"},null,{"$f":"VLOOKUP(F951,工作表9!$G$1:$H$142, 2, FALSE )","v":0},0]
[null,null,null,null,null,null,{"$f":"VLOOKUP(F952,工作表9!$G$1:$I$136, 3, FALSE )","v":"混合物"},null,{"$f":"VLOOKUP(F952,工作表9!$G$1:$H$142, 2, FALSE )","v":0},0]
[null,null,null,null,null,null,{"$f":"VLOOKUP(F953,工作表9!$G$1:$I$136, 3, FALSE )","v":"混合物"},null,{"$f":"VLOOKUP(F953,工作表9!$G$1:$H$142, 2, FALSE )","v":0},0]
[null,null,null,null,null,null,{"$f":"VLOOKUP(F954,工作表9!$G$1:$I$136, 3, FALSE )","v":"混合物"},null,{"$f":"VLOOKUP(F954,工作表9!$G$1:$H$142, 2, FALSE )","v":0},0]
[null,null,null,null,null,null,{"$f":"VLOOKUP(F955,工作表9!$G$1:$I$136, 3, FALSE )","v":"混合物"},null,{"$f":"VLOOKUP(F955,工作表9!$G$1:$H$142, 2, FALSE )","v":0},0]
[null,null,null,null,null,null,{"$f":"VLOOKUP(F956,工作表9!$G$1:$I$136, 3, FALSE )","v":"混合物"},null,{"$f":"VLOOKUP(F956,工作表9!$G$1:$H$142, 2, FALSE )","v":0},0]
[null,null,null,null,null,null,{"$f":"VLOOKUP(F957,工作表9!$G$1:$I$136, 3, FALSE )","v":"混合物"},null,{"$f":"VLOOKUP(F957,工作表9!$G$1:$H$142, 2, FALSE )","v":0},0]
[null,null,null,null,null,null,{"$f":"VLOOKUP(F958,工作表9!$G$1:$I$136, 3, FALSE )","v":"混合物"},null,{"$f":"VLOOKUP(F958,工作表9!$G$1:$H$142, 2, FALSE )","v":0},0]
[null,null,null,null,null,null,{"$f":"VLOOKUP(F959,工作表9!$G$1:$I$136, 3, FALSE )","v":"混合物"},null,{"$f":"VLOOKUP(F959,工作表9!$G$1:$H$142, 2, FALSE )","v":0},0]
[null,null,null,null,null,null,{"$f":"VLOOKUP(F960,工作表9!$G$1:$I$136, 3, FALSE )","v":"混合物"},null,{"$f":"VLOOKUP(F960,工作表9!$G$1:$H$142, 2, FALSE )","v":0},0]
[null,null,null,null,null,null,{"$f":"VLOOKUP(F961,工作表9!$G$1:$I$136, 3, FALSE )","v":"混合物"},null,{"$f":"VLOOKUP(F961,工作表9!$G$1:$H$142, 2, FALSE )","v":0},0]
[null,null,null,null,null,null,{"$f":"VLOOKUP(F962,工作表9!$G$1:$I$136, 3, FALSE )","v":"混合物"},null,{"$f":"VLOOKUP(F962,工作表9!$G$1:$H$142, 2, FALSE )","v":0},0]
[null,null,null,null,null,null,{"$f":"VLOOKUP(F963,工作表9!$G$1:$I$136, 3, FALSE )","v":"混合物"},null,{"$f":"VLOOKUP(F963,工作表9!$G$1:$H$142, 2, FALSE )","v":0},0]
[null,null,null,null,null,null,{"$f":"VLOOKUP(F964,工作表9!$G$1:$I$136, 3, FALSE )","v":"混合物"},null,{"$f":"VLOOKUP(F964,工作表9!$G$1:$H$142, 2, FALSE )","v":0},0]
[null,null,null,null,null,null,{"$f":"VLOOKUP(F965,工作表9!$G$1:$I$136, 3, FALSE )","v":"混合物"},null,{"$f":"VLOOKUP(F965,工作表9!$G$1:$H$142, 2, FALSE )","v":0},0]
[null,null,null,null,null,null,{"$f":"VLOOKUP(F966,工作表9!$G$1:$I$136, 3, FALSE )","v":"混合物"},null,{"$f":"VLOOKUP(F966,工作表9!$G$1:$H$142, 2, FALSE )","v":0},{"$f":"H966*I966","v":0}]
[null,null,null,null,null,null,{"$f":"VLOOKUP(F967,工作表9!$G$1:$I$136, 3, FALSE )","v":"混合物"},null,{"$f":"VLOOKUP(F967,工作表9!$G$1:$H$142, 2, FALSE )","v":0},0]
[null,null,null,null,null,null,{"$f":"VLOOKUP(F968,工作表9!$G$1:$I$136, 3, FALSE )","v":"混合物"},null,{"$f":"VLOOKUP(F968,工作表9!$G$1:$H$142, 2, FALSE )","v":0},0]
[null,null,null,null,null,null,{"$f":"VLOOKUP(F969,工作表9!$G$1:$I$136, 3, FALSE )","v":"混合物"},null,{"$f":"VLOOKUP(F969,工作表9!$G$1:$H$142, 2, FALSE )","v":0},0]
[null,null,null,null,null,null,{"$f":"VLOOKUP(F970,工作表9!$G$1:$I$136, 3, FALSE )","v":"混合物"},null,{"$f":"VLOOKUP(F970,工作表9!$G$1:$H$142, 2, FALSE )","v":0},0]
[null,null,null,null,null,null,{"$f":"VLOOKUP(F971,工作表9!$G$1:$I$136, 3, FALSE )","v":"混合物"},null,{"$f":"VLOOKUP(F971,工作表9!$G$1:$H$142, 2, FALSE )","v":0},0]
[null,null,null,null,null,null,{"$f":"VLOOKUP(F972,工作表9!$G$1:$I$136, 3, FALSE )","v":"混合物"},null,{"$f":"VLOOKUP(F972,工作表9!$G$1:$H$142, 2, FALSE )","v":0},0]
[null,null,null,null,null,null,{"$f":"VLOOKUP(F973,工作表9!$G$1:$I$136, 3, FALSE )","v":"混合物"},null,{"$f":"VLOOKUP(F973,工作表9!$G$1:$H$142, 2, FALSE )","v":0},0]
[null,null,null,null,null,null,{"$f":"VLOOKUP(F974,工作表9!$G$1:$I$136, 3, FALSE )","v":"混合物"},null,{"$f":"VLOOKUP(F974,工作表9!$G$1:$H$142, 2, FALSE )","v":0},0]
[null,null,null,null,null,null,{"$f":"VLOOKUP(F975,工作表9!$G$1:$I$136, 3, FALSE )","v":"混合物"},null,{"$f":"VLOOKUP(F975,工作表9!$G$1:$H$142, 2, FALSE )","v":0},0]
[null,null,null,null,null,null,{"$f":"VLOOKUP(F976,工作表9!$G$1:$I$136, 3, FALSE )","v":"混合物"},null,{"$f":"VLOOKUP(F976,工作表9!$G$1:$H$142, 2, FALSE )","v":0},0]
[null,null,null,null,null,null,{"$f":"VLOOKUP(F977,工作表9!$G$1:$I$136, 3, FALSE )","v":"混合物"},null,{"$f":"VLOOKUP(F977,工作表9!$G$1:$H$142, 2, FALSE )","v":0},0]
[null,null,null,null,null,null,{"$f":"VLOOKUP(F978,工作表9!$G$1:$I$136, 3, FALSE )","v":"混合物"},null,{"$f":"VLOOKUP(F978,工作表9!$G$1:$H$142, 2, FALSE )","v":0},0]
[null,null,null,null,null,null,{"$f":"VLOOKUP(F979,工作表9!$G$1:$I$136, 3, FALSE )","v":"混合物"},null,{"$f":"VLOOKUP(F979,工作表9!$G$1:$H$142, 2, FALSE )","v":0},0]
[null,null,null,null,null,null,{"$f":"VLOOKUP(F980,工作表9!$G$1:$I$136, 3, FALSE )","v":"混合物"},null,{"$f":"VLOOKUP(F980,工作表9!$G$1:$H$142, 2, FALSE )","v":0},0]
[null,null,null,null,null,null,{"$f":"VLOOKUP(F981,工作表9!$G$1:$I$136, 3, FALSE )","v":"混合物"},null,{"$f":"VLOOKUP(F981,工作表9!$G$1:$H$142, 2, FALSE )","v":0},0]
[null,null,null,null,null,null,{"$f":"VLOOKUP(F982,工作表9!$G$1:$I$136, 3, FALSE )","v":"混合物"},null,{"$f":"VLOOKUP(F982,工作表9!$G$1:$H$142, 2, FALSE )","v":0},0]
[null,null,null,null,null,null,{"$f":"VLOOKUP(F983,工作表9!$G$1:$I$136, 3, FALSE )","v":"混合物"},null,{"$f":"VLOOKUP(F983,工作表9!$G$1:$H$142, 2, FALSE )","v":0},0]
[null,null,null,null,null,null,{"$f":"VLOOKUP(F984,工作表9!$G$1:$I$136, 3, FALSE )","v":"混合物"},null,{"$f":"VLOOKUP(F984,工作表9!$G$1:$H$142, 2, FALSE )","v":0},0]
[null,null,null,null,null,null,{"$f":"VLOOKUP(F985,工作表9!$G$1:$I$136, 3, FALSE )","v":"混合物"},null,{"$f":"VLOOKUP(F985,工作表9!$G$1:$H$142, 2, FALSE )","v":0},0]
[null,null,null,null,null,null,{"$f":"VLOOKUP(F986,工作表9!$G$1:$I$136, 3, FALSE )","v":"混合物"},null,{"$f":"VLOOKUP(F986,工作表9!$G$1:$H$142, 2, FALSE )","v":0},0]
[null,null,null,null,null,null,{"$f":"VLOOKUP(F987,工作表9!$G$1:$I$136, 3, FALSE )","v":"混合物"},null,{"$f":"VLOOKUP(F987,工作表9!$G$1:$H$142, 2, FALSE )","v":0},0]
[null,null,null,null,null,null,{"$f":"VLOOKUP(F988,工作表9!$G$1:$I$136, 3, FALSE )","v":"混合物"},null,{"$f":"VLOOKUP(F988,工作表9!$G$1:$H$142, 2, FALSE )","v":0},0]
[null,null,null,null,null,null,{"$f":"VLOOKUP(F989,工作表9!$G$1:$I$136, 3, FALSE )","v":"混合物"},null,{"$f":"VLOOKUP(F989,工作表9!$G$1:$H$142, 2, FALSE )","v":0},0]
[null,null,null,null,null,null,{"$f":"VLOOKUP(F990,工作表9!$G$1:$I$136, 3, FALSE )","v":"混合物"},null,{"$f":"VLOOKUP(F990,工作表9!$G$1:$H$142, 2, FALSE )","v":0},0]
[null,null,null,null,null,null,{"$f":"VLOOKUP(F991,工作表9!$G$1:$I$136, 3, FALSE )","v":"混合物"},null,{"$f":"VLOOKUP(F991,工作表9!$G$1:$H$142, 2, FALSE )","v":0},0]
[null,null,null,null,null,null,{"$f":"VLOOKUP(F992,工作表9!$G$1:$I$136, 3, FALSE )","v":"混合物"},null,{"$f":"VLOOKUP(F992,工作表9!$G$1:$H$142, 2, FALSE )","v":0},0]
[null,null,null,null,null,null,{"$f":"VLOOKUP(F993,工作表9!$G$1:$I$136, 3, FALSE )","v":"混合物"},null,{"$f":"VLOOKUP(F993,工作表9!$G$1:$H$142, 2, FALSE )","v":0},0]
[null,null,null,null,null,null,{"$f":"VLOOKUP(F994,工作表9!$G$1:$I$136, 3, FALSE )","v":"混合物"},null,{"$f":"VLOOKUP(F994,工作表9!$G$1:$H$142, 2, FALSE )","v":0},0]
[null,null,null,null,null,null,{"$f":"VLOOKUP(F995,工作表9!$G$1:$I$136, 3, FALSE )","v":"混合物"},null,{"$f":"VLOOKUP(F995,工作表9!$G$1:$H$142, 2, FALSE )","v":0},0]
[null,null,null,null,null,null,{"$f":"VLOOKUP(F996,工作表9!$G$1:$I$136, 3, FALSE )","v":"混合物"},null,{"$f":"VLOOKUP(F996,工作表9!$G$1:$H$142, 2, FALSE )","v":0},0]
[null,null,null,null,null,null,{"$f":"VLOOKUP(F997,工作表9!$G$1:$I$136, 3, FALSE )","v":"混合物"},null,{"$f":"VLOOKUP(F997,工作表9!$G$1:$H$142, 2, FALSE )","v":0},0]
[null,null,null,null,null,null,{"$f":"VLOOKUP(F998,工作表9!$G$1:$I$136, 3, FALSE )","v":"混合物"},null,{"$f":"VLOOKUP(F998,工作表9!$G$1:$H$142, 2, FALSE )","v":0},0]
[null,null,null,null,null,null,{"$f":"VLOOKUP(F999,工作表9!$G$1:$I$136, 3, FALSE )","v":"混合物"},null,{"$f":"VLOOKUP(F999,工作表9!$G$1:$H$142, 2, FALSE )","v":0},0]
[null,null,null,null,null,null,{"$f":"VLOOKUP(F1000,工作表9!$G$1:$I$136, 3, FALSE )","v":"混合物"},null,{"$f":"VLOOKUP(F1000,工作表9!$G$1:$H$142, 2, FALSE )","v":0},0]
["備註：","＊    請參考附件：冷媒GWP值"]

{"sheet":"111年氫氟碳（HFCs）之國內採購統計申報表","index":5,"n_rows":1001,"n_cols":10,"rows_kept":1001,"cut":false,"hidden":false,"merged":[[1,6,3,6],[0,0,0,1],[1,0,3,0],[1,1,3,1],[1,3,3,3],[1,4,3,4],[1,5,3,5],[0,2,0,5],[1,2,3,2]]}
["申報年份",null,"            111         年",null,null,null,"請記得檢附採購發票影本"]
["編號","採購發票編號","供應廠商統一編號","供應廠商名稱","商品名稱","冷媒編號\n請填寫號碼即可，毋須填寫R-","物質類別","採購量","GWP*","公噸CO2eq"]
[null,null,null,null,null,null,null,"（公噸）",null,"C=A*B"]
[null,null,null,null,null,null,null,"A","B"]
["範例 1","UZ07990000","02750961","AA","R23",23,{"$f":"VLOOKUP(F5,工作表9!$G$1:$I$136, 3, FALSE )","v":"純物質"},50,{"$f":"VLOOKUP(F5,工作表9!$G$1:$H$142, 2, FALSE )","v":14800},{"$f":"H5*I5","v":740000}]
["範例 2","UZ07990000","02750961","AA","R134a","134a",{"$f":"VLOOKUP(F6,工作表9!$G$1:$I$136, 3, FALSE )","v":"純物質"},100,{"$f":"VLOOKUP(F6,工作表9!$G$1:$H$142, 2, FALSE )","v":1430},{"$f":"H6*I6","v":143000}]
["範例 3","UZ07990060","02750963","BB","R404A","404A",{"$f":"VLOOKUP(F7,工作表9!$G$1:$I$136, 3, FALSE )","v":"混合物"},20,{"$f":"VLOOKUP(F7,工作表9!$G$1:$H$142, 2, FALSE )","v":3921.6000000000004},78432]
["範例 4","UZ07990060","02750963","BB","R410A","410A",{"$f":"VLOOKUP(F8,工作表9!$G$1:$I$136, 3, FALSE )","v":"混合物"},5,{"$f":"VLOOKUP(F8,工作表9!$G$1:$H$142, 2, FALSE )","v":2087.5},10437.5]
[null,null,null,null,null,null,{"$f":"VLOOKUP(F9,工作表9!$G$1:$I$136, 3, FALSE )","v":"混合物"},null,{"$f":"VLOOKUP(F9,工作表9!$G$1:$H$142, 2, FALSE )","v":0},0]
[null,null,null,null,null,null,{"$f":"VLOOKUP(F10,工作表9!$G$1:$I$136, 3, FALSE )","v":"混合物"},null,{"$f":"VLOOKUP(F10,工作表9!$G$1:$H$142, 2, FALSE )","v":0},0]
[null,null,null,null,null,null,{"$f":"VLOOKUP(F11,工作表9!$G$1:$I$136, 3, FALSE )","v":"混合物"},null,{"$f":"VLOOKUP(F11,工作表9!$G$1:$H$142, 2, FALSE )","v":0},0]
[null,null,null,null,null,null,{"$f":"VLOOKUP(F12,工作表9!$G$1:$I$136, 3, FALSE )","v":"混合物"},null,{"$f":"VLOOKUP(F12,工作表9!$G$1:$H$142, 2, FALSE )","v":0},0]
[null,null,null,null,null,null,{"$f":"VLOOKUP(F13,工作表9!$G$1:$I$136, 3, FALSE )","v":"混合物"},null,{"$f":"VLOOKUP(F13,工作表9!$G$1:$H$142, 2, FALSE )","v":0},0]
[null,null,null,null,null,null,{"$f":"VLOOKUP(F14,工作表9!$G$1:$I$136, 3, FALSE )","v":"混合物"},null,{"$f":"VLOOKUP(F14,工作表9!$G$1:$H$142, 2, FALSE )","v":0},0]
[null,null,null,null,null,null,{"$f":"VLOOKUP(F15,工作表9!$G$1:$I$136, 3, FALSE )","v":"混合物"},null,{"$f":"VLOOKUP(F15,工作表9!$G$1:$H$142, 2, FALSE )","v":0},0]
[null,null,null,null,null,null,{"$f":"VLOOKUP(F16,工作表9!$G$1:$I$136, 3, FALSE )","v":"混合物"},null,{"$f":"VLOOKUP(F16,工作表9!$G$1:$H$142, 2, FALSE )","v":0},0]
[null,null,null,null,null,null,{"$f":"VLOOKUP(F17,工作表9!$G$1:$I$136, 3, FALSE )","v":"混合物"},null,{"$f":"VLOOKUP(F17,工作表9!$G$1:$H$142, 2, FALSE )","v":0},0]
[null,null,null,null,null,null,{"$f":"VLOOKUP(F18,工作表9!$G$1:$I$136, 3, FALSE )","v":"混合物"},null,{"$f":"VLOOKUP(F18,工作表9!$G$1:$H$142, 2, FALSE )","v":0},0]
[null,null,null,null,null,null,{"$f":"VLOOKUP(F19,工作表9!$G$1:$I$136, 3, FALSE )","v":"混合物"},null,{"$f":"VLOOKUP(F19,工作表9!$G$1:$H$142, 2, FALSE )","v":0},0]
[null,null,null,null,null,null,{"$f":"VLOOKUP(F20,工作表9!$G$1:$I$136, 3, FALSE )","v":"混合物"},null,{"$f":"VLOOKUP(F20,工作表9!$G$1:$H$142, 2, FALSE )","v":0},0]
[null,null,null,null,null,null,{"$f":"VLOOKUP(F21,工作表9!$G$1:$I$136, 3, FALSE )","v":"混合物"},null,{"$f":"VLOOKUP(F21,工作表9!$G$1:$H$142, 2, FALSE )","v":0},0]
[null,null,null,null,null,null,{"$f":"VLOOKUP(F22,工作表9!$G$1:$I$136, 3, FALSE )","v":"混合物"},null,{"$f":"VLOOKUP(F22,工作表9!$G$1:$H$142, 2, FALSE )","v":0},0]
[null,null,null,null,null,null,{"$f":"VLOOKUP(F23,工作表9!$G$1:$I$136, 3, FALSE )","v":"混合物"},null,{"$f":"VLOOKUP(F23,工作表9!$G$1:$H$142, 2, FALSE )","v":0},0]
[null,null,null,null,null,null,{"$f":"VLOOKUP(F24,工作表9!$G$1:$I$136, 3, FALSE )","v":"混合物"},null,{"$f":"VLOOKUP(F24,工作表9!$G$1:$H$142, 2, FALSE )","v":0},0]
[null,null,null,null,null,null,{"$f":"VLOOKUP(F25,工作表9!$G$1:$I$136, 3, FALSE )","v":"混合物"},null,{"$f":"VLOOKUP(F25,工作表9!$G$1:$H$142, 2, FALSE )","v":0},0]
[null,null,null,null,null,null,{"$f":"VLOOKUP(F26,工作表9!$G$1:$I$136, 3, FALSE )","v":"混合物"},null,{"$f":"VLOOKUP(F26,工作表9!$G$1:$H$142, 2, FALSE )","v":0},0]
[null,null,null,null,null,null,{"$f":"VLOOKUP(F27,工作表9!$G$1:$I$136, 3, FALSE )","v":"混合物"},null,{"$f":"VLOOKUP(F27,工作表9!$G$1:$H$142, 2, FALSE )","v":0},0]
[null,null,null,null,null,null,{"$f":"VLOOKUP(F28,工作表9!$G$1:$I$136, 3, FALSE )","v":"混合物"},null,{"$f":"VLOOKUP(F28,工作表9!$G$1:$H$142, 2, FALSE )","v":0},0]
[null,null,null,null,null,null,{"$f":"VLOOKUP(F29,工作表9!$G$1:$I$136, 3, FALSE )","v":"混合物"},null,{"$f":"VLOOKUP(F29,工作表9!$G$1:$H$142, 2, FALSE )","v":0},0]
[null,null,null,null,null,null,{"$f":"VLOOKUP(F30,工作表9!$G$1:$I$136, 3, FALSE )","v":"混合物"},null,{"$f":"VLOOKUP(F30,工作表9!$G$1:$H$142, 2, FALSE )","v":0},0]
[null,null,null,null,null,null,{"$f":"VLOOKUP(F31,工作表9!$G$1:$I$136, 3, FALSE )","v":"混合物"},null,{"$f":"VLOOKUP(F31,工作表9!$G$1:$H$142, 2, FALSE )","v":0},0]
[null,null,null,null,null,null,{"$f":"VLOOKUP(F32,工作表9!$G$1:$I$136, 3, FALSE )","v":"混合物"},null,{"$f":"VLOOKUP(F32,工作表9!$G$1:$H$142, 2, FALSE )","v":0},0]
[null,null,null,null,null,null,{"$f":"VLOOKUP(F33,工作表9!$G$1:$I$136, 3, FALSE )","v":"混合物"},null,{"$f":"VLOOKUP(F33,工作表9!$G$1:$H$142, 2, FALSE )","v":0},0]
[null,null,null,null,null,null,{"$f":"VLOOKUP(F34,工作表9!$G$1:$I$136, 3, FALSE )","v":"混合物"},null,{"$f":"VLOOKUP(F34,工作表9!$G$1:$H$142, 2, FALSE )","v":0},0]
[null,null,null,null,null,null,{"$f":"VLOOKUP(F35,工作表9!$G$1:$I$136, 3, FALSE )","v":"混合物"},null,{"$f":"VLOOKUP(F35,工作表9!$G$1:$H$142, 2, FALSE )","v":0},0]
[null,null,null,null,null,null,{"$f":"VLOOKUP(F36,工作表9!$G$1:$I$136, 3, FALSE )","v":"混合物"},null,{"$f":"VLOOKUP(F36,工作表9!$G$1:$H$142, 2, FALSE )","v":0},0]
[null,null,null,null,null,null,{"$f":"VLOOKUP(F37,工作表9!$G$1:$I$136, 3, FALSE )","v":"混合物"},null,{"$f":"VLOOKUP(F37,工作表9!$G$1:$H$142, 2, FALSE )","v":0},0]
[null,null,null,null,null,null,{"$f":"VLOOKUP(F38,工作表9!$G$1:$I$136, 3, FALSE )","v":"混合物"},null,{"$f":"VLOOKUP(F38,工作表9!$G$1:$H$142, 2, FALSE )","v":0},0]
[null,null,null,null,null,null,{"$f":"VLOOKUP(F39,工作表9!$G$1:$I$136, 3, FALSE )","v":"混合物"},null,{"$f":"VLOOKUP(F39,工作表9!$G$1:$H$142, 2, FALSE )","v":0},0]
[null,null,null,null,null,null,{"$f":"VLOOKUP(F40,工作表9!$G$1:$I$136, 3, FALSE )","v":"混合物"},null,{"$f":"VLOOKUP(F40,工作表9!$G$1:$H$142, 2, FALSE )","v":0},0]
[null,null,null,null,null,null,{"$f":"VLOOKUP(F41,工作表9!$G$1:$I$136, 3, FALSE )","v":"混合物"},null,{"$f":"VLOOKUP(F41,工作表9!$G$1:$H$142, 2, FALSE )","v":0},0]
[null,null,null,null,null,null,{"$f":"VLOOKUP(F42,工作表9!$G$1:$I$136, 3, FALSE )","v":"混合物"},null,{"$f":"VLOOKUP(F42,工作表9!$G$1:$H$142, 2, FALSE )","v":0},0]
[null,null,null,null,null,null,{"$f":"VLOOKUP(F43,工作表9!$G$1:$I$136, 3, FALSE )","v":"混合物"},null,{"$f":"VLOOKUP(F43,工作表9!$G$1:$H$142, 2, FALSE )","v":0},0]
[null,null,null,null,null,null,{"$f":"VLOOKUP(F44,工作表9!$G$1:$I$136, 3, FALSE )","v":"混合物"},null,{"$f":"VLOOKUP(F44,工作表9!$G$1:$H$142, 2, FALSE )","v":0},0]
[null,null,null,null,null,null,{"$f":"VLOOKUP(F45,工作表9!$G$1:$I$136, 3, FALSE )","v":"混合物"},null,{"$f":"VLOOKUP(F45,工作表9!$G$1:$H$142, 2, FALSE )","v":0},0]
[null,null,null,null,null,null,{"$f":"VLOOKUP(F46,工作表9!$G$1:$I$136, 3, FALSE )","v":"混合物"},null,{"$f":"VLOOKUP(F46,工作表9!$G$1:$H$142, 2, FALSE )","v":0},0]
[null,null,null,null,null,null,{"$f":"VLOOKUP(F47,工作表9!$G$1:$I$136, 3, FALSE )","v":"混合物"},null,{"$f":"VLOOKUP(F47,工作表9!$G$1:$H$142, 2, FALSE )","v":0},0]
[null,null,null,null,null,null,{"$f":"VLOOKUP(F48,工作表9!$G$1:$I$136, 3, FALSE )","v":"混合物"},null,{"$f":"VLOOKUP(F48,工作表9!$G$1:$H$142, 2, FALSE )","v":0},0]
[null,null,null,null,null,null,{"$f":"VLOOKUP(F49,工作表9!$G$1:$I$136, 3, FALSE )","v":"混合物"},null,{"$f":"VLOOKUP(F49,工作表9!$G$1:$H$142, 2, FALSE )","v":0},0]
[null,null,null,null,null,null,{"$f":"VLOOKUP(F50,工作表9!$G$1:$I$136, 3, FALSE )","v":"混合物"},null,{"$f":"VLOOKUP(F50,工作表9!$G$1:$H$142, 2, FALSE )","v":0},0]
[null,null,null,null,null,null,{"$f":"VLOOKUP(F51,工作表9!$G$1:$I$136, 3, FALSE )","v":"混合物"},null,{"$f":"VLOOKUP(F51,工作表9!$G$1:$H$142, 2, FALSE )","v":0},0]
[null,null,null,null,null,null,{"$f":"VLOOKUP(F52,工作表9!$G$1:$I$136, 3, FALSE )","v":"混合物"},null,{"$f":"VLOOKUP(F52,工作表9!$G$1:$H$142, 2, FALSE )","v":0},0]
[null,null,null,null,null,null,{"$f":"VLOOKUP(F53,工作表9!$G$1:$I$136, 3, FALSE )","v":"混合物"},null,{"$f":"VLOOKUP(F53,工作表9!$G$1:$H$142, 2, FALSE )","v":0},0]
[null,null,null,null,null,null,{"$f":"VLOOKUP(F54,工作表9!$G$1:$I$136, 3, FALSE )","v":"混合物"},null,{"$f":"VLOOKUP(F54,工作表9!$G$1:$H$142, 2, FALSE )","v":0},0]
[null,null,null,null,null,null,{"$f":"VLOOKUP(F55,工作表9!$G$1:$I$136, 3, FALSE )","v":"混合物"},null,{"$f":"VLOOKUP(F55,工作表9!$G$1:$H$142, 2, FALSE )","v":0},0]
[null,null,null,null,null,null,{"$f":"VLOOKUP(F56,工作表9!$G$1:$I$136, 3, FALSE )","v":"混合物"},null,{"$f":"VLOOKUP(F56,工作表9!$G$1:$H$142, 2, FALSE )","v":0},0]
[null,null,null,null,null,null,{"$f":"VLOOKUP(F57,工作表9!$G$1:$I$136, 3, FALSE )","v":"混合物"},null,{"$f":"VLOOKUP(F57,工作表9!$G$1:$H$142, 2, FALSE )","v":0},0]
[null,null,null,null,null,null,{"$f":"VLOOKUP(F58,工作表9!$G$1:$I$136, 3, FALSE )","v":"混合物"},null,{"$f":"VLOOKUP(F58,工作表9!$G$1:$H$142, 2, FALSE )","v":0},0]
[null,null,null,null,null,null,{"$f":"VLOOKUP(F59,工作表9!$G$1:$I$136, 3, FALSE )","v":"混合物"},null,{"$f":"VLOOKUP(F59,工作表9!$G$1:$H$142, 2, FALSE )","v":0},0]
[null,null,null,null,null,null,{"$f":"VLOOKUP(F60,工作表9!$G$1:$I$136, 3, FALSE )","v":"混合物"},null,{"$f":"VLOOKUP(F60,工作表9!$G$1:$H$142, 2, FALSE )","v":0},0]
[null,null,null,null,null,null,{"$f":"VLOOKUP(F61,工作表9!$G$1:$I$136, 3, FALSE )","v":"混合物"},null,{"$f":"VLOOKUP(F61,工作表9!$G$1:$H$142, 2, FALSE )","v":0},0]
[null,null,null,null,null,null,{"$f":"VLOOKUP(F62,工作表9!$G$1:$I$136, 3, FALSE )","v":"混合物"},null,{"$f":"VLOOKUP(F62,工作表9!$G$1:$H$142, 2, FALSE )","v":0},0]
[null,null,null,null,null,null,{"$f":"VLOOKUP(F63,工作表9!$G$1:$I$136, 3, FALSE )","v":"混合物"},null,{"$f":"VLOOKUP(F63,工作表9!$G$1:$H$142, 2, FALSE )","v":0},0]
[null,null,null,null,null,null,{"$f":"VLOOKUP(F64,工作表9!$G$1:$I$136, 3, FALSE )","v":"混合物"},null,{"$f":"VLOOKUP(F64,工作表9!$G$1:$H$142, 2, FALSE )","v":0},0]
[null,null,null,null,null,null,{"$f":"VLOOKUP(F65,工作表9!$G$1:$I$136, 3, FALSE )","v":"混合物"},null,{"$f":"VLOOKUP(F65,工作表9!$G$1:$H$142, 2, FALSE )","v":0},0]
[null,null,null,null,null,null,{"$f":"VLOOKUP(F66,工作表9!$G$1:$I$136, 3, FALSE )","v":"混合物"},null,{"$f":"VLOOKUP(F66,工作表9!$G$1:$H$142, 2, FALSE )","v":0},0]
[null,null,null,null,null,null,{"$f":"VLOOKUP(F67,工作表9!$G$1:$I$136, 3, FALSE )","v":"混合物"},null,{"$f":"VLOOKUP(F67,工作表9!$G$1:$H$142, 2, FALSE )","v":0},0]
[null,null,null,null,null,null,{"$f":"VLOOKUP(F68,工作表9!$G$1:$I$136, 3, FALSE )","v":"混合物"},null,{"$f":"VLOOKUP(F68,工作表9!$G$1:$H$142, 2, FALSE )","v":0},0]
[null,null,null,null,null,null,{"$f":"VLOOKUP(F69,工作表9!$G$1:$I$136, 3, FALSE )","v":"混合物"},null,{"$f":"VLOOKUP(F69,工作表9!$G$1:$H$142, 2, FALSE )","v":0},0]
[null,null,null,null,null,null,{"$f":"VLOOKUP(F70,工作表9!$G$1:$I$136, 3, FALSE )","v":"混合物"},null,{"$f":"VLOOKUP(F70,工作表9!$G$1:$H$142, 2, FALSE )","v":0},{"$f":"H70*I70","v":0}]
[null,null,null,null,null,null,{"$f":"VLOOKUP(F71,工作表9!$G$1:$I$136, 3, FALSE )","v":"混合物"},null,{"$f":"VLOOKUP(F71,工作表9!$G$1:$H$142, 2, FALSE )","v":0},0]
[null,null,null,null,null,null,{"$f":"VLOOKUP(F72,工作表9!$G$1:$I$136, 3, FALSE )","v":"混合物"},null,{"$f":"VLOOKUP(F72,工作表9!$G$1:$H$142, 2, FALSE )","v":0},0]
[null,null,null,null,null,null,{"$f":"VLOOKUP(F73,工作表9!$G$1:$I$136, 3, FALSE )","v":"混合物"},null,{"$f":"VLOOKUP(F73,工作表9!$G$1:$H$142, 2, FALSE )","v":0},0]
[null,null,null,null,null,null,{"$f":"VLOOKUP(F74,工作表9!$G$1:$I$136, 3, FALSE )","v":"混合物"},null,{"$f":"VLOOKUP(F74,工作表9!$G$1:$H$142, 2, FALSE )","v":0},0]
[null,null,null,null,null,null,{"$f":"VLOOKUP(F75,工作表9!$G$1:$I$136, 3, FALSE )","v":"混合物"},null,{"$f":"VLOOKUP(F75,工作表9!$G$1:$H$142, 2, FALSE )","v":0},0]
[null,null,null,null,null,null,{"$f":"VLOOKUP(F76,工作表9!$G$1:$I$136, 3, FALSE )","v":"混合物"},null,{"$f":"VLOOKUP(F76,工作表9!$G$1:$H$142, 2, FALSE )","v":0},0]
[null,null,null,null,null,null,{"$f":"VLOOKUP(F77,工作表9!$G$1:$I$136, 3, FALSE )","v":"混合物"},null,{"$f":"VLOOKUP(F77,工作表9!$G$1:$H$142, 2, FALSE )","v":0},0]
[null,null,null,null,null,null,{"$f":"VLOOKUP(F78,工作表9!$G$1:$I$136, 3, FALSE )","v":"混合物"},null,{"$f":"VLOOKUP(F78,工作表9!$G$1:$H$142, 2, FALSE )","v":0},0]
[null,null,null,null,null,null,{"$f":"VLOOKUP(F79,工作表9!$G$1:$I$136, 3, FALSE )","v":"混合物"},null,{"$f":"VLOOKUP(F79,工作表9!$G$1:$H$142, 2, FALSE )","v":0},0]
[null,null,null,null,null,null,{"$f":"VLOOKUP(F80,工作表9!$G$1:$I$136, 3, FALSE )","v":"混合物"},null,{"$f":"VLOOKUP(F80,工作表9!$G$1:$H$142, 2, FALSE )","v":0},0]
[null,null,null,null,null,null,{"$f":"VLOOKUP(F81,工作表9!$G$1:$I$136, 3, FALSE )","v":"混合物"},null,{"$f":"VLOOKUP(F81,工作表9!$G$1:$H$142, 2, FALSE )","v":0},0]
[null,null,null,null,null,null,{"$f":"VLOOKUP(F82,工作表9!$G$1:$I$136, 3, FALSE )","v":"混合物"},null,{"$f":"VLOOKUP(F82,工作表9!$G$1:$H$142, 2, FALSE )","v":0},0]
[null,null,null,null,null,null,{"$f":"VLOOKUP(F83,工作表9!$G$1:$I$136, 3, FALSE )","v":"混合物"},null,{"$f":"VLOOKUP(F83,工作表9!$G$1:$H$142, 2, FALSE )","v":0},0]
[null,null,null,null,null,null,{"$f":"VLOOKUP(F84,工作表9!$G$1:$I$136, 3, FALSE )","v":"混合物"},null,{"$f":"VLOOKUP(F84,工作表9!$G$1:$H$142, 2, FALSE )","v":0},0]
[null,null,null,null,null,null,{"$f":"VLOOKUP(F85,工作表9!$G$1:$I$136, 3, FALSE )","v":"混合物"},null,{"$f":"VLOOKUP(F85,工作表9!$G$1:$H$142, 2, FALSE )","v":0},0]
[null,null,null,null,null,null,{"$f":"VLOOKUP(F86,工作表9!$G$1:$I$136, 3, FALSE )","v":"混合物"},null,{"$f":"VLOOKUP(F86,工作表9!$G$1:$H$142, 2, FALSE )","v":0},0]
[null,null,null,null,null,null,{"$f":"VLOOKUP(F87,工作表9!$G$1:$I$136, 3, FALSE )","v":"混合物"},null,{"$f":"VLOOKUP(F87,工作表9!$G$1:$H$142, 2, FALSE )","v":0},0]
[null,null,null,null,null,null,{"$f":"VLOOKUP(F88,工作表9!$G$1:$I$136, 3, FALSE )","v":"混合物"},null,{"$f":"VLOOKUP(F88,工作表9!$G$1:$H$142, 2, FALSE )","v":0},0]
[null,null,null,null,null,null,{"$f":"VLOOKUP(F89,工作表9!$G$1:$I$136, 3, FALSE )","v":"混合物"},null,{"$f":"VLOOKUP(F89,工作表9!$G$1:$H$142, 2, FALSE )","v":0},0]
[null,null,null,null,null,null,{"$f":"VLOOKUP(F90,工作表9!$G$1:$I$136, 3, FALSE )","v":"混合物"},null,{"$f":"VLOOKUP(F90,工作表9!$G$1:$H$142, 2, FALSE )","v":0},0]
[null,null,null,null,null,null,{"$f":"VLOOKUP(F91,工作表9!$G$1:$I$136, 3, FALSE )","v":"混合物"},null,{"$f":"VLOOKUP(F91,工作表9!$G$1:$H$142, 2, FALSE )","v":0},0]
[null,null,null,null,null,null,{"$f":"VLOOKUP(F92,工作表9!$G$1:$I$136, 3, FALSE )","v":"混合物"},null,{"$f":"VLOOKUP(F92,工作表9!$G$1:$H$142, 2, FALSE )","v":0},0]
[null,null,null,null,null,null,{"$f":"VLOOKUP(F93,工作表9!$G$1:$I$136, 3, FALSE )","v":"混合物"},null,{"$f":"VLOOKUP(F93,工作表9!$G$1:$H$142, 2, FALSE )","v":0},0]
[null,null,null,null,null,null,{"$f":"VLOOKUP(F94,工作表9!$G$1:$I$136, 3, FALSE )","v":"混合物"},null,{"$f":"VLOOKUP(F94,工作表9!$G$1:$H$142, 2, FALSE )","v":0},0]
[null,null,null,null,null,null,{"$f":"VLOOKUP(F95,工作表9!$G$1:$I$136, 3, FALSE )","v":"混合物"},null,{"$f":"VLOOKUP(F95,工作表9!$G$1:$H$142, 2, FALSE )","v":0},0]
[null,null,null,null,null,null,{"$f":"VLOOKUP(F96,工作表9!$G$1:$I$136, 3, FALSE )","v":"混合物"},null,{"$f":"VLOOKUP(F96,工作表9!$G$1:$H$142, 2, FALSE )","v":0},0]
[null,null,null,null,null,null,{"$f":"VLOOKUP(F97,工作表9!$G$1:$I$136, 3, FALSE )","v":"混合物"},null,{"$f":"VLOOKUP(F97,工作表9!$G$1:$H$142, 2, FALSE )","v":0},0]
[null,null,null,null,null,null,{"$f":"VLOOKUP(F98,工作表9!$G$1:$I$136, 3, FALSE )","v":"混合物"},null,{"$f":"VLOOKUP(F98,工作表9!$G$1:$H$142, 2, FALSE )","v":0},0]
[null,null,null,null,null,null,{"$f":"VLOOKUP(F99,工作表9!$G$1:$I$136, 3, FALSE )","v":"混合物"},null,{"$f":"VLOOKUP(F99,工作表9!$G$1:$H$142, 2, FALSE )","v":0},0]
[null,null,null,null,null,null,{"$f":"VLOOKUP(F100,工作表9!$G$1:$I$136, 3, FALSE )","v":"混合物"},null,{"$f":"VLOOKUP(F100,工作表9!$G$1:$H$142, 2, FALSE )","v":0},0]
[null,null,null,null,null,null,{"$f":"VLOOKUP(F101,工作表9!$G$1:$I$136, 3, FALSE )","v":"混合物"},null,{"$f":"VLOOKUP(F101,工作表9!$G$1:$H$142, 2, FALSE )","v":0},0]
[null,null,null,null,null,null,{"$f":"VLOOKUP(F102,工作表9!$G$1:$I$136, 3, FALSE )","v":"混合物"},null,{"$f":"VLOOKUP(F102,工作表9!$G$1:$H$142, 2, FALSE )","v":0},0]
[null,null,null,null,null,null,{"$f":"VLOOKUP(F103,工作表9!$G$1:$I$136, 3, FALSE )","v":"混合物"},null,{"$f":"VLOOKUP(F103,工作表9!$G$1:$H$142, 2, FALSE )","v":0},0]
[null,null,null,null,null,null,{"$f":"VLOOKUP(F104,工作表9!$G$1:$I$136, 3, FALSE )","v":"混合物"},null,{"$f":"VLOOKUP(F104,工作表9!$G$1:$H$142, 2, FALSE )","v":0},0]
[null,null,null,null,null,null,{"$f":"VLOOKUP(F105,工作表9!$G$1:$I$136, 3, FALSE )","v":"混合物"},null,{"$f":"VLOOKUP(F105,工作表9!$G$1:$H$142, 2, FALSE )","v":0},0]
[null,null,null,null,null,null,{"$f":"VLOOKUP(F106,工作表9!$G$1:$I$136, 3, FALSE )","v":"混合物"},null,{"$f":"VLOOKUP(F106,工作表9!$G$1:$H$142, 2, FALSE )","v":0},0]
[null,null,null,null,null,null,{"$f":"VLOOKUP(F107,工作表9!$G$1:$I$136, 3, FALSE )","v":"混合物"},null,{"$f":"VLOOKUP(F107,工作表9!$G$1:$H$142, 2, FALSE )","v":0},0]
[null,null,null,null,null,null,{"$f":"VLOOKUP(F108,工作表9!$G$1:$I$136, 3, FALSE )","v":"混合物"},null,{"$f":"VLOOKUP(F108,工作表9!$G$1:$H$142, 2, FALSE )","v":0},0]
[null,null,null,null,null,null,{"$f":"VLOOKUP(F109,工作表9!$G$1:$I$136, 3, FALSE )","v":"混合物"},null,{"$f":"VLOOKUP(F109,工作表9!$G$1:$H$142, 2, FALSE )","v":0},0]
[null,null,null,null,null,null,{"$f":"VLOOKUP(F110,工作表9!$G$1:$I$136, 3, FALSE )","v":"混合物"},null,{"$f":"VLOOKUP(F110,工作表9!$G$1:$H$142, 2, FALSE )","v":0},0]
[null,null,null,null,null,null,{"$f":"VLOOKUP(F111,工作表9!$G$1:$I$136, 3, FALSE )","v":"混合物"},null,{"$f":"VLOOKUP(F111,工作表9!$G$1:$H$142, 2, FALSE )","v":0},0]
[null,null,null,null,null,null,{"$f":"VLOOKUP(F112,工作表9!$G$1:$I$136, 3, FALSE )","v":"混合物"},null,{"$f":"VLOOKUP(F112,工作表9!$G$1:$H$142, 2, FALSE )","v":0},0]
[null,null,null,null,null,null,{"$f":"VLOOKUP(F113,工作表9!$G$1:$I$136, 3, FALSE )","v":"混合物"},null,{"$f":"VLOOKUP(F113,工作表9!$G$1:$H$142, 2, FALSE )","v":0},0]
[null,null,null,null,null,null,{"$f":"VLOOKUP(F114,工作表9!$G$1:$I$136, 3, FALSE )","v":"混合物"},null,{"$f":"VLOOKUP(F114,工作表9!$G$1:$H$142, 2, FALSE )","v":0},0]
[null,null,null,null,null,null,{"$f":"VLOOKUP(F115,工作表9!$G$1:$I$136, 3, FALSE )","v":"混合物"},null,{"$f":"VLOOKUP(F115,工作表9!$G$1:$H$142, 2, FALSE )","v":0},0]
[null,null,null,null,null,null,{"$f":"VLOOKUP(F116,工作表9!$G$1:$I$136, 3, FALSE )","v":"混合物"},null,{"$f":"VLOOKUP(F116,工作表9!$G$1:$H$142, 2, FALSE )","v":0},0]
[null,null,null,null,null,null,{"$f":"VLOOKUP(F117,工作表9!$G$1:$I$136, 3, FALSE )","v":"混合物"},null,{"$f":"VLOOKUP(F117,工作表9!$G$1:$H$142, 2, FALSE )","v":0},0]
[null,null,null,null,null,null,{"$f":"VLOOKUP(F118,工作表9!$G$1:$I$136, 3, FALSE )","v":"混合物"},null,{"$f":"VLOOKUP(F118,工作表9!$G$1:$H$142, 2, FALSE )","v":0},0]
[null,null,null,null,null,null,{"$f":"VLOOKUP(F119,工作表9!$G$1:$I$136, 3, FALSE )","v":"混合物"},null,{"$f":"VLOOKUP(F119,工作表9!$G$1:$H$142, 2, FALSE )","v":0},0]
[null,null,null,null,null,null,{"$f":"VLOOKUP(F120,工作表9!$G$1:$I$136, 3, FALSE )","v":"混合物"},null,{"$f":"VLOOKUP(F120,工作表9!$G$1:$H$142, 2, FALSE )","v":0},0]
[null,null,null,null,null,null,{"$f":"VLOOKUP(F121,工作表9!$G$1:$I$136, 3, FALSE )","v":"混合物"},null,{"$f":"VLOOKUP(F121,工作表9!$G$1:$H$142, 2, FALSE )","v":0},0]
[null,null,null,null,null,null,{"$f":"VLOOKUP(F122,工作表9!$G$1:$I$136, 3, FALSE )","v":"混合物"},null,{"$f":"VLOOKUP(F122,工作表9!$G$1:$H$142, 2, FALSE )","v":0},0]
[null,null,null,null,null,null,{"$f":"VLOOKUP(F123,工作表9!$G$1:$I$136, 3, FALSE )","v":"混合物"},null,{"$f":"VLOOKUP(F123,工作表9!$G$1:$H$142, 2, FALSE )","v":0},0]
[null,null,null,null,null,null,{"$f":"VLOOKUP(F124,工作表9!$G$1:$I$136, 3, FALSE )","v":"混合物"},null,{"$f":"VLOOKUP(F124,工作表9!$G$1:$H$142, 2, FALSE )","v":0},0]
[null,null,null,null,null,null,{"$f":"VLOOKUP(F125,工作表9!$G$1:$I$136, 3, FALSE )","v":"混合物"},null,{"$f":"VLOOKUP(F125,工作表9!$G$1:$H$142, 2, FALSE )","v":0},0]
[null,null,null,null,null,null,{"$f":"VLOOKUP(F126,工作表9!$G$1:$I$136, 3, FALSE )","v":"混合物"},null,{"$f":"VLOOKUP(F126,工作表9!$G$1:$H$142, 2, FALSE )","v":0},0]
[null,null,null,null,null,null,{"$f":"VLOOKUP(F127,工作表9!$G$1:$I$136, 3, FALSE )","v":"混合物"},null,{"$f":"VLOOKUP(F127,工作表9!$G$1:$H$142, 2, FALSE )","v":0},0]
[null,null,null,null,null,null,{"$f":"VLOOKUP(F128,工作表9!$G$1:$I$136, 3, FALSE )","v":"混合物"},null,{"$f":"VLOOKUP(F128,工作表9!$G$1:$H$142, 2, FALSE )","v":0},0]
[null,null,null,null,null,null,{"$f":"VLOOKUP(F129,工作表9!$G$1:$I$136, 3, FALSE )","v":"混合物"},null,{"$f":"VLOOKUP(F129,工作表9!$G$1:$H$142, 2, FALSE )","v":0},0]
[null,null,null,null,null,null,{"$f":"VLOOKUP(F130,工作表9!$G$1:$I$136, 3, FALSE )","v":"混合物"},null,{"$f":"VLOOKUP(F130,工作表9!$G$1:$H$142, 2, FALSE )","v":0},0]
[null,null,null,null,null,null,{"$f":"VLOOKUP(F131,工作表9!$G$1:$I$136, 3, FALSE )","v":"混合物"},null,{"$f":"VLOOKUP(F131,工作表9!$G$1:$H$142, 2, FALSE )","v":0},0]
[null,null,null,null,null,null,{"$f":"VLOOKUP(F132,工作表9!$G$1:$I$136, 3, FALSE )","v":"混合物"},null,{"$f":"VLOOKUP(F132,工作表9!$G$1:$H$142, 2, FALSE )","v":0},0]
[null,null,null,null,null,null,{"$f":"VLOOKUP(F133,工作表9!$G$1:$I$136, 3, FALSE )","v":"混合物"},null,{"$f":"VLOOKUP(F133,工作表9!$G$1:$H$142, 2, FALSE )","v":0},0]
[null,null,null,null,null,null,{"$f":"VLOOKUP(F134,工作表9!$G$1:$I$136, 3, FALSE )","v":"混合物"},null,{"$f":"VLOOKUP(F134,工作表9!$G$1:$H$142, 2, FALSE )","v":0},{"$f":"H134*I134","v":0}]
[null,null,null,null,null,null,{"$f":"VLOOKUP(F135,工作表9!$G$1:$I$136, 3, FALSE )","v":"混合物"},null,{"$f":"VLOOKUP(F135,工作表9!$G$1:$H$142, 2, FALSE )","v":0},0]
[null,null,null,null,null,null,{"$f":"VLOOKUP(F136,工作表9!$G$1:$I$136, 3, FALSE )","v":"混合物"},null,{"$f":"VLOOKUP(F136,工作表9!$G$1:$H$142, 2, FALSE )","v":0},0]
[null,null,null,null,null,null,{"$f":"VLOOKUP(F137,工作表9!$G$1:$I$136, 3, FALSE )","v":"混合物"},null,{"$f":"VLOOKUP(F137,工作表9!$G$1:$H$142, 2, FALSE )","v":0},0]
[null,null,null,null,null,null,{"$f":"VLOOKUP(F138,工作表9!$G$1:$I$136, 3, FALSE )","v":"混合物"},null,{"$f":"VLOOKUP(F138,工作表9!$G$1:$H$142, 2, FALSE )","v":0},0]
[null,null,null,null,null,null,{"$f":"VLOOKUP(F139,工作表9!$G$1:$I$136, 3, FALSE )","v":"混合物"},null,{"$f":"VLOOKUP(F139,工作表9!$G$1:$H$142, 2, FALSE )","v":0},0]
[null,null,null,null,null,null,{"$f":"VLOOKUP(F140,工作表9!$G$1:$I$136, 3, FALSE )","v":"混合物"},null,{"$f":"VLOOKUP(F140,工作表9!$G$1:$H$142, 2, FALSE )","v":0},0]
[null,null,null,null,null,null,{"$f":"VLOOKUP(F141,工作表9!$G$1:$I$136, 3, FALSE )","v":"混合物"},null,{"$f":"VLOOKUP(F141,工作表9!$G$1:$H$142, 2, FALSE )","v":0},0]
[null,null,null,null,null,null,{"$f":"VLOOKUP(F142,工作表9!$G$1:$I$136, 3, FALSE )","v":"混合物"},null,{"$f":"VLOOKUP(F142,工作表9!$G$1:$H$142, 2, FALSE )","v":0},0]
[null,null,null,null,null,null,{"$f":"VLOOKUP(F143,工作表9!$G$1:$I$136, 3, FALSE )","v":"混合物"},null,{"$f":"VLOOKUP(F143,工作表9!$G$1:$H$142, 2, FALSE )","v":0},0]
[null,null,null,null,null,null,{"$f":"VLOOKUP(F144,工作表9!$G$1:$I$136, 3, FALSE )","v":"混合物"},null,{"$f":"VLOOKUP(F144,工作表9!$G$1:$H$142, 2, FALSE )","v":0},0]
[null,null,null,null,null,null,{"$f":"VLOOKUP(F145,工作表9!$G$1:$I$136, 3, FALSE )","v":"混合物"},null,{"$f":"VLOOKUP(F145,工作表9!$G$1:$H$142, 2, FALSE )","v":0},0]
[null,null,null,null,null,null,{"$f":"VLOOKUP(F146,工作表9!$G$1:$I$136, 3, FALSE )","v":"混合物"},null,{"$f":"VLOOKUP(F146,工作表9!$G$1:$H$142, 2, FALSE )","v":0},0]
[null,null,null,null,null,null,{"$f":"VLOOKUP(F147,工作表9!$G$1:$I$136, 3, FALSE )","v":"混合物"},null,{"$f":"VLOOKUP(F147,工作表9!$G$1:$H$142, 2, FALSE )","v":0},0]
[null,null,null,null,null,null,{"$f":"VLOOKUP(F148,工作表9!$G$1:$I$136, 3, FALSE )","v":"混合物"},null,{"$f":"VLOOKUP(F148,工作表9!$G$1:$H$142, 2, FALSE )","v":0},0]
[null,null,null,null,null,null,{"$f":"VLOOKUP(F149,工作表9!$G$1:$I$136, 3, FALSE )","v":"混合物"},null,{"$f":"VLOOKUP(F149,工作表9!$G$1:$H$142, 2, FALSE )","v":0},0]
[null,null,null,null,null,null,{"$f":"VLOOKUP(F150,工作表9!$G$1:$I$136, 3, FALSE )","v":"混合物"},null,{"$f":"VLOOKUP(F150,工作表9!$G$1:$H$142, 2, FALSE )","v":0},0]
[null,null,null,null,null,null,{"$f":"VLOOKUP(F151,工作表9!$G$1:$I$136, 3, FALSE )","v":"混合物"},null,{"$f":"VLOOKUP(F151,工作表9!$G$1:$H$142, 2, FALSE )","v":0},0]
[null,null,null,null,null,null,{"$f":"VLOOKUP(F152,工作表9!$G$1:$I$136, 3, FALSE )","v":"混合物"},null,{"$f":"VLOOKUP(F152,工作表9!$G$1:$H$142, 2, FALSE )","v":0},0]
[null,null,null,null,null,null,{"$f":"VLOOKUP(F153,工作表9!$G$1:$I$136, 3, FALSE )","v":"混合物"},null,{"$f":"VLOOKUP(F153,工作表9!$G$1:$H$142, 2, FALSE )","v":0},0]
[null,null,null,null,null,null,{"$f":"VLOOKUP(F154,工作表9!$G$1:$I$136, 3, FALSE )","v":"混合物"},null,{"$f":"VLOOKUP(F154,工作表9!$G$1:$H$142, 2, FALSE )","v":0},0]
[null,null,null,null,null,null,{"$f":"VLOOKUP(F155,工作表9!$G$1:$I$136, 3, FALSE )","v":"混合物"},null,{"$f":"VLOOKUP(F155,工作表9!$G$1:$H$142, 2, FALSE )","v":0},0]
[null,null,null,null,null,null,{"$f":"VLOOKUP(F156,工作表9!$G$1:$I$136, 3, FALSE )","v":"混合物"},null,{"$f":"VLOOKUP(F156,工作表9!$G$1:$H$142, 2, FALSE )","v":0},0]
[null,null,null,null,null,null,{"$f":"VLOOKUP(F157,工作表9!$G$1:$I$136, 3, FALSE )","v":"混合物"},null,{"$f":"VLOOKUP(F157,工作表9!$G$1:$H$142, 2, FALSE )","v":0},0]
[null,null,null,null,null,null,{"$f":"VLOOKUP(F158,工作表9!$G$1:$I$136, 3, FALSE )","v":"混合物"},null,{"$f":"VLOOKUP(F158,工作表9!$G$1:$H$142, 2, FALSE )","v":0},0]
[null,null,null,null,null,null,{"$f":"VLOOKUP(F159,工作表9!$G$1:$I$136, 3, FALSE )","v":"混合物"},null,{"$f":"VLOOKUP(F159,工作表9!$G$1:$H$142, 2, FALSE )","v":0},0]
[null,null,null,null,null,null,{"$f":"VLOOKUP(F160,工作表9!$G$1:$I$136, 3, FALSE )","v":"混合物"},null,{"$f":"VLOOKUP(F160,工作表9!$G$1:$H$142, 2, FALSE )","v":0},0]
[null,null,null,null,null,null,{"$f":"VLOOKUP(F161,工作表9!$G$1:$I$136, 3, FALSE )","v":"混合物"},null,{"$f":"VLOOKUP(F161,工作表9!$G$1:$H$142, 2, FALSE )","v":0},0]
[null,null,null,null,null,null,{"$f":"VLOOKUP(F162,工作表9!$G$1:$I$136, 3, FALSE )","v":"混合物"},null,{"$f":"VLOOKUP(F162,工作表9!$G$1:$H$142, 2, FALSE )","v":0},0]
[null,null,null,null,null,null,{"$f":"VLOOKUP(F163,工作表9!$G$1:$I$136, 3, FALSE )","v":"混合物"},null,{"$f":"VLOOKUP(F163,工作表9!$G$1:$H$142, 2, FALSE )","v":0},0]
[null,null,null,null,null,null,{"$f":"VLOOKUP(F164,工作表9!$G$1:$I$136, 3, FALSE )","v":"混合物"},null,{"$f":"VLOOKUP(F164,工作表9!$G$1:$H$142, 2, FALSE )","v":0},0]
[null,null,null,null,null,null,{"$f":"VLOOKUP(F165,工作表9!$G$1:$I$136, 3, FALSE )","v":"混合物"},null,{"$f":"VLOOKUP(F165,工作表9!$G$1:$H$142, 2, FALSE )","v":0},0]
[null,null,null,null,null,null,{"$f":"VLOOKUP(F166,工作表9!$G$1:$I$136, 3, FALSE )","v":"混合物"},null,{"$f":"VLOOKUP(F166,工作表9!$G$1:$H$142, 2, FALSE )","v":0},0]
[null,null,null,null,null,null,{"$f":"VLOOKUP(F167,工作表9!$G$1:$I$136, 3, FALSE )","v":"混合物"},null,{"$f":"VLOOKUP(F167,工作表9!$G$1:$H$142, 2, FALSE )","v":0},0]
[null,null,null,null,null,null,{"$f":"VLOOKUP(F168,工作表9!$G$1:$I$136, 3, FALSE )","v":"混合物"},null,{"$f":"VLOOKUP(F168,工作表9!$G$1:$H$142, 2, FALSE )","v":0},0]
[null,null,null,null,null,null,{"$f":"VLOOKUP(F169,工作表9!$G$1:$I$136, 3, FALSE )","v":"混合物"},null,{"$f":"VLOOKUP(F169,工作表9!$G$1:$H$142, 2, FALSE )","v":0},0]
[null,null,null,null,null,null,{"$f":"VLOOKUP(F170,工作表9!$G$1:$I$136, 3, FALSE )","v":"混合物"},null,{"$f":"VLOOKUP(F170,工作表9!$G$1:$H$142, 2, FALSE )","v":0},0]
[null,null,null,null,null,null,{"$f":"VLOOKUP(F171,工作表9!$G$1:$I$136, 3, FALSE )","v":"混合物"},null,{"$f":"VLOOKUP(F171,工作表9!$G$1:$H$142, 2, FALSE )","v":0},0]
[null,null,null,null,null,null,{"$f":"VLOOKUP(F172,工作表9!$G$1:$I$136, 3, FALSE )","v":"混合物"},null,{"$f":"VLOOKUP(F172,工作表9!$G$1:$H$142, 2, FALSE )","v":0},0]
[null,null,null,null,null,null,{"$f":"VLOOKUP(F173,工作表9!$G$1:$I$136, 3, FALSE )","v":"混合物"},null,{"$f":"VLOOKUP(F173,工作表9!$G$1:$H$142, 2, FALSE )","v":0},0]
[null,null,null,null,null,null,{"$f":"VLOOKUP(F174,工作表9!$G$1:$I$136, 3, FALSE )","v":"混合物"},null,{"$f":"VLOOKUP(F174,工作表9!$G$1:$H$142, 2, FALSE )","v":0},0]
[null,null,null,null,null,null,{"$f":"VLOOKUP(F175,工作表9!$G$1:$I$136, 3, FALSE )","v":"混合物"},null,{"$f":"VLOOKUP(F175,工作表9!$G$1:$H$142, 2, FALSE )","v":0},0]
[null,null,null,null,null,null,{"$f":"VLOOKUP(F176,工作表9!$G$1:$I$136, 3, FALSE )","v":"混合物"},null,{"$f":"VLOOKUP(F176,工作表9!$G$1:$H$142, 2, FALSE )","v":0},0]
[null,null,null,null,null,null,{"$f":"VLOOKUP(F177,工作表9!$G$1:$I$136, 3, FALSE )","v":"混合物"},null,{"$f":"VLOOKUP(F177,工作表9!$G$1:$H$142, 2, FALSE )","v":0},0]
[null,null,null,null,null,null,{"$f":"VLOOKUP(F178,工作表9!$G$1:$I$136, 3, FALSE )","v":"混合物"},null,{"$f":"VLOOKUP(F178,工作表9!$G$1:$H$142, 2, FALSE )","v":0},0]
[null,null,null,null,null,null,{"$f":"VLOOKUP(F179,工作表9!$G$1:$I$136, 3, FALSE )","v":"混合物"},null,{"$f":"VLOOKUP(F179,工作表9!$G$1:$H$142, 2, FALSE )","v":0},0]
[null,null,null,null,null,null,{"$f":"VLOOKUP(F180,工作表9!$G$1:$I$136, 3, FALSE )","v":"混合物"},null,{"$f":"VLOOKUP(F180,工作表9!$G$1:$H$142, 2, FALSE )","v":0},0]
[null,null,null,null,null,null,{"$f":"VLOOKUP(F181,工作表9!$G$1:$I$136, 3, FALSE )","v":"混合物"},null,{"$f":"VLOOKUP(F181,工作表9!$G$1:$H$142, 2, FALSE )","v":0},0]
[null,null,null,null,null,null,{"$f":"VLOOKUP(F182,工作表9!$G$1:$I$136, 3, FALSE )","v":"混合物"},null,{"$f":"VLOOKUP(F182,工作表9!$G$1:$H$142, 2, FALSE )","v":0},0]
[null,null,null,null,null,null,{"$f":"VLOOKUP(F183,工作表9!$G$1:$I$136, 3, FALSE )","v":"混合物"},null,{"$f":"VLOOKUP(F183,工作表9!$G$1:$H$142, 2, FALSE )","v":0},0]
[null,null,null,null,null,null,{"$f":"VLOOKUP(F184,工作表9!$G$1:$I$136, 3, FALSE )","v":"混合物"},null,{"$f":"VLOOKUP(F184,工作表9!$G$1:$H$142, 2, FALSE )","v":0},0]
[null,null,null,null,null,null,{"$f":"VLOOKUP(F185,工作表9!$G$1:$I$136, 3, FALSE )","v":"混合物"},null,{"$f":"VLOOKUP(F185,工作表9!$G$1:$H$142, 2, FALSE )","v":0},0]
[null,null,null,null,null,null,{"$f":"VLOOKUP(F186,工作表9!$G$1:$I$136, 3, FALSE )","v":"混合物"},null,{"$f":"VLOOKUP(F186,工作表9!$G$1:$H$142, 2, FALSE )","v":0},0]
[null,null,null,null,null,null,{"$f":"VLOOKUP(F187,工作表9!$G$1:$I$136, 3, FALSE )","v":"混合物"},null,{"$f":"VLOOKUP(F187,工作表9!$G$1:$H$142, 2, FALSE )","v":0},0]
[null,null,null,null,null,null,{"$f":"VLOOKUP(F188,工作表9!$G$1:$I$136, 3, FALSE )","v":"混合物"},null,{"$f":"VLOOKUP(F188,工作表9!$G$1:$H$142, 2, FALSE )","v":0},0]
[null,null,null,null,null,null,{"$f":"VLOOKUP(F189,工作表9!$G$1:$I$136, 3, FALSE )","v":"混合物"},null,{"$f":"VLOOKUP(F189,工作表9!$G$1:$H$142, 2, FALSE )","v":0},0]
[null,null,null,null,null,null,{"$f":"VLOOKUP(F190,工作表9!$G$1:$I$136, 3, FALSE )","v":"混合物"},null,{"$f":"VLOOKUP(F190,工作表9!$G$1:$H$142, 2, FALSE )","v":0},0]
[null,null,null,null,null,null,{"$f":"VLOOKUP(F191,工作表9!$G$1:$I$136, 3, FALSE )","v":"混合物"},null,{"$f":"VLOOKUP(F191,工作表9!$G$1:$H$142, 2, FALSE )","v":0},0]
[null,null,null,null,null,null,{"$f":"VLOOKUP(F192,工作表9!$G$1:$I$136, 3, FALSE )","v":"混合物"},null,{"$f":"VLOOKUP(F192,工作表9!$G$1:$H$142, 2, FALSE )","v":0},0]
[null,null,null,null,null,null,{"$f":"VLOOKUP(F193,工作表9!$G$1:$I$136, 3, FALSE )","v":"混合物"},null,{"$f":"VLOOKUP(F193,工作表9!$G$1:$H$142, 2, FALSE )","v":0},0]
[null,null,null,null,null,null,{"$f":"VLOOKUP(F194,工作表9!$G$1:$I$136, 3, FALSE )","v":"混合物"},null,{"$f":"VLOOKUP(F194,工作表9!$G$1:$H$142, 2, FALSE )","v":0},0]
[null,null,null,null,null,null,{"$f":"VLOOKUP(F195,工作表9!$G$1:$I$136, 3, FALSE )","v":"混合物"},null,{"$f":"VLOOKUP(F195,工作表9!$G$1:$H$142, 2, FALSE )","v":0},0]
[null,null,null,null,null,null,{"$f":"VLOOKUP(F196,工作表9!$G$1:$I$136, 3, FALSE )","v":"混合物"},null,{"$f":"VLOOKUP(F196,工作表9!$G$1:$H$142, 2, FALSE )","v":0},0]
[null,null,null,null,null,null,{"$f":"VLOOKUP(F197,工作表9!$G$1:$I$136, 3, FALSE )","v":"混合物"},null,{"$f":"VLOOKUP(F197,工作表9!$G$1:$H$142, 2, FALSE )","v":0},0]
[null,null,null,null,null,null,{"$f":"VLOOKUP(F198,工作表9!$G$1:$I$136, 3, FALSE )","v":"混合物"},null,{"$f":"VLOOKUP(F198,工作表9!$G$1:$H$142, 2, FALSE )","v":0},{"$f":"H198*I198","v":0}]
[null,null,null,null,null,null,{"$f":"VLOOKUP(F199,工作表9!$G$1:$I$136, 3, FALSE )","v":"混合物"},null,{"$f":"VLOOKUP(F199,工作表9!$G$1:$H$142, 2, FALSE )","v":0},0]
[null,null,null,null,null,null,{"$f":"VLOOKUP(F200,工作表9!$G$1:$I$136, 3, FALSE )","v":"混合物"},null,{"$f":"VLOOKUP(F200,工作表9!$G$1:$H$142, 2, FALSE )","v":0},0]
[null,null,null,null,null,null,{"$f":"VLOOKUP(F201,工作表9!$G$1:$I$136, 3, FALSE )","v":"混合物"},null,{"$f":"VLOOKUP(F201,工作表9!$G$1:$H$142, 2, FALSE )","v":0},0]
[null,null,null,null,null,null,{"$f":"VLOOKUP(F202,工作表9!$G$1:$I$136, 3, FALSE )","v":"混合物"},null,{"$f":"VLOOKUP(F202,工作表9!$G$1:$H$142, 2, FALSE )","v":0},0]
[null,null,null,null,null,null,{"$f":"VLOOKUP(F203,工作表9!$G$1:$I$136, 3, FALSE )","v":"混合物"},null,{"$f":"VLOOKUP(F203,工作表9!$G$1:$H$142, 2, FALSE )","v":0},0]
[null,null,null,null,null,null,{"$f":"VLOOKUP(F204,工作表9!$G$1:$I$136, 3, FALSE )","v":"混合物"},null,{"$f":"VLOOKUP(F204,工作表9!$G$1:$H$142, 2, FALSE )","v":0},0]
[null,null,null,null,null,null,{"$f":"VLOOKUP(F205,工作表9!$G$1:$I$136, 3, FALSE )","v":"混合物"},null,{"$f":"VLOOKUP(F205,工作表9!$G$1:$H$142, 2, FALSE )","v":0},0]
[null,null,null,null,null,null,{"$f":"VLOOKUP(F206,工作表9!$G$1:$I$136, 3, FALSE )","v":"混合物"},null,{"$f":"VLOOKUP(F206,工作表9!$G$1:$H$142, 2, FALSE )","v":0},0]
[null,null,null,null,null,null,{"$f":"VLOOKUP(F207,工作表9!$G$1:$I$136, 3, FALSE )","v":"混合物"},null,{"$f":"VLOOKUP(F207,工作表9!$G$1:$H$142, 2, FALSE )","v":0},0]
[null,null,null,null,null,null,{"$f":"VLOOKUP(F208,工作表9!$G$1:$I$136, 3, FALSE )","v":"混合物"},null,{"$f":"VLOOKUP(F208,工作表9!$G$1:$H$142, 2, FALSE )","v":0},0]
[null,null,null,null,null,null,{"$f":"VLOOKUP(F209,工作表9!$G$1:$I$136, 3, FALSE )","v":"混合物"},null,{"$f":"VLOOKUP(F209,工作表9!$G$1:$H$142, 2, FALSE )","v":0},0]
[null,null,null,null,null,null,{"$f":"VLOOKUP(F210,工作表9!$G$1:$I$136, 3, FALSE )","v":"混合物"},null,{"$f":"VLOOKUP(F210,工作表9!$G$1:$H$142, 2, FALSE )","v":0},0]
[null,null,null,null,null,null,{"$f":"VLOOKUP(F211,工作表9!$G$1:$I$136, 3, FALSE )","v":"混合物"},null,{"$f":"VLOOKUP(F211,工作表9!$G$1:$H$142, 2, FALSE )","v":0},0]
[null,null,null,null,null,null,{"$f":"VLOOKUP(F212,工作表9!$G$1:$I$136, 3, FALSE )","v":"混合物"},null,{"$f":"VLOOKUP(F212,工作表9!$G$1:$H$142, 2, FALSE )","v":0},0]
[null,null,null,null,null,null,{"$f":"VLOOKUP(F213,工作表9!$G$1:$I$136, 3, FALSE )","v":"混合物"},null,{"$f":"VLOOKUP(F213,工作表9!$G$1:$H$142, 2, FALSE )","v":0},0]
[null,null,null,null,null,null,{"$f":"VLOOKUP(F214,工作表9!$G$1:$I$136, 3, FALSE )","v":"混合物"},null,{"$f":"VLOOKUP(F214,工作表9!$G$1:$H$142, 2, FALSE )","v":0},0]
[null,null,null,null,null,null,{"$f":"VLOOKUP(F215,工作表9!$G$1:$I$136, 3, FALSE )","v":"混合物"},null,{"$f":"VLOOKUP(F215,工作表9!$G$1:$H$142, 2, FALSE )","v":0},0]
[null,null,null,null,null,null,{"$f":"VLOOKUP(F216,工作表9!$G$1:$I$136, 3, FALSE )","v":"混合物"},null,{"$f":"VLOOKUP(F216,工作表9!$G$1:$H$142, 2, FALSE )","v":0},0]
[null,null,null,null,null,null,{"$f":"VLOOKUP(F217,工作表9!$G$1:$I$136, 3, FALSE )","v":"混合物"},null,{"$f":"VLOOKUP(F217,工作表9!$G$1:$H$142, 2, FALSE )","v":0},0]
[null,null,null,null,null,null,{"$f":"VLOOKUP(F218,工作表9!$G$1:$I$136, 3, FALSE )","v":"混合物"},null,{"$f":"VLOOKUP(F218,工作表9!$G$1:$H$142, 2, FALSE )","v":0},0]
[null,null,null,null,null,null,{"$f":"VLOOKUP(F219,工作表9!$G$1:$I$136, 3, FALSE )","v":"混合物"},null,{"$f":"VLOOKUP(F219,工作表9!$G$1:$H$142, 2, FALSE )","v":0},0]
[null,null,null,null,null,null,{"$f":"VLOOKUP(F220,工作表9!$G$1:$I$136, 3, FALSE )","v":"混合物"},null,{"$f":"VLOOKUP(F220,工作表9!$G$1:$H$142, 2, FALSE )","v":0},0]
[null,null,null,null,null,null,{"$f":"VLOOKUP(F221,工作表9!$G$1:$I$136, 3, FALSE )","v":"混合物"},null,{"$f":"VLOOKUP(F221,工作表9!$G$1:$H$142, 2, FALSE )","v":0},0]
[null,null,null,null,null,null,{"$f":"VLOOKUP(F222,工作表9!$G$1:$I$136, 3, FALSE )","v":"混合物"},null,{"$f":"VLOOKUP(F222,工作表9!$G$1:$H$142, 2, FALSE )","v":0},0]
[null,null,null,null,null,null,{"$f":"VLOOKUP(F223,工作表9!$G$1:$I$136, 3, FALSE )","v":"混合物"},null,{"$f":"VLOOKUP(F223,工作表9!$G$1:$H$142, 2, FALSE )","v":0},0]
[null,null,null,null,null,null,{"$f":"VLOOKUP(F224,工作表9!$G$1:$I$136, 3, FALSE )","v":"混合物"},null,{"$f":"VLOOKUP(F224,工作表9!$G$1:$H$142, 2, FALSE )","v":0},0]
[null,null,null,null,null,null,{"$f":"VLOOKUP(F225,工作表9!$G$1:$I$136, 3, FALSE )","v":"混合物"},null,{"$f":"VLOOKUP(F225,工作表9!$G$1:$H$142, 2, FALSE )","v":0},0]
[null,null,null,null,null,null,{"$f":"VLOOKUP(F226,工作表9!$G$1:$I$136, 3, FALSE )","v":"混合物"},null,{"$f":"VLOOKUP(F226,工作表9!$G$1:$H$142, 2, FALSE )","v":0},0]
[null,null,null,null,null,null,{"$f":"VLOOKUP(F227,工作表9!$G$1:$I$136, 3, FALSE )","v":"混合物"},null,{"$f":"VLOOKUP(F227,工作表9!$G$1:$H$142, 2, FALSE )","v":0},0]
[null,null,null,null,null,null,{"$f":"VLOOKUP(F228,工作表9!$G$1:$I$136, 3, FALSE )","v":"混合物"},null,{"$f":"VLOOKUP(F228,工作表9!$G$1:$H$142, 2, FALSE )","v":0},0]
[null,null,null,null,null,null,{"$f":"VLOOKUP(F229,工作表9!$G$1:$I$136, 3, FALSE )","v":"混合物"},null,{"$f":"VLOOKUP(F229,工作表9!$G$1:$H$142, 2, FALSE )","v":0},0]
[null,null,null,null,null,null,{"$f":"VLOOKUP(F230,工作表9!$G$1:$I$136, 3, FALSE )","v":"混合物"},null,{"$f":"VLOOKUP(F230,工作表9!$G$1:$H$142, 2, FALSE )","v":0},0]
[null,null,null,null,null,null,{"$f":"VLOOKUP(F231,工作表9!$G$1:$I$136, 3, FALSE )","v":"混合物"},null,{"$f":"VLOOKUP(F231,工作表9!$G$1:$H$142, 2, FALSE )","v":0},0]
[null,null,null,null,null,null,{"$f":"VLOOKUP(F232,工作表9!$G$1:$I$136, 3, FALSE )","v":"混合物"},null,{"$f":"VLOOKUP(F232,工作表9!$G$1:$H$142, 2, FALSE )","v":0},0]
[null,null,null,null,null,null,{"$f":"VLOOKUP(F233,工作表9!$G$1:$I$136, 3, FALSE )","v":"混合物"},null,{"$f":"VLOOKUP(F233,工作表9!$G$1:$H$142, 2, FALSE )","v":0},0]
[null,null,null,null,null,null,{"$f":"VLOOKUP(F234,工作表9!$G$1:$I$136, 3, FALSE )","v":"混合物"},null,{"$f":"VLOOKUP(F234,工作表9!$G$1:$H$142, 2, FALSE )","v":0},0]
[null,null,null,null,null,null,{"$f":"VLOOKUP(F235,工作表9!$G$1:$I$136, 3, FALSE )","v":"混合物"},null,{"$f":"VLOOKUP(F235,工作表9!$G$1:$H$142, 2, FALSE )","v":0},0]
[null,null,null,null,null,null,{"$f":"VLOOKUP(F236,工作表9!$G$1:$I$136, 3, FALSE )","v":"混合物"},null,{"$f":"VLOOKUP(F236,工作表9!$G$1:$H$142, 2, FALSE )","v":0},0]
[null,null,null,null,null,null,{"$f":"VLOOKUP(F237,工作表9!$G$1:$I$136, 3, FALSE )","v":"混合物"},null,{"$f":"VLOOKUP(F237,工作表9!$G$1:$H$142, 2, FALSE )","v":0},0]
[null,null,null,null,null,null,{"$f":"VLOOKUP(F238,工作表9!$G$1:$I$136, 3, FALSE )","v":"混合物"},null,{"$f":"VLOOKUP(F238,工作表9!$G$1:$H$142, 2, FALSE )","v":0},0]
[null,null,null,null,null,null,{"$f":"VLOOKUP(F239,工作表9!$G$1:$I$136, 3, FALSE )","v":"混合物"},null,{"$f":"VLOOKUP(F239,工作表9!$G$1:$H$142, 2, FALSE )","v":0},0]
[null,null,null,null,null,null,{"$f":"VLOOKUP(F240,工作表9!$G$1:$I$136, 3, FALSE )","v":"混合物"},null,{"$f":"VLOOKUP(F240,工作表9!$G$1:$H$142, 2, FALSE )","v":0},0]
[null,null,null,null,null,null,{"$f":"VLOOKUP(F241,工作表9!$G$1:$I$136, 3, FALSE )","v":"混合物"},null,{"$f":"VLOOKUP(F241,工作表9!$G$1:$H$142, 2, FALSE )","v":0},0]
[null,null,null,null,null,null,{"$f":"VLOOKUP(F242,工作表9!$G$1:$I$136, 3, FALSE )","v":"混合物"},null,{"$f":"VLOOKUP(F242,工作表9!$G$1:$H$142, 2, FALSE )","v":0},0]
[null,null,null,null,null,null,{"$f":"VLOOKUP(F243,工作表9!$G$1:$I$136, 3, FALSE )","v":"混合物"},null,{"$f":"VLOOKUP(F243,工作表9!$G$1:$H$142, 2, FALSE )","v":0},0]
[null,null,null,null,null,null,{"$f":"VLOOKUP(F244,工作表9!$G$1:$I$136, 3, FALSE )","v":"混合物"},null,{"$f":"VLOOKUP(F244,工作表9!$G$1:$H$142, 2, FALSE )","v":0},0]
[null,null,null,null,null,null,{"$f":"VLOOKUP(F245,工作表9!$G$1:$I$136, 3, FALSE )","v":"混合物"},null,{"$f":"VLOOKUP(F245,工作表9!$G$1:$H$142, 2, FALSE )","v":0},0]
[null,null,null,null,null,null,{"$f":"VLOOKUP(F246,工作表9!$G$1:$I$136, 3, FALSE )","v":"混合物"},null,{"$f":"VLOOKUP(F246,工作表9!$G$1:$H$142, 2, FALSE )","v":0},0]
[null,null,null,null,null,null,{"$f":"VLOOKUP(F247,工作表9!$G$1:$I$136, 3, FALSE )","v":"混合物"},null,{"$f":"VLOOKUP(F247,工作表9!$G$1:$H$142, 2, FALSE )","v":0},0]
[null,null,null,null,null,null,{"$f":"VLOOKUP(F248,工作表9!$G$1:$I$136, 3, FALSE )","v":"混合物"},null,{"$f":"VLOOKUP(F248,工作表9!$G$1:$H$142, 2, FALSE )","v":0},0]
[null,null,null,null,null,null,{"$f":"VLOOKUP(F249,工作表9!$G$1:$I$136, 3, FALSE )","v":"混合物"},null,{"$f":"VLOOKUP(F249,工作表9!$G$1:$H$142, 2, FALSE )","v":0},0]
[null,null,null,null,null,null,{"$f":"VLOOKUP(F250,工作表9!$G$1:$I$136, 3, FALSE )","v":"混合物"},null,{"$f":"VLOOKUP(F250,工作表9!$G$1:$H$142, 2, FALSE )","v":0},0]
[null,null,null,null,null,null,{"$f":"VLOOKUP(F251,工作表9!$G$1:$I$136, 3, FALSE )","v":"混合物"},null,{"$f":"VLOOKUP(F251,工作表9!$G$1:$H$142, 2, FALSE )","v":0},0]
[null,null,null,null,null,null,{"$f":"VLOOKUP(F252,工作表9!$G$1:$I$136, 3, FALSE )","v":"混合物"},null,{"$f":"VLOOKUP(F252,工作表9!$G$1:$H$142, 2, FALSE )","v":0},0]
[null,null,null,null,null,null,{"$f":"VLOOKUP(F253,工作表9!$G$1:$I$136, 3, FALSE )","v":"混合物"},null,{"$f":"VLOOKUP(F253,工作表9!$G$1:$H$142, 2, FALSE )","v":0},0]
[null,null,null,null,null,null,{"$f":"VLOOKUP(F254,工作表9!$G$1:$I$136, 3, FALSE )","v":"混合物"},null,{"$f":"VLOOKUP(F254,工作表9!$G$1:$H$142, 2, FALSE )","v":0},0]
[null,null,null,null,null,null,{"$f":"VLOOKUP(F255,工作表9!$G$1:$I$136, 3, FALSE )","v":"混合物"},null,{"$f":"VLOOKUP(F255,工作表9!$G$1:$H$142, 2, FALSE )","v":0},0]
[null,null,null,null,null,null,{"$f":"VLOOKUP(F256,工作表9!$G$1:$I$136, 3, FALSE )","v":"混合物"},null,{"$f":"VLOOKUP(F256,工作表9!$G$1:$H$142, 2, FALSE )","v":0},0]
[null,null,null,null,null,null,{"$f":"VLOOKUP(F257,工作表9!$G$1:$I$136, 3, FALSE )","v":"混合物"},null,{"$f":"VLOOKUP(F257,工作表9!$G$1:$H$142, 2, FALSE )","v":0},0]
[null,null,null,null,null,null,{"$f":"VLOOKUP(F258,工作表9!$G$1:$I$136, 3, FALSE )","v":"混合物"},null,{"$f":"VLOOKUP(F258,工作表9!$G$1:$H$142, 2, FALSE )","v":0},0]
[null,null,null,null,null,null,{"$f":"VLOOKUP(F259,工作表9!$G$1:$I$136, 3, FALSE )","v":"混合物"},null,{"$f":"VLOOKUP(F259,工作表9!$G$1:$H$142, 2, FALSE )","v":0},0]
[null,null,null,null,null,null,{"$f":"VLOOKUP(F260,工作表9!$G$1:$I$136, 3, FALSE )","v":"混合物"},null,{"$f":"VLOOKUP(F260,工作表9!$G$1:$H$142, 2, FALSE )","v":0},0]
[null,null,null,null,null,null,{"$f":"VLOOKUP(F261,工作表9!$G$1:$I$136, 3, FALSE )","v":"混合物"},null,{"$f":"VLOOKUP(F261,工作表9!$G$1:$H$142, 2, FALSE )","v":0},0]
[null,null,null,null,null,null,{"$f":"VLOOKUP(F262,工作表9!$G$1:$I$136, 3, FALSE )","v":"混合物"},null,{"$f":"VLOOKUP(F262,工作表9!$G$1:$H$142, 2, FALSE )","v":0},{"$f":"H262*I262","v":0}]
[null,null,null,null,null,null,{"$f":"VLOOKUP(F263,工作表9!$G$1:$I$136, 3, FALSE )","v":"混合物"},null,{"$f":"VLOOKUP(F263,工作表9!$G$1:$H$142, 2, FALSE )","v":0},0]
[null,null,null,null,null,null,{"$f":"VLOOKUP(F264,工作表9!$G$1:$I$136, 3, FALSE )","v":"混合物"},null,{"$f":"VLOOKUP(F264,工作表9!$G$1:$H$142, 2, FALSE )","v":0},0]
[null,null,null,null,null,null,{"$f":"VLOOKUP(F265,工作表9!$G$1:$I$136, 3, FALSE )","v":"混合物"},null,{"$f":"VLOOKUP(F265,工作表9!$G$1:$H$142, 2, FALSE )","v":0},0]
[null,null,null,null,null,null,{"$f":"VLOOKUP(F266,工作表9!$G$1:$I$136, 3, FALSE )","v":"混合物"},null,{"$f":"VLOOKUP(F266,工作表9!$G$1:$H$142, 2, FALSE )","v":0},0]
[null,null,null,null,null,null,{"$f":"VLOOKUP(F267,工作表9!$G$1:$I$136, 3, FALSE )","v":"混合物"},null,{"$f":"VLOOKUP(F267,工作表9!$G$1:$H$142, 2, FALSE )","v":0},0]
[null,null,null,null,null,null,{"$f":"VLOOKUP(F268,工作表9!$G$1:$I$136, 3, FALSE )","v":"混合物"},null,{"$f":"VLOOKUP(F268,工作表9!$G$1:$H$142, 2, FALSE )","v":0},0]
[null,null,null,null,null,null,{"$f":"VLOOKUP(F269,工作表9!$G$1:$I$136, 3, FALSE )","v":"混合物"},null,{"$f":"VLOOKUP(F269,工作表9!$G$1:$H$142, 2, FALSE )","v":0},0]
[null,null,null,null,null,null,{"$f":"VLOOKUP(F270,工作表9!$G$1:$I$136, 3, FALSE )","v":"混合物"},null,{"$f":"VLOOKUP(F270,工作表9!$G$1:$H$142, 2, FALSE )","v":0},0]
[null,null,null,null,null,null,{"$f":"VLOOKUP(F271,工作表9!$G$1:$I$136, 3, FALSE )","v":"混合物"},null,{"$f":"VLOOKUP(F271,工作表9!$G$1:$H$142, 2, FALSE )","v":0},0]
[null,null,null,null,null,null,{"$f":"VLOOKUP(F272,工作表9!$G$1:$I$136, 3, FALSE )","v":"混合物"},null,{"$f":"VLOOKUP(F272,工作表9!$G$1:$H$142, 2, FALSE )","v":0},0]
[null,null,null,null,null,null,{"$f":"VLOOKUP(F273,工作表9!$G$1:$I$136, 3, FALSE )","v":"混合物"},null,{"$f":"VLOOKUP(F273,工作表9!$G$1:$H$142, 2, FALSE )","v":0},0]
[null,null,null,null,null,null,{"$f":"VLOOKUP(F274,工作表9!$G$1:$I$136, 3, FALSE )","v":"混合物"},null,{"$f":"VLOOKUP(F274,工作表9!$G$1:$H$142, 2, FALSE )","v":0},0]
[null,null,null,null,null,null,{"$f":"VLOOKUP(F275,工作表9!$G$1:$I$136, 3, FALSE )","v":"混合物"},null,{"$f":"VLOOKUP(F275,工作表9!$G$1:$H$142, 2, FALSE )","v":0},0]
[null,null,null,null,null,null,{"$f":"VLOOKUP(F276,工作表9!$G$1:$I$136, 3, FALSE )","v":"混合物"},null,{"$f":"VLOOKUP(F276,工作表9!$G$1:$H$142, 2, FALSE )","v":0},0]
[null,null,null,null,null,null,{"$f":"VLOOKUP(F277,工作表9!$G$1:$I$136, 3, FALSE )","v":"混合物"},null,{"$f":"VLOOKUP(F277,工作表9!$G$1:$H$142, 2, FALSE )","v":0},0]
[null,null,null,null,null,null,{"$f":"VLOOKUP(F278,工作表9!$G$1:$I$136, 3, FALSE )","v":"混合物"},null,{"$f":"VLOOKUP(F278,工作表9!$G$1:$H$142, 2, FALSE )","v":0},0]
[null,null,null,null,null,null,{"$f":"VLOOKUP(F279,工作表9!$G$1:$I$136, 3, FALSE )","v":"混合物"},null,{"$f":"VLOOKUP(F279,工作表9!$G$1:$H$142, 2, FALSE )","v":0},0]
[null,null,null,null,null,null,{"$f":"VLOOKUP(F280,工作表9!$G$1:$I$136, 3, FALSE )","v":"混合物"},null,{"$f":"VLOOKUP(F280,工作表9!$G$1:$H$142, 2, FALSE )","v":0},0]
[null,null,null,null,null,null,{"$f":"VLOOKUP(F281,工作表9!$G$1:$I$136, 3, FALSE )","v":"混合物"},null,{"$f":"VLOOKUP(F281,工作表9!$G$1:$H$142, 2, FALSE )","v":0},0]
[null,null,null,null,null,null,{"$f":"VLOOKUP(F282,工作表9!$G$1:$I$136, 3, FALSE )","v":"混合物"},null,{"$f":"VLOOKUP(F282,工作表9!$G$1:$H$142, 2, FALSE )","v":0},0]
[null,null,null,null,null,null,{"$f":"VLOOKUP(F283,工作表9!$G$1:$I$136, 3, FALSE )","v":"混合物"},null,{"$f":"VLOOKUP(F283,工作表9!$G$1:$H$142, 2, FALSE )","v":0},0]
[null,null,null,null,null,null,{"$f":"VLOOKUP(F284,工作表9!$G$1:$I$136, 3, FALSE )","v":"混合物"},null,{"$f":"VLOOKUP(F284,工作表9!$G$1:$H$142, 2, FALSE )","v":0},0]
[null,null,null,null,null,null,{"$f":"VLOOKUP(F285,工作表9!$G$1:$I$136, 3, FALSE )","v":"混合物"},null,{"$f":"VLOOKUP(F285,工作表9!$G$1:$H$142, 2, FALSE )","v":0},0]
[null,null,null,null,null,null,{"$f":"VLOOKUP(F286,工作表9!$G$1:$I$136, 3, FALSE )","v":"混合物"},null,{"$f":"VLOOKUP(F286,工作表9!$G$1:$H$142, 2, FALSE )","v":0},0]
[null,null,null,null,null,null,{"$f":"VLOOKUP(F287,工作表9!$G$1:$I$136, 3, FALSE )","v":"混合物"},null,{"$f":"VLOOKUP(F287,工作表9!$G$1:$H$142, 2, FALSE )","v":0},0]
[null,null,null,null,null,null,{"$f":"VLOOKUP(F288,工作表9!$G$1:$I$136, 3, FALSE )","v":"混合物"},null,{"$f":"VLOOKUP(F288,工作表9!$G$1:$H$142, 2, FALSE )","v":0},0]
[null,null,null,null,null,null,{"$f":"VLOOKUP(F289,工作表9!$G$1:$I$136, 3, FALSE )","v":"混合物"},null,{"$f":"VLOOKUP(F289,工作表9!$G$1:$H$142, 2, FALSE )","v":0},0]
[null,null,null,null,null,null,{"$f":"VLOOKUP(F290,工作表9!$G$1:$I$136, 3, FALSE )","v":"混合物"},null,{"$f":"VLOOKUP(F290,工作表9!$G$1:$H$142, 2, FALSE )","v":0},0]
[null,null,null,null,null,null,{"$f":"VLOOKUP(F291,工作表9!$G$1:$I$136, 3, FALSE )","v":"混合物"},null,{"$f":"VLOOKUP(F291,工作表9!$G$1:$H$142, 2, FALSE )","v":0},0]
[null,null,null,null,null,null,{"$f":"VLOOKUP(F292,工作表9!$G$1:$I$136, 3, FALSE )","v":"混合物"},null,{"$f":"VLOOKUP(F292,工作表9!$G$1:$H$142, 2, FALSE )","v":0},0]
[null,null,null,null,null,null,{"$f":"VLOOKUP(F293,工作表9!$G$1:$I$136, 3, FALSE )","v":"混合物"},null,{"$f":"VLOOKUP(F293,工作表9!$G$1:$H$142, 2, FALSE )","v":0},0]
[null,null,null,null,null,null,{"$f":"VLOOKUP(F294,工作表9!$G$1:$I$136, 3, FALSE )","v":"混合物"},null,{"$f":"VLOOKUP(F294,工作表9!$G$1:$H$142, 2, FALSE )","v":0},0]
[null,null,null,null,null,null,{"$f":"VLOOKUP(F295,工作表9!$G$1:$I$136, 3, FALSE )","v":"混合物"},null,{"$f":"VLOOKUP(F295,工作表9!$G$1:$H$142, 2, FALSE )","v":0},0]
[null,null,null,null,null,null,{"$f":"VLOOKUP(F296,工作表9!$G$1:$I$136, 3, FALSE )","v":"混合物"},null,{"$f":"VLOOKUP(F296,工作表9!$G$1:$H$142, 2, FALSE )","v":0},0]
[null,null,null,null,null,null,{"$f":"VLOOKUP(F297,工作表9!$G$1:$I$136, 3, FALSE )","v":"混合物"},null,{"$f":"VLOOKUP(F297,工作表9!$G$1:$H$142, 2, FALSE )","v":0},0]
[null,null,null,null,null,null,{"$f":"VLOOKUP(F298,工作表9!$G$1:$I$136, 3, FALSE )","v":"混合物"},null,{"$f":"VLOOKUP(F298,工作表9!$G$1:$H$142, 2, FALSE )","v":0},0]
[null,null,null,null,null,null,{"$f":"VLOOKUP(F299,工作表9!$G$1:$I$136, 3, FALSE )","v":"混合物"},null,{"$f":"VLOOKUP(F299,工作表9!$G$1:$H$142, 2, FALSE )","v":0},0]
[null,null,null,null,null,null,{"$f":"VLOOKUP(F300,工作表9!$G$1:$I$136, 3, FALSE )","v":"混合物"},null,{"$f":"VLOOKUP(F300,工作表9!$G$1:$H$142, 2, FALSE )","v":0},0]
[null,null,null,null,null,null,{"$f":"VLOOKUP(F301,工作表9!$G$1:$I$136, 3, FALSE )","v":"混合物"},null,{"$f":"VLOOKUP(F301,工作表9!$G$1:$H$142, 2, FALSE )","v":0},0]
[null,null,null,null,null,null,{"$f":"VLOOKUP(F302,工作表9!$G$1:$I$136, 3, FALSE )","v":"混合物"},null,{"$f":"VLOOKUP(F302,工作表9!$G$1:$H$142, 2, FALSE )","v":0},0]
[null,null,null,null,null,null,{"$f":"VLOOKUP(F303,工作表9!$G$1:$I$136, 3, FALSE )","v":"混合物"},null,{"$f":"VLOOKUP(F303,工作表9!$G$1:$H$142, 2, FALSE )","v":0},0]
[null,null,null,null,null,null,{"$f":"VLOOKUP(F304,工作表9!$G$1:$I$136, 3, FALSE )","v":"混合物"},null,{"$f":"VLOOKUP(F304,工作表9!$G$1:$H$142, 2, FALSE )","v":0},0]
[null,null,null,null,null,null,{"$f":"VLOOKUP(F305,工作表9!$G$1:$I$136, 3, FALSE )","v":"混合物"},null,{"$f":"VLOOKUP(F305,工作表9!$G$1:$H$142, 2, FALSE )","v":0},0]
[null,null,null,null,null,null,{"$f":"VLOOKUP(F306,工作表9!$G$1:$I$136, 3, FALSE )","v":"混合物"},null,{"$f":"VLOOKUP(F306,工作表9!$G$1:$H$142, 2, FALSE )","v":0},0]
[null,null,null,null,null,null,{"$f":"VLOOKUP(F307,工作表9!$G$1:$I$136, 3, FALSE )","v":"混合物"},null,{"$f":"VLOOKUP(F307,工作表9!$G$1:$H$142, 2, FALSE )","v":0},0]
[null,null,null,null,null,null,{"$f":"VLOOKUP(F308,工作表9!$G$1:$I$136, 3, FALSE )","v":"混合物"},null,{"$f":"VLOOKUP(F308,工作表9!$G$1:$H$142, 2, FALSE )","v":0},0]
[null,null,null,null,null,null,{"$f":"VLOOKUP(F309,工作表9!$G$1:$I$136, 3, FALSE )","v":"混合物"},null,{"$f":"VLOOKUP(F309,工作表9!$G$1:$H$142, 2, FALSE )","v":0},0]
[null,null,null,null,null,null,{"$f":"VLOOKUP(F310,工作表9!$G$1:$I$136, 3, FALSE )","v":"混合物"},null,{"$f":"VLOOKUP(F310,工作表9!$G$1:$H$142, 2, FALSE )","v":0},0]
[null,null,null,null,null,null,{"$f":"VLOOKUP(F311,工作表9!$G$1:$I$136, 3, FALSE )","v":"混合物"},null,{"$f":"VLOOKUP(F311,工作表9!$G$1:$H$142, 2, FALSE )","v":0},0]
[null,null,null,null,null,null,{"$f":"VLOOKUP(F312,工作表9!$G$1:$I$136, 3, FALSE )","v":"混合物"},null,{"$f":"VLOOKUP(F312,工作表9!$G$1:$H$142, 2, FALSE )","v":0},0]
[null,null,null,null,null,null,{"$f":"VLOOKUP(F313,工作表9!$G$1:$I$136, 3, FALSE )","v":"混合物"},null,{"$f":"VLOOKUP(F313,工作表9!$G$1:$H$142, 2, FALSE )","v":0},0]
[null,null,null,null,null,null,{"$f":"VLOOKUP(F314,工作表9!$G$1:$I$136, 3, FALSE )","v":"混合物"},null,{"$f":"VLOOKUP(F314,工作表9!$G$1:$H$142, 2, FALSE )","v":0},0]
[null,null,null,null,null,null,{"$f":"VLOOKUP(F315,工作表9!$G$1:$I$136, 3, FALSE )","v":"混合物"},null,{"$f":"VLOOKUP(F315,工作表9!$G$1:$H$142, 2, FALSE )","v":0},0]
[null,null,null,null,null,null,{"$f":"VLOOKUP(F316,工作表9!$G$1:$I$136, 3, FALSE )","v":"混合物"},null,{"$f":"VLOOKUP(F316,工作表9!$G$1:$H$142, 2, FALSE )","v":0},0]
[null,null,null,null,null,null,{"$f":"VLOOKUP(F317,工作表9!$G$1:$I$136, 3, FALSE )","v":"混合物"},null,{"$f":"VLOOKUP(F317,工作表9!$G$1:$H$142, 2, FALSE )","v":0},0]
[null,null,null,null,null,null,{"$f":"VLOOKUP(F318,工作表9!$G$1:$I$136, 3, FALSE )","v":"混合物"},null,{"$f":"VLOOKUP(F318,工作表9!$G$1:$H$142, 2, FALSE )","v":0},0]
[null,null,null,null,null,null,{"$f":"VLOOKUP(F319,工作表9!$G$1:$I$136, 3, FALSE )","v":"混合物"},null,{"$f":"VLOOKUP(F319,工作表9!$G$1:$H$142, 2, FALSE )","v":0},0]
[null,null,null,null,null,null,{"$f":"VLOOKUP(F320,工作表9!$G$1:$I$136, 3, FALSE )","v":"混合物"},null,{"$f":"VLOOKUP(F320,工作表9!$G$1:$H$142, 2, FALSE )","v":0},0]
[null,null,null,null,null,null,{"$f":"VLOOKUP(F321,工作表9!$G$1:$I$136, 3, FALSE )","v":"混合物"},null,{"$f":"VLOOKUP(F321,工作表9!$G$1:$H$142, 2, FALSE )","v":0},0]
[null,null,null,null,null,null,{"$f":"VLOOKUP(F322,工作表9!$G$1:$I$136, 3, FALSE )","v":"混合物"},null,{"$f":"VLOOKUP(F322,工作表9!$G$1:$H$142, 2, FALSE )","v":0},0]
[null,null,null,null,null,null,{"$f":"VLOOKUP(F323,工作表9!$G$1:$I$136, 3, FALSE )","v":"混合物"},null,{"$f":"VLOOKUP(F323,工作表9!$G$1:$H$142, 2, FALSE )","v":0},0]
[null,null,null,null,null,null,{"$f":"VLOOKUP(F324,工作表9!$G$1:$I$136, 3, FALSE )","v":"混合物"},null,{"$f":"VLOOKUP(F324,工作表9!$G$1:$H$142, 2, FALSE )","v":0},0]
[null,null,null,null,null,null,{"$f":"VLOOKUP(F325,工作表9!$G$1:$I$136, 3, FALSE )","v":"混合物"},null,{"$f":"VLOOKUP(F325,工作表9!$G$1:$H$142, 2, FALSE )","v":0},0]
[null,null,null,null,null,null,{"$f":"VLOOKUP(F326,工作表9!$G$1:$I$136, 3, FALSE )","v":"混合物"},null,{"$f":"VLOOKUP(F326,工作表9!$G$1:$H$142, 2, FALSE )","v":0},{"$f":"H326*I326","v":0}]
[null,null,null,null,null,null,{"$f":"VLOOKUP(F327,工作表9!$G$1:$I$136, 3, FALSE )","v":"混合物"},null,{"$f":"VLOOKUP(F327,工作表9!$G$1:$H$142, 2, FALSE )","v":0},0]
[null,null,null,null,null,null,{"$f":"VLOOKUP(F328,工作表9!$G$1:$I$136, 3, FALSE )","v":"混合物"},null,{"$f":"VLOOKUP(F328,工作表9!$G$1:$H$142, 2, FALSE )","v":0},0]
[null,null,null,null,null,null,{"$f":"VLOOKUP(F329,工作表9!$G$1:$I$136, 3, FALSE )","v":"混合物"},null,{"$f":"VLOOKUP(F329,工作表9!$G$1:$H$142, 2, FALSE )","v":0},0]
[null,null,null,null,null,null,{"$f":"VLOOKUP(F330,工作表9!$G$1:$I$136, 3, FALSE )","v":"混合物"},null,{"$f":"VLOOKUP(F330,工作表9!$G$1:$H$142, 2, FALSE )","v":0},0]
[null,null,null,null,null,null,{"$f":"VLOOKUP(F331,工作表9!$G$1:$I$136, 3, FALSE )","v":"混合物"},null,{"$f":"VLOOKUP(F331,工作表9!$G$1:$H$142, 2, FALSE )","v":0},0]
[null,null,null,null,null,null,{"$f":"VLOOKUP(F332,工作表9!$G$1:$I$136, 3, FALSE )","v":"混合物"},null,{"$f":"VLOOKUP(F332,工作表9!$G$1:$H$142, 2, FALSE )","v":0},0]
[null,null,null,null,null,null,{"$f":"VLOOKUP(F333,工作表9!$G$1:$I$136, 3, FALSE )","v":"混合物"},null,{"$f":"VLOOKUP(F333,工作表9!$G$1:$H$142, 2, FALSE )","v":0},0]
[null,null,null,null,null,null,{"$f":"VLOOKUP(F334,工作表9!$G$1:$I$136, 3, FALSE )","v":"混合物"},null,{"$f":"VLOOKUP(F334,工作表9!$G$1:$H$142, 2, FALSE )","v":0},0]
[null,null,null,null,null,null,{"$f":"VLOOKUP(F335,工作表9!$G$1:$I$136, 3, FALSE )","v":"混合物"},null,{"$f":"VLOOKUP(F335,工作表9!$G$1:$H$142, 2, FALSE )","v":0},0]
[null,null,null,null,null,null,{"$f":"VLOOKUP(F336,工作表9!$G$1:$I$136, 3, FALSE )","v":"混合物"},null,{"$f":"VLOOKUP(F336,工作表9!$G$1:$H$142, 2, FALSE )","v":0},0]
[null,null,null,null,null,null,{"$f":"VLOOKUP(F337,工作表9!$G$1:$I$136, 3, FALSE )","v":"混合物"},null,{"$f":"VLOOKUP(F337,工作表9!$G$1:$H$142, 2, FALSE )","v":0},0]
[null,null,null,null,null,null,{"$f":"VLOOKUP(F338,工作表9!$G$1:$I$136, 3, FALSE )","v":"混合物"},null,{"$f":"VLOOKUP(F338,工作表9!$G$1:$H$142, 2, FALSE )","v":0},0]
[null,null,null,null,null,null,{"$f":"VLOOKUP(F339,工作表9!$G$1:$I$136, 3, FALSE )","v":"混合物"},null,{"$f":"VLOOKUP(F339,工作表9!$G$1:$H$142, 2, FALSE )","v":0},0]
[null,null,null,null,null,null,{"$f":"VLOOKUP(F340,工作表9!$G$1:$I$136, 3, FALSE )","v":"混合物"},null,{"$f":"VLOOKUP(F340,工作表9!$G$1:$H$142, 2, FALSE )","v":0},0]
[null,null,null,null,null,null,{"$f":"VLOOKUP(F341,工作表9!$G$1:$I$136, 3, FALSE )","v":"混合物"},null,{"$f":"VLOOKUP(F341,工作表9!$G$1:$H$142, 2, FALSE )","v":0},0]
[null,null,null,null,null,null,{"$f":"VLOOKUP(F342,工作表9!$G$1:$I$136, 3, FALSE )","v":"混合物"},null,{"$f":"VLOOKUP(F342,工作表9!$G$1:$H$142, 2, FALSE )","v":0},0]
[null,null,null,null,null,null,{"$f":"VLOOKUP(F343,工作表9!$G$1:$I$136, 3, FALSE )","v":"混合物"},null,{"$f":"VLOOKUP(F343,工作表9!$G$1:$H$142, 2, FALSE )","v":0},0]
[null,null,null,null,null,null,{"$f":"VLOOKUP(F344,工作表9!$G$1:$I$136, 3, FALSE )","v":"混合物"},null,{"$f":"VLOOKUP(F344,工作表9!$G$1:$H$142, 2, FALSE )","v":0},0]
[null,null,null,null,null,null,{"$f":"VLOOKUP(F345,工作表9!$G$1:$I$136, 3, FALSE )","v":"混合物"},null,{"$f":"VLOOKUP(F345,工作表9!$G$1:$H$142, 2, FALSE )","v":0},0]
[null,null,null,null,null,null,{"$f":"VLOOKUP(F346,工作表9!$G$1:$I$136, 3, FALSE )","v":"混合物"},null,{"$f":"VLOOKUP(F346,工作表9!$G$1:$H$142, 2, FALSE )","v":0},0]
[null,null,null,null,null,null,{"$f":"VLOOKUP(F347,工作表9!$G$1:$I$136, 3, FALSE )","v":"混合物"},null,{"$f":"VLOOKUP(F347,工作表9!$G$1:$H$142, 2, FALSE )","v":0},0]
[null,null,null,null,null,null,{"$f":"VLOOKUP(F348,工作表9!$G$1:$I$136, 3, FALSE )","v":"混合物"},null,{"$f":"VLOOKUP(F348,工作表9!$G$1:$H$142, 2, FALSE )","v":0},0]
[null,null,null,null,null,null,{"$f":"VLOOKUP(F349,工作表9!$G$1:$I$136, 3, FALSE )","v":"混合物"},null,{"$f":"VLOOKUP(F349,工作表9!$G$1:$H$142, 2, FALSE )","v":0},0]
[null,null,null,null,null,null,{"$f":"VLOOKUP(F350,工作表9!$G$1:$I$136, 3, FALSE )","v":"混合物"},null,{"$f":"VLOOKUP(F350,工作表9!$G$1:$H$142, 2, FALSE )","v":0},0]
[null,null,null,null,null,null,{"$f":"VLOOKUP(F351,工作表9!$G$1:$I$136, 3, FALSE )","v":"混合物"},null,{"$f":"VLOOKUP(F351,工作表9!$G$1:$H$142, 2, FALSE )","v":0},0]
[null,null,null,null,null,null,{"$f":"VLOOKUP(F352,工作表9!$G$1:$I$136, 3, FALSE )","v":"混合物"},null,{"$f":"VLOOKUP(F352,工作表9!$G$1:$H$142, 2, FALSE )","v":0},0]
[null,null,null,null,null,null,{"$f":"VLOOKUP(F353,工作表9!$G$1:$I$136, 3, FALSE )","v":"混合物"},null,{"$f":"VLOOKUP(F353,工作表9!$G$1:$H$142, 2, FALSE )","v":0},0]
[null,null,null,null,null,null,{"$f":"VLOOKUP(F354,工作表9!$G$1:$I$136, 3, FALSE )","v":"混合物"},null,{"$f":"VLOOKUP(F354,工作表9!$G$1:$H$142, 2, FALSE )","v":0},0]
[null,null,null,null,null,null,{"$f":"VLOOKUP(F355,工作表9!$G$1:$I$136, 3, FALSE )","v":"混合物"},null,{"$f":"VLOOKUP(F355,工作表9!$G$1:$H$142, 2, FALSE )","v":0},0]
[null,null,null,null,null,null,{"$f":"VLOOKUP(F356,工作表9!$G$1:$I$136, 3, FALSE )","v":"混合物"},null,{"$f":"VLOOKUP(F356,工作表9!$G$1:$H$142, 2, FALSE )","v":0},0]
[null,null,null,null,null,null,{"$f":"VLOOKUP(F357,工作表9!$G$1:$I$136, 3, FALSE )","v":"混合物"},null,{"$f":"VLOOKUP(F357,工作表9!$G$1:$H$142, 2, FALSE )","v":0},0]
[null,null,null,null,null,null,{"$f":"VLOOKUP(F358,工作表9!$G$1:$I$136, 3, FALSE )","v":"混合物"},null,{"$f":"VLOOKUP(F358,工作表9!$G$1:$H$142, 2, FALSE )","v":0},0]
[null,null,null,null,null,null,{"$f":"VLOOKUP(F359,工作表9!$G$1:$I$136, 3, FALSE )","v":"混合物"},null,{"$f":"VLOOKUP(F359,工作表9!$G$1:$H$142, 2, FALSE )","v":0},0]
[null,null,null,null,null,null,{"$f":"VLOOKUP(F360,工作表9!$G$1:$I$136, 3, FALSE )","v":"混合物"},null,{"$f":"VLOOKUP(F360,工作表9!$G$1:$H$142, 2, FALSE )","v":0},0]
[null,null,null,null,null,null,{"$f":"VLOOKUP(F361,工作表9!$G$1:$I$136, 3, FALSE )","v":"混合物"},null,{"$f":"VLOOKUP(F361,工作表9!$G$1:$H$142, 2, FALSE )","v":0},0]
[null,null,null,null,null,null,{"$f":"VLOOKUP(F362,工作表9!$G$1:$I$136, 3, FALSE )","v":"混合物"},null,{"$f":"VLOOKUP(F362,工作表9!$G$1:$H$142, 2, FALSE )","v":0},0]
[null,null,null,null,null,null,{"$f":"VLOOKUP(F363,工作表9!$G$1:$I$136, 3, FALSE )","v":"混合物"},null,{"$f":"VLOOKUP(F363,工作表9!$G$1:$H$142, 2, FALSE )","v":0},0]
[null,null,null,null,null,null,{"$f":"VLOOKUP(F364,工作表9!$G$1:$I$136, 3, FALSE )","v":"混合物"},null,{"$f":"VLOOKUP(F364,工作表9!$G$1:$H$142, 2, FALSE )","v":0},0]
[null,null,null,null,null,null,{"$f":"VLOOKUP(F365,工作表9!$G$1:$I$136, 3, FALSE )","v":"混合物"},null,{"$f":"VLOOKUP(F365,工作表9!$G$1:$H$142, 2, FALSE )","v":0},0]
[null,null,null,null,null,null,{"$f":"VLOOKUP(F366,工作表9!$G$1:$I$136, 3, FALSE )","v":"混合物"},null,{"$f":"VLOOKUP(F366,工作表9!$G$1:$H$142, 2, FALSE )","v":0},0]
[null,null,null,null,null,null,{"$f":"VLOOKUP(F367,工作表9!$G$1:$I$136, 3, FALSE )","v":"混合物"},null,{"$f":"VLOOKUP(F367,工作表9!$G$1:$H$142, 2, FALSE )","v":0},0]
[null,null,null,null,null,null,{"$f":"VLOOKUP(F368,工作表9!$G$1:$I$136, 3, FALSE )","v":"混合物"},null,{"$f":"VLOOKUP(F368,工作表9!$G$1:$H$142, 2, FALSE )","v":0},0]
[null,null,null,null,null,null,{"$f":"VLOOKUP(F369,工作表9!$G$1:$I$136, 3, FALSE )","v":"混合物"},null,{"$f":"VLOOKUP(F369,工作表9!$G$1:$H$142, 2, FALSE )","v":0},0]
[null,null,null,null,null,null,{"$f":"VLOOKUP(F370,工作表9!$G$1:$I$136, 3, FALSE )","v":"混合物"},null,{"$f":"VLOOKUP(F370,工作表9!$G$1:$H$142, 2, FALSE )","v":0},0]
[null,null,null,null,null,null,{"$f":"VLOOKUP(F371,工作表9!$G$1:$I$136, 3, FALSE )","v":"混合物"},null,{"$f":"VLOOKUP(F371,工作表9!$G$1:$H$142, 2, FALSE )","v":0},0]
[null,null,null,null,null,null,{"$f":"VLOOKUP(F372,工作表9!$G$1:$I$136, 3, FALSE )","v":"混合物"},null,{"$f":"VLOOKUP(F372,工作表9!$G$1:$H$142, 2, FALSE )","v":0},0]
[null,null,null,null,null,null,{"$f":"VLOOKUP(F373,工作表9!$G$1:$I$136, 3, FALSE )","v":"混合物"},null,{"$f":"VLOOKUP(F373,工作表9!$G$1:$H$142, 2, FALSE )","v":0},0]
[null,null,null,null,null,null,{"$f":"VLOOKUP(F374,工作表9!$G$1:$I$136, 3, FALSE )","v":"混合物"},null,{"$f":"VLOOKUP(F374,工作表9!$G$1:$H$142, 2, FALSE )","v":0},0]
[null,null,null,null,null,null,{"$f":"VLOOKUP(F375,工作表9!$G$1:$I$136, 3, FALSE )","v":"混合物"},null,{"$f":"VLOOKUP(F375,工作表9!$G$1:$H$142, 2, FALSE )","v":0},0]
[null,null,null,null,null,null,{"$f":"VLOOKUP(F376,工作表9!$G$1:$I$136, 3, FALSE )","v":"混合物"},null,{"$f":"VLOOKUP(F376,工作表9!$G$1:$H$142, 2, FALSE )","v":0},0]
[null,null,null,null,null,null,{"$f":"VLOOKUP(F377,工作表9!$G$1:$I$136, 3, FALSE )","v":"混合物"},null,{"$f":"VLOOKUP(F377,工作表9!$G$1:$H$142, 2, FALSE )","v":0},0]
[null,null,null,null,null,null,{"$f":"VLOOKUP(F378,工作表9!$G$1:$I$136, 3, FALSE )","v":"混合物"},null,{"$f":"VLOOKUP(F378,工作表9!$G$1:$H$142, 2, FALSE )","v":0},0]
[null,null,null,null,null,null,{"$f":"VLOOKUP(F379,工作表9!$G$1:$I$136, 3, FALSE )","v":"混合物"},null,{"$f":"VLOOKUP(F379,工作表9!$G$1:$H$142, 2, FALSE )","v":0},0]
[null,null,null,null,null,null,{"$f":"VLOOKUP(F380,工作表9!$G$1:$I$136, 3, FALSE )","v":"混合物"},null,{"$f":"VLOOKUP(F380,工作表9!$G$1:$H$142, 2, FALSE )","v":0},0]
[null,null,null,null,null,null,{"$f":"VLOOKUP(F381,工作表9!$G$1:$I$136, 3, FALSE )","v":"混合物"},null,{"$f":"VLOOKUP(F381,工作表9!$G$1:$H$142, 2, FALSE )","v":0},0]
[null,null,null,null,null,null,{"$f":"VLOOKUP(F382,工作表9!$G$1:$I$136, 3, FALSE )","v":"混合物"},null,{"$f":"VLOOKUP(F382,工作表9!$G$1:$H$142, 2, FALSE )","v":0},0]
[null,null,null,null,null,null,{"$f":"VLOOKUP(F383,工作表9!$G$1:$I$136, 3, FALSE )","v":"混合物"},null,{"$f":"VLOOKUP(F383,工作表9!$G$1:$H$142, 2, FALSE )","v":0},0]
[null,null,null,null,null,null,{"$f":"VLOOKUP(F384,工作表9!$G$1:$I$136, 3, FALSE )","v":"混合物"},null,{"$f":"VLOOKUP(F384,工作表9!$G$1:$H$142, 2, FALSE )","v":0},0]
[null,null,null,null,null,null,{"$f":"VLOOKUP(F385,工作表9!$G$1:$I$136, 3, FALSE )","v":"混合物"},null,{"$f":"VLOOKUP(F385,工作表9!$G$1:$H$142, 2, FALSE )","v":0},0]
[null,null,null,null,null,null,{"$f":"VLOOKUP(F386,工作表9!$G$1:$I$136, 3, FALSE )","v":"混合物"},null,{"$f":"VLOOKUP(F386,工作表9!$G$1:$H$142, 2, FALSE )","v":0},0]
[null,null,null,null,null,null,{"$f":"VLOOKUP(F387,工作表9!$G$1:$I$136, 3, FALSE )","v":"混合物"},null,{"$f":"VLOOKUP(F387,工作表9!$G$1:$H$142, 2, FALSE )","v":0},0]
[null,null,null,null,null,null,{"$f":"VLOOKUP(F388,工作表9!$G$1:$I$136, 3, FALSE )","v":"混合物"},null,{"$f":"VLOOKUP(F388,工作表9!$G$1:$H$142, 2, FALSE )","v":0},0]
[null,null,null,null,null,null,{"$f":"VLOOKUP(F389,工作表9!$G$1:$I$136, 3, FALSE )","v":"混合物"},null,{"$f":"VLOOKUP(F389,工作表9!$G$1:$H$142, 2, FALSE )","v":0},0]
[null,null,null,null,null,null,{"$f":"VLOOKUP(F390,工作表9!$G$1:$I$136, 3, FALSE )","v":"混合物"},null,{"$f":"VLOOKUP(F390,工作表9!$G$1:$H$142, 2, FALSE )","v":0},{"$f":"H390*I390","v":0}]
[null,null,null,null,null,null,{"$f":"VLOOKUP(F391,工作表9!$G$1:$I$136, 3, FALSE )","v":"混合物"},null,{"$f":"VLOOKUP(F391,工作表9!$G$1:$H$142, 2, FALSE )","v":0},0]
[null,null,null,null,null,null,{"$f":"VLOOKUP(F392,工作表9!$G$1:$I$136, 3, FALSE )","v":"混合物"},null,{"$f":"VLOOKUP(F392,工作表9!$G$1:$H$142, 2, FALSE )","v":0},0]
[null,null,null,null,null,null,{"$f":"VLOOKUP(F393,工作表9!$G$1:$I$136, 3, FALSE )","v":"混合物"},null,{"$f":"VLOOKUP(F393,工作表9!$G$1:$H$142, 2, FALSE )","v":0},0]
[null,null,null,null,null,null,{"$f":"VLOOKUP(F394,工作表9!$G$1:$I$136, 3, FALSE )","v":"混合物"},null,{"$f":"VLOOKUP(F394,工作表9!$G$1:$H$142, 2, FALSE )","v":0},0]
[null,null,null,null,null,null,{"$f":"VLOOKUP(F395,工作表9!$G$1:$I$136, 3, FALSE )","v":"混合物"},null,{"$f":"VLOOKUP(F395,工作表9!$G$1:$H$142, 2, FALSE )","v":0},0]
[null,null,null,null,null,null,{"$f":"VLOOKUP(F396,工作表9!$G$1:$I$136, 3, FALSE )","v":"混合物"},null,{"$f":"VLOOKUP(F396,工作表9!$G$1:$H$142, 2, FALSE )","v":0},0]
[null,null,null,null,null,null,{"$f":"VLOOKUP(F397,工作表9!$G$1:$I$136, 3, FALSE )","v":"混合物"},null,{"$f":"VLOOKUP(F397,工作表9!$G$1:$H$142, 2, FALSE )","v":0},0]
[null,null,null,null,null,null,{"$f":"VLOOKUP(F398,工作表9!$G$1:$I$136, 3, FALSE )","v":"混合物"},null,{"$f":"VLOOKUP(F398,工作表9!$G$1:$H$142, 2, FALSE )","v":0},0]
[null,null,null,null,null,null,{"$f":"VLOOKUP(F399,工作表9!$G$1:$I$136, 3, FALSE )","v":"混合物"},null,{"$f":"VLOOKUP(F399,工作表9!$G$1:$H$142, 2, FALSE )","v":0},0]
[null,null,null,null,null,null,{"$f":"VLOOKUP(F400,工作表9!$G$1:$I$136, 3, FALSE )","v":"混合物"},null,{"$f":"VLOOKUP(F400,工作表9!$G$1:$H$142, 2, FALSE )","v":0},0]
[null,null,null,null,null,null,{"$f":"VLOOKUP(F401,工作表9!$G$1:$I$136, 3, FALSE )","v":"混合物"},null,{"$f":"VLOOKUP(F401,工作表9!$G$1:$H$142, 2, FALSE )","v":0},0]
[null,null,null,null,null,null,{"$f":"VLOOKUP(F402,工作表9!$G$1:$I$136, 3, FALSE )","v":"混合物"},null,{"$f":"VLOOKUP(F402,工作表9!$G$1:$H$142, 2, FALSE )","v":0},0]
[null,null,null,null,null,null,{"$f":"VLOOKUP(F403,工作表9!$G$1:$I$136, 3, FALSE )","v":"混合物"},null,{"$f":"VLOOKUP(F403,工作表9!$G$1:$H$142, 2, FALSE )","v":0},0]
[null,null,null,null,null,null,{"$f":"VLOOKUP(F404,工作表9!$G$1:$I$136, 3, FALSE )","v":"混合物"},null,{"$f":"VLOOKUP(F404,工作表9!$G$1:$H$142, 2, FALSE )","v":0},0]
[null,null,null,null,null,null,{"$f":"VLOOKUP(F405,工作表9!$G$1:$I$136, 3, FALSE )","v":"混合物"},null,{"$f":"VLOOKUP(F405,工作表9!$G$1:$H$142, 2, FALSE )","v":0},0]
[null,null,null,null,null,null,{"$f":"VLOOKUP(F406,工作表9!$G$1:$I$136, 3, FALSE )","v":"混合物"},null,{"$f":"VLOOKUP(F406,工作表9!$G$1:$H$142, 2, FALSE )","v":0},0]
[null,null,null,null,null,null,{"$f":"VLOOKUP(F407,工作表9!$G$1:$I$136, 3, FALSE )","v":"混合物"},null,{"$f":"VLOOKUP(F407,工作表9!$G$1:$H$142, 2, FALSE )","v":0},0]
[null,null,null,null,null,null,{"$f":"VLOOKUP(F408,工作表9!$G$1:$I$136, 3, FALSE )","v":"混合物"},null,{"$f":"VLOOKUP(F408,工作表9!$G$1:$H$142, 2, FALSE )","v":0},0]
[null,null,null,null,null,null,{"$f":"VLOOKUP(F409,工作表9!$G$1:$I$136, 3, FALSE )","v":"混合物"},null,{"$f":"VLOOKUP(F409,工作表9!$G$1:$H$142, 2, FALSE )","v":0},0]
[null,null,null,null,null,null,{"$f":"VLOOKUP(F410,工作表9!$G$1:$I$136, 3, FALSE )","v":"混合物"},null,{"$f":"VLOOKUP(F410,工作表9!$G$1:$H$142, 2, FALSE )","v":0},0]
[null,null,null,null,null,null,{"$f":"VLOOKUP(F411,工作表9!$G$1:$I$136, 3, FALSE )","v":"混合物"},null,{"$f":"VLOOKUP(F411,工作表9!$G$1:$H$142, 2, FALSE )","v":0},0]
[null,null,null,null,null,null,{"$f":"VLOOKUP(F412,工作表9!$G$1:$I$136, 3, FALSE )","v":"混合物"},null,{"$f":"VLOOKUP(F412,工作表9!$G$1:$H$142, 2, FALSE )","v":0},0]
[null,null,null,null,null,null,{"$f":"VLOOKUP(F413,工作表9!$G$1:$I$136, 3, FALSE )","v":"混合物"},null,{"$f":"VLOOKUP(F413,工作表9!$G$1:$H$142, 2, FALSE )","v":0},0]
[null,null,null,null,null,null,{"$f":"VLOOKUP(F414,工作表9!$G$1:$I$136, 3, FALSE )","v":"混合物"},null,{"$f":"VLOOKUP(F414,工作表9!$G$1:$H$142, 2, FALSE )","v":0},0]
[null,null,null,null,null,null,{"$f":"VLOOKUP(F415,工作表9!$G$1:$I$136, 3, FALSE )","v":"混合物"},null,{"$f":"VLOOKUP(F415,工作表9!$G$1:$H$142, 2, FALSE )","v":0},0]
[null,null,null,null,null,null,{"$f":"VLOOKUP(F416,工作表9!$G$1:$I$136, 3, FALSE )","v":"混合物"},null,{"$f":"VLOOKUP(F416,工作表9!$G$1:$H$142, 2, FALSE )","v":0},0]
[null,null,null,null,null,null,{"$f":"VLOOKUP(F417,工作表9!$G$1:$I$136, 3, FALSE )","v":"混合物"},null,{"$f":"VLOOKUP(F417,工作表9!$G$1:$H$142, 2, FALSE )","v":0},0]
[null,null,null,null,null,null,{"$f":"VLOOKUP(F418,工作表9!$G$1:$I$136, 3, FALSE )","v":"混合物"},null,{"$f":"VLOOKUP(F418,工作表9!$G$1:$H$142, 2, FALSE )","v":0},0]
[null,null,null,null,null,null,{"$f":"VLOOKUP(F419,工作表9!$G$1:$I$136, 3, FALSE )","v":"混合物"},null,{"$f":"VLOOKUP(F419,工作表9!$G$1:$H$142, 2, FALSE )","v":0},0]
[null,null,null,null,null,null,{"$f":"VLOOKUP(F420,工作表9!$G$1:$I$136, 3, FALSE )","v":"混合物"},null,{"$f":"VLOOKUP(F420,工作表9!$G$1:$H$142, 2, FALSE )","v":0},0]
[null,null,null,null,null,null,{"$f":"VLOOKUP(F421,工作表9!$G$1:$I$136, 3, FALSE )","v":"混合物"},null,{"$f":"VLOOKUP(F421,工作表9!$G$1:$H$142, 2, FALSE )","v":0},0]
[null,null,null,null,null,null,{"$f":"VLOOKUP(F422,工作表9!$G$1:$I$136, 3, FALSE )","v":"混合物"},null,{"$f":"VLOOKUP(F422,工作表9!$G$1:$H$142, 2, FALSE )","v":0},0]
[null,null,null,null,null,null,{"$f":"VLOOKUP(F423,工作表9!$G$1:$I$136, 3, FALSE )","v":"混合物"},null,{"$f":"VLOOKUP(F423,工作表9!$G$1:$H$142, 2, FALSE )","v":0},0]
[null,null,null,null,null,null,{"$f":"VLOOKUP(F424,工作表9!$G$1:$I$136, 3, FALSE )","v":"混合物"},null,{"$f":"VLOOKUP(F424,工作表9!$G$1:$H$142, 2, FALSE )","v":0},0]
[null,null,null,null,null,null,{"$f":"VLOOKUP(F425,工作表9!$G$1:$I$136, 3, FALSE )","v":"混合物"},null,{"$f":"VLOOKUP(F425,工作表9!$G$1:$H$142, 2, FALSE )","v":0},0]
[null,null,null,null,null,null,{"$f":"VLOOKUP(F426,工作表9!$G$1:$I$136, 3, FALSE )","v":"混合物"},null,{"$f":"VLOOKUP(F426,工作表9!$G$1:$H$142, 2, FALSE )","v":0},0]
[null,null,null,null,null,null,{"$f":"VLOOKUP(F427,工作表9!$G$1:$I$136, 3, FALSE )","v":"混合物"},null,{"$f":"VLOOKUP(F427,工作表9!$G$1:$H$142, 2, FALSE )","v":0},0]
[null,null,null,null,null,null,{"$f":"VLOOKUP(F428,工作表9!$G$1:$I$136, 3, FALSE )","v":"混合物"},null,{"$f":"VLOOKUP(F428,工作表9!$G$1:$H$142, 2, FALSE )","v":0},0]
[null,null,null,null,null,null,{"$f":"VLOOKUP(F429,工作表9!$G$1:$I$136, 3, FALSE )","v":"混合物"},null,{"$f":"VLOOKUP(F429,工作表9!$G$1:$H$142, 2, FALSE )","v":0},0]
[null,null,null,null,null,null,{"$f":"VLOOKUP(F430,工作表9!$G$1:$I$136, 3, FALSE )","v":"混合物"},null,{"$f":"VLOOKUP(F430,工作表9!$G$1:$H$142, 2, FALSE )","v":0},0]
[null,null,null,null,null,null,{"$f":"VLOOKUP(F431,工作表9!$G$1:$I$136, 3, FALSE )","v":"混合物"},null,{"$f":"VLOOKUP(F431,工作表9!$G$1:$H$142, 2, FALSE )","v":0},0]
[null,null,null,null,null,null,{"$f":"VLOOKUP(F432,工作表9!$G$1:$I$136, 3, FALSE )","v":"混合物"},null,{"$f":"VLOOKUP(F432,工作表9!$G$1:$H$142, 2, FALSE )","v":0},0]
[null,null,null,null,null,null,{"$f":"VLOOKUP(F433,工作表9!$G$1:$I$136, 3, FALSE )","v":"混合物"},null,{"$f":"VLOOKUP(F433,工作表9!$G$1:$H$142, 2, FALSE )","v":0},0]
[null,null,null,null,null,null,{"$f":"VLOOKUP(F434,工作表9!$G$1:$I$136, 3, FALSE )","v":"混合物"},null,{"$f":"VLOOKUP(F434,工作表9!$G$1:$H$142, 2, FALSE )","v":0},0]
[null,null,null,null,null,null,{"$f":"VLOOKUP(F435,工作表9!$G$1:$I$136, 3, FALSE )","v":"混合物"},null,{"$f":"VLOOKUP(F435,工作表9!$G$1:$H$142, 2, FALSE )","v":0},0]
[null,null,null,null,null,null,{"$f":"VLOOKUP(F436,工作表9!$G$1:$I$136, 3, FALSE )","v":"混合物"},null,{"$f":"VLOOKUP(F436,工作表9!$G$1:$H$142, 2, FALSE )","v":0},0]
[null,null,null,null,null,null,{"$f":"VLOOKUP(F437,工作表9!$G$1:$I$136, 3, FALSE )","v":"混合物"},null,{"$f":"VLOOKUP(F437,工作表9!$G$1:$H$142, 2, FALSE )","v":0},0]
[null,null,null,null,null,null,{"$f":"VLOOKUP(F438,工作表9!$G$1:$I$136, 3, FALSE )","v":"混合物"},null,{"$f":"VLOOKUP(F438,工作表9!$G$1:$H$142, 2, FALSE )","v":0},0]
[null,null,null,null,null,null,{"$f":"VLOOKUP(F439,工作表9!$G$1:$I$136, 3, FALSE )","v":"混合物"},null,{"$f":"VLOOKUP(F439,工作表9!$G$1:$H$142, 2, FALSE )","v":0},0]
[null,null,null,null,null,null,{"$f":"VLOOKUP(F440,工作表9!$G$1:$I$136, 3, FALSE )","v":"混合物"},null,{"$f":"VLOOKUP(F440,工作表9!$G$1:$H$142, 2, FALSE )","v":0},0]
[null,null,null,null,null,null,{"$f":"VLOOKUP(F441,工作表9!$G$1:$I$136, 3, FALSE )","v":"混合物"},null,{"$f":"VLOOKUP(F441,工作表9!$G$1:$H$142, 2, FALSE )","v":0},0]
[null,null,null,null,null,null,{"$f":"VLOOKUP(F442,工作表9!$G$1:$I$136, 3, FALSE )","v":"混合物"},null,{"$f":"VLOOKUP(F442,工作表9!$G$1:$H$142, 2, FALSE )","v":0},0]
[null,null,null,null,null,null,{"$f":"VLOOKUP(F443,工作表9!$G$1:$I$136, 3, FALSE )","v":"混合物"},null,{"$f":"VLOOKUP(F443,工作表9!$G$1:$H$142, 2, FALSE )","v":0},0]
[null,null,null,null,null,null,{"$f":"VLOOKUP(F444,工作表9!$G$1:$I$136, 3, FALSE )","v":"混合物"},null,{"$f":"VLOOKUP(F444,工作表9!$G$1:$H$142, 2, FALSE )","v":0},0]
[null,null,null,null,null,null,{"$f":"VLOOKUP(F445,工作表9!$G$1:$I$136, 3, FALSE )","v":"混合物"},null,{"$f":"VLOOKUP(F445,工作表9!$G$1:$H$142, 2, FALSE )","v":0},0]
[null,null,null,null,null,null,{"$f":"VLOOKUP(F446,工作表9!$G$1:$I$136, 3, FALSE )","v":"混合物"},null,{"$f":"VLOOKUP(F446,工作表9!$G$1:$H$142, 2, FALSE )","v":0},0]
[null,null,null,null,null,null,{"$f":"VLOOKUP(F447,工作表9!$G$1:$I$136, 3, FALSE )","v":"混合物"},null,{"$f":"VLOOKUP(F447,工作表9!$G$1:$H$142, 2, FALSE )","v":0},0]
[null,null,null,null,null,null,{"$f":"VLOOKUP(F448,工作表9!$G$1:$I$136, 3, FALSE )","v":"混合物"},null,{"$f":"VLOOKUP(F448,工作表9!$G$1:$H$142, 2, FALSE )","v":0},0]
[null,null,null,null,null,null,{"$f":"VLOOKUP(F449,工作表9!$G$1:$I$136, 3, FALSE )","v":"混合物"},null,{"$f":"VLOOKUP(F449,工作表9!$G$1:$H$142, 2, FALSE )","v":0},0]
[null,null,null,null,null,null,{"$f":"VLOOKUP(F450,工作表9!$G$1:$I$136, 3, FALSE )","v":"混合物"},null,{"$f":"VLOOKUP(F450,工作表9!$G$1:$H$142, 2, FALSE )","v":0},0]
[null,null,null,null,null,null,{"$f":"VLOOKUP(F451,工作表9!$G$1:$I$136, 3, FALSE )","v":"混合物"},null,{"$f":"VLOOKUP(F451,工作表9!$G$1:$H$142, 2, FALSE )","v":0},0]
[null,null,null,null,null,null,{"$f":"VLOOKUP(F452,工作表9!$G$1:$I$136, 3, FALSE )","v":"混合物"},null,{"$f":"VLOOKUP(F452,工作表9!$G$1:$H$142, 2, FALSE )","v":0},0]
[null,null,null,null,null,null,{"$f":"VLOOKUP(F453,工作表9!$G$1:$I$136, 3, FALSE )","v":"混合物"},null,{"$f":"VLOOKUP(F453,工作表9!$G$1:$H$142, 2, FALSE )","v":0},0]
[null,null,null,null,null,null,{"$f":"VLOOKUP(F454,工作表9!$G$1:$I$136, 3, FALSE )","v":"混合物"},null,{"$f":"VLOOKUP(F454,工作表9!$G$1:$H$142, 2, FALSE )","v":0},{"$f":"H454*I454","v":0}]
[null,null,null,null,null,null,{"$f":"VLOOKUP(F455,工作表9!$G$1:$I$136, 3, FALSE )","v":"混合物"},null,{"$f":"VLOOKUP(F455,工作表9!$G$1:$H$142, 2, FALSE )","v":0},0]
[null,null,null,null,null,null,{"$f":"VLOOKUP(F456,工作表9!$G$1:$I$136, 3, FALSE )","v":"混合物"},null,{"$f":"VLOOKUP(F456,工作表9!$G$1:$H$142, 2, FALSE )","v":0},0]
[null,null,null,null,null,null,{"$f":"VLOOKUP(F457,工作表9!$G$1:$I$136, 3, FALSE )","v":"混合物"},null,{"$f":"VLOOKUP(F457,工作表9!$G$1:$H$142, 2, FALSE )","v":0},0]
[null,null,null,null,null,null,{"$f":"VLOOKUP(F458,工作表9!$G$1:$I$136, 3, FALSE )","v":"混合物"},null,{"$f":"VLOOKUP(F458,工作表9!$G$1:$H$142, 2, FALSE )","v":0},0]
[null,null,null,null,null,null,{"$f":"VLOOKUP(F459,工作表9!$G$1:$I$136, 3, FALSE )","v":"混合物"},null,{"$f":"VLOOKUP(F459,工作表9!$G$1:$H$142, 2, FALSE )","v":0},0]
[null,null,null,null,null,null,{"$f":"VLOOKUP(F460,工作表9!$G$1:$I$136, 3, FALSE )","v":"混合物"},null,{"$f":"VLOOKUP(F460,工作表9!$G$1:$H$142, 2, FALSE )","v":0},0]
[null,null,null,null,null,null,{"$f":"VLOOKUP(F461,工作表9!$G$1:$I$136, 3, FALSE )","v":"混合物"},null,{"$f":"VLOOKUP(F461,工作表9!$G$1:$H$142, 2, FALSE )","v":0},0]
[null,null,null,null,null,null,{"$f":"VLOOKUP(F462,工作表9!$G$1:$I$136, 3, FALSE )","v":"混合物"},null,{"$f":"VLOOKUP(F462,工作表9!$G$1:$H$142, 2, FALSE )","v":0},0]
[null,null,null,null,null,null,{"$f":"VLOOKUP(F463,工作表9!$G$1:$I$136, 3, FALSE )","v":"混合物"},null,{"$f":"VLOOKUP(F463,工作表9!$G$1:$H$142, 2, FALSE )","v":0},0]
[null,null,null,null,null,null,{"$f":"VLOOKUP(F464,工作表9!$G$1:$I$136, 3, FALSE )","v":"混合物"},null,{"$f":"VLOOKUP(F464,工作表9!$G$1:$H$142, 2, FALSE )","v":0},0]
[null,null,null,null,null,null,{"$f":"VLOOKUP(F465,工作表9!$G$1:$I$136, 3, FALSE )","v":"混合物"},null,{"$f":"VLOOKUP(F465,工作表9!$G$1:$H$142, 2, FALSE )","v":0},0]
[null,null,null,null,null,null,{"$f":"VLOOKUP(F466,工作表9!$G$1:$I$136, 3, FALSE )","v":"混合物"},null,{"$f":"VLOOKUP(F466,工作表9!$G$1:$H$142, 2, FALSE )","v":0},0]
[null,null,null,null,null,null,{"$f":"VLOOKUP(F467,工作表9!$G$1:$I$136, 3, FALSE )","v":"混合物"},null,{"$f":"VLOOKUP(F467,工作表9!$G$1:$H$142, 2, FALSE )","v":0},0]
[null,null,null,null,null,null,{"$f":"VLOOKUP(F468,工作表9!$G$1:$I$136, 3, FALSE )","v":"混合物"},null,{"$f":"VLOOKUP(F468,工作表9!$G$1:$H$142, 2, FALSE )","v":0},0]
[null,null,null,null,null,null,{"$f":"VLOOKUP(F469,工作表9!$G$1:$I$136, 3, FALSE )","v":"混合物"},null,{"$f":"VLOOKUP(F469,工作表9!$G$1:$H$142, 2, FALSE )","v":0},0]
[null,null,null,null,null,null,{"$f":"VLOOKUP(F470,工作表9!$G$1:$I$136, 3, FALSE )","v":"混合物"},null,{"$f":"VLOOKUP(F470,工作表9!$G$1:$H$142, 2, FALSE )","v":0},0]
[null,null,null,null,null,null,{"$f":"VLOOKUP(F471,工作表9!$G$1:$I$136, 3, FALSE )","v":"混合物"},null,{"$f":"VLOOKUP(F471,工作表9!$G$1:$H$142, 2, FALSE )","v":0},0]
[null,null,null,null,null,null,{"$f":"VLOOKUP(F472,工作表9!$G$1:$I$136, 3, FALSE )","v":"混合物"},null,{"$f":"VLOOKUP(F472,工作表9!$G$1:$H$142, 2, FALSE )","v":0},0]
[null,null,null,null,null,null,{"$f":"VLOOKUP(F473,工作表9!$G$1:$I$136, 3, FALSE )","v":"混合物"},null,{"$f":"VLOOKUP(F473,工作表9!$G$1:$H$142, 2, FALSE )","v":0},0]
[null,null,null,null,null,null,{"$f":"VLOOKUP(F474,工作表9!$G$1:$I$136, 3, FALSE )","v":"混合物"},null,{"$f":"VLOOKUP(F474,工作表9!$G$1:$H$142, 2, FALSE )","v":0},0]
[null,null,null,null,null,null,{"$f":"VLOOKUP(F475,工作表9!$G$1:$I$136, 3, FALSE )","v":"混合物"},null,{"$f":"VLOOKUP(F475,工作表9!$G$1:$H$142, 2, FALSE )","v":0},0]
[null,null,null,null,null,null,{"$f":"VLOOKUP(F476,工作表9!$G$1:$I$136, 3, FALSE )","v":"混合物"},null,{"$f":"VLOOKUP(F476,工作表9!$G$1:$H$142, 2, FALSE )","v":0},0]
[null,null,null,null,null,null,{"$f":"VLOOKUP(F477,工作表9!$G$1:$I$136, 3, FALSE )","v":"混合物"},null,{"$f":"VLOOKUP(F477,工作表9!$G$1:$H$142, 2, FALSE )","v":0},0]
[null,null,null,null,null,null,{"$f":"VLOOKUP(F478,工作表9!$G$1:$I$136, 3, FALSE )","v":"混合物"},null,{"$f":"VLOOKUP(F478,工作表9!$G$1:$H$142, 2, FALSE )","v":0},0]
[null,null,null,null,null,null,{"$f":"VLOOKUP(F479,工作表9!$G$1:$I$136, 3, FALSE )","v":"混合物"},null,{"$f":"VLOOKUP(F479,工作表9!$G$1:$H$142, 2, FALSE )","v":0},0]
[null,null,null,null,null,null,{"$f":"VLOOKUP(F480,工作表9!$G$1:$I$136, 3, FALSE )","v":"混合物"},null,{"$f":"VLOOKUP(F480,工作表9!$G$1:$H$142, 2, FALSE )","v":0},0]
[null,null,null,null,null,null,{"$f":"VLOOKUP(F481,工作表9!$G$1:$I$136, 3, FALSE )","v":"混合物"},null,{"$f":"VLOOKUP(F481,工作表9!$G$1:$H$142, 2, FALSE )","v":0},0]
[null,null,null,null,null,null,{"$f":"VLOOKUP(F482,工作表9!$G$1:$I$136, 3, FALSE )","v":"混合物"},null,{"$f":"VLOOKUP(F482,工作表9!$G$1:$H$142, 2, FALSE )","v":0},0]
[null,null,null,null,null,null,{"$f":"VLOOKUP(F483,工作表9!$G$1:$I$136, 3, FALSE )","v":"混合物"},null,{"$f":"VLOOKUP(F483,工作表9!$G$1:$H$142, 2, FALSE )","v":0},0]
[null,null,null,null,null,null,{"$f":"VLOOKUP(F484,工作表9!$G$1:$I$136, 3, FALSE )","v":"混合物"},null,{"$f":"VLOOKUP(F484,工作表9!$G$1:$H$142, 2, FALSE )","v":0},0]
[null,null,null,null,null,null,{"$f":"VLOOKUP(F485,工作表9!$G$1:$I$136, 3, FALSE )","v":"混合物"},null,{"$f":"VLOOKUP(F485,工作表9!$G$1:$H$142, 2, FALSE )","v":0},0]
[null,null,null,null,null,null,{"$f":"VLOOKUP(F486,工作表9!$G$1:$I$136, 3, FALSE )","v":"混合物"},null,{"$f":"VLOOKUP(F486,工作表9!$G$1:$H$142, 2, FALSE )","v":0},0]
[null,null,null,null,null,null,{"$f":"VLOOKUP(F487,工作表9!$G$1:$I$136, 3, FALSE )","v":"混合物"},null,{"$f":"VLOOKUP(F487,工作表9!$G$1:$H$142, 2, FALSE )","v":0},0]
[null,null,null,null,null,null,{"$f":"VLOOKUP(F488,工作表9!$G$1:$I$136, 3, FALSE )","v":"混合物"},null,{"$f":"VLOOKUP(F488,工作表9!$G$1:$H$142, 2, FALSE )","v":0},0]
[null,null,null,null,null,null,{"$f":"VLOOKUP(F489,工作表9!$G$1:$I$136, 3, FALSE )","v":"混合物"},null,{"$f":"VLOOKUP(F489,工作表9!$G$1:$H$142, 2, FALSE )","v":0},0]
[null,null,null,null,null,null,{"$f":"VLOOKUP(F490,工作表9!$G$1:$I$136, 3, FALSE )","v":"混合物"},null,{"$f":"VLOOKUP(F490,工作表9!$G$1:$H$142, 2, FALSE )","v":0},0]
[null,null,null,null,null,null,{"$f":"VLOOKUP(F491,工作表9!$G$1:$I$136, 3, FALSE )","v":"混合物"},null,{"$f":"VLOOKUP(F491,工作表9!$G$1:$H$142, 2, FALSE )","v":0},0]
[null,null,null,null,null,null,{"$f":"VLOOKUP(F492,工作表9!$G$1:$I$136, 3, FALSE )","v":"混合物"},null,{"$f":"VLOOKUP(F492,工作表9!$G$1:$H$142, 2, FALSE )","v":0},0]
[null,null,null,null,null,null,{"$f":"VLOOKUP(F493,工作表9!$G$1:$I$136, 3, FALSE )","v":"混合物"},null,{"$f":"VLOOKUP(F493,工作表9!$G$1:$H$142, 2, FALSE )","v":0},0]
[null,null,null,null,null,null,{"$f":"VLOOKUP(F494,工作表9!$G$1:$I$136, 3, FALSE )","v":"混合物"},null,{"$f":"VLOOKUP(F494,工作表9!$G$1:$H$142, 2, FALSE )","v":0},0]
[null,null,null,null,null,null,{"$f":"VLOOKUP(F495,工作表9!$G$1:$I$136, 3, FALSE )","v":"混合物"},null,{"$f":"VLOOKUP(F495,工作表9!$G$1:$H$142, 2, FALSE )","v":0},0]
[null,null,null,null,null,null,{"$f":"VLOOKUP(F496,工作表9!$G$1:$I$136, 3, FALSE )","v":"混合物"},null,{"$f":"VLOOKUP(F496,工作表9!$G$1:$H$142, 2, FALSE )","v":0},0]
[null,null,null,null,null,null,{"$f":"VLOOKUP(F497,工作表9!$G$1:$I$136, 3, FALSE )","v":"混合物"},null,{"$f":"VLOOKUP(F497,工作表9!$G$1:$H$142, 2, FALSE )","v":0},0]
[null,null,null,null,null,null,{"$f":"VLOOKUP(F498,工作表9!$G$1:$I$136, 3, FALSE )","v":"混合物"},null,{"$f":"VLOOKUP(F498,工作表9!$G$1:$H$142, 2, FALSE )","v":0},0]
[null,null,null,null,null,null,{"$f":"VLOOKUP(F499,工作表9!$G$1:$I$136, 3, FALSE )","v":"混合物"},null,{"$f":"VLOOKUP(F499,工作表9!$G$1:$H$142, 2, FALSE )","v":0},0]
[null,null,null,null,null,null,{"$f":"VLOOKUP(F500,工作表9!$G$1:$I$136, 3, FALSE )","v":"混合物"},null,{"$f":"VLOOKUP(F500,工作表9!$G$1:$H$142, 2, FALSE )","v":0},0]
[null,null,null,null,null,null,{"$f":"VLOOKUP(F501,工作表9!$G$1:$I$136, 3, FALSE )","v":"混合物"},null,{"$f":"VLOOKUP(F501,工作表9!$G$1:$H$142, 2, FALSE )","v":0},0]
[null,null,null,null,null,null,{"$f":"VLOOKUP(F502,工作表9!$G$1:$I$136, 3, FALSE )","v":"混合物"},null,{"$f":"VLOOKUP(F502,工作表9!$G$1:$H$142, 2, FALSE )","v":0},0]
[null,null,null,null,null,null,{"$f":"VLOOKUP(F503,工作表9!$G$1:$I$136, 3, FALSE )","v":"混合物"},null,{"$f":"VLOOKUP(F503,工作表9!$G$1:$H$142, 2, FALSE )","v":0},0]
[null,null,null,null,null,null,{"$f":"VLOOKUP(F504,工作表9!$G$1:$I$136, 3, FALSE )","v":"混合物"},null,{"$f":"VLOOKUP(F504,工作表9!$G$1:$H$142, 2, FALSE )","v":0},0]
[null,null,null,null,null,null,{"$f":"VLOOKUP(F505,工作表9!$G$1:$I$136, 3, FALSE )","v":"混合物"},null,{"$f":"VLOOKUP(F505,工作表9!$G$1:$H$142, 2, FALSE )","v":0},0]
[null,null,null,null,null,null,{"$f":"VLOOKUP(F506,工作表9!$G$1:$I$136, 3, FALSE )","v":"混合物"},null,{"$f":"VLOOKUP(F506,工作表9!$G$1:$H$142, 2, FALSE )","v":0},0]
[null,null,null,null,null,null,{"$f":"VLOOKUP(F507,工作表9!$G$1:$I$136, 3, FALSE )","v":"混合物"},null,{"$f":"VLOOKUP(F507,工作表9!$G$1:$H$142, 2, FALSE )","v":0},0]
[null,null,null,null,null,null,{"$f":"VLOOKUP(F508,工作表9!$G$1:$I$136, 3, FALSE )","v":"混合物"},null,{"$f":"VLOOKUP(F508,工作表9!$G$1:$H$142, 2, FALSE )","v":0},0]
[null,null,null,null,null,null,{"$f":"VLOOKUP(F509,工作表9!$G$1:$I$136, 3, FALSE )","v":"混合物"},null,{"$f":"VLOOKUP(F509,工作表9!$G$1:$H$142, 2, FALSE )","v":0},0]
[null,null,null,null,null,null,{"$f":"VLOOKUP(F510,工作表9!$G$1:$I$136, 3, FALSE )","v":"混合物"},null,{"$f":"VLOOKUP(F510,工作表9!$G$1:$H$142, 2, FALSE )","v":0},0]
[null,null,null,null,null,null,{"$f":"VLOOKUP(F511,工作表9!$G$1:$I$136, 3, FALSE )","v":"混合物"},null,{"$f":"VLOOKUP(F511,工作表9!$G$1:$H$142, 2, FALSE )","v":0},0]
[null,null,null,null,null,null,{"$f":"VLOOKUP(F512,工作表9!$G$1:$I$136, 3, FALSE )","v":"混合物"},null,{"$f":"VLOOKUP(F512,工作表9!$G$1:$H$142, 2, FALSE )","v":0},0]
[null,null,null,null,null,null,{"$f":"VLOOKUP(F513,工作表9!$G$1:$I$136, 3, FALSE )","v":"混合物"},null,{"$f":"VLOOKUP(F513,工作表9!$G$1:$H$142, 2, FALSE )","v":0},0]
[null,null,null,null,null,null,{"$f":"VLOOKUP(F514,工作表9!$G$1:$I$136, 3, FALSE )","v":"混合物"},null,{"$f":"VLOOKUP(F514,工作表9!$G$1:$H$142, 2, FALSE )","v":0},0]
[null,null,null,null,null,null,{"$f":"VLOOKUP(F515,工作表9!$G$1:$I$136, 3, FALSE )","v":"混合物"},null,{"$f":"VLOOKUP(F515,工作表9!$G$1:$H$142, 2, FALSE )","v":0},0]
[null,null,null,null,null,null,{"$f":"VLOOKUP(F516,工作表9!$G$1:$I$136, 3, FALSE )","v":"混合物"},null,{"$f":"VLOOKUP(F516,工作表9!$G$1:$H$142, 2, FALSE )","v":0},0]
[null,null,null,null,null,null,{"$f":"VLOOKUP(F517,工作表9!$G$1:$I$136, 3, FALSE )","v":"混合物"},null,{"$f":"VLOOKUP(F517,工作表9!$G$1:$H$142, 2, FALSE )","v":0},0]
[null,null,null,null,null,null,{"$f":"VLOOKUP(F518,工作表9!$G$1:$I$136, 3, FALSE )","v":"混合物"},null,{"$f":"VLOOKUP(F518,工作表9!$G$1:$H$142, 2, FALSE )","v":0},{"$f":"H518*I518","v":0}]
[null,null,null,null,null,null,{"$f":"VLOOKUP(F519,工作表9!$G$1:$I$136, 3, FALSE )","v":"混合物"},null,{"$f":"VLOOKUP(F519,工作表9!$G$1:$H$142, 2, FALSE )","v":0},0]
[null,null,null,null,null,null,{"$f":"VLOOKUP(F520,工作表9!$G$1:$I$136, 3, FALSE )","v":"混合物"},null,{"$f":"VLOOKUP(F520,工作表9!$G$1:$H$142, 2, FALSE )","v":0},0]
[null,null,null,null,null,null,{"$f":"VLOOKUP(F521,工作表9!$G$1:$I$136, 3, FALSE )","v":"混合物"},null,{"$f":"VLOOKUP(F521,工作表9!$G$1:$H$142, 2, FALSE )","v":0},0]
[null,null,null,null,null,null,{"$f":"VLOOKUP(F522,工作表9!$G$1:$I$136, 3, FALSE )","v":"混合物"},null,{"$f":"VLOOKUP(F522,工作表9!$G$1:$H$142, 2, FALSE )","v":0},0]
[null,null,null,null,null,null,{"$f":"VLOOKUP(F523,工作表9!$G$1:$I$136, 3, FALSE )","v":"混合物"},null,{"$f":"VLOOKUP(F523,工作表9!$G$1:$H$142, 2, FALSE )","v":0},0]
[null,null,null,null,null,null,{"$f":"VLOOKUP(F524,工作表9!$G$1:$I$136, 3, FALSE )","v":"混合物"},null,{"$f":"VLOOKUP(F524,工作表9!$G$1:$H$142, 2, FALSE )","v":0},0]
[null,null,null,null,null,null,{"$f":"VLOOKUP(F525,工作表9!$G$1:$I$136, 3, FALSE )","v":"混合物"},null,{"$f":"VLOOKUP(F525,工作表9!$G$1:$H$142, 2, FALSE )","v":0},0]
[null,null,null,null,null,null,{"$f":"VLOOKUP(F526,工作表9!$G$1:$I$136, 3, FALSE )","v":"混合物"},null,{"$f":"VLOOKUP(F526,工作表9!$G$1:$H$142, 2, FALSE )","v":0},0]
[null,null,null,null,null,null,{"$f":"VLOOKUP(F527,工作表9!$G$1:$I$136, 3, FALSE )","v":"混合物"},null,{"$f":"VLOOKUP(F527,工作表9!$G$1:$H$142, 2, FALSE )","v":0},0]
[null,null,null,null,null,null,{"$f":"VLOOKUP(F528,工作表9!$G$1:$I$136, 3, FALSE )","v":"混合物"},null,{"$f":"VLOOKUP(F528,工作表9!$G$1:$H$142, 2, FALSE )","v":0},0]
[null,null,null,null,null,null,{"$f":"VLOOKUP(F529,工作表9!$G$1:$I$136, 3, FALSE )","v":"混合物"},null,{"$f":"VLOOKUP(F529,工作表9!$G$1:$H$142, 2, FALSE )","v":0},0]
[null,null,null,null,null,null,{"$f":"VLOOKUP(F530,工作表9!$G$1:$I$136, 3, FALSE )","v":"混合物"},null,{"$f":"VLOOKUP(F530,工作表9!$G$1:$H$142, 2, FALSE )","v":0},0]
[null,null,null,null,null,null,{"$f":"VLOOKUP(F531,工作表9!$G$1:$I$136, 3, FALSE )","v":"混合物"},null,{"$f":"VLOOKUP(F531,工作表9!$G$1:$H$142, 2, FALSE )","v":0},0]
[null,null,null,null,null,null,{"$f":"VLOOKUP(F532,工作表9!$G$1:$I$136, 3, FALSE )","v":"混合物"},null,{"$f":"VLOOKUP(F532,工作表9!$G$1:$H$142, 2, FALSE )","v":0},0]
[null,null,null,null,null,null,{"$f":"VLOOKUP(F533,工作表9!$G$1:$I$136, 3, FALSE )","v":"混合物"},null,{"$f":"VLOOKUP(F533,工作表9!$G$1:$H$142, 2, FALSE )","v":0},0]
[null,null,null,null,null,null,{"$f":"VLOOKUP(F534,工作表9!$G$1:$I$136, 3, FALSE )","v":"混合物"},null,{"$f":"VLOOKUP(F534,工作表9!$G$1:$H$142, 2, FALSE )","v":0},0]
[null,null,null,null,null,null,{"$f":"VLOOKUP(F535,工作表9!$G$1:$I$136, 3, FALSE )","v":"混合物"},null,{"$f":"VLOOKUP(F535,工作表9!$G$1:$H$142, 2, FALSE )","v":0},0]
[null,null,null,null,null,null,{"$f":"VLOOKUP(F536,工作表9!$G$1:$I$136, 3, FALSE )","v":"混合物"},null,{"$f":"VLOOKUP(F536,工作表9!$G$1:$H$142, 2, FALSE )","v":0},0]
[null,null,null,null,null,null,{"$f":"VLOOKUP(F537,工作表9!$G$1:$I$136, 3, FALSE )","v":"混合物"},null,{"$f":"VLOOKUP(F537,工作表9!$G$1:$H$142, 2, FALSE )","v":0},0]
[null,null,null,null,null,null,{"$f":"VLOOKUP(F538,工作表9!$G$1:$I$136, 3, FALSE )","v":"混合物"},null,{"$f":"VLOOKUP(F538,工作表9!$G$1:$H$142, 2, FALSE )","v":0},0]
[null,null,null,null,null,null,{"$f":"VLOOKUP(F539,工作表9!$G$1:$I$136, 3, FALSE )","v":"混合物"},null,{"$f":"VLOOKUP(F539,工作表9!$G$1:$H$142, 2, FALSE )","v":0},0]
[null,null,null,null,null,null,{"$f":"VLOOKUP(F540,工作表9!$G$1:$I$136, 3, FALSE )","v":"混合物"},null,{"$f":"VLOOKUP(F540,工作表9!$G$1:$H$142, 2, FALSE )","v":0},0]
[null,null,null,null,null,null,{"$f":"VLOOKUP(F541,工作表9!$G$1:$I$136, 3, FALSE )","v":"混合物"},null,{"$f":"VLOOKUP(F541,工作表9!$G$1:$H$142, 2, FALSE )","v":0},0]
[null,null,null,null,null,null,{"$f":"VLOOKUP(F542,工作表9!$G$1:$I$136, 3, FALSE )","v":"混合物"},null,{"$f":"VLOOKUP(F542,工作表9!$G$1:$H$142, 2, FALSE )","v":0},0]
[null,null,null,null,null,null,{"$f":"VLOOKUP(F543,工作表9!$G$1:$I$136, 3, FALSE )","v":"混合物"},null,{"$f":"VLOOKUP(F543,工作表9!$G$1:$H$142, 2, FALSE )","v":0},0]
[null,null,null,null,null,null,{"$f":"VLOOKUP(F544,工作表9!$G$1:$I$136, 3, FALSE )","v":"混合物"},null,{"$f":"VLOOKUP(F544,工作表9!$G$1:$H$142, 2, FALSE )","v":0},0]
[null,null,null,null,null,null,{"$f":"VLOOKUP(F545,工作表9!$G$1:$I$136, 3, FALSE )","v":"混合物"},null,{"$f":"VLOOKUP(F545,工作表9!$G$1:$H$142, 2, FALSE )","v":0},0]
[null,null,null,null,null,null,{"$f":"VLOOKUP(F546,工作表9!$G$1:$I$136, 3, FALSE )","v":"混合物"},null,{"$f":"VLOOKUP(F546,工作表9!$G$1:$H$142, 2, FALSE )","v":0},0]
[null,null,null,null,null,null,{"$f":"VLOOKUP(F547,工作表9!$G$1:$I$136, 3, FALSE )","v":"混合物"},null,{"$f":"VLOOKUP(F547,工作表9!$G$1:$H$142, 2, FALSE )","v":0},0]
[null,null,null,null,null,null,{"$f":"VLOOKUP(F548,工作表9!$G$1:$I$136, 3, FALSE )","v":"混合物"},null,{"$f":"VLOOKUP(F548,工作表9!$G$1:$H$142, 2, FALSE )","v":0},0]
[null,null,null,null,null,null,{"$f":"VLOOKUP(F549,工作表9!$G$1:$I$136, 3, FALSE )","v":"混合物"},null,{"$f":"VLOOKUP(F549,工作表9!$G$1:$H$142, 2, FALSE )","v":0},0]
[null,null,null,null,null,null,{"$f":"VLOOKUP(F550,工作表9!$G$1:$I$136, 3, FALSE )","v":"混合物"},null,{"$f":"VLOOKUP(F550,工作表9!$G$1:$H$142, 2, FALSE )","v":0},0]
[null,null,null,null,null,null,{"$f":"VLOOKUP(F551,工作表9!$G$1:$I$136, 3, FALSE )","v":"混合物"},null,{"$f":"VLOOKUP(F551,工作表9!$G$1:$H$142, 2, FALSE )","v":0},0]
[null,null,null,null,null,null,{"$f":"VLOOKUP(F552,工作表9!$G$1:$I$136, 3, FALSE )","v":"混合物"},null,{"$f":"VLOOKUP(F552,工作表9!$G$1:$H$142, 2, FALSE )","v":0},0]
[null,null,null,null,null,null,{"$f":"VLOOKUP(F553,工作表9!$G$1:$I$136, 3, FALSE )","v":"混合物"},null,{"$f":"VLOOKUP(F553,工作表9!$G$1:$H$142, 2, FALSE )","v":0},0]
[null,null,null,null,null,null,{"$f":"VLOOKUP(F554,工作表9!$G$1:$I$136, 3, FALSE )","v":"混合物"},null,{"$f":"VLOOKUP(F554,工作表9!$G$1:$H$142, 2, FALSE )","v":0},0]
[null,null,null,null,null,null,{"$f":"VLOOKUP(F555,工作表9!$G$1:$I$136, 3, FALSE )","v":"混合物"},null,{"$f":"VLOOKUP(F555,工作表9!$G$1:$H$142, 2, FALSE )","v":0},0]
[null,null,null,null,null,null,{"$f":"VLOOKUP(F556,工作表9!$G$1:$I$136, 3, FALSE )","v":"混合物"},null,{"$f":"VLOOKUP(F556,工作表9!$G$1:$H$142, 2, FALSE )","v":0},0]
[null,null,null,null,null,null,{"$f":"VLOOKUP(F557,工作表9!$G$1:$I$136, 3, FALSE )","v":"混合物"},null,{"$f":"VLOOKUP(F557,工作表9!$G$1:$H$142, 2, FALSE )","v":0},0]
[null,null,null,null,null,null,{"$f":"VLOOKUP(F558,工作表9!$G$1:$I$136, 3, FALSE )","v":"混合物"},null,{"$f":"VLOOKUP(F558,工作表9!$G$1:$H$142, 2, FALSE )","v":0},0]
[null,null,null,null,null,null,{"$f":"VLOOKUP(F559,工作表9!$G$1:$I$136, 3, FALSE )","v":"混合物"},null,{"$f":"VLOOKUP(F559,工作表9!$G$1:$H$142, 2, FALSE )","v":0},0]
[null,null,null,null,null,null,{"$f":"VLOOKUP(F560,工作表9!$G$1:$I$136, 3, FALSE )","v":"混合物"},null,{"$f":"VLOOKUP(F560,工作表9!$G$1:$H$142, 2, FALSE )","v":0},0]
[null,null,null,null,null,null,{"$f":"VLOOKUP(F561,工作表9!$G$1:$I$136, 3, FALSE )","v":"混合物"},null,{"$f":"VLOOKUP(F561,工作表9!$G$1:$H$142, 2, FALSE )","v":0},0]
[null,null,null,null,null,null,{"$f":"VLOOKUP(F562,工作表9!$G$1:$I$136, 3, FALSE )","v":"混合物"},null,{"$f":"VLOOKUP(F562,工作表9!$G$1:$H$142, 2, FALSE )","v":0},0]
[null,null,null,null,null,null,{"$f":"VLOOKUP(F563,工作表9!$G$1:$I$136, 3, FALSE )","v":"混合物"},null,{"$f":"VLOOKUP(F563,工作表9!$G$1:$H$142, 2, FALSE )","v":0},0]
[null,null,null,null,null,null,{"$f":"VLOOKUP(F564,工作表9!$G$1:$I$136, 3, FALSE )","v":"混合物"},null,{"$f":"VLOOKUP(F564,工作表9!$G$1:$H$142, 2, FALSE )","v":0},0]
[null,null,null,null,null,null,{"$f":"VLOOKUP(F565,工作表9!$G$1:$I$136, 3, FALSE )","v":"混合物"},null,{"$f":"VLOOKUP(F565,工作表9!$G$1:$H$142, 2, FALSE )","v":0},0]
[null,null,null,null,null,null,{"$f":"VLOOKUP(F566,工作表9!$G$1:$I$136, 3, FALSE )","v":"混合物"},null,{"$f":"VLOOKUP(F566,工作表9!$G$1:$H$142, 2, FALSE )","v":0},0]
[null,null,null,null,null,null,{"$f":"VLOOKUP(F567,工作表9!$G$1:$I$136, 3, FALSE )","v":"混合物"},null,{"$f":"VLOOKUP(F567,工作表9!$G$1:$H$142, 2, FALSE )","v":0},0]
[null,null,null,null,null,null,{"$f":"VLOOKUP(F568,工作表9!$G$1:$I$136, 3, FALSE )","v":"混合物"},null,{"$f":"VLOOKUP(F568,工作表9!$G$1:$H$142, 2, FALSE )","v":0},0]
[null,null,null,null,null,null,{"$f":"VLOOKUP(F569,工作表9!$G$1:$I$136, 3, FALSE )","v":"混合物"},null,{"$f":"VLOOKUP(F569,工作表9!$G$1:$H$142, 2, FALSE )","v":0},0]
[null,null,null,null,null,null,{"$f":"VLOOKUP(F570,工作表9!$G$1:$I$136, 3, FALSE )","v":"混合物"},null,{"$f":"VLOOKUP(F570,工作表9!$G$1:$H$142, 2, FALSE )","v":0},0]
[null,null,null,null,null,null,{"$f":"VLOOKUP(F571,工作表9!$G$1:$I$136, 3, FALSE )","v":"混合物"},null,{"$f":"VLOOKUP(F571,工作表9!$G$1:$H$142, 2, FALSE )","v":0},0]
[null,null,null,null,null,null,{"$f":"VLOOKUP(F572,工作表9!$G$1:$I$136, 3, FALSE )","v":"混合物"},null,{"$f":"VLOOKUP(F572,工作表9!$G$1:$H$142, 2, FALSE )","v":0},0]
[null,null,null,null,null,null,{"$f":"VLOOKUP(F573,工作表9!$G$1:$I$136, 3, FALSE )","v":"混合物"},null,{"$f":"VLOOKUP(F573,工作表9!$G$1:$H$142, 2, FALSE )","v":0},0]
[null,null,null,null,null,null,{"$f":"VLOOKUP(F574,工作表9!$G$1:$I$136, 3, FALSE )","v":"混合物"},null,{"$f":"VLOOKUP(F574,工作表9!$G$1:$H$142, 2, FALSE )","v":0},0]
[null,null,null,null,null,null,{"$f":"VLOOKUP(F575,工作表9!$G$1:$I$136, 3, FALSE )","v":"混合物"},null,{"$f":"VLOOKUP(F575,工作表9!$G$1:$H$142, 2, FALSE )","v":0},0]
[null,null,null,null,null,null,{"$f":"VLOOKUP(F576,工作表9!$G$1:$I$136, 3, FALSE )","v":"混合物"},null,{"$f":"VLOOKUP(F576,工作表9!$G$1:$H$142, 2, FALSE )","v":0},0]
[null,null,null,null,null,null,{"$f":"VLOOKUP(F577,工作表9!$G$1:$I$136, 3, FALSE )","v":"混合物"},null,{"$f":"VLOOKUP(F577,工作表9!$G$1:$H$142, 2, FALSE )","v":0},0]
[null,null,null,null,null,null,{"$f":"VLOOKUP(F578,工作表9!$G$1:$I$136, 3, FALSE )","v":"混合物"},null,{"$f":"VLOOKUP(F578,工作表9!$G$1:$H$142, 2, FALSE )","v":0},0]
[null,null,null,null,null,null,{"$f":"VLOOKUP(F579,工作表9!$G$1:$I$136, 3, FALSE )","v":"混合物"},null,{"$f":"VLOOKUP(F579,工作表9!$G$1:$H$142, 2, FALSE )","v":0},0]
[null,null,null,null,null,null,{"$f":"VLOOKUP(F580,工作表9!$G$1:$I$136, 3, FALSE )","v":"混合物"},null,{"$f":"VLOOKUP(F580,工作表9!$G$1:$H$142, 2, FALSE )","v":0},0]
[null,null,null,null,null,null,{"$f":"VLOOKUP(F581,工作表9!$G$1:$I$136, 3, FALSE )","v":"混合物"},null,{"$f":"VLOOKUP(F581,工作表9!$G$1:$H$142, 2, FALSE )","v":0},0]
[null,null,null,null,null,null,{"$f":"VLOOKUP(F582,工作表9!$G$1:$I$136, 3, FALSE )","v":"混合物"},null,{"$f":"VLOOKUP(F582,工作表9!$G$1:$H$142, 2, FALSE )","v":0},{"$f":"H582*I582","v":0}]
[null,null,null,null,null,null,{"$f":"VLOOKUP(F583,工作表9!$G$1:$I$136, 3, FALSE )","v":"混合物"},null,{"$f":"VLOOKUP(F583,工作表9!$G$1:$H$142, 2, FALSE )","v":0},0]
[null,null,null,null,null,null,{"$f":"VLOOKUP(F584,工作表9!$G$1:$I$136, 3, FALSE )","v":"混合物"},null,{"$f":"VLOOKUP(F584,工作表9!$G$1:$H$142, 2, FALSE )","v":0},0]
[null,null,null,null,null,null,{"$f":"VLOOKUP(F585,工作表9!$G$1:$I$136, 3, FALSE )","v":"混合物"},null,{"$f":"VLOOKUP(F585,工作表9!$G$1:$H$142, 2, FALSE )","v":0},0]
[null,null,null,null,null,null,{"$f":"VLOOKUP(F586,工作表9!$G$1:$I$136, 3, FALSE )","v":"混合物"},null,{"$f":"VLOOKUP(F586,工作表9!$G$1:$H$142, 2, FALSE )","v":0},0]
[null,null,null,null,null,null,{"$f":"VLOOKUP(F587,工作表9!$G$1:$I$136, 3, FALSE )","v":"混合物"},null,{"$f":"VLOOKUP(F587,工作表9!$G$1:$H$142, 2, FALSE )","v":0},0]
[null,null,null,null,null,null,{"$f":"VLOOKUP(F588,工作表9!$G$1:$I$136, 3, FALSE )","v":"混合物"},null,{"$f":"VLOOKUP(F588,工作表9!$G$1:$H$142, 2, FALSE )","v":0},0]
[null,null,null,null,null,null,{"$f":"VLOOKUP(F589,工作表9!$G$1:$I$136, 3, FALSE )","v":"混合物"},null,{"$f":"VLOOKUP(F589,工作表9!$G$1:$H$142, 2, FALSE )","v":0},0]
[null,null,null,null,null,null,{"$f":"VLOOKUP(F590,工作表9!$G$1:$I$136, 3, FALSE )","v":"混合物"},null,{"$f":"VLOOKUP(F590,工作表9!$G$1:$H$142, 2, FALSE )","v":0},0]
[null,null,null,null,null,null,{"$f":"VLOOKUP(F591,工作表9!$G$1:$I$136, 3, FALSE )","v":"混合物"},null,{"$f":"VLOOKUP(F591,工作表9!$G$1:$H$142, 2, FALSE )","v":0},0]
[null,null,null,null,null,null,{"$f":"VLOOKUP(F592,工作表9!$G$1:$I$136, 3, FALSE )","v":"混合物"},null,{"$f":"VLOOKUP(F592,工作表9!$G$1:$H$142, 2, FALSE )","v":0},0]
[null,null,null,null,null,null,{"$f":"VLOOKUP(F593,工作表9!$G$1:$I$136, 3, FALSE )","v":"混合物"},null,{"$f":"VLOOKUP(F593,工作表9!$G$1:$H$142, 2, FALSE )","v":0},0]
[null,null,null,null,null,null,{"$f":"VLOOKUP(F594,工作表9!$G$1:$I$136, 3, FALSE )","v":"混合物"},null,{"$f":"VLOOKUP(F594,工作表9!$G$1:$H$142, 2, FALSE )","v":0},0]
[null,null,null,null,null,null,{"$f":"VLOOKUP(F595,工作表9!$G$1:$I$136, 3, FALSE )","v":"混合物"},null,{"$f":"VLOOKUP(F595,工作表9!$G$1:$H$142, 2, FALSE )","v":0},0]
[null,null,null,null,null,null,{"$f":"VLOOKUP(F596,工作表9!$G$1:$I$136, 3, FALSE )","v":"混合物"},null,{"$f":"VLOOKUP(F596,工作表9!$G$1:$H$142, 2, FALSE )","v":0},0]
[null,null,null,null,null,null,{"$f":"VLOOKUP(F597,工作表9!$G$1:$I$136, 3, FALSE )","v":"混合物"},null,{"$f":"VLOOKUP(F597,工作表9!$G$1:$H$142, 2, FALSE )","v":0},0]
[null,null,null,null,null,null,{"$f":"VLOOKUP(F598,工作表9!$G$1:$I$136, 3, FALSE )","v":"混合物"},null,{"$f":"VLOOKUP(F598,工作表9!$G$1:$H$142, 2, FALSE )","v":0},0]
[null,null,null,null,null,null,{"$f":"VLOOKUP(F599,工作表9!$G$1:$I$136, 3, FALSE )","v":"混合物"},null,{"$f":"VLOOKUP(F599,工作表9!$G$1:$H$142, 2, FALSE )","v":0},0]
[null,null,null,null,null,null,{"$f":"VLOOKUP(F600,工作表9!$G$1:$I$136, 3, FALSE )","v":"混合物"},null,{"$f":"VLOOKUP(F600,工作表9!$G$1:$H$142, 2, FALSE )","v":0},0]
[null,null,null,null,null,null,{"$f":"VLOOKUP(F601,工作表9!$G$1:$I$136, 3, FALSE )","v":"混合物"},null,{"$f":"VLOOKUP(F601,工作表9!$G$1:$H$142, 2, FALSE )","v":0},0]
[null,null,null,null,null,null,{"$f":"VLOOKUP(F602,工作表9!$G$1:$I$136, 3, FALSE )","v":"混合物"},null,{"$f":"VLOOKUP(F602,工作表9!$G$1:$H$142, 2, FALSE )","v":0},0]
[null,null,null,null,null,null,{"$f":"VLOOKUP(F603,工作表9!$G$1:$I$136, 3, FALSE )","v":"混合物"},null,{"$f":"VLOOKUP(F603,工作表9!$G$1:$H$142, 2, FALSE )","v":0},0]
[null,null,null,null,null,null,{"$f":"VLOOKUP(F604,工作表9!$G$1:$I$136, 3, FALSE )","v":"混合物"},null,{"$f":"VLOOKUP(F604,工作表9!$G$1:$H$142, 2, FALSE )","v":0},0]
[null,null,null,null,null,null,{"$f":"VLOOKUP(F605,工作表9!$G$1:$I$136, 3, FALSE )","v":"混合物"},null,{"$f":"VLOOKUP(F605,工作表9!$G$1:$H$142, 2, FALSE )","v":0},0]
[null,null,null,null,null,null,{"$f":"VLOOKUP(F606,工作表9!$G$1:$I$136, 3, FALSE )","v":"混合物"},null,{"$f":"VLOOKUP(F606,工作表9!$G$1:$H$142, 2, FALSE )","v":0},0]
[null,null,null,null,null,null,{"$f":"VLOOKUP(F607,工作表9!$G$1:$I$136, 3, FALSE )","v":"混合物"},null,{"$f":"VLOOKUP(F607,工作表9!$G$1:$H$142, 2, FALSE )","v":0},0]
[null,null,null,null,null,null,{"$f":"VLOOKUP(F608,工作表9!$G$1:$I$136, 3, FALSE )","v":"混合物"},null,{"$f":"VLOOKUP(F608,工作表9!$G$1:$H$142, 2, FALSE )","v":0},0]
[null,null,null,null,null,null,{"$f":"VLOOKUP(F609,工作表9!$G$1:$I$136, 3, FALSE )","v":"混合物"},null,{"$f":"VLOOKUP(F609,工作表9!$G$1:$H$142, 2, FALSE )","v":0},0]
[null,null,null,null,null,null,{"$f":"VLOOKUP(F610,工作表9!$G$1:$I$136, 3, FALSE )","v":"混合物"},null,{"$f":"VLOOKUP(F610,工作表9!$G$1:$H$142, 2, FALSE )","v":0},0]
[null,null,null,null,null,null,{"$f":"VLOOKUP(F611,工作表9!$G$1:$I$136, 3, FALSE )","v":"混合物"},null,{"$f":"VLOOKUP(F611,工作表9!$G$1:$H$142, 2, FALSE )","v":0},0]
[null,null,null,null,null,null,{"$f":"VLOOKUP(F612,工作表9!$G$1:$I$136, 3, FALSE )","v":"混合物"},null,{"$f":"VLOOKUP(F612,工作表9!$G$1:$H$142, 2, FALSE )","v":0},0]
[null,null,null,null,null,null,{"$f":"VLOOKUP(F613,工作表9!$G$1:$I$136, 3, FALSE )","v":"混合物"},null,{"$f":"VLOOKUP(F613,工作表9!$G$1:$H$142, 2, FALSE )","v":0},0]
[null,null,null,null,null,null,{"$f":"VLOOKUP(F614,工作表9!$G$1:$I$136, 3, FALSE )","v":"混合物"},null,{"$f":"VLOOKUP(F614,工作表9!$G$1:$H$142, 2, FALSE )","v":0},0]
[null,null,null,null,null,null,{"$f":"VLOOKUP(F615,工作表9!$G$1:$I$136, 3, FALSE )","v":"混合物"},null,{"$f":"VLOOKUP(F615,工作表9!$G$1:$H$142, 2, FALSE )","v":0},0]
[null,null,null,null,null,null,{"$f":"VLOOKUP(F616,工作表9!$G$1:$I$136, 3, FALSE )","v":"混合物"},null,{"$f":"VLOOKUP(F616,工作表9!$G$1:$H$142, 2, FALSE )","v":0},0]
[null,null,null,null,null,null,{"$f":"VLOOKUP(F617,工作表9!$G$1:$I$136, 3, FALSE )","v":"混合物"},null,{"$f":"VLOOKUP(F617,工作表9!$G$1:$H$142, 2, FALSE )","v":0},0]
[null,null,null,null,null,null,{"$f":"VLOOKUP(F618,工作表9!$G$1:$I$136, 3, FALSE )","v":"混合物"},null,{"$f":"VLOOKUP(F618,工作表9!$G$1:$H$142, 2, FALSE )","v":0},0]
[null,null,null,null,null,null,{"$f":"VLOOKUP(F619,工作表9!$G$1:$I$136, 3, FALSE )","v":"混合物"},null,{"$f":"VLOOKUP(F619,工作表9!$G$1:$H$142, 2, FALSE )","v":0},0]
[null,null,null,null,null,null,{"$f":"VLOOKUP(F620,工作表9!$G$1:$I$136, 3, FALSE )","v":"混合物"},null,{"$f":"VLOOKUP(F620,工作表9!$G$1:$H$142, 2, FALSE )","v":0},0]
[null,null,null,null,null,null,{"$f":"VLOOKUP(F621,工作表9!$G$1:$I$136, 3, FALSE )","v":"混合物"},null,{"$f":"VLOOKUP(F621,工作表9!$G$1:$H$142, 2, FALSE )","v":0},0]
[null,null,null,null,null,null,{"$f":"VLOOKUP(F622,工作表9!$G$1:$I$136, 3, FALSE )","v":"混合物"},null,{"$f":"VLOOKUP(F622,工作表9!$G$1:$H$142, 2, FALSE )","v":0},0]
[null,null,null,null,null,null,{"$f":"VLOOKUP(F623,工作表9!$G$1:$I$136, 3, FALSE )","v":"混合物"},null,{"$f":"VLOOKUP(F623,工作表9!$G$1:$H$142, 2, FALSE )","v":0},0]
[null,null,null,null,null,null,{"$f":"VLOOKUP(F624,工作表9!$G$1:$I$136, 3, FALSE )","v":"混合物"},null,{"$f":"VLOOKUP(F624,工作表9!$G$1:$H$142, 2, FALSE )","v":0},0]
[null,null,null,null,null,null,{"$f":"VLOOKUP(F625,工作表9!$G$1:$I$136, 3, FALSE )","v":"混合物"},null,{"$f":"VLOOKUP(F625,工作表9!$G$1:$H$142, 2, FALSE )","v":0},0]
[null,null,null,null,null,null,{"$f":"VLOOKUP(F626,工作表9!$G$1:$I$136, 3, FALSE )","v":"混合物"},null,{"$f":"VLOOKUP(F626,工作表9!$G$1:$H$142, 2, FALSE )","v":0},0]
[null,null,null,null,null,null,{"$f":"VLOOKUP(F627,工作表9!$G$1:$I$136, 3, FALSE )","v":"混合物"},null,{"$f":"VLOOKUP(F627,工作表9!$G$1:$H$142, 2, FALSE )","v":0},0]
[null,null,null,null,null,null,{"$f":"VLOOKUP(F628,工作表9!$G$1:$I$136, 3, FALSE )","v":"混合物"},null,{"$f":"VLOOKUP(F628,工作表9!$G$1:$H$142, 2, FALSE )","v":0},0]
[null,null,null,null,null,null,{"$f":"VLOOKUP(F629,工作表9!$G$1:$I$136, 3, FALSE )","v":"混合物"},null,{"$f":"VLOOKUP(F629,工作表9!$G$1:$H$142, 2, FALSE )","v":0},0]
[null,null,null,null,null,null,{"$f":"VLOOKUP(F630,工作表9!$G$1:$I$136, 3, FALSE )","v":"混合物"},null,{"$f":"VLOOKUP(F630,工作表9!$G$1:$H$142, 2, FALSE )","v":0},0]
[null,null,null,null,null,null,{"$f":"VLOOKUP(F631,工作表9!$G$1:$I$136, 3, FALSE )","v":"混合物"},null,{"$f":"VLOOKUP(F631,工作表9!$G$1:$H$142, 2, FALSE )","v":0},0]
[null,null,null,null,null,null,{"$f":"VLOOKUP(F632,工作表9!$G$1:$I$136, 3, FALSE )","v":"混合物"},null,{"$f":"VLOOKUP(F632,工作表9!$G$1:$H$142, 2, FALSE )","v":0},0]
[null,null,null,null,null,null,{"$f":"VLOOKUP(F633,工作表9!$G$1:$I$136, 3, FALSE )","v":"混合物"},null,{"$f":"VLOOKUP(F633,工作表9!$G$1:$H$142, 2, FALSE )","v":0},0]
[null,null,null,null,null,null,{"$f":"VLOOKUP(F634,工作表9!$G$1:$I$136, 3, FALSE )","v":"混合物"},null,{"$f":"VLOOKUP(F634,工作表9!$G$1:$H$142, 2, FALSE )","v":0},0]
[null,null,null,null,null,null,{"$f":"VLOOKUP(F635,工作表9!$G$1:$I$136, 3, FALSE )","v":"混合物"},null,{"$f":"VLOOKUP(F635,工作表9!$G$1:$H$142, 2, FALSE )","v":0},0]
[null,null,null,null,null,null,{"$f":"VLOOKUP(F636,工作表9!$G$1:$I$136, 3, FALSE )","v":"混合物"},null,{"$f":"VLOOKUP(F636,工作表9!$G$1:$H$142, 2, FALSE )","v":0},0]
[null,null,null,null,null,null,{"$f":"VLOOKUP(F637,工作表9!$G$1:$I$136, 3, FALSE )","v":"混合物"},null,{"$f":"VLOOKUP(F637,工作表9!$G$1:$H$142, 2, FALSE )","v":0},0]
[null,null,null,null,null,null,{"$f":"VLOOKUP(F638,工作表9!$G$1:$I$136, 3, FALSE )","v":"混合物"},null,{"$f":"VLOOKUP(F638,工作表9!$G$1:$H$142, 2, FALSE )","v":0},0]
[null,null,null,null,null,null,{"$f":"VLOOKUP(F639,工作表9!$G$1:$I$136, 3, FALSE )","v":"混合物"},null,{"$f":"VLOOKUP(F639,工作表9!$G$1:$H$142, 2, FALSE )","v":0},0]
[null,null,null,null,null,null,{"$f":"VLOOKUP(F640,工作表9!$G$1:$I$136, 3, FALSE )","v":"混合物"},null,{"$f":"VLOOKUP(F640,工作表9!$G$1:$H$142, 2, FALSE )","v":0},0]
[null,null,null,null,null,null,{"$f":"VLOOKUP(F641,工作表9!$G$1:$I$136, 3, FALSE )","v":"混合物"},null,{"$f":"VLOOKUP(F641,工作表9!$G$1:$H$142, 2, FALSE )","v":0},0]
[null,null,null,null,null,null,{"$f":"VLOOKUP(F642,工作表9!$G$1:$I$136, 3, FALSE )","v":"混合物"},null,{"$f":"VLOOKUP(F642,工作表9!$G$1:$H$142, 2, FALSE )","v":0},0]
[null,null,null,null,null,null,{"$f":"VLOOKUP(F643,工作表9!$G$1:$I$136, 3, FALSE )","v":"混合物"},null,{"$f":"VLOOKUP(F643,工作表9!$G$1:$H$142, 2, FALSE )","v":0},0]
[null,null,null,null,null,null,{"$f":"VLOOKUP(F644,工作表9!$G$1:$I$136, 3, FALSE )","v":"混合物"},null,{"$f":"VLOOKUP(F644,工作表9!$G$1:$H$142, 2, FALSE )","v":0},0]
[null,null,null,null,null,null,{"$f":"VLOOKUP(F645,工作表9!$G$1:$I$136, 3, FALSE )","v":"混合物"},null,{"$f":"VLOOKUP(F645,工作表9!$G$1:$H$142, 2, FALSE )","v":0},0]
[null,null,null,null,null,null,{"$f":"VLOOKUP(F646,工作表9!$G$1:$I$136, 3, FALSE )","v":"混合物"},null,{"$f":"VLOOKUP(F646,工作表9!$G$1:$H$142, 2, FALSE )","v":0},{"$f":"H646*I646","v":0}]
[null,null,null,null,null,null,{"$f":"VLOOKUP(F647,工作表9!$G$1:$I$136, 3, FALSE )","v":"混合物"},null,{"$f":"VLOOKUP(F647,工作表9!$G$1:$H$142, 2, FALSE )","v":0},0]
[null,null,null,null,null,null,{"$f":"VLOOKUP(F648,工作表9!$G$1:$I$136, 3, FALSE )","v":"混合物"},null,{"$f":"VLOOKUP(F648,工作表9!$G$1:$H$142, 2, FALSE )","v":0},0]
[null,null,null,null,null,null,{"$f":"VLOOKUP(F649,工作表9!$G$1:$I$136, 3, FALSE )","v":"混合物"},null,{"$f":"VLOOKUP(F649,工作表9!$G$1:$H$142, 2, FALSE )","v":0},0]
[null,null,null,null,null,null,{"$f":"VLOOKUP(F650,工作表9!$G$1:$I$136, 3, FALSE )","v":"混合物"},null,{"$f":"VLOOKUP(F650,工作表9!$G$1:$H$142, 2, FALSE )","v":0},0]
[null,null,null,null,null,null,{"$f":"VLOOKUP(F651,工作表9!$G$1:$I$136, 3, FALSE )","v":"混合物"},null,{"$f":"VLOOKUP(F651,工作表9!$G$1:$H$142, 2, FALSE )","v":0},0]
[null,null,null,null,null,null,{"$f":"VLOOKUP(F652,工作表9!$G$1:$I$136, 3, FALSE )","v":"混合物"},null,{"$f":"VLOOKUP(F652,工作表9!$G$1:$H$142, 2, FALSE )","v":0},0]
[null,null,null,null,null,null,{"$f":"VLOOKUP(F653,工作表9!$G$1:$I$136, 3, FALSE )","v":"混合物"},null,{"$f":"VLOOKUP(F653,工作表9!$G$1:$H$142, 2, FALSE )","v":0},0]
[null,null,null,null,null,null,{"$f":"VLOOKUP(F654,工作表9!$G$1:$I$136, 3, FALSE )","v":"混合物"},null,{"$f":"VLOOKUP(F654,工作表9!$G$1:$H$142, 2, FALSE )","v":0},0]
[null,null,null,null,null,null,{"$f":"VLOOKUP(F655,工作表9!$G$1:$I$136, 3, FALSE )","v":"混合物"},null,{"$f":"VLOOKUP(F655,工作表9!$G$1:$H$142, 2, FALSE )","v":0},0]
[null,null,null,null,null,null,{"$f":"VLOOKUP(F656,工作表9!$G$1:$I$136, 3, FALSE )","v":"混合物"},null,{"$f":"VLOOKUP(F656,工作表9!$G$1:$H$142, 2, FALSE )","v":0},0]
[null,null,null,null,null,null,{"$f":"VLOOKUP(F657,工作表9!$G$1:$I$136, 3, FALSE )","v":"混合物"},null,{"$f":"VLOOKUP(F657,工作表9!$G$1:$H$142, 2, FALSE )","v":0},0]
[null,null,null,null,null,null,{"$f":"VLOOKUP(F658,工作表9!$G$1:$I$136, 3, FALSE )","v":"混合物"},null,{"$f":"VLOOKUP(F658,工作表9!$G$1:$H$142, 2, FALSE )","v":0},0]
[null,null,null,null,null,null,{"$f":"VLOOKUP(F659,工作表9!$G$1:$I$136, 3, FALSE )","v":"混合物"},null,{"$f":"VLOOKUP(F659,工作表9!$G$1:$H$142, 2, FALSE )","v":0},0]
[null,null,null,null,null,null,{"$f":"VLOOKUP(F660,工作表9!$G$1:$I$136, 3, FALSE )","v":"混合物"},null,{"$f":"VLOOKUP(F660,工作表9!$G$1:$H$142, 2, FALSE )","v":0},0]
[null,null,null,null,null,null,{"$f":"VLOOKUP(F661,工作表9!$G$1:$I$136, 3, FALSE )","v":"混合物"},null,{"$f":"VLOOKUP(F661,工作表9!$G$1:$H$142, 2, FALSE )","v":0},0]
[null,null,null,null,null,null,{"$f":"VLOOKUP(F662,工作表9!$G$1:$I$136, 3, FALSE )","v":"混合物"},null,{"$f":"VLOOKUP(F662,工作表9!$G$1:$H$142, 2, FALSE )","v":0},0]
[null,null,null,null,null,null,{"$f":"VLOOKUP(F663,工作表9!$G$1:$I$136, 3, FALSE )","v":"混合物"},null,{"$f":"VLOOKUP(F663,工作表9!$G$1:$H$142, 2, FALSE )","v":0},0]
[null,null,null,null,null,null,{"$f":"VLOOKUP(F664,工作表9!$G$1:$I$136, 3, FALSE )","v":"混合物"},null,{"$f":"VLOOKUP(F664,工作表9!$G$1:$H$142, 2, FALSE )","v":0},0]
[null,null,null,null,null,null,{"$f":"VLOOKUP(F665,工作表9!$G$1:$I$136, 3, FALSE )","v":"混合物"},null,{"$f":"VLOOKUP(F665,工作表9!$G$1:$H$142, 2, FALSE )","v":0},0]
[null,null,null,null,null,null,{"$f":"VLOOKUP(F666,工作表9!$G$1:$I$136, 3, FALSE )","v":"混合物"},null,{"$f":"VLOOKUP(F666,工作表9!$G$1:$H$142, 2, FALSE )","v":0},0]
[null,null,null,null,null,null,{"$f":"VLOOKUP(F667,工作表9!$G$1:$I$136, 3, FALSE )","v":"混合物"},null,{"$f":"VLOOKUP(F667,工作表9!$G$1:$H$142, 2, FALSE )","v":0},0]
[null,null,null,null,null,null,{"$f":"VLOOKUP(F668,工作表9!$G$1:$I$136, 3, FALSE )","v":"混合物"},null,{"$f":"VLOOKUP(F668,工作表9!$G$1:$H$142, 2, FALSE )","v":0},0]
[null,null,null,null,null,null,{"$f":"VLOOKUP(F669,工作表9!$G$1:$I$136, 3, FALSE )","v":"混合物"},null,{"$f":"VLOOKUP(F669,工作表9!$G$1:$H$142, 2, FALSE )","v":0},0]
[null,null,null,null,null,null,{"$f":"VLOOKUP(F670,工作表9!$G$1:$I$136, 3, FALSE )","v":"混合物"},null,{"$f":"VLOOKUP(F670,工作表9!$G$1:$H$142, 2, FALSE )","v":0},0]
[null,null,null,null,null,null,{"$f":"VLOOKUP(F671,工作表9!$G$1:$I$136, 3, FALSE )","v":"混合物"},null,{"$f":"VLOOKUP(F671,工作表9!$G$1:$H$142, 2, FALSE )","v":0},0]
[null,null,null,null,null,null,{"$f":"VLOOKUP(F672,工作表9!$G$1:$I$136, 3, FALSE )","v":"混合物"},null,{"$f":"VLOOKUP(F672,工作表9!$G$1:$H$142, 2, FALSE )","v":0},0]
[null,null,null,null,null,null,{"$f":"VLOOKUP(F673,工作表9!$G$1:$I$136, 3, FALSE )","v":"混合物"},null,{"$f":"VLOOKUP(F673,工作表9!$G$1:$H$142, 2, FALSE )","v":0},0]
[null,null,null,null,null,null,{"$f":"VLOOKUP(F674,工作表9!$G$1:$I$136, 3, FALSE )","v":"混合物"},null,{"$f":"VLOOKUP(F674,工作表9!$G$1:$H$142, 2, FALSE )","v":0},0]
[null,null,null,null,null,null,{"$f":"VLOOKUP(F675,工作表9!$G$1:$I$136, 3, FALSE )","v":"混合物"},null,{"$f":"VLOOKUP(F675,工作表9!$G$1:$H$142, 2, FALSE )","v":0},0]
[null,null,null,null,null,null,{"$f":"VLOOKUP(F676,工作表9!$G$1:$I$136, 3, FALSE )","v":"混合物"},null,{"$f":"VLOOKUP(F676,工作表9!$G$1:$H$142, 2, FALSE )","v":0},0]
[null,null,null,null,null,null,{"$f":"VLOOKUP(F677,工作表9!$G$1:$I$136, 3, FALSE )","v":"混合物"},null,{"$f":"VLOOKUP(F677,工作表9!$G$1:$H$142, 2, FALSE )","v":0},0]
[null,null,null,null,null,null,{"$f":"VLOOKUP(F678,工作表9!$G$1:$I$136, 3, FALSE )","v":"混合物"},null,{"$f":"VLOOKUP(F678,工作表9!$G$1:$H$142, 2, FALSE )","v":0},0]
[null,null,null,null,null,null,{"$f":"VLOOKUP(F679,工作表9!$G$1:$I$136, 3, FALSE )","v":"混合物"},null,{"$f":"VLOOKUP(F679,工作表9!$G$1:$H$142, 2, FALSE )","v":0},0]
[null,null,null,null,null,null,{"$f":"VLOOKUP(F680,工作表9!$G$1:$I$136, 3, FALSE )","v":"混合物"},null,{"$f":"VLOOKUP(F680,工作表9!$G$1:$H$142, 2, FALSE )","v":0},0]
[null,null,null,null,null,null,{"$f":"VLOOKUP(F681,工作表9!$G$1:$I$136, 3, FALSE )","v":"混合物"},null,{"$f":"VLOOKUP(F681,工作表9!$G$1:$H$142, 2, FALSE )","v":0},0]
[null,null,null,null,null,null,{"$f":"VLOOKUP(F682,工作表9!$G$1:$I$136, 3, FALSE )","v":"混合物"},null,{"$f":"VLOOKUP(F682,工作表9!$G$1:$H$142, 2, FALSE )","v":0},0]
[null,null,null,null,null,null,{"$f":"VLOOKUP(F683,工作表9!$G$1:$I$136, 3, FALSE )","v":"混合物"},null,{"$f":"VLOOKUP(F683,工作表9!$G$1:$H$142, 2, FALSE )","v":0},0]
[null,null,null,null,null,null,{"$f":"VLOOKUP(F684,工作表9!$G$1:$I$136, 3, FALSE )","v":"混合物"},null,{"$f":"VLOOKUP(F684,工作表9!$G$1:$H$142, 2, FALSE )","v":0},0]
[null,null,null,null,null,null,{"$f":"VLOOKUP(F685,工作表9!$G$1:$I$136, 3, FALSE )","v":"混合物"},null,{"$f":"VLOOKUP(F685,工作表9!$G$1:$H$142, 2, FALSE )","v":0},0]
[null,null,null,null,null,null,{"$f":"VLOOKUP(F686,工作表9!$G$1:$I$136, 3, FALSE )","v":"混合物"},null,{"$f":"VLOOKUP(F686,工作表9!$G$1:$H$142, 2, FALSE )","v":0},0]
[null,null,null,null,null,null,{"$f":"VLOOKUP(F687,工作表9!$G$1:$I$136, 3, FALSE )","v":"混合物"},null,{"$f":"VLOOKUP(F687,工作表9!$G$1:$H$142, 2, FALSE )","v":0},0]
[null,null,null,null,null,null,{"$f":"VLOOKUP(F688,工作表9!$G$1:$I$136, 3, FALSE )","v":"混合物"},null,{"$f":"VLOOKUP(F688,工作表9!$G$1:$H$142, 2, FALSE )","v":0},0]
[null,null,null,null,null,null,{"$f":"VLOOKUP(F689,工作表9!$G$1:$I$136, 3, FALSE )","v":"混合物"},null,{"$f":"VLOOKUP(F689,工作表9!$G$1:$H$142, 2, FALSE )","v":0},0]
[null,null,null,null,null,null,{"$f":"VLOOKUP(F690,工作表9!$G$1:$I$136, 3, FALSE )","v":"混合物"},null,{"$f":"VLOOKUP(F690,工作表9!$G$1:$H$142, 2, FALSE )","v":0},0]
[null,null,null,null,null,null,{"$f":"VLOOKUP(F691,工作表9!$G$1:$I$136, 3, FALSE )","v":"混合物"},null,{"$f":"VLOOKUP(F691,工作表9!$G$1:$H$142, 2, FALSE )","v":0},0]
[null,null,null,null,null,null,{"$f":"VLOOKUP(F692,工作表9!$G$1:$I$136, 3, FALSE )","v":"混合物"},null,{"$f":"VLOOKUP(F692,工作表9!$G$1:$H$142, 2, FALSE )","v":0},0]
[null,null,null,null,null,null,{"$f":"VLOOKUP(F693,工作表9!$G$1:$I$136, 3, FALSE )","v":"混合物"},null,{"$f":"VLOOKUP(F693,工作表9!$G$1:$H$142, 2, FALSE )","v":0},0]
[null,null,null,null,null,null,{"$f":"VLOOKUP(F694,工作表9!$G$1:$I$136, 3, FALSE )","v":"混合物"},null,{"$f":"VLOOKUP(F694,工作表9!$G$1:$H$142, 2, FALSE )","v":0},0]
[null,null,null,null,null,null,{"$f":"VLOOKUP(F695,工作表9!$G$1:$I$136, 3, FALSE )","v":"混合物"},null,{"$f":"VLOOKUP(F695,工作表9!$G$1:$H$142, 2, FALSE )","v":0},0]
[null,null,null,null,null,null,{"$f":"VLOOKUP(F696,工作表9!$G$1:$I$136, 3, FALSE )","v":"混合物"},null,{"$f":"VLOOKUP(F696,工作表9!$G$1:$H$142, 2, FALSE )","v":0},0]
[null,null,null,null,null,null,{"$f":"VLOOKUP(F697,工作表9!$G$1:$I$136, 3, FALSE )","v":"混合物"},null,{"$f":"VLOOKUP(F697,工作表9!$G$1:$H$142, 2, FALSE )","v":0},0]
[null,null,null,null,null,null,{"$f":"VLOOKUP(F698,工作表9!$G$1:$I$136, 3, FALSE )","v":"混合物"},null,{"$f":"VLOOKUP(F698,工作表9!$G$1:$H$142, 2, FALSE )","v":0},0]
[null,null,null,null,null,null,{"$f":"VLOOKUP(F699,工作表9!$G$1:$I$136, 3, FALSE )","v":"混合物"},null,{"$f":"VLOOKUP(F699,工作表9!$G$1:$H$142, 2, FALSE )","v":0},0]
[null,null,null,null,null,null,{"$f":"VLOOKUP(F700,工作表9!$G$1:$I$136, 3, FALSE )","v":"混合物"},null,{"$f":"VLOOKUP(F700,工作表9!$G$1:$H$142, 2, FALSE )","v":0},0]
[null,null,null,null,null,null,{"$f":"VLOOKUP(F701,工作表9!$G$1:$I$136, 3, FALSE )","v":"混合物"},null,{"$f":"VLOOKUP(F701,工作表9!$G$1:$H$142, 2, FALSE )","v":0},0]
[null,null,null,null,null,null,{"$f":"VLOOKUP(F702,工作表9!$G$1:$I$136, 3, FALSE )","v":"混合物"},null,{"$f":"VLOOKUP(F702,工作表9!$G$1:$H$142, 2, FALSE )","v":0},0]
[null,null,null,null,null,null,{"$f":"VLOOKUP(F703,工作表9!$G$1:$I$136, 3, FALSE )","v":"混合物"},null,{"$f":"VLOOKUP(F703,工作表9!$G$1:$H$142, 2, FALSE )","v":0},0]
[null,null,null,null,null,null,{"$f":"VLOOKUP(F704,工作表9!$G$1:$I$136, 3, FALSE )","v":"混合物"},null,{"$f":"VLOOKUP(F704,工作表9!$G$1:$H$142, 2, FALSE )","v":0},0]
[null,null,null,null,null,null,{"$f":"VLOOKUP(F705,工作表9!$G$1:$I$136, 3, FALSE )","v":"混合物"},null,{"$f":"VLOOKUP(F705,工作表9!$G$1:$H$142, 2, FALSE )","v":0},0]
[null,null,null,null,null,null,{"$f":"VLOOKUP(F706,工作表9!$G$1:$I$136, 3, FALSE )","v":"混合物"},null,{"$f":"VLOOKUP(F706,工作表9!$G$1:$H$142, 2, FALSE )","v":0},0]
[null,null,null,null,null,null,{"$f":"VLOOKUP(F707,工作表9!$G$1:$I$136, 3, FALSE )","v":"混合物"},null,{"$f":"VLOOKUP(F707,工作表9!$G$1:$H$142, 2, FALSE )","v":0},0]
[null,null,null,null,null,null,{"$f":"VLOOKUP(F708,工作表9!$G$1:$I$136, 3, FALSE )","v":"混合物"},null,{"$f":"VLOOKUP(F708,工作表9!$G$1:$H$142, 2, FALSE )","v":0},0]
[null,null,null,null,null,null,{"$f":"VLOOKUP(F709,工作表9!$G$1:$I$136, 3, FALSE )","v":"混合物"},null,{"$f":"VLOOKUP(F709,工作表9!$G$1:$H$142, 2, FALSE )","v":0},0]
[null,null,null,null,null,null,{"$f":"VLOOKUP(F710,工作表9!$G$1:$I$136, 3, FALSE )","v":"混合物"},null,{"$f":"VLOOKUP(F710,工作表9!$G$1:$H$142, 2, FALSE )","v":0},{"$f":"H710*I710","v":0}]
[null,null,null,null,null,null,{"$f":"VLOOKUP(F711,工作表9!$G$1:$I$136, 3, FALSE )","v":"混合物"},null,{"$f":"VLOOKUP(F711,工作表9!$G$1:$H$142, 2, FALSE )","v":0},0]
[null,null,null,null,null,null,{"$f":"VLOOKUP(F712,工作表9!$G$1:$I$136, 3, FALSE )","v":"混合物"},null,{"$f":"VLOOKUP(F712,工作表9!$G$1:$H$142, 2, FALSE )","v":0},0]
[null,null,null,null,null,null,{"$f":"VLOOKUP(F713,工作表9!$G$1:$I$136, 3, FALSE )","v":"混合物"},null,{"$f":"VLOOKUP(F713,工作表9!$G$1:$H$142, 2, FALSE )","v":0},0]
[null,null,null,null,null,null,{"$f":"VLOOKUP(F714,工作表9!$G$1:$I$136, 3, FALSE )","v":"混合物"},null,{"$f":"VLOOKUP(F714,工作表9!$G$1:$H$142, 2, FALSE )","v":0},0]
[null,null,null,null,null,null,{"$f":"VLOOKUP(F715,工作表9!$G$1:$I$136, 3, FALSE )","v":"混合物"},null,{"$f":"VLOOKUP(F715,工作表9!$G$1:$H$142, 2, FALSE )","v":0},0]
[null,null,null,null,null,null,{"$f":"VLOOKUP(F716,工作表9!$G$1:$I$136, 3, FALSE )","v":"混合物"},null,{"$f":"VLOOKUP(F716,工作表9!$G$1:$H$142, 2, FALSE )","v":0},0]
[null,null,null,null,null,null,{"$f":"VLOOKUP(F717,工作表9!$G$1:$I$136, 3, FALSE )","v":"混合物"},null,{"$f":"VLOOKUP(F717,工作表9!$G$1:$H$142, 2, FALSE )","v":0},0]
[null,null,null,null,null,null,{"$f":"VLOOKUP(F718,工作表9!$G$1:$I$136, 3, FALSE )","v":"混合物"},null,{"$f":"VLOOKUP(F718,工作表9!$G$1:$H$142, 2, FALSE )","v":0},0]
[null,null,null,null,null,null,{"$f":"VLOOKUP(F719,工作表9!$G$1:$I$136, 3, FALSE )","v":"混合物"},null,{"$f":"VLOOKUP(F719,工作表9!$G$1:$H$142, 2, FALSE )","v":0},0]
[null,null,null,null,null,null,{"$f":"VLOOKUP(F720,工作表9!$G$1:$I$136, 3, FALSE )","v":"混合物"},null,{"$f":"VLOOKUP(F720,工作表9!$G$1:$H$142, 2, FALSE )","v":0},0]
[null,null,null,null,null,null,{"$f":"VLOOKUP(F721,工作表9!$G$1:$I$136, 3, FALSE )","v":"混合物"},null,{"$f":"VLOOKUP(F721,工作表9!$G$1:$H$142, 2, FALSE )","v":0},0]
[null,null,null,null,null,null,{"$f":"VLOOKUP(F722,工作表9!$G$1:$I$136, 3, FALSE )","v":"混合物"},null,{"$f":"VLOOKUP(F722,工作表9!$G$1:$H$142, 2, FALSE )","v":0},0]
[null,null,null,null,null,null,{"$f":"VLOOKUP(F723,工作表9!$G$1:$I$136, 3, FALSE )","v":"混合物"},null,{"$f":"VLOOKUP(F723,工作表9!$G$1:$H$142, 2, FALSE )","v":0},0]
[null,null,null,null,null,null,{"$f":"VLOOKUP(F724,工作表9!$G$1:$I$136, 3, FALSE )","v":"混合物"},null,{"$f":"VLOOKUP(F724,工作表9!$G$1:$H$142, 2, FALSE )","v":0},0]
[null,null,null,null,null,null,{"$f":"VLOOKUP(F725,工作表9!$G$1:$I$136, 3, FALSE )","v":"混合物"},null,{"$f":"VLOOKUP(F725,工作表9!$G$1:$H$142, 2, FALSE )","v":0},0]
[null,null,null,null,null,null,{"$f":"VLOOKUP(F726,工作表9!$G$1:$I$136, 3, FALSE )","v":"混合物"},null,{"$f":"VLOOKUP(F726,工作表9!$G$1:$H$142, 2, FALSE )","v":0},0]
[null,null,null,null,null,null,{"$f":"VLOOKUP(F727,工作表9!$G$1:$I$136, 3, FALSE )","v":"混合物"},null,{"$f":"VLOOKUP(F727,工作表9!$G$1:$H$142, 2, FALSE )","v":0},0]
[null,null,null,null,null,null,{"$f":"VLOOKUP(F728,工作表9!$G$1:$I$136, 3, FALSE )","v":"混合物"},null,{"$f":"VLOOKUP(F728,工作表9!$G$1:$H$142, 2, FALSE )","v":0},0]
[null,null,null,null,null,null,{"$f":"VLOOKUP(F729,工作表9!$G$1:$I$136, 3, FALSE )","v":"混合物"},null,{"$f":"VLOOKUP(F729,工作表9!$G$1:$H$142, 2, FALSE )","v":0},0]
[null,null,null,null,null,null,{"$f":"VLOOKUP(F730,工作表9!$G$1:$I$136, 3, FALSE )","v":"混合物"},null,{"$f":"VLOOKUP(F730,工作表9!$G$1:$H$142, 2, FALSE )","v":0},0]
[null,null,null,null,null,null,{"$f":"VLOOKUP(F731,工作表9!$G$1:$I$136, 3, FALSE )","v":"混合物"},null,{"$f":"VLOOKUP(F731,工作表9!$G$1:$H$142, 2, FALSE )","v":0},0]
[null,null,null,null,null,null,{"$f":"VLOOKUP(F732,工作表9!$G$1:$I$136, 3, FALSE )","v":"混合物"},null,{"$f":"VLOOKUP(F732,工作表9!$G$1:$H$142, 2, FALSE )","v":0},0]
[null,null,null,null,null,null,{"$f":"VLOOKUP(F733,工作表9!$G$1:$I$136, 3, FALSE )","v":"混合物"},null,{"$f":"VLOOKUP(F733,工作表9!$G$1:$H$142, 2, FALSE )","v":0},0]
[null,null,null,null,null,null,{"$f":"VLOOKUP(F734,工作表9!$G$1:$I$136, 3, FALSE )","v":"混合物"},null,{"$f":"VLOOKUP(F734,工作表9!$G$1:$H$142, 2, FALSE )","v":0},0]
[null,null,null,null,null,null,{"$f":"VLOOKUP(F735,工作表9!$G$1:$I$136, 3, FALSE )","v":"混合物"},null,{"$f":"VLOOKUP(F735,工作表9!$G$1:$H$142, 2, FALSE )","v":0},0]
[null,null,null,null,null,null,{"$f":"VLOOKUP(F736,工作表9!$G$1:$I$136, 3, FALSE )","v":"混合物"},null,{"$f":"VLOOKUP(F736,工作表9!$G$1:$H$142, 2, FALSE )","v":0},0]
[null,null,null,null,null,null,{"$f":"VLOOKUP(F737,工作表9!$G$1:$I$136, 3, FALSE )","v":"混合物"},null,{"$f":"VLOOKUP(F737,工作表9!$G$1:$H$142, 2, FALSE )","v":0},0]
[null,null,null,null,null,null,{"$f":"VLOOKUP(F738,工作表9!$G$1:$I$136, 3, FALSE )","v":"混合物"},null,{"$f":"VLOOKUP(F738,工作表9!$G$1:$H$142, 2, FALSE )","v":0},0]
[null,null,null,null,null,null,{"$f":"VLOOKUP(F739,工作表9!$G$1:$I$136, 3, FALSE )","v":"混合物"},null,{"$f":"VLOOKUP(F739,工作表9!$G$1:$H$142, 2, FALSE )","v":0},0]
[null,null,null,null,null,null,{"$f":"VLOOKUP(F740,工作表9!$G$1:$I$136, 3, FALSE )","v":"混合物"},null,{"$f":"VLOOKUP(F740,工作表9!$G$1:$H$142, 2, FALSE )","v":0},0]
[null,null,null,null,null,null,{"$f":"VLOOKUP(F741,工作表9!$G$1:$I$136, 3, FALSE )","v":"混合物"},null,{"$f":"VLOOKUP(F741,工作表9!$G$1:$H$142, 2, FALSE )","v":0},0]
[null,null,null,null,null,null,{"$f":"VLOOKUP(F742,工作表9!$G$1:$I$136, 3, FALSE )","v":"混合物"},null,{"$f":"VLOOKUP(F742,工作表9!$G$1:$H$142, 2, FALSE )","v":0},0]
[null,null,null,null,null,null,{"$f":"VLOOKUP(F743,工作表9!$G$1:$I$136, 3, FALSE )","v":"混合物"},null,{"$f":"VLOOKUP(F743,工作表9!$G$1:$H$142, 2, FALSE )","v":0},0]
[null,null,null,null,null,null,{"$f":"VLOOKUP(F744,工作表9!$G$1:$I$136, 3, FALSE )","v":"混合物"},null,{"$f":"VLOOKUP(F744,工作表9!$G$1:$H$142, 2, FALSE )","v":0},0]
[null,null,null,null,null,null,{"$f":"VLOOKUP(F745,工作表9!$G$1:$I$136, 3, FALSE )","v":"混合物"},null,{"$f":"VLOOKUP(F745,工作表9!$G$1:$H$142, 2, FALSE )","v":0},0]
[null,null,null,null,null,null,{"$f":"VLOOKUP(F746,工作表9!$G$1:$I$136, 3, FALSE )","v":"混合物"},null,{"$f":"VLOOKUP(F746,工作表9!$G$1:$H$142, 2, FALSE )","v":0},0]
[null,null,null,null,null,null,{"$f":"VLOOKUP(F747,工作表9!$G$1:$I$136, 3, FALSE )","v":"混合物"},null,{"$f":"VLOOKUP(F747,工作表9!$G$1:$H$142, 2, FALSE )","v":0},0]
[null,null,null,null,null,null,{"$f":"VLOOKUP(F748,工作表9!$G$1:$I$136, 3, FALSE )","v":"混合物"},null,{"$f":"VLOOKUP(F748,工作表9!$G$1:$H$142, 2, FALSE )","v":0},0]
[null,null,null,null,null,null,{"$f":"VLOOKUP(F749,工作表9!$G$1:$I$136, 3, FALSE )","v":"混合物"},null,{"$f":"VLOOKUP(F749,工作表9!$G$1:$H$142, 2, FALSE )","v":0},0]
[null,null,null,null,null,null,{"$f":"VLOOKUP(F750,工作表9!$G$1:$I$136, 3, FALSE )","v":"混合物"},null,{"$f":"VLOOKUP(F750,工作表9!$G$1:$H$142, 2, FALSE )","v":0},0]
[null,null,null,null,null,null,{"$f":"VLOOKUP(F751,工作表9!$G$1:$I$136, 3, FALSE )","v":"混合物"},null,{"$f":"VLOOKUP(F751,工作表9!$G$1:$H$142, 2, FALSE )","v":0},0]
[null,null,null,null,null,null,{"$f":"VLOOKUP(F752,工作表9!$G$1:$I$136, 3, FALSE )","v":"混合物"},null,{"$f":"VLOOKUP(F752,工作表9!$G$1:$H$142, 2, FALSE )","v":0},0]
[null,null,null,null,null,null,{"$f":"VLOOKUP(F753,工作表9!$G$1:$I$136, 3, FALSE )","v":"混合物"},null,{"$f":"VLOOKUP(F753,工作表9!$G$1:$H$142, 2, FALSE )","v":0},0]
[null,null,null,null,null,null,{"$f":"VLOOKUP(F754,工作表9!$G$1:$I$136, 3, FALSE )","v":"混合物"},null,{"$f":"VLOOKUP(F754,工作表9!$G$1:$H$142, 2, FALSE )","v":0},0]
[null,null,null,null,null,null,{"$f":"VLOOKUP(F755,工作表9!$G$1:$I$136, 3, FALSE )","v":"混合物"},null,{"$f":"VLOOKUP(F755,工作表9!$G$1:$H$142, 2, FALSE )","v":0},0]
[null,null,null,null,null,null,{"$f":"VLOOKUP(F756,工作表9!$G$1:$I$136, 3, FALSE )","v":"混合物"},null,{"$f":"VLOOKUP(F756,工作表9!$G$1:$H$142, 2, FALSE )","v":0},0]
[null,null,null,null,null,null,{"$f":"VLOOKUP(F757,工作表9!$G$1:$I$136, 3, FALSE )","v":"混合物"},null,{"$f":"VLOOKUP(F757,工作表9!$G$1:$H$142, 2, FALSE )","v":0},0]
[null,null,null,null,null,null,{"$f":"VLOOKUP(F758,工作表9!$G$1:$I$136, 3, FALSE )","v":"混合物"},null,{"$f":"VLOOKUP(F758,工作表9!$G$1:$H$142, 2, FALSE )","v":0},0]
[null,null,null,null,null,null,{"$f":"VLOOKUP(F759,工作表9!$G$1:$I$136, 3, FALSE )","v":"混合物"},null,{"$f":"VLOOKUP(F759,工作表9!$G$1:$H$142, 2, FALSE )","v":0},0]
[null,null,null,null,null,null,{"$f":"VLOOKUP(F760,工作表9!$G$1:$I$136, 3, FALSE )","v":"混合物"},null,{"$f":"VLOOKUP(F760,工作表9!$G$1:$H$142, 2, FALSE )","v":0},0]
[null,null,null,null,null,null,{"$f":"VLOOKUP(F761,工作表9!$G$1:$I$136, 3, FALSE )","v":"混合物"},null,{"$f":"VLOOKUP(F761,工作表9!$G$1:$H$142, 2, FALSE )","v":0},0]
[null,null,null,null,null,null,{"$f":"VLOOKUP(F762,工作表9!$G$1:$I$136, 3, FALSE )","v":"混合物"},null,{"$f":"VLOOKUP(F762,工作表9!$G$1:$H$142, 2, FALSE )","v":0},0]
[null,null,null,null,null,null,{"$f":"VLOOKUP(F763,工作表9!$G$1:$I$136, 3, FALSE )","v":"混合物"},null,{"$f":"VLOOKUP(F763,工作表9!$G$1:$H$142, 2, FALSE )","v":0},0]
[null,null,null,null,null,null,{"$f":"VLOOKUP(F764,工作表9!$G$1:$I$136, 3, FALSE )","v":"混合物"},null,{"$f":"VLOOKUP(F764,工作表9!$G$1:$H$142, 2, FALSE )","v":0},0]
[null,null,null,null,null,null,{"$f":"VLOOKUP(F765,工作表9!$G$1:$I$136, 3, FALSE )","v":"混合物"},null,{"$f":"VLOOKUP(F765,工作表9!$G$1:$H$142, 2, FALSE )","v":0},0]
[null,null,null,null,null,null,{"$f":"VLOOKUP(F766,工作表9!$G$1:$I$136, 3, FALSE )","v":"混合物"},null,{"$f":"VLOOKUP(F766,工作表9!$G$1:$H$142, 2, FALSE )","v":0},0]
[null,null,null,null,null,null,{"$f":"VLOOKUP(F767,工作表9!$G$1:$I$136, 3, FALSE )","v":"混合物"},null,{"$f":"VLOOKUP(F767,工作表9!$G$1:$H$142, 2, FALSE )","v":0},0]
[null,null,null,null,null,null,{"$f":"VLOOKUP(F768,工作表9!$G$1:$I$136, 3, FALSE )","v":"混合物"},null,{"$f":"VLOOKUP(F768,工作表9!$G$1:$H$142, 2, FALSE )","v":0},0]
[null,null,null,null,null,null,{"$f":"VLOOKUP(F769,工作表9!$G$1:$I$136, 3, FALSE )","v":"混合物"},null,{"$f":"VLOOKUP(F769,工作表9!$G$1:$H$142, 2, FALSE )","v":0},0]
[null,null,null,null,null,null,{"$f":"VLOOKUP(F770,工作表9!$G$1:$I$136, 3, FALSE )","v":"混合物"},null,{"$f":"VLOOKUP(F770,工作表9!$G$1:$H$142, 2, FALSE )","v":0},0]
[null,null,null,null,null,null,{"$f":"VLOOKUP(F771,工作表9!$G$1:$I$136, 3, FALSE )","v":"混合物"},null,{"$f":"VLOOKUP(F771,工作表9!$G$1:$H$142, 2, FALSE )","v":0},0]
[null,null,null,null,null,null,{"$f":"VLOOKUP(F772,工作表9!$G$1:$I$136, 3, FALSE )","v":"混合物"},null,{"$f":"VLOOKUP(F772,工作表9!$G$1:$H$142, 2, FALSE )","v":0},0]
[null,null,null,null,null,null,{"$f":"VLOOKUP(F773,工作表9!$G$1:$I$136, 3, FALSE )","v":"混合物"},null,{"$f":"VLOOKUP(F773,工作表9!$G$1:$H$142, 2, FALSE )","v":0},0]
[null,null,null,null,null,null,{"$f":"VLOOKUP(F774,工作表9!$G$1:$I$136, 3, FALSE )","v":"混合物"},null,{"$f":"VLOOKUP(F774,工作表9!$G$1:$H$142, 2, FALSE )","v":0},{"$f":"H774*I774","v":0}]
[null,null,null,null,null,null,{"$f":"VLOOKUP(F775,工作表9!$G$1:$I$136, 3, FALSE )","v":"混合物"},null,{"$f":"VLOOKUP(F775,工作表9!$G$1:$H$142, 2, FALSE )","v":0},0]
[null,null,null,null,null,null,{"$f":"VLOOKUP(F776,工作表9!$G$1:$I$136, 3, FALSE )","v":"混合物"},null,{"$f":"VLOOKUP(F776,工作表9!$G$1:$H$142, 2, FALSE )","v":0},0]
[null,null,null,null,null,null,{"$f":"VLOOKUP(F777,工作表9!$G$1:$I$136, 3, FALSE )","v":"混合物"},null,{"$f":"VLOOKUP(F777,工作表9!$G$1:$H$142, 2, FALSE )","v":0},0]
[null,null,null,null,null,null,{"$f":"VLOOKUP(F778,工作表9!$G$1:$I$136, 3, FALSE )","v":"混合物"},null,{"$f":"VLOOKUP(F778,工作表9!$G$1:$H$142, 2, FALSE )","v":0},0]
[null,null,null,null,null,null,{"$f":"VLOOKUP(F779,工作表9!$G$1:$I$136, 3, FALSE )","v":"混合物"},null,{"$f":"VLOOKUP(F779,工作表9!$G$1:$H$142, 2, FALSE )","v":0},0]
[null,null,null,null,null,null,{"$f":"VLOOKUP(F780,工作表9!$G$1:$I$136, 3, FALSE )","v":"混合物"},null,{"$f":"VLOOKUP(F780,工作表9!$G$1:$H$142, 2, FALSE )","v":0},0]
[null,null,null,null,null,null,{"$f":"VLOOKUP(F781,工作表9!$G$1:$I$136, 3, FALSE )","v":"混合物"},null,{"$f":"VLOOKUP(F781,工作表9!$G$1:$H$142, 2, FALSE )","v":0},0]
[null,null,null,null,null,null,{"$f":"VLOOKUP(F782,工作表9!$G$1:$I$136, 3, FALSE )","v":"混合物"},null,{"$f":"VLOOKUP(F782,工作表9!$G$1:$H$142, 2, FALSE )","v":0},0]
[null,null,null,null,null,null,{"$f":"VLOOKUP(F783,工作表9!$G$1:$I$136, 3, FALSE )","v":"混合物"},null,{"$f":"VLOOKUP(F783,工作表9!$G$1:$H$142, 2, FALSE )","v":0},0]
[null,null,null,null,null,null,{"$f":"VLOOKUP(F784,工作表9!$G$1:$I$136, 3, FALSE )","v":"混合物"},null,{"$f":"VLOOKUP(F784,工作表9!$G$1:$H$142, 2, FALSE )","v":0},0]
[null,null,null,null,null,null,{"$f":"VLOOKUP(F785,工作表9!$G$1:$I$136, 3, FALSE )","v":"混合物"},null,{"$f":"VLOOKUP(F785,工作表9!$G$1:$H$142, 2, FALSE )","v":0},0]
[null,null,null,null,null,null,{"$f":"VLOOKUP(F786,工作表9!$G$1:$I$136, 3, FALSE )","v":"混合物"},null,{"$f":"VLOOKUP(F786,工作表9!$G$1:$H$142, 2, FALSE )","v":0},0]
[null,null,null,null,null,null,{"$f":"VLOOKUP(F787,工作表9!$G$1:$I$136, 3, FALSE )","v":"混合物"},null,{"$f":"VLOOKUP(F787,工作表9!$G$1:$H$142, 2, FALSE )","v":0},0]
[null,null,null,null,null,null,{"$f":"VLOOKUP(F788,工作表9!$G$1:$I$136, 3, FALSE )","v":"混合物"},null,{"$f":"VLOOKUP(F788,工作表9!$G$1:$H$142, 2, FALSE )","v":0},0]
[null,null,null,null,null,null,{"$f":"VLOOKUP(F789,工作表9!$G$1:$I$136, 3, FALSE )","v":"混合物"},null,{"$f":"VLOOKUP(F789,工作表9!$G$1:$H$142, 2, FALSE )","v":0},0]
[null,null,null,null,null,null,{"$f":"VLOOKUP(F790,工作表9!$G$1:$I$136, 3, FALSE )","v":"混合物"},null,{"$f":"VLOOKUP(F790,工作表9!$G$1:$H$142, 2, FALSE )","v":0},0]
[null,null,null,null,null,null,{"$f":"VLOOKUP(F791,工作表9!$G$1:$I$136, 3, FALSE )","v":"混合物"},null,{"$f":"VLOOKUP(F791,工作表9!$G$1:$H$142, 2, FALSE )","v":0},0]
[null,null,null,null,null,null,{"$f":"VLOOKUP(F792,工作表9!$G$1:$I$136, 3, FALSE )","v":"混合物"},null,{"$f":"VLOOKUP(F792,工作表9!$G$1:$H$142, 2, FALSE )","v":0},0]
[null,null,null,null,null,null,{"$f":"VLOOKUP(F793,工作表9!$G$1:$I$136, 3, FALSE )","v":"混合物"},null,{"$f":"VLOOKUP(F793,工作表9!$G$1:$H$142, 2, FALSE )","v":0},0]
[null,null,null,null,null,null,{"$f":"VLOOKUP(F794,工作表9!$G$1:$I$136, 3, FALSE )","v":"混合物"},null,{"$f":"VLOOKUP(F794,工作表9!$G$1:$H$142, 2, FALSE )","v":0},0]
[null,null,null,null,null,null,{"$f":"VLOOKUP(F795,工作表9!$G$1:$I$136, 3, FALSE )","v":"混合物"},null,{"$f":"VLOOKUP(F795,工作表9!$G$1:$H$142, 2, FALSE )","v":0},0]
[null,null,null,null,null,null,{"$f":"VLOOKUP(F796,工作表9!$G$1:$I$136, 3, FALSE )","v":"混合物"},null,{"$f":"VLOOKUP(F796,工作表9!$G$1:$H$142, 2, FALSE )","v":0},0]
[null,null,null,null,null,null,{"$f":"VLOOKUP(F797,工作表9!$G$1:$I$136, 3, FALSE )","v":"混合物"},null,{"$f":"VLOOKUP(F797,工作表9!$G$1:$H$142, 2, FALSE )","v":0},0]
[null,null,null,null,null,null,{"$f":"VLOOKUP(F798,工作表9!$G$1:$I$136, 3, FALSE )","v":"混合物"},null,{"$f":"VLOOKUP(F798,工作表9!$G$1:$H$142, 2, FALSE )","v":0},0]
[null,null,null,null,null,null,{"$f":"VLOOKUP(F799,工作表9!$G$1:$I$136, 3, FALSE )","v":"混合物"},null,{"$f":"VLOOKUP(F799,工作表9!$G$1:$H$142, 2, FALSE )","v":0},0]
[null,null,null,null,null,null,{"$f":"VLOOKUP(F800,工作表9!$G$1:$I$136, 3, FALSE )","v":"混合物"},null,{"$f":"VLOOKUP(F800,工作表9!$G$1:$H$142, 2, FALSE )","v":0},0]
[null,null,null,null,null,null,{"$f":"VLOOKUP(F801,工作表9!$G$1:$I$136, 3, FALSE )","v":"混合物"},null,{"$f":"VLOOKUP(F801,工作表9!$G$1:$H$142, 2, FALSE )","v":0},0]
[null,null,null,null,null,null,{"$f":"VLOOKUP(F802,工作表9!$G$1:$I$136, 3, FALSE )","v":"混合物"},null,{"$f":"VLOOKUP(F802,工作表9!$G$1:$H$142, 2, FALSE )","v":0},0]
[null,null,null,null,null,null,{"$f":"VLOOKUP(F803,工作表9!$G$1:$I$136, 3, FALSE )","v":"混合物"},null,{"$f":"VLOOKUP(F803,工作表9!$G$1:$H$142, 2, FALSE )","v":0},0]
[null,null,null,null,null,null,{"$f":"VLOOKUP(F804,工作表9!$G$1:$I$136, 3, FALSE )","v":"混合物"},null,{"$f":"VLOOKUP(F804,工作表9!$G$1:$H$142, 2, FALSE )","v":0},0]
[null,null,null,null,null,null,{"$f":"VLOOKUP(F805,工作表9!$G$1:$I$136, 3, FALSE )","v":"混合物"},null,{"$f":"VLOOKUP(F805,工作表9!$G$1:$H$142, 2, FALSE )","v":0},0]
[null,null,null,null,null,null,{"$f":"VLOOKUP(F806,工作表9!$G$1:$I$136, 3, FALSE )","v":"混合物"},null,{"$f":"VLOOKUP(F806,工作表9!$G$1:$H$142, 2, FALSE )","v":0},0]
[null,null,null,null,null,null,{"$f":"VLOOKUP(F807,工作表9!$G$1:$I$136, 3, FALSE )","v":"混合物"},null,{"$f":"VLOOKUP(F807,工作表9!$G$1:$H$142, 2, FALSE )","v":0},0]
[null,null,null,null,null,null,{"$f":"VLOOKUP(F808,工作表9!$G$1:$I$136, 3, FALSE )","v":"混合物"},null,{"$f":"VLOOKUP(F808,工作表9!$G$1:$H$142, 2, FALSE )","v":0},0]
[null,null,null,null,null,null,{"$f":"VLOOKUP(F809,工作表9!$G$1:$I$136, 3, FALSE )","v":"混合物"},null,{"$f":"VLOOKUP(F809,工作表9!$G$1:$H$142, 2, FALSE )","v":0},0]
[null,null,null,null,null,null,{"$f":"VLOOKUP(F810,工作表9!$G$1:$I$136, 3, FALSE )","v":"混合物"},null,{"$f":"VLOOKUP(F810,工作表9!$G$1:$H$142, 2, FALSE )","v":0},0]
[null,null,null,null,null,null,{"$f":"VLOOKUP(F811,工作表9!$G$1:$I$136, 3, FALSE )","v":"混合物"},null,{"$f":"VLOOKUP(F811,工作表9!$G$1:$H$142, 2, FALSE )","v":0},0]
[null,null,null,null,null,null,{"$f":"VLOOKUP(F812,工作表9!$G$1:$I$136, 3, FALSE )","v":"混合物"},null,{"$f":"VLOOKUP(F812,工作表9!$G$1:$H$142, 2, FALSE )","v":0},0]
[null,null,null,null,null,null,{"$f":"VLOOKUP(F813,工作表9!$G$1:$I$136, 3, FALSE )","v":"混合物"},null,{"$f":"VLOOKUP(F813,工作表9!$G$1:$H$142, 2, FALSE )","v":0},0]
[null,null,null,null,null,null,{"$f":"VLOOKUP(F814,工作表9!$G$1:$I$136, 3, FALSE )","v":"混合物"},null,{"$f":"VLOOKUP(F814,工作表9!$G$1:$H$142, 2, FALSE )","v":0},0]
[null,null,null,null,null,null,{"$f":"VLOOKUP(F815,工作表9!$G$1:$I$136, 3, FALSE )","v":"混合物"},null,{"$f":"VLOOKUP(F815,工作表9!$G$1:$H$142, 2, FALSE )","v":0},0]
[null,null,null,null,null,null,{"$f":"VLOOKUP(F816,工作表9!$G$1:$I$136, 3, FALSE )","v":"混合物"},null,{"$f":"VLOOKUP(F816,工作表9!$G$1:$H$142, 2, FALSE )","v":0},0]
[null,null,null,null,null,null,{"$f":"VLOOKUP(F817,工作表9!$G$1:$I$136, 3, FALSE )","v":"混合物"},null,{"$f":"VLOOKUP(F817,工作表9!$G$1:$H$142, 2, FALSE )","v":0},0]
[null,null,null,null,null,null,{"$f":"VLOOKUP(F818,工作表9!$G$1:$I$136, 3, FALSE )","v":"混合物"},null,{"$f":"VLOOKUP(F818,工作表9!$G$1:$H$142, 2, FALSE )","v":0},0]
[null,null,null,null,null,null,{"$f":"VLOOKUP(F819,工作表9!$G$1:$I$136, 3, FALSE )","v":"混合物"},null,{"$f":"VLOOKUP(F819,工作表9!$G$1:$H$142, 2, FALSE )","v":0},0]
[null,null,null,null,null,null,{"$f":"VLOOKUP(F820,工作表9!$G$1:$I$136, 3, FALSE )","v":"混合物"},null,{"$f":"VLOOKUP(F820,工作表9!$G$1:$H$142, 2, FALSE )","v":0},0]
[null,null,null,null,null,null,{"$f":"VLOOKUP(F821,工作表9!$G$1:$I$136, 3, FALSE )","v":"混合物"},null,{"$f":"VLOOKUP(F821,工作表9!$G$1:$H$142, 2, FALSE )","v":0},0]
[null,null,null,null,null,null,{"$f":"VLOOKUP(F822,工作表9!$G$1:$I$136, 3, FALSE )","v":"混合物"},null,{"$f":"VLOOKUP(F822,工作表9!$G$1:$H$142, 2, FALSE )","v":0},0]
[null,null,null,null,null,null,{"$f":"VLOOKUP(F823,工作表9!$G$1:$I$136, 3, FALSE )","v":"混合物"},null,{"$f":"VLOOKUP(F823,工作表9!$G$1:$H$142, 2, FALSE )","v":0},0]
[null,null,null,null,null,null,{"$f":"VLOOKUP(F824,工作表9!$G$1:$I$136, 3, FALSE )","v":"混合物"},null,{"$f":"VLOOKUP(F824,工作表9!$G$1:$H$142, 2, FALSE )","v":0},0]
[null,null,null,null,null,null,{"$f":"VLOOKUP(F825,工作表9!$G$1:$I$136, 3, FALSE )","v":"混合物"},null,{"$f":"VLOOKUP(F825,工作表9!$G$1:$H$142, 2, FALSE )","v":0},0]
[null,null,null,null,null,null,{"$f":"VLOOKUP(F826,工作表9!$G$1:$I$136, 3, FALSE )","v":"混合物"},null,{"$f":"VLOOKUP(F826,工作表9!$G$1:$H$142, 2, FALSE )","v":0},0]
[null,null,null,null,null,null,{"$f":"VLOOKUP(F827,工作表9!$G$1:$I$136, 3, FALSE )","v":"混合物"},null,{"$f":"VLOOKUP(F827,工作表9!$G$1:$H$142, 2, FALSE )","v":0},0]
[null,null,null,null,null,null,{"$f":"VLOOKUP(F828,工作表9!$G$1:$I$136, 3, FALSE )","v":"混合物"},null,{"$f":"VLOOKUP(F828,工作表9!$G$1:$H$142, 2, FALSE )","v":0},0]
[null,null,null,null,null,null,{"$f":"VLOOKUP(F829,工作表9!$G$1:$I$136, 3, FALSE )","v":"混合物"},null,{"$f":"VLOOKUP(F829,工作表9!$G$1:$H$142, 2, FALSE )","v":0},0]
[null,null,null,null,null,null,{"$f":"VLOOKUP(F830,工作表9!$G$1:$I$136, 3, FALSE )","v":"混合物"},null,{"$f":"VLOOKUP(F830,工作表9!$G$1:$H$142, 2, FALSE )","v":0},0]
[null,null,null,null,null,null,{"$f":"VLOOKUP(F831,工作表9!$G$1:$I$136, 3, FALSE )","v":"混合物"},null,{"$f":"VLOOKUP(F831,工作表9!$G$1:$H$142, 2, FALSE )","v":0},0]
[null,null,null,null,null,null,{"$f":"VLOOKUP(F832,工作表9!$G$1:$I$136, 3, FALSE )","v":"混合物"},null,{"$f":"VLOOKUP(F832,工作表9!$G$1:$H$142, 2, FALSE )","v":0},0]
[null,null,null,null,null,null,{"$f":"VLOOKUP(F833,工作表9!$G$1:$I$136, 3, FALSE )","v":"混合物"},null,{"$f":"VLOOKUP(F833,工作表9!$G$1:$H$142, 2, FALSE )","v":0},0]
[null,null,null,null,null,null,{"$f":"VLOOKUP(F834,工作表9!$G$1:$I$136, 3, FALSE )","v":"混合物"},null,{"$f":"VLOOKUP(F834,工作表9!$G$1:$H$142, 2, FALSE )","v":0},0]
[null,null,null,null,null,null,{"$f":"VLOOKUP(F835,工作表9!$G$1:$I$136, 3, FALSE )","v":"混合物"},null,{"$f":"VLOOKUP(F835,工作表9!$G$1:$H$142, 2, FALSE )","v":0},0]
[null,null,null,null,null,null,{"$f":"VLOOKUP(F836,工作表9!$G$1:$I$136, 3, FALSE )","v":"混合物"},null,{"$f":"VLOOKUP(F836,工作表9!$G$1:$H$142, 2, FALSE )","v":0},0]
[null,null,null,null,null,null,{"$f":"VLOOKUP(F837,工作表9!$G$1:$I$136, 3, FALSE )","v":"混合物"},null,{"$f":"VLOOKUP(F837,工作表9!$G$1:$H$142, 2, FALSE )","v":0},0]
[null,null,null,null,null,null,{"$f":"VLOOKUP(F838,工作表9!$G$1:$I$136, 3, FALSE )","v":"混合物"},null,{"$f":"VLOOKUP(F838,工作表9!$G$1:$H$142, 2, FALSE )","v":0},{"$f":"H838*I838","v":0}]
[null,null,null,null,null,null,{"$f":"VLOOKUP(F839,工作表9!$G$1:$I$136, 3, FALSE )","v":"混合物"},null,{"$f":"VLOOKUP(F839,工作表9!$G$1:$H$142, 2, FALSE )","v":0},0]
[null,null,null,null,null,null,{"$f":"VLOOKUP(F840,工作表9!$G$1:$I$136, 3, FALSE )","v":"混合物"},null,{"$f":"VLOOKUP(F840,工作表9!$G$1:$H$142, 2, FALSE )","v":0},0]
[null,null,null,null,null,null,{"$f":"VLOOKUP(F841,工作表9!$G$1:$I$136, 3, FALSE )","v":"混合物"},null,{"$f":"VLOOKUP(F841,工作表9!$G$1:$H$142, 2, FALSE )","v":0},0]
[null,null,null,null,null,null,{"$f":"VLOOKUP(F842,工作表9!$G$1:$I$136, 3, FALSE )","v":"混合物"},null,{"$f":"VLOOKUP(F842,工作表9!$G$1:$H$142, 2, FALSE )","v":0},0]
[null,null,null,null,null,null,{"$f":"VLOOKUP(F843,工作表9!$G$1:$I$136, 3, FALSE )","v":"混合物"},null,{"$f":"VLOOKUP(F843,工作表9!$G$1:$H$142, 2, FALSE )","v":0},0]
[null,null,null,null,null,null,{"$f":"VLOOKUP(F844,工作表9!$G$1:$I$136, 3, FALSE )","v":"混合物"},null,{"$f":"VLOOKUP(F844,工作表9!$G$1:$H$142, 2, FALSE )","v":0},0]
[null,null,null,null,null,null,{"$f":"VLOOKUP(F845,工作表9!$G$1:$I$136, 3, FALSE )","v":"混合物"},null,{"$f":"VLOOKUP(F845,工作表9!$G$1:$H$142, 2, FALSE )","v":0},0]
[null,null,null,null,null,null,{"$f":"VLOOKUP(F846,工作表9!$G$1:$I$136, 3, FALSE )","v":"混合物"},null,{"$f":"VLOOKUP(F846,工作表9!$G$1:$H$142, 2, FALSE )","v":0},0]
[null,null,null,null,null,null,{"$f":"VLOOKUP(F847,工作表9!$G$1:$I$136, 3, FALSE )","v":"混合物"},null,{"$f":"VLOOKUP(F847,工作表9!$G$1:$H$142, 2, FALSE )","v":0},0]
[null,null,null,null,null,null,{"$f":"VLOOKUP(F848,工作表9!$G$1:$I$136, 3, FALSE )","v":"混合物"},null,{"$f":"VLOOKUP(F848,工作表9!$G$1:$H$142, 2, FALSE )","v":0},0]
[null,null,null,null,null,null,{"$f":"VLOOKUP(F849,工作表9!$G$1:$I$136, 3, FALSE )","v":"混合物"},null,{"$f":"VLOOKUP(F849,工作表9!$G$1:$H$142, 2, FALSE )","v":0},0]
[null,null,null,null,null,null,{"$f":"VLOOKUP(F850,工作表9!$G$1:$I$136, 3, FALSE )","v":"混合物"},null,{"$f":"VLOOKUP(F850,工作表9!$G$1:$H$142, 2, FALSE )","v":0},0]
[null,null,null,null,null,null,{"$f":"VLOOKUP(F851,工作表9!$G$1:$I$136, 3, FALSE )","v":"混合物"},null,{"$f":"VLOOKUP(F851,工作表9!$G$1:$H$142, 2, FALSE )","v":0},0]
[null,null,null,null,null,null,{"$f":"VLOOKUP(F852,工作表9!$G$1:$I$136, 3, FALSE )","v":"混合物"},null,{"$f":"VLOOKUP(F852,工作表9!$G$1:$H$142, 2, FALSE )","v":0},0]
[null,null,null,null,null,null,{"$f":"VLOOKUP(F853,工作表9!$G$1:$I$136, 3, FALSE )","v":"混合物"},null,{"$f":"VLOOKUP(F853,工作表9!$G$1:$H$142, 2, FALSE )","v":0},0]
[null,null,null,null,null,null,{"$f":"VLOOKUP(F854,工作表9!$G$1:$I$136, 3, FALSE )","v":"混合物"},null,{"$f":"VLOOKUP(F854,工作表9!$G$1:$H$142, 2, FALSE )","v":0},0]
[null,null,null,null,null,null,{"$f":"VLOOKUP(F855,工作表9!$G$1:$I$136, 3, FALSE )","v":"混合物"},null,{"$f":"VLOOKUP(F855,工作表9!$G$1:$H$142, 2, FALSE )","v":0},0]
[null,null,null,null,null,null,{"$f":"VLOOKUP(F856,工作表9!$G$1:$I$136, 3, FALSE )","v":"混合物"},null,{"$f":"VLOOKUP(F856,工作表9!$G$1:$H$142, 2, FALSE )","v":0},0]
[null,null,null,null,null,null,{"$f":"VLOOKUP(F857,工作表9!$G$1:$I$136, 3, FALSE )","v":"混合物"},null,{"$f":"VLOOKUP(F857,工作表9!$G$1:$H$142, 2, FALSE )","v":0},0]
[null,null,null,null,null,null,{"$f":"VLOOKUP(F858,工作表9!$G$1:$I$136, 3, FALSE )","v":"混合物"},null,{"$f":"VLOOKUP(F858,工作表9!$G$1:$H$142, 2, FALSE )","v":0},0]
[null,null,null,null,null,null,{"$f":"VLOOKUP(F859,工作表9!$G$1:$I$136, 3, FALSE )","v":"混合物"},null,{"$f":"VLOOKUP(F859,工作表9!$G$1:$H$142, 2, FALSE )","v":0},0]
[null,null,null,null,null,null,{"$f":"VLOOKUP(F860,工作表9!$G$1:$I$136, 3, FALSE )","v":"混合物"},null,{"$f":"VLOOKUP(F860,工作表9!$G$1:$H$142, 2, FALSE )","v":0},0]
[null,null,null,null,null,null,{"$f":"VLOOKUP(F861,工作表9!$G$1:$I$136, 3, FALSE )","v":"混合物"},null,{"$f":"VLOOKUP(F861,工作表9!$G$1:$H$142, 2, FALSE )","v":0},0]
[null,null,null,null,null,null,{"$f":"VLOOKUP(F862,工作表9!$G$1:$I$136, 3, FALSE )","v":"混合物"},null,{"$f":"VLOOKUP(F862,工作表9!$G$1:$H$142, 2, FALSE )","v":0},0]
[null,null,null,null,null,null,{"$f":"VLOOKUP(F863,工作表9!$G$1:$I$136, 3, FALSE )","v":"混合物"},null,{"$f":"VLOOKUP(F863,工作表9!$G$1:$H$142, 2, FALSE )","v":0},0]
[null,null,null,null,null,null,{"$f":"VLOOKUP(F864,工作表9!$G$1:$I$136, 3, FALSE )","v":"混合物"},null,{"$f":"VLOOKUP(F864,工作表9!$G$1:$H$142, 2, FALSE )","v":0},0]
[null,null,null,null,null,null,{"$f":"VLOOKUP(F865,工作表9!$G$1:$I$136, 3, FALSE )","v":"混合物"},null,{"$f":"VLOOKUP(F865,工作表9!$G$1:$H$142, 2, FALSE )","v":0},0]
[null,null,null,null,null,null,{"$f":"VLOOKUP(F866,工作表9!$G$1:$I$136, 3, FALSE )","v":"混合物"},null,{"$f":"VLOOKUP(F866,工作表9!$G$1:$H$142, 2, FALSE )","v":0},0]
[null,null,null,null,null,null,{"$f":"VLOOKUP(F867,工作表9!$G$1:$I$136, 3, FALSE )","v":"混合物"},null,{"$f":"VLOOKUP(F867,工作表9!$G$1:$H$142, 2, FALSE )","v":0},0]
[null,null,null,null,null,null,{"$f":"VLOOKUP(F868,工作表9!$G$1:$I$136, 3, FALSE )","v":"混合物"},null,{"$f":"VLOOKUP(F868,工作表9!$G$1:$H$142, 2, FALSE )","v":0},0]
[null,null,null,null,null,null,{"$f":"VLOOKUP(F869,工作表9!$G$1:$I$136, 3, FALSE )","v":"混合物"},null,{"$f":"VLOOKUP(F869,工作表9!$G$1:$H$142, 2, FALSE )","v":0},0]
[null,null,null,null,null,null,{"$f":"VLOOKUP(F870,工作表9!$G$1:$I$136, 3, FALSE )","v":"混合物"},null,{"$f":"VLOOKUP(F870,工作表9!$G$1:$H$142, 2, FALSE )","v":0},0]
[null,null,null,null,null,null,{"$f":"VLOOKUP(F871,工作表9!$G$1:$I$136, 3, FALSE )","v":"混合物"},null,{"$f":"VLOOKUP(F871,工作表9!$G$1:$H$142, 2, FALSE )","v":0},0]
[null,null,null,null,null,null,{"$f":"VLOOKUP(F872,工作表9!$G$1:$I$136, 3, FALSE )","v":"混合物"},null,{"$f":"VLOOKUP(F872,工作表9!$G$1:$H$142, 2, FALSE )","v":0},0]
[null,null,null,null,null,null,{"$f":"VLOOKUP(F873,工作表9!$G$1:$I$136, 3, FALSE )","v":"混合物"},null,{"$f":"VLOOKUP(F873,工作表9!$G$1:$H$142, 2, FALSE )","v":0},0]
[null,null,null,null,null,null,{"$f":"VLOOKUP(F874,工作表9!$G$1:$I$136, 3, FALSE )","v":"混合物"},null,{"$f":"VLOOKUP(F874,工作表9!$G$1:$H$142, 2, FALSE )","v":0},0]
[null,null,null,null,null,null,{"$f":"VLOOKUP(F875,工作表9!$G$1:$I$136, 3, FALSE )","v":"混合物"},null,{"$f":"VLOOKUP(F875,工作表9!$G$1:$H$142, 2, FALSE )","v":0},0]
[null,null,null,null,null,null,{"$f":"VLOOKUP(F876,工作表9!$G$1:$I$136, 3, FALSE )","v":"混合物"},null,{"$f":"VLOOKUP(F876,工作表9!$G$1:$H$142, 2, FALSE )","v":0},0]
[null,null,null,null,null,null,{"$f":"VLOOKUP(F877,工作表9!$G$1:$I$136, 3, FALSE )","v":"混合物"},null,{"$f":"VLOOKUP(F877,工作表9!$G$1:$H$142, 2, FALSE )","v":0},0]
[null,null,null,null,null,null,{"$f":"VLOOKUP(F878,工作表9!$G$1:$I$136, 3, FALSE )","v":"混合物"},null,{"$f":"VLOOKUP(F878,工作表9!$G$1:$H$142, 2, FALSE )","v":0},0]
[null,null,null,null,null,null,{"$f":"VLOOKUP(F879,工作表9!$G$1:$I$136, 3, FALSE )","v":"混合物"},null,{"$f":"VLOOKUP(F879,工作表9!$G$1:$H$142, 2, FALSE )","v":0},0]
[null,null,null,null,null,null,{"$f":"VLOOKUP(F880,工作表9!$G$1:$I$136, 3, FALSE )","v":"混合物"},null,{"$f":"VLOOKUP(F880,工作表9!$G$1:$H$142, 2, FALSE )","v":0},0]
[null,null,null,null,null,null,{"$f":"VLOOKUP(F881,工作表9!$G$1:$I$136, 3, FALSE )","v":"混合物"},null,{"$f":"VLOOKUP(F881,工作表9!$G$1:$H$142, 2, FALSE )","v":0},0]
[null,null,null,null,null,null,{"$f":"VLOOKUP(F882,工作表9!$G$1:$I$136, 3, FALSE )","v":"混合物"},null,{"$f":"VLOOKUP(F882,工作表9!$G$1:$H$142, 2, FALSE )","v":0},0]
[null,null,null,null,null,null,{"$f":"VLOOKUP(F883,工作表9!$G$1:$I$136, 3, FALSE )","v":"混合物"},null,{"$f":"VLOOKUP(F883,工作表9!$G$1:$H$142, 2, FALSE )","v":0},0]
[null,null,null,null,null,null,{"$f":"VLOOKUP(F884,工作表9!$G$1:$I$136, 3, FALSE )","v":"混合物"},null,{"$f":"VLOOKUP(F884,工作表9!$G$1:$H$142, 2, FALSE )","v":0},0]
[null,null,null,null,null,null,{"$f":"VLOOKUP(F885,工作表9!$G$1:$I$136, 3, FALSE )","v":"混合物"},null,{"$f":"VLOOKUP(F885,工作表9!$G$1:$H$142, 2, FALSE )","v":0},0]
[null,null,null,null,null,null,{"$f":"VLOOKUP(F886,工作表9!$G$1:$I$136, 3, FALSE )","v":"混合物"},null,{"$f":"VLOOKUP(F886,工作表9!$G$1:$H$142, 2, FALSE )","v":0},0]
[null,null,null,null,null,null,{"$f":"VLOOKUP(F887,工作表9!$G$1:$I$136, 3, FALSE )","v":"混合物"},null,{"$f":"VLOOKUP(F887,工作表9!$G$1:$H$142, 2, FALSE )","v":0},0]
[null,null,null,null,null,null,{"$f":"VLOOKUP(F888,工作表9!$G$1:$I$136, 3, FALSE )","v":"混合物"},null,{"$f":"VLOOKUP(F888,工作表9!$G$1:$H$142, 2, FALSE )","v":0},0]
[null,null,null,null,null,null,{"$f":"VLOOKUP(F889,工作表9!$G$1:$I$136, 3, FALSE )","v":"混合物"},null,{"$f":"VLOOKUP(F889,工作表9!$G$1:$H$142, 2, FALSE )","v":0},0]
[null,null,null,null,null,null,{"$f":"VLOOKUP(F890,工作表9!$G$1:$I$136, 3, FALSE )","v":"混合物"},null,{"$f":"VLOOKUP(F890,工作表9!$G$1:$H$142, 2, FALSE )","v":0},0]
[null,null,null,null,null,null,{"$f":"VLOOKUP(F891,工作表9!$G$1:$I$136, 3, FALSE )","v":"混合物"},null,{"$f":"VLOOKUP(F891,工作表9!$G$1:$H$142, 2, FALSE )","v":0},0]
[null,null,null,null,null,null,{"$f":"VLOOKUP(F892,工作表9!$G$1:$I$136, 3, FALSE )","v":"混合物"},null,{"$f":"VLOOKUP(F892,工作表9!$G$1:$H$142, 2, FALSE )","v":0},0]
[null,null,null,null,null,null,{"$f":"VLOOKUP(F893,工作表9!$G$1:$I$136, 3, FALSE )","v":"混合物"},null,{"$f":"VLOOKUP(F893,工作表9!$G$1:$H$142, 2, FALSE )","v":0},0]
[null,null,null,null,null,null,{"$f":"VLOOKUP(F894,工作表9!$G$1:$I$136, 3, FALSE )","v":"混合物"},null,{"$f":"VLOOKUP(F894,工作表9!$G$1:$H$142, 2, FALSE )","v":0},0]
[null,null,null,null,null,null,{"$f":"VLOOKUP(F895,工作表9!$G$1:$I$136, 3, FALSE )","v":"混合物"},null,{"$f":"VLOOKUP(F895,工作表9!$G$1:$H$142, 2, FALSE )","v":0},0]
[null,null,null,null,null,null,{"$f":"VLOOKUP(F896,工作表9!$G$1:$I$136, 3, FALSE )","v":"混合物"},null,{"$f":"VLOOKUP(F896,工作表9!$G$1:$H$142, 2, FALSE )","v":0},0]
[null,null,null,null,null,null,{"$f":"VLOOKUP(F897,工作表9!$G$1:$I$136, 3, FALSE )","v":"混合物"},null,{"$f":"VLOOKUP(F897,工作表9!$G$1:$H$142, 2, FALSE )","v":0},0]
[null,null,null,null,null,null,{"$f":"VLOOKUP(F898,工作表9!$G$1:$I$136, 3, FALSE )","v":"混合物"},null,{"$f":"VLOOKUP(F898,工作表9!$G$1:$H$142, 2, FALSE )","v":0},0]
[null,null,null,null,null,null,{"$f":"VLOOKUP(F899,工作表9!$G$1:$I$136, 3, FALSE )","v":"混合物"},null,{"$f":"VLOOKUP(F899,工作表9!$G$1:$H$142, 2, FALSE )","v":0},0]
[null,null,null,null,null,null,{"$f":"VLOOKUP(F900,工作表9!$G$1:$I$136, 3, FALSE )","v":"混合物"},null,{"$f":"VLOOKUP(F900,工作表9!$G$1:$H$142, 2, FALSE )","v":0},0]
[null,null,null,null,null,null,{"$f":"VLOOKUP(F901,工作表9!$G$1:$I$136, 3, FALSE )","v":"混合物"},null,{"$f":"VLOOKUP(F901,工作表9!$G$1:$H$142, 2, FALSE )","v":0},0]
[null,null,null,null,null,null,{"$f":"VLOOKUP(F902,工作表9!$G$1:$I$136, 3, FALSE )","v":"混合物"},null,{"$f":"VLOOKUP(F902,工作表9!$G$1:$H$142, 2, FALSE )","v":0},{"$f":"H902*I902","v":0}]
[null,null,null,null,null,null,{"$f":"VLOOKUP(F903,工作表9!$G$1:$I$136, 3, FALSE )","v":"混合物"},null,{"$f":"VLOOKUP(F903,工作表9!$G$1:$H$142, 2, FALSE )","v":0},0]
[null,null,null,null,null,null,{"$f":"VLOOKUP(F904,工作表9!$G$1:$I$136, 3, FALSE )","v":"混合物"},null,{"$f":"VLOOKUP(F904,工作表9!$G$1:$H$142, 2, FALSE )","v":0},0]
[null,null,null,null,null,null,{"$f":"VLOOKUP(F905,工作表9!$G$1:$I$136, 3, FALSE )","v":"混合物"},null,{"$f":"VLOOKUP(F905,工作表9!$G$1:$H$142, 2, FALSE )","v":0},0]
[null,null,null,null,null,null,{"$f":"VLOOKUP(F906,工作表9!$G$1:$I$136, 3, FALSE )","v":"混合物"},null,{"$f":"VLOOKUP(F906,工作表9!$G$1:$H$142, 2, FALSE )","v":0},0]
[null,null,null,null,null,null,{"$f":"VLOOKUP(F907,工作表9!$G$1:$I$136, 3, FALSE )","v":"混合物"},null,{"$f":"VLOOKUP(F907,工作表9!$G$1:$H$142, 2, FALSE )","v":0},0]
[null,null,null,null,null,null,{"$f":"VLOOKUP(F908,工作表9!$G$1:$I$136, 3, FALSE )","v":"混合物"},null,{"$f":"VLOOKUP(F908,工作表9!$G$1:$H$142, 2, FALSE )","v":0},0]
[null,null,null,null,null,null,{"$f":"VLOOKUP(F909,工作表9!$G$1:$I$136, 3, FALSE )","v":"混合物"},null,{"$f":"VLOOKUP(F909,工作表9!$G$1:$H$142, 2, FALSE )","v":0},0]
[null,null,null,null,null,null,{"$f":"VLOOKUP(F910,工作表9!$G$1:$I$136, 3, FALSE )","v":"混合物"},null,{"$f":"VLOOKUP(F910,工作表9!$G$1:$H$142, 2, FALSE )","v":0},0]
[null,null,null,null,null,null,{"$f":"VLOOKUP(F911,工作表9!$G$1:$I$136, 3, FALSE )","v":"混合物"},null,{"$f":"VLOOKUP(F911,工作表9!$G$1:$H$142, 2, FALSE )","v":0},0]
[null,null,null,null,null,null,{"$f":"VLOOKUP(F912,工作表9!$G$1:$I$136, 3, FALSE )","v":"混合物"},null,{"$f":"VLOOKUP(F912,工作表9!$G$1:$H$142, 2, FALSE )","v":0},0]
[null,null,null,null,null,null,{"$f":"VLOOKUP(F913,工作表9!$G$1:$I$136, 3, FALSE )","v":"混合物"},null,{"$f":"VLOOKUP(F913,工作表9!$G$1:$H$142, 2, FALSE )","v":0},0]
[null,null,null,null,null,null,{"$f":"VLOOKUP(F914,工作表9!$G$1:$I$136, 3, FALSE )","v":"混合物"},null,{"$f":"VLOOKUP(F914,工作表9!$G$1:$H$142, 2, FALSE )","v":0},0]
[null,null,null,null,null,null,{"$f":"VLOOKUP(F915,工作表9!$G$1:$I$136, 3, FALSE )","v":"混合物"},null,{"$f":"VLOOKUP(F915,工作表9!$G$1:$H$142, 2, FALSE )","v":0},0]
[null,null,null,null,null,null,{"$f":"VLOOKUP(F916,工作表9!$G$1:$I$136, 3, FALSE )","v":"混合物"},null,{"$f":"VLOOKUP(F916,工作表9!$G$1:$H$142, 2, FALSE )","v":0},0]
[null,null,null,null,null,null,{"$f":"VLOOKUP(F917,工作表9!$G$1:$I$136, 3, FALSE )","v":"混合物"},null,{"$f":"VLOOKUP(F917,工作表9!$G$1:$H$142, 2, FALSE )","v":0},0]
[null,null,null,null,null,null,{"$f":"VLOOKUP(F918,工作表9!$G$1:$I$136, 3, FALSE )","v":"混合物"},null,{"$f":"VLOOKUP(F918,工作表9!$G$1:$H$142, 2, FALSE )","v":0},0]
[null,null,null,null,null,null,{"$f":"VLOOKUP(F919,工作表9!$G$1:$I$136, 3, FALSE )","v":"混合物"},null,{"$f":"VLOOKUP(F919,工作表9!$G$1:$H$142, 2, FALSE )","v":0},0]
[null,null,null,null,null,null,{"$f":"VLOOKUP(F920,工作表9!$G$1:$I$136, 3, FALSE )","v":"混合物"},null,{"$f":"VLOOKUP(F920,工作表9!$G$1:$H$142, 2, FALSE )","v":0},0]
[null,null,null,null,null,null,{"$f":"VLOOKUP(F921,工作表9!$G$1:$I$136, 3, FALSE )","v":"混合物"},null,{"$f":"VLOOKUP(F921,工作表9!$G$1:$H$142, 2, FALSE )","v":0},0]
[null,null,null,null,null,null,{"$f":"VLOOKUP(F922,工作表9!$G$1:$I$136, 3, FALSE )","v":"混合物"},null,{"$f":"VLOOKUP(F922,工作表9!$G$1:$H$142, 2, FALSE )","v":0},0]
[null,null,null,null,null,null,{"$f":"VLOOKUP(F923,工作表9!$G$1:$I$136, 3, FALSE )","v":"混合物"},null,{"$f":"VLOOKUP(F923,工作表9!$G$1:$H$142, 2, FALSE )","v":0},0]
[null,null,null,null,null,null,{"$f":"VLOOKUP(F924,工作表9!$G$1:$I$136, 3, FALSE )","v":"混合物"},null,{"$f":"VLOOKUP(F924,工作表9!$G$1:$H$142, 2, FALSE )","v":0},0]
[null,null,null,null,null,null,{"$f":"VLOOKUP(F925,工作表9!$G$1:$I$136, 3, FALSE )","v":"混合物"},null,{"$f":"VLOOKUP(F925,工作表9!$G$1:$H$142, 2, FALSE )","v":0},0]
[null,null,null,null,null,null,{"$f":"VLOOKUP(F926,工作表9!$G$1:$I$136, 3, FALSE )","v":"混合物"},null,{"$f":"VLOOKUP(F926,工作表9!$G$1:$H$142, 2, FALSE )","v":0},0]
[null,null,null,null,null,null,{"$f":"VLOOKUP(F927,工作表9!$G$1:$I$136, 3, FALSE )","v":"混合物"},null,{"$f":"VLOOKUP(F927,工作表9!$G$1:$H$142, 2, FALSE )","v":0},0]
[null,null,null,null,null,null,{"$f":"VLOOKUP(F928,工作表9!$G$1:$I$136, 3, FALSE )","v":"混合物"},null,{"$f":"VLOOKUP(F928,工作表9!$G$1:$H$142, 2, FALSE )","v":0},0]
[null,null,null,null,null,null,{"$f":"VLOOKUP(F929,工作表9!$G$1:$I$136, 3, FALSE )","v":"混合物"},null,{"$f":"VLOOKUP(F929,工作表9!$G$1:$H$142, 2, FALSE )","v":0},0]
[null,null,null,null,null,null,{"$f":"VLOOKUP(F930,工作表9!$G$1:$I$136, 3, FALSE )","v":"混合物"},null,{"$f":"VLOOKUP(F930,工作表9!$G$1:$H$142, 2, FALSE )","v":0},0]
[null,null,null,null,null,null,{"$f":"VLOOKUP(F931,工作表9!$G$1:$I$136, 3, FALSE )","v":"混合物"},null,{"$f":"VLOOKUP(F931,工作表9!$G$1:$H$142, 2, FALSE )","v":0},0]
[null,null,null,null,null,null,{"$f":"VLOOKUP(F932,工作表9!$G$1:$I$136, 3, FALSE )","v":"混合物"},null,{"$f":"VLOOKUP(F932,工作表9!$G$1:$H$142, 2, FALSE )","v":0},0]
[null,null,null,null,null,null,{"$f":"VLOOKUP(F933,工作表9!$G$1:$I$136, 3, FALSE )","v":"混合物"},null,{"$f":"VLOOKUP(F933,工作表9!$G$1:$H$142, 2, FALSE )","v":0},0]
[null,null,null,null,null,null,{"$f":"VLOOKUP(F934,工作表9!$G$1:$I$136, 3, FALSE )","v":"混合物"},null,{"$f":"VLOOKUP(F934,工作表9!$G$1:$H$142, 2, FALSE )","v":0},0]
[null,null,null,null,null,null,{"$f":"VLOOKUP(F935,工作表9!$G$1:$I$136, 3, FALSE )","v":"混合物"},null,{"$f":"VLOOKUP(F935,工作表9!$G$1:$H$142, 2, FALSE )","v":0},0]
[null,null,null,null,null,null,{"$f":"VLOOKUP(F936,工作表9!$G$1:$I$136, 3, FALSE )","v":"混合物"},null,{"$f":"VLOOKUP(F936,工作表9!$G$1:$H$142, 2, FALSE )","v":0},0]
[null,null,null,null,null,null,{"$f":"VLOOKUP(F937,工作表9!$G$1:$I$136, 3, FALSE )","v":"混合物"},null,{"$f":"VLOOKUP(F937,工作表9!$G$1:$H$142, 2, FALSE )","v":0},0]
[null,null,null,null,null,null,{"$f":"VLOOKUP(F938,工作表9!$G$1:$I$136, 3, FALSE )","v":"混合物"},null,{"$f":"VLOOKUP(F938,工作表9!$G$1:$H$142, 2, FALSE )","v":0},0]
[null,null,null,null,null,null,{"$f":"VLOOKUP(F939,工作表9!$G$1:$I$136, 3, FALSE )","v":"混合物"},null,{"$f":"VLOOKUP(F939,工作表9!$G$1:$H$142, 2, FALSE )","v":0},0]
[null,null,null,null,null,null,{"$f":"VLOOKUP(F940,工作表9!$G$1:$I$136, 3, FALSE )","v":"混合物"},null,{"$f":"VLOOKUP(F940,工作表9!$G$1:$H$142, 2, FALSE )","v":0},0]
[null,null,null,null,null,null,{"$f":"VLOOKUP(F941,工作表9!$G$1:$I$136, 3, FALSE )","v":"混合物"},null,{"$f":"VLOOKUP(F941,工作表9!$G$1:$H$142, 2, FALSE )","v":0},0]
[null,null,null,null,null,null,{"$f":"VLOOKUP(F942,工作表9!$G$1:$I$136, 3, FALSE )","v":"混合物"},null,{"$f":"VLOOKUP(F942,工作表9!$G$1:$H$142, 2, FALSE )","v":0},0]
[null,null,null,null,null,null,{"$f":"VLOOKUP(F943,工作表9!$G$1:$I$136, 3, FALSE )","v":"混合物"},null,{"$f":"VLOOKUP(F943,工作表9!$G$1:$H$142, 2, FALSE )","v":0},0]
[null,null,null,null,null,null,{"$f":"VLOOKUP(F944,工作表9!$G$1:$I$136, 3, FALSE )","v":"混合物"},null,{"$f":"VLOOKUP(F944,工作表9!$G$1:$H$142, 2, FALSE )","v":0},0]
[null,null,null,null,null,null,{"$f":"VLOOKUP(F945,工作表9!$G$1:$I$136, 3, FALSE )","v":"混合物"},null,{"$f":"VLOOKUP(F945,工作表9!$G$1:$H$142, 2, FALSE )","v":0},0]
[null,null,null,null,null,null,{"$f":"VLOOKUP(F946,工作表9!$G$1:$I$136, 3, FALSE )","v":"混合物"},null,{"$f":"VLOOKUP(F946,工作表9!$G$1:$H$142, 2, FALSE )","v":0},0]
[null,null,null,null,null,null,{"$f":"VLOOKUP(F947,工作表9!$G$1:$I$136, 3, FALSE )","v":"混合物"},null,{"$f":"VLOOKUP(F947,工作表9!$G$1:$H$142, 2, FALSE )","v":0},0]
[null,null,null,null,null,null,{"$f":"VLOOKUP(F948,工作表9!$G$1:$I$136, 3, FALSE )","v":"混合物"},null,{"$f":"VLOOKUP(F948,工作表9!$G$1:$H$142, 2, FALSE )","v":0},0]
[null,null,null,null,null,null,{"$f":"VLOOKUP(F949,工作表9!$G$1:$I$136, 3, FALSE )","v":"混合物"},null,{"$f":"VLOOKUP(F949,工作表9!$G$1:$H$142, 2, FALSE )","v":0},0]
[null,null,null,null,null,null,{"$f":"VLOOKUP(F950,工作表9!$G$1:$I$136, 3, FALSE )","v":"混合物"},null,{"$f":"VLOOKUP(F950,工作表9!$G$1:$H$142, 2, FALSE )","v":0},0]
[null,null,null,null,null,null,{"$f":"VLOOKUP(F951,工作表9!$G$1:$I$136, 3, FALSE )","v":"混合物"},null,{"$f":"VLOOKUP(F951,工作表9!$G$1:$H$142, 2, FALSE )","v":0},0]
[null,null,null,null,null,null,{"$f":"VLOOKUP(F952,工作表9!$G$1:$I$136, 3, FALSE )","v":"混合物"},null,{"$f":"VLOOKUP(F952,工作表9!$G$1:$H$142, 2, FALSE )","v":0},0]
[null,null,null,null,null,null,{"$f":"VLOOKUP(F953,工作表9!$G$1:$I$136, 3, FALSE )","v":"混合物"},null,{"$f":"VLOOKUP(F953,工作表9!$G$1:$H$142, 2, FALSE )","v":0},0]
[null,null,null,null,null,null,{"$f":"VLOOKUP(F954,工作表9!$G$1:$I$136, 3, FALSE )","v":"混合物"},null,{"$f":"VLOOKUP(F954,工作表9!$G$1:$H$142, 2, FALSE )","v":0},0]
[null,null,null,null,null,null,{"$f":"VLOOKUP(F955,工作表9!$G$1:$I$136, 3, FALSE )","v":"混合物"},null,{"$f":"VLOOKUP(F955,工作表9!$G$1:$H$142, 2, FALSE )","v":0},0]
[null,null,null,null,null,null,{"$f":"VLOOKUP(F956,工作表9!$G$1:$I$136, 3, FALSE )","v":"混合物"},null,{"$f":"VLOOKUP(F956,工作表9!$G$1:$H$142, 2, FALSE )","v":0},0]
[null,null,null,null,null,null,{"$f":"VLOOKUP(F957,工作表9!$G$1:$I$136, 3, FALSE )","v":"混合物"},null,{"$f":"VLOOKUP(F957,工作表9!$G$1:$H$142, 2, FALSE )","v":0},0]
[null,null,null,null,null,null,{"$f":"VLOOKUP(F958,工作表9!$G$1:$I$136, 3, FALSE )","v":"混合物"},null,{"$f":"VLOOKUP(F958,工作表9!$G$1:$H$142, 2, FALSE )","v":0},0]
[null,null,null,null,null,null,{"$f":"VLOOKUP(F959,工作表9!$G$1:$I$136, 3, FALSE )","v":"混合物"},null,{"$f":"VLOOKUP(F959,工作表9!$G$1:$H$142, 2, FALSE )","v":0},0]
[null,null,null,null,null,null,{"$f":"VLOOKUP(F960,工作表9!$G$1:$I$136, 3, FALSE )","v":"混合物"},null,{"$f":"VLOOKUP(F960,工作表9!$G$1:$H$142, 2, FALSE )","v":0},0]
[null,null,null,null,null,null,{"$f":"VLOOKUP(F961,工作表9!$G$1:$I$136, 3, FALSE )","v":"混合物"},null,{"$f":"VLOOKUP(F961,工作表9!$G$1:$H$142, 2, FALSE )","v":0},0]
[null,null,null,null,null,null,{"$f":"VLOOKUP(F962,工作表9!$G$1:$I$136, 3, FALSE )","v":"混合物"},null,{"$f":"VLOOKUP(F962,工作表9!$G$1:$H$142, 2, FALSE )","v":0},0]
[null,null,null,null,null,null,{"$f":"VLOOKUP(F963,工作表9!$G$1:$I$136, 3, FALSE )","v":"混合物"},null,{"$f":"VLOOKUP(F963,工作表9!$G$1:$H$142, 2, FALSE )","v":0},0]
[null,null,null,null,null,null,{"$f":"VLOOKUP(F964,工作表9!$G$1:$I$136, 3, FALSE )","v":"混合物"},null,{"$f":"VLOOKUP(F964,工作表9!$G$1:$H$142, 2, FALSE )","v":0},0]
[null,null,null,null,null,null,{"$f":"VLOOKUP(F965,工作表9!$G$1:$I$136, 3, FALSE )","v":"混合物"},null,{"$f":"VLOOKUP(F965,工作表9!$G$1:$H$142, 2, FALSE )","v":0},0]
[null,null,null,null,null,null,{"$f":"VLOOKUP(F966,工作表9!$G$1:$I$136, 3, FALSE )","v":"混合物"},null,{"$f":"VLOOKUP(F966,工作表9!$G$1:$H$142, 2, FALSE )","v":0},{"$f":"H966*I966","v":0}]
[null,null,null,null,null,null,{"$f":"VLOOKUP(F967,工作表9!$G$1:$I$136, 3, FALSE )","v":"混合物"},null,{"$f":"VLOOKUP(F967,工作表9!$G$1:$H$142, 2, FALSE )","v":0},0]
[null,null,null,null,null,null,{"$f":"VLOOKUP(F968,工作表9!$G$1:$I$136, 3, FALSE )","v":"混合物"},null,{"$f":"VLOOKUP(F968,工作表9!$G$1:$H$142, 2, FALSE )","v":0},0]
[null,null,null,null,null,null,{"$f":"VLOOKUP(F969,工作表9!$G$1:$I$136, 3, FALSE )","v":"混合物"},null,{"$f":"VLOOKUP(F969,工作表9!$G$1:$H$142, 2, FALSE )","v":0},0]
[null,null,null,null,null,null,{"$f":"VLOOKUP(F970,工作表9!$G$1:$I$136, 3, FALSE )","v":"混合物"},null,{"$f":"VLOOKUP(F970,工作表9!$G$1:$H$142, 2, FALSE )","v":0},0]
[null,null,null,null,null,null,{"$f":"VLOOKUP(F971,工作表9!$G$1:$I$136, 3, FALSE )","v":"混合物"},null,{"$f":"VLOOKUP(F971,工作表9!$G$1:$H$142, 2, FALSE )","v":0},0]
[null,null,null,null,null,null,{"$f":"VLOOKUP(F972,工作表9!$G$1:$I$136, 3, FALSE )","v":"混合物"},null,{"$f":"VLOOKUP(F972,工作表9!$G$1:$H$142, 2, FALSE )","v":0},0]
[null,null,null,null,null,null,{"$f":"VLOOKUP(F973,工作表9!$G$1:$I$136, 3, FALSE )","v":"混合物"},null,{"$f":"VLOOKUP(F973,工作表9!$G$1:$H$142, 2, FALSE )","v":0},0]
[null,null,null,null,null,null,{"$f":"VLOOKUP(F974,工作表9!$G$1:$I$136, 3, FALSE )","v":"混合物"},null,{"$f":"VLOOKUP(F974,工作表9!$G$1:$H$142, 2, FALSE )","v":0},0]
[null,null,null,null,null,null,{"$f":"VLOOKUP(F975,工作表9!$G$1:$I$136, 3, FALSE )","v":"混合物"},null,{"$f":"VLOOKUP(F975,工作表9!$G$1:$H$142, 2, FALSE )","v":0},0]
[null,null,null,null,null,null,{"$f":"VLOOKUP(F976,工作表9!$G$1:$I$136, 3, FALSE )","v":"混合物"},null,{"$f":"VLOOKUP(F976,工作表9!$G$1:$H$142, 2, FALSE )","v":0},0]
[null,null,null,null,null,null,{"$f":"VLOOKUP(F977,工作表9!$G$1:$I$136, 3, FALSE )","v":"混合物"},null,{"$f":"VLOOKUP(F977,工作表9!$G$1:$H$142, 2, FALSE )","v":0},0]
[null,null,null,null,null,null,{"$f":"VLOOKUP(F978,工作表9!$G$1:$I$136, 3, FALSE )","v":"混合物"},null,{"$f":"VLOOKUP(F978,工作表9!$G$1:$H$142, 2, FALSE )","v":0},0]
[null,null,null,null,null,null,{"$f":"VLOOKUP(F979,工作表9!$G$1:$I$136, 3, FALSE )","v":"混合物"},null,{"$f":"VLOOKUP(F979,工作表9!$G$1:$H$142, 2, FALSE )","v":0},0]
[null,null,null,null,null,null,{"$f":"VLOOKUP(F980,工作表9!$G$1:$I$136, 3, FALSE )","v":"混合物"},null,{"$f":"VLOOKUP(F980,工作表9!$G$1:$H$142, 2, FALSE )","v":0},0]
[null,null,null,null,null,null,{"$f":"VLOOKUP(F981,工作表9!$G$1:$I$136, 3, FALSE )","v":"混合物"},null,{"$f":"VLOOKUP(F981,工作表9!$G$1:$H$142, 2, FALSE )","v":0},0]
[null,null,null,null,null,null,{"$f":"VLOOKUP(F982,工作表9!$G$1:$I$136, 3, FALSE )","v":"混合物"},null,{"$f":"VLOOKUP(F982,工作表9!$G$1:$H$142, 2, FALSE )","v":0},0]
[null,null,null,null,null,null,{"$f":"VLOOKUP(F983,工作表9!$G$1:$I$136, 3, FALSE )","v":"混合物"},null,{"$f":"VLOOKUP(F983,工作表9!$G$1:$H$142, 2, FALSE )","v":0},0]
[null,null,null,null,null,null,{"$f":"VLOOKUP(F984,工作表9!$G$1:$I$136, 3, FALSE )","v":"混合物"},null,{"$f":"VLOOKUP(F984,工作表9!$G$1:$H$142, 2, FALSE )","v":0},0]
[null,null,null,null,null,null,{"$f":"VLOOKUP(F985,工作表9!$G$1:$I$136, 3, FALSE )","v":"混合物"},null,{"$f":"VLOOKUP(F985,工作表9!$G$1:$H$142, 2, FALSE )","v":0},0]
[null,null,null,null,null,null,{"$f":"VLOOKUP(F986,工作表9!$G$1:$I$136, 3, FALSE )","v":"混合物"},null,{"$f":"VLOOKUP(F986,工作表9!$G$1:$H$142, 2, FALSE )","v":0},0]
[null,null,null,null,null,null,{"$f":"VLOOKUP(F987,工作表9!$G$1:$I$136, 3, FALSE )","v":"混合物"},null,{"$f":"VLOOKUP(F987,工作表9!$G$1:$H$142, 2, FALSE )","v":0},0]
[null,null,null,null,null,null,{"$f":"VLOOKUP(F988,工作表9!$G$1:$I$136, 3, FALSE )","v":"混合物"},null,{"$f":"VLOOKUP(F988,工作表9!$G$1:$H$142, 2, FALSE )","v":0},0]
[null,null,null,null,null,null,{"$f":"VLOOKUP(F989,工作表9!$G$1:$I$136, 3, FALSE )","v":"混合物"},null,{"$f":"VLOOKUP(F989,工作表9!$G$1:$H$142, 2, FALSE )","v":0},0]
[null,null,null,null,null,null,{"$f":"VLOOKUP(F990,工作表9!$G$1:$I$136, 3, FALSE )","v":"混合物"},null,{"$f":"VLOOKUP(F990,工作表9!$G$1:$H$142, 2, FALSE )","v":0},0]
[null,null,null,null,null,null,{"$f":"VLOOKUP(F991,工作表9!$G$1:$I$136, 3, FALSE )","v":"混合物"},null,{"$f":"VLOOKUP(F991,工作表9!$G$1:$H$142, 2, FALSE )","v":0},0]
[null,null,null,null,null,null,{"$f":"VLOOKUP(F992,工作表9!$G$1:$I$136, 3, FALSE )","v":"混合物"},null,{"$f":"VLOOKUP(F992,工作表9!$G$1:$H$142, 2, FALSE )","v":0},0]
[null,null,null,null,null,null,{"$f":"VLOOKUP(F993,工作表9!$G$1:$I$136, 3, FALSE )","v":"混合物"},null,{"$f":"VLOOKUP(F993,工作表9!$G$1:$H$142, 2, FALSE )","v":0},0]
[null,null,null,null,null,null,{"$f":"VLOOKUP(F994,工作表9!$G$1:$I$136, 3, FALSE )","v":"混合物"},null,{"$f":"VLOOKUP(F994,工作表9!$G$1:$H$142, 2, FALSE )","v":0},0]
[null,null,null,null,null,null,{"$f":"VLOOKUP(F995,工作表9!$G$1:$I$136, 3, FALSE )","v":"混合物"},null,{"$f":"VLOOKUP(F995,工作表9!$G$1:$H$142, 2, FALSE )","v":0},0]
[null,null,null,null,null,null,{"$f":"VLOOKUP(F996,工作表9!$G$1:$I$136, 3, FALSE )","v":"混合物"},null,{"$f":"VLOOKUP(F996,工作表9!$G$1:$H$142, 2, FALSE )","v":0},0]
[null,null,null,null,null,null,{"$f":"VLOOKUP(F997,工作表9!$G$1:$I$136, 3, FALSE )","v":"混合物"},null,{"$f":"VLOOKUP(F997,工作表9!$G$1:$H$142, 2, FALSE )","v":0},0]
[null,null,null,null,null,null,{"$f":"VLOOKUP(F998,工作表9!$G$1:$I$136, 3, FALSE )","v":"混合物"},null,{"$f":"VLOOKUP(F998,工作表9!$G$1:$H$142, 2, FALSE )","v":0},0]
[null,null,null,null,null,null,{"$f":"VLOOKUP(F999,工作表9!$G$1:$I$136, 3, FALSE )","v":"混合物"},null,{"$f":"VLOOKUP(F999,工作表9!$G$1:$H$142, 2, FALSE )","v":0},0]
[null,null,null,null,null,null,{"$f":"VLOOKUP(F1000,工作表9!$G$1:$I$136, 3, FALSE )","v":"混合物"},null,{"$f":"VLOOKUP(F1000,工作表9!$G$1:$H$142, 2, FALSE )","v":0},0]
["備註：","＊    請參考附件：冷媒GWP值"]

{"sheet":"114年氫氟碳（HFCs）之需求量","index":6,"n_rows":1001,"n_cols":7,"rows_kept":1001,"cut":false,"hidden":false,"merged":[[1,2,3,2],[1,0,3,0],[1,1,3,1],[1,3,3,3],[0,0,0,1]]}
["申報年份",null,"            114  年預估需求量"]
["編號","商品名稱","冷媒編號\n請填寫號碼即可，毋須填寫R-","物質類別","預估需求量","GWP*","公噸CO2eq"]
[null,null,null,null,"（公噸）",null,"C=A*B"]
[null,null,null,null,"A","B"]
["範例 1","R23",23,{"$f":"VLOOKUP(C5,工作表9!$G$1:$I$136, 3, FALSE )","v":"純物質"},50,{"$f":"VLOOKUP(C5,工作表9!$G$1:$H$142, 2, FALSE )","v":14800},{"$f":"E5*F5","v":740000}]
["範例 2","R134a","134a",{"$f":"VLOOKUP(C6,工作表9!$G$1:$I$136, 3, FALSE )","v":"純物質"},100,{"$f":"VLOOKUP(C6,工作表9!$G$1:$H$142, 2, FALSE )","v":1430},{"$f":"E6*F6","v":143000}]
["範例 3","R404A","404A",{"$f":"VLOOKUP(C7,工作表9!$G$1:$I$136, 3, FALSE )","v":"混合物"},20,{"$f":"VLOOKUP(C7,工作表9!$G$1:$H$142, 2, FALSE )","v":3921.6000000000004},78432]
["範例 4","R410A","410A",{"$f":"VLOOKUP(C8,工作表9!$G$1:$I$136, 3, FALSE )","v":"混合物"},5,{"$f":"VLOOKUP(C8,工作表9!$G$1:$H$142, 2, FALSE )","v":2087.5},10437.5]
[null,null,23,{"$f":"VLOOKUP(C9,工作表9!$G$1:$I$136, 3, FALSE )","v":"純物質"},null,{"$f":"VLOOKUP(C9,工作表9!$G$1:$H$142, 2, FALSE )","v":14800},0]
[null,null,23,{"$f":"VLOOKUP(C10,工作表9!$G$1:$I$136, 3, FALSE )","v":"純物質"},null,{"$f":"VLOOKUP(C10,工作表9!$G$1:$H$142, 2, FALSE )","v":14800},0]
[null,null,23,{"$f":"VLOOKUP(C11,工作表9!$G$1:$I$136, 3, FALSE )","v":"純物質"},null,{"$f":"VLOOKUP(C11,工作表9!$G$1:$H$142, 2, FALSE )","v":14800},0]
[null,null,23,{"$f":"VLOOKUP(C12,工作表9!$G$1:$I$136, 3, FALSE )","v":"純物質"},null,{"$f":"VLOOKUP(C12,工作表9!$G$1:$H$142, 2, FALSE )","v":14800},0]
[null,null,23,{"$f":"VLOOKUP(C13,工作表9!$G$1:$I$136, 3, FALSE )","v":"純物質"},null,{"$f":"VLOOKUP(C13,工作表9!$G$1:$H$142, 2, FALSE )","v":14800},0]
[null,null,23,{"$f":"VLOOKUP(C14,工作表9!$G$1:$I$136, 3, FALSE )","v":"純物質"},null,{"$f":"VLOOKUP(C14,工作表9!$G$1:$H$142, 2, FALSE )","v":14800},0]
[null,null,23,{"$f":"VLOOKUP(C15,工作表9!$G$1:$I$136, 3, FALSE )","v":"純物質"},null,{"$f":"VLOOKUP(C15,工作表9!$G$1:$H$142, 2, FALSE )","v":14800},0]
[null,null,23,{"$f":"VLOOKUP(C16,工作表9!$G$1:$I$136, 3, FALSE )","v":"純物質"},null,{"$f":"VLOOKUP(C16,工作表9!$G$1:$H$142, 2, FALSE )","v":14800},0]
[null,null,23,{"$f":"VLOOKUP(C17,工作表9!$G$1:$I$136, 3, FALSE )","v":"純物質"},null,{"$f":"VLOOKUP(C17,工作表9!$G$1:$H$142, 2, FALSE )","v":14800},0]
[null,null,23,{"$f":"VLOOKUP(C18,工作表9!$G$1:$I$136, 3, FALSE )","v":"純物質"},null,{"$f":"VLOOKUP(C18,工作表9!$G$1:$H$142, 2, FALSE )","v":14800},0]
[null,null,23,{"$f":"VLOOKUP(C19,工作表9!$G$1:$I$136, 3, FALSE )","v":"純物質"},null,{"$f":"VLOOKUP(C19,工作表9!$G$1:$H$142, 2, FALSE )","v":14800},0]
[null,null,23,{"$f":"VLOOKUP(C20,工作表9!$G$1:$I$136, 3, FALSE )","v":"純物質"},null,{"$f":"VLOOKUP(C20,工作表9!$G$1:$H$142, 2, FALSE )","v":14800},0]
[null,null,23,{"$f":"VLOOKUP(C21,工作表9!$G$1:$I$136, 3, FALSE )","v":"純物質"},null,{"$f":"VLOOKUP(C21,工作表9!$G$1:$H$142, 2, FALSE )","v":14800},0]
[null,null,23,{"$f":"VLOOKUP(C22,工作表9!$G$1:$I$136, 3, FALSE )","v":"純物質"},null,{"$f":"VLOOKUP(C22,工作表9!$G$1:$H$142, 2, FALSE )","v":14800},0]
[null,null,23,{"$f":"VLOOKUP(C23,工作表9!$G$1:$I$136, 3, FALSE )","v":"純物質"},null,{"$f":"VLOOKUP(C23,工作表9!$G$1:$H$142, 2, FALSE )","v":14800},0]
[null,null,23,{"$f":"VLOOKUP(C24,工作表9!$G$1:$I$136, 3, FALSE )","v":"純物質"},null,{"$f":"VLOOKUP(C24,工作表9!$G$1:$H$142, 2, FALSE )","v":14800},0]
[null,null,23,{"$f":"VLOOKUP(C25,工作表9!$G$1:$I$136, 3, FALSE )","v":"純物質"},null,{"$f":"VLOOKUP(C25,工作表9!$G$1:$H$142, 2, FALSE )","v":14800},0]
[null,null,23,{"$f":"VLOOKUP(C26,工作表9!$G$1:$I$136, 3, FALSE )","v":"純物質"},null,{"$f":"VLOOKUP(C26,工作表9!$G$1:$H$142, 2, FALSE )","v":14800},0]
[null,null,23,{"$f":"VLOOKUP(C27,工作表9!$G$1:$I$136, 3, FALSE )","v":"純物質"},null,{"$f":"VLOOKUP(C27,工作表9!$G$1:$H$142, 2, FALSE )","v":14800},0]
[null,null,23,{"$f":"VLOOKUP(C28,工作表9!$G$1:$I$136, 3, FALSE )","v":"純物質"},null,{"$f":"VLOOKUP(C28,工作表9!$G$1:$H$142, 2, FALSE )","v":14800},0]
[null,null,23,{"$f":"VLOOKUP(C29,工作表9!$G$1:$I$136, 3, FALSE )","v":"純物質"},null,{"$f":"VLOOKUP(C29,工作表9!$G$1:$H$142, 2, FALSE )","v":14800},0]
[null,null,23,{"$f":"VLOOKUP(C30,工作表9!$G$1:$I$136, 3, FALSE )","v":"純物質"},null,{"$f":"VLOOKUP(C30,工作表9!$G$1:$H$142, 2, FALSE )","v":14800},0]
[null,null,23,{"$f":"VLOOKUP(C31,工作表9!$G$1:$I$136, 3, FALSE )","v":"純物質"},null,{"$f":"VLOOKUP(C31,工作表9!$G$1:$H$142, 2, FALSE )","v":14800},0]
[null,null,23,{"$f":"VLOOKUP(C32,工作表9!$G$1:$I$136, 3, FALSE )","v":"純物質"},null,{"$f":"VLOOKUP(C32,工作表9!$G$1:$H$142, 2, FALSE )","v":14800},0]
[null,null,23,{"$f":"VLOOKUP(C33,工作表9!$G$1:$I$136, 3, FALSE )","v":"純物質"},null,{"$f":"VLOOKUP(C33,工作表9!$G$1:$H$142, 2, FALSE )","v":14800},0]
[null,null,23,{"$f":"VLOOKUP(C34,工作表9!$G$1:$I$136, 3, FALSE )","v":"純物質"},null,{"$f":"VLOOKUP(C34,工作表9!$G$1:$H$142, 2, FALSE )","v":14800},0]
[null,null,23,{"$f":"VLOOKUP(C35,工作表9!$G$1:$I$136, 3, FALSE )","v":"純物質"},null,{"$f":"VLOOKUP(C35,工作表9!$G$1:$H$142, 2, FALSE )","v":14800},0]
[null,null,23,{"$f":"VLOOKUP(C36,工作表9!$G$1:$I$136, 3, FALSE )","v":"純物質"},null,{"$f":"VLOOKUP(C36,工作表9!$G$1:$H$142, 2, FALSE )","v":14800},0]
[null,null,23,{"$f":"VLOOKUP(C37,工作表9!$G$1:$I$136, 3, FALSE )","v":"純物質"},null,{"$f":"VLOOKUP(C37,工作表9!$G$1:$H$142, 2, FALSE )","v":14800},0]
[null,null,23,{"$f":"VLOOKUP(C38,工作表9!$G$1:$I$136, 3, FALSE )","v":"純物質"},null,{"$f":"VLOOKUP(C38,工作表9!$G$1:$H$142, 2, FALSE )","v":14800},0]
[null,null,23,{"$f":"VLOOKUP(C39,工作表9!$G$1:$I$136, 3, FALSE )","v":"純物質"},null,{"$f":"VLOOKUP(C39,工作表9!$G$1:$H$142, 2, FALSE )","v":14800},0]
[null,null,23,{"$f":"VLOOKUP(C40,工作表9!$G$1:$I$136, 3, FALSE )","v":"純物質"},null,{"$f":"VLOOKUP(C40,工作表9!$G$1:$H$142, 2, FALSE )","v":14800},0]
[null,null,23,{"$f":"VLOOKUP(C41,工作表9!$G$1:$I$136, 3, FALSE )","v":"純物質"},null,{"$f":"VLOOKUP(C41,工作表9!$G$1:$H$142, 2, FALSE )","v":14800},0]
[null,null,23,{"$f":"VLOOKUP(C42,工作表9!$G$1:$I$136, 3, FALSE )","v":"純物質"},null,{"$f":"VLOOKUP(C42,工作表9!$G$1:$H$142, 2, FALSE )","v":14800},0]
[null,null,23,{"$f":"VLOOKUP(C43,工作表9!$G$1:$I$136, 3, FALSE )","v":"純物質"},null,{"$f":"VLOOKUP(C43,工作表9!$G$1:$H$142, 2, FALSE )","v":14800},0]
[null,null,23,{"$f":"VLOOKUP(C44,工作表9!$G$1:$I$136, 3, FALSE )","v":"純物質"},null,{"$f":"VLOOKUP(C44,工作表9!$G$1:$H$142, 2, FALSE )","v":14800},0]
[null,null,23,{"$f":"VLOOKUP(C45,工作表9!$G$1:$I$136, 3, FALSE )","v":"純物質"},null,{"$f":"VLOOKUP(C45,工作表9!$G$1:$H$142, 2, FALSE )","v":14800},0]
[null,null,23,{"$f":"VLOOKUP(C46,工作表9!$G$1:$I$136, 3, FALSE )","v":"純物質"},null,{"$f":"VLOOKUP(C46,工作表9!$G$1:$H$142, 2, FALSE )","v":14800},0]
[null,null,23,{"$f":"VLOOKUP(C47,工作表9!$G$1:$I$136, 3, FALSE )","v":"純物質"},null,{"$f":"VLOOKUP(C47,工作表9!$G$1:$H$142, 2, FALSE )","v":14800},0]
[null,null,23,{"$f":"VLOOKUP(C48,工作表9!$G$1:$I$136, 3, FALSE )","v":"純物質"},null,{"$f":"VLOOKUP(C48,工作表9!$G$1:$H$142, 2, FALSE )","v":14800},0]
[null,null,23,{"$f":"VLOOKUP(C49,工作表9!$G$1:$I$136, 3, FALSE )","v":"純物質"},null,{"$f":"VLOOKUP(C49,工作表9!$G$1:$H$142, 2, FALSE )","v":14800},0]
[null,null,23,{"$f":"VLOOKUP(C50,工作表9!$G$1:$I$136, 3, FALSE )","v":"純物質"},null,{"$f":"VLOOKUP(C50,工作表9!$G$1:$H$142, 2, FALSE )","v":14800},0]
[null,null,23,{"$f":"VLOOKUP(C51,工作表9!$G$1:$I$136, 3, FALSE )","v":"純物質"},null,{"$f":"VLOOKUP(C51,工作表9!$G$1:$H$142, 2, FALSE )","v":14800},0]
[null,null,23,{"$f":"VLOOKUP(C52,工作表9!$G$1:$I$136, 3, FALSE )","v":"純物質"},null,{"$f":"VLOOKUP(C52,工作表9!$G$1:$H$142, 2, FALSE )","v":14800},0]
[null,null,23,{"$f":"VLOOKUP(C53,工作表9!$G$1:$I$136, 3, FALSE )","v":"純物質"},null,{"$f":"VLOOKUP(C53,工作表9!$G$1:$H$142, 2, FALSE )","v":14800},0]
[null,null,23,{"$f":"VLOOKUP(C54,工作表9!$G$1:$I$136, 3, FALSE )","v":"純物質"},null,{"$f":"VLOOKUP(C54,工作表9!$G$1:$H$142, 2, FALSE )","v":14800},0]
[null,null,23,{"$f":"VLOOKUP(C55,工作表9!$G$1:$I$136, 3, FALSE )","v":"純物質"},null,{"$f":"VLOOKUP(C55,工作表9!$G$1:$H$142, 2, FALSE )","v":14800},0]
[null,null,23,{"$f":"VLOOKUP(C56,工作表9!$G$1:$I$136, 3, FALSE )","v":"純物質"},null,{"$f":"VLOOKUP(C56,工作表9!$G$1:$H$142, 2, FALSE )","v":14800},0]
[null,null,23,{"$f":"VLOOKUP(C57,工作表9!$G$1:$I$136, 3, FALSE )","v":"純物質"},null,{"$f":"VLOOKUP(C57,工作表9!$G$1:$H$142, 2, FALSE )","v":14800},0]
[null,null,23,{"$f":"VLOOKUP(C58,工作表9!$G$1:$I$136, 3, FALSE )","v":"純物質"},null,{"$f":"VLOOKUP(C58,工作表9!$G$1:$H$142, 2, FALSE )","v":14800},0]
[null,null,23,{"$f":"VLOOKUP(C59,工作表9!$G$1:$I$136, 3, FALSE )","v":"純物質"},null,{"$f":"VLOOKUP(C59,工作表9!$G$1:$H$142, 2, FALSE )","v":14800},0]
[null,null,23,{"$f":"VLOOKUP(C60,工作表9!$G$1:$I$136, 3, FALSE )","v":"純物質"},null,{"$f":"VLOOKUP(C60,工作表9!$G$1:$H$142, 2, FALSE )","v":14800},0]
[null,null,23,{"$f":"VLOOKUP(C61,工作表9!$G$1:$I$136, 3, FALSE )","v":"純物質"},null,{"$f":"VLOOKUP(C61,工作表9!$G$1:$H$142, 2, FALSE )","v":14800},0]
[null,null,23,{"$f":"VLOOKUP(C62,工作表9!$G$1:$I$136, 3, FALSE )","v":"純物質"},null,{"$f":"VLOOKUP(C62,工作表9!$G$1:$H$142, 2, FALSE )","v":14800},0]
[null,null,23,{"$f":"VLOOKUP(C63,工作表9!$G$1:$I$136, 3, FALSE )","v":"純物質"},null,{"$f":"VLOOKUP(C63,工作表9!$G$1:$H$142, 2, FALSE )","v":14800},0]
[null,null,23,{"$f":"VLOOKUP(C64,工作表9!$G$1:$I$136, 3, FALSE )","v":"純物質"},null,{"$f":"VLOOKUP(C64,工作表9!$G$1:$H$142, 2, FALSE )","v":14800},0]
[null,null,23,{"$f":"VLOOKUP(C65,工作表9!$G$1:$I$136, 3, FALSE )","v":"純物質"},null,{"$f":"VLOOKUP(C65,工作表9!$G$1:$H$142, 2, FALSE )","v":14800},0]
[null,null,23,{"$f":"VLOOKUP(C66,工作表9!$G$1:$I$136, 3, FALSE )","v":"純物質"},null,{"$f":"VLOOKUP(C66,工作表9!$G$1:$H$142, 2, FALSE )","v":14800},0]
[null,null,23,{"$f":"VLOOKUP(C67,工作表9!$G$1:$I$136, 3, FALSE )","v":"純物質"},null,{"$f":"VLOOKUP(C67,工作表9!$G$1:$H$142, 2, FALSE )","v":14800},0]
[null,null,23,{"$f":"VLOOKUP(C68,工作表9!$G$1:$I$136, 3, FALSE )","v":"純物質"},null,{"$f":"VLOOKUP(C68,工作表9!$G$1:$H$142, 2, FALSE )","v":14800},0]
[null,null,23,{"$f":"VLOOKUP(C69,工作表9!$G$1:$I$136, 3, FALSE )","v":"純物質"},null,{"$f":"VLOOKUP(C69,工作表9!$G$1:$H$142, 2, FALSE )","v":14800},0]
[null,null,23,{"$f":"VLOOKUP(C70,工作表9!$G$1:$I$136, 3, FALSE )","v":"純物質"},null,{"$f":"VLOOKUP(C70,工作表9!$G$1:$H$142, 2, FALSE )","v":14800},{"$f":"E70*F70","v":0}]
[null,null,23,{"$f":"VLOOKUP(C71,工作表9!$G$1:$I$136, 3, FALSE )","v":"純物質"},null,{"$f":"VLOOKUP(C71,工作表9!$G$1:$H$142, 2, FALSE )","v":14800},0]
[null,null,23,{"$f":"VLOOKUP(C72,工作表9!$G$1:$I$136, 3, FALSE )","v":"純物質"},null,{"$f":"VLOOKUP(C72,工作表9!$G$1:$H$142, 2, FALSE )","v":14800},0]
[null,null,23,{"$f":"VLOOKUP(C73,工作表9!$G$1:$I$136, 3, FALSE )","v":"純物質"},null,{"$f":"VLOOKUP(C73,工作表9!$G$1:$H$142, 2, FALSE )","v":14800},0]
[null,null,23,{"$f":"VLOOKUP(C74,工作表9!$G$1:$I$136, 3, FALSE )","v":"純物質"},null,{"$f":"VLOOKUP(C74,工作表9!$G$1:$H$142, 2, FALSE )","v":14800},0]
[null,null,23,{"$f":"VLOOKUP(C75,工作表9!$G$1:$I$136, 3, FALSE )","v":"純物質"},null,{"$f":"VLOOKUP(C75,工作表9!$G$1:$H$142, 2, FALSE )","v":14800},0]
[null,null,23,{"$f":"VLOOKUP(C76,工作表9!$G$1:$I$136, 3, FALSE )","v":"純物質"},null,{"$f":"VLOOKUP(C76,工作表9!$G$1:$H$142, 2, FALSE )","v":14800},0]
[null,null,23,{"$f":"VLOOKUP(C77,工作表9!$G$1:$I$136, 3, FALSE )","v":"純物質"},null,{"$f":"VLOOKUP(C77,工作表9!$G$1:$H$142, 2, FALSE )","v":14800},0]
[null,null,23,{"$f":"VLOOKUP(C78,工作表9!$G$1:$I$136, 3, FALSE )","v":"純物質"},null,{"$f":"VLOOKUP(C78,工作表9!$G$1:$H$142, 2, FALSE )","v":14800},0]
[null,null,23,{"$f":"VLOOKUP(C79,工作表9!$G$1:$I$136, 3, FALSE )","v":"純物質"},null,{"$f":"VLOOKUP(C79,工作表9!$G$1:$H$142, 2, FALSE )","v":14800},0]
[null,null,23,{"$f":"VLOOKUP(C80,工作表9!$G$1:$I$136, 3, FALSE )","v":"純物質"},null,{"$f":"VLOOKUP(C80,工作表9!$G$1:$H$142, 2, FALSE )","v":14800},0]
[null,null,23,{"$f":"VLOOKUP(C81,工作表9!$G$1:$I$136, 3, FALSE )","v":"純物質"},null,{"$f":"VLOOKUP(C81,工作表9!$G$1:$H$142, 2, FALSE )","v":14800},0]
[null,null,23,{"$f":"VLOOKUP(C82,工作表9!$G$1:$I$136, 3, FALSE )","v":"純物質"},null,{"$f":"VLOOKUP(C82,工作表9!$G$1:$H$142, 2, FALSE )","v":14800},0]
[null,null,23,{"$f":"VLOOKUP(C83,工作表9!$G$1:$I$136, 3, FALSE )","v":"純物質"},null,{"$f":"VLOOKUP(C83,工作表9!$G$1:$H$142, 2, FALSE )","v":14800},0]
[null,null,23,{"$f":"VLOOKUP(C84,工作表9!$G$1:$I$136, 3, FALSE )","v":"純物質"},null,{"$f":"VLOOKUP(C84,工作表9!$G$1:$H$142, 2, FALSE )","v":14800},0]
[null,null,23,{"$f":"VLOOKUP(C85,工作表9!$G$1:$I$136, 3, FALSE )","v":"純物質"},null,{"$f":"VLOOKUP(C85,工作表9!$G$1:$H$142, 2, FALSE )","v":14800},0]
[null,null,23,{"$f":"VLOOKUP(C86,工作表9!$G$1:$I$136, 3, FALSE )","v":"純物質"},null,{"$f":"VLOOKUP(C86,工作表9!$G$1:$H$142, 2, FALSE )","v":14800},0]
[null,null,23,{"$f":"VLOOKUP(C87,工作表9!$G$1:$I$136, 3, FALSE )","v":"純物質"},null,{"$f":"VLOOKUP(C87,工作表9!$G$1:$H$142, 2, FALSE )","v":14800},0]
[null,null,23,{"$f":"VLOOKUP(C88,工作表9!$G$1:$I$136, 3, FALSE )","v":"純物質"},null,{"$f":"VLOOKUP(C88,工作表9!$G$1:$H$142, 2, FALSE )","v":14800},0]
[null,null,23,{"$f":"VLOOKUP(C89,工作表9!$G$1:$I$136, 3, FALSE )","v":"純物質"},null,{"$f":"VLOOKUP(C89,工作表9!$G$1:$H$142, 2, FALSE )","v":14800},0]
[null,null,23,{"$f":"VLOOKUP(C90,工作表9!$G$1:$I$136, 3, FALSE )","v":"純物質"},null,{"$f":"VLOOKUP(C90,工作表9!$G$1:$H$142, 2, FALSE )","v":14800},0]
[null,null,23,{"$f":"VLOOKUP(C91,工作表9!$G$1:$I$136, 3, FALSE )","v":"純物質"},null,{"$f":"VLOOKUP(C91,工作表9!$G$1:$H$142, 2, FALSE )","v":14800},0]
[null,null,23,{"$f":"VLOOKUP(C92,工作表9!$G$1:$I$136, 3, FALSE )","v":"純物質"},null,{"$f":"VLOOKUP(C92,工作表9!$G$1:$H$142, 2, FALSE )","v":14800},0]
[null,null,23,{"$f":"VLOOKUP(C93,工作表9!$G$1:$I$136, 3, FALSE )","v":"純物質"},null,{"$f":"VLOOKUP(C93,工作表9!$G$1:$H$142, 2, FALSE )","v":14800},0]
[null,null,23,{"$f":"VLOOKUP(C94,工作表9!$G$1:$I$136, 3, FALSE )","v":"純物質"},null,{"$f":"VLOOKUP(C94,工作表9!$G$1:$H$142, 2, FALSE )","v":14800},0]
[null,null,23,{"$f":"VLOOKUP(C95,工作表9!$G$1:$I$136, 3, FALSE )","v":"純物質"},null,{"$f":"VLOOKUP(C95,工作表9!$G$1:$H$142, 2, FALSE )","v":14800},0]
[null,null,23,{"$f":"VLOOKUP(C96,工作表9!$G$1:$I$136, 3, FALSE )","v":"純物質"},null,{"$f":"VLOOKUP(C96,工作表9!$G$1:$H$142, 2, FALSE )","v":14800},0]
[null,null,23,{"$f":"VLOOKUP(C97,工作表9!$G$1:$I$136, 3, FALSE )","v":"純物質"},null,{"$f":"VLOOKUP(C97,工作表9!$G$1:$H$142, 2, FALSE )","v":14800},0]
[null,null,23,{"$f":"VLOOKUP(C98,工作表9!$G$1:$I$136, 3, FALSE )","v":"純物質"},null,{"$f":"VLOOKUP(C98,工作表9!$G$1:$H$142, 2, FALSE )","v":14800},0]
[null,null,23,{"$f":"VLOOKUP(C99,工作表9!$G$1:$I$136, 3, FALSE )","v":"純物質"},null,{"$f":"VLOOKUP(C99,工作表9!$G$1:$H$142, 2, FALSE )","v":14800},0]
[null,null,23,{"$f":"VLOOKUP(C100,工作表9!$G$1:$I$136, 3, FALSE )","v":"純物質"},null,{"$f":"VLOOKUP(C100,工作表9!$G$1:$H$142, 2, FALSE )","v":14800},0]
[null,null,23,{"$f":"VLOOKUP(C101,工作表9!$G$1:$I$136, 3, FALSE )","v":"純物質"},null,{"$f":"VLOOKUP(C101,工作表9!$G$1:$H$142, 2, FALSE )","v":14800},0]
[null,null,23,{"$f":"VLOOKUP(C102,工作表9!$G$1:$I$136, 3, FALSE )","v":"純物質"},null,{"$f":"VLOOKUP(C102,工作表9!$G$1:$H$142, 2, FALSE )","v":14800},0]
[null,null,23,{"$f":"VLOOKUP(C103,工作表9!$G$1:$I$136, 3, FALSE )","v":"純物質"},null,{"$f":"VLOOKUP(C103,工作表9!$G$1:$H$142, 2, FALSE )","v":14800},0]
[null,null,23,{"$f":"VLOOKUP(C104,工作表9!$G$1:$I$136, 3, FALSE )","v":"純物質"},null,{"$f":"VLOOKUP(C104,工作表9!$G$1:$H$142, 2, FALSE )","v":14800},0]
[null,null,23,{"$f":"VLOOKUP(C105,工作表9!$G$1:$I$136, 3, FALSE )","v":"純物質"},null,{"$f":"VLOOKUP(C105,工作表9!$G$1:$H$142, 2, FALSE )","v":14800},0]
[null,null,23,{"$f":"VLOOKUP(C106,工作表9!$G$1:$I$136, 3, FALSE )","v":"純物質"},null,{"$f":"VLOOKUP(C106,工作表9!$G$1:$H$142, 2, FALSE )","v":14800},0]
[null,null,23,{"$f":"VLOOKUP(C107,工作表9!$G$1:$I$136, 3, FALSE )","v":"純物質"},null,{"$f":"VLOOKUP(C107,工作表9!$G$1:$H$142, 2, FALSE )","v":14800},0]
[null,null,23,{"$f":"VLOOKUP(C108,工作表9!$G$1:$I$136, 3, FALSE )","v":"純物質"},null,{"$f":"VLOOKUP(C108,工作表9!$G$1:$H$142, 2, FALSE )","v":14800},0]
[null,null,23,{"$f":"VLOOKUP(C109,工作表9!$G$1:$I$136, 3, FALSE )","v":"純物質"},null,{"$f":"VLOOKUP(C109,工作表9!$G$1:$H$142, 2, FALSE )","v":14800},0]
[null,null,23,{"$f":"VLOOKUP(C110,工作表9!$G$1:$I$136, 3, FALSE )","v":"純物質"},null,{"$f":"VLOOKUP(C110,工作表9!$G$1:$H$142, 2, FALSE )","v":14800},0]
[null,null,23,{"$f":"VLOOKUP(C111,工作表9!$G$1:$I$136, 3, FALSE )","v":"純物質"},null,{"$f":"VLOOKUP(C111,工作表9!$G$1:$H$142, 2, FALSE )","v":14800},0]
[null,null,23,{"$f":"VLOOKUP(C112,工作表9!$G$1:$I$136, 3, FALSE )","v":"純物質"},null,{"$f":"VLOOKUP(C112,工作表9!$G$1:$H$142, 2, FALSE )","v":14800},0]
[null,null,23,{"$f":"VLOOKUP(C113,工作表9!$G$1:$I$136, 3, FALSE )","v":"純物質"},null,{"$f":"VLOOKUP(C113,工作表9!$G$1:$H$142, 2, FALSE )","v":14800},0]
[null,null,23,{"$f":"VLOOKUP(C114,工作表9!$G$1:$I$136, 3, FALSE )","v":"純物質"},null,{"$f":"VLOOKUP(C114,工作表9!$G$1:$H$142, 2, FALSE )","v":14800},0]
[null,null,23,{"$f":"VLOOKUP(C115,工作表9!$G$1:$I$136, 3, FALSE )","v":"純物質"},null,{"$f":"VLOOKUP(C115,工作表9!$G$1:$H$142, 2, FALSE )","v":14800},0]
[null,null,23,{"$f":"VLOOKUP(C116,工作表9!$G$1:$I$136, 3, FALSE )","v":"純物質"},null,{"$f":"VLOOKUP(C116,工作表9!$G$1:$H$142, 2, FALSE )","v":14800},0]
[null,null,23,{"$f":"VLOOKUP(C117,工作表9!$G$1:$I$136, 3, FALSE )","v":"純物質"},null,{"$f":"VLOOKUP(C117,工作表9!$G$1:$H$142, 2, FALSE )","v":14800},0]
[null,null,23,{"$f":"VLOOKUP(C118,工作表9!$G$1:$I$136, 3, FALSE )","v":"純物質"},null,{"$f":"VLOOKUP(C118,工作表9!$G$1:$H$142, 2, FALSE )","v":14800},0]
[null,null,23,{"$f":"VLOOKUP(C119,工作表9!$G$1:$I$136, 3, FALSE )","v":"純物質"},null,{"$f":"VLOOKUP(C119,工作表9!$G$1:$H$142, 2, FALSE )","v":14800},0]
[null,null,23,{"$f":"VLOOKUP(C120,工作表9!$G$1:$I$136, 3, FALSE )","v":"純物質"},null,{"$f":"VLOOKUP(C120,工作表9!$G$1:$H$142, 2, FALSE )","v":14800},0]
[null,null,23,{"$f":"VLOOKUP(C121,工作表9!$G$1:$I$136, 3, FALSE )","v":"純物質"},null,{"$f":"VLOOKUP(C121,工作表9!$G$1:$H$142, 2, FALSE )","v":14800},0]
[null,null,23,{"$f":"VLOOKUP(C122,工作表9!$G$1:$I$136, 3, FALSE )","v":"純物質"},null,{"$f":"VLOOKUP(C122,工作表9!$G$1:$H$142, 2, FALSE )","v":14800},0]
[null,null,23,{"$f":"VLOOKUP(C123,工作表9!$G$1:$I$136, 3, FALSE )","v":"純物質"},null,{"$f":"VLOOKUP(C123,工作表9!$G$1:$H$142, 2, FALSE )","v":14800},0]
[null,null,23,{"$f":"VLOOKUP(C124,工作表9!$G$1:$I$136, 3, FALSE )","v":"純物質"},null,{"$f":"VLOOKUP(C124,工作表9!$G$1:$H$142, 2, FALSE )","v":14800},0]
[null,null,23,{"$f":"VLOOKUP(C125,工作表9!$G$1:$I$136, 3, FALSE )","v":"純物質"},null,{"$f":"VLOOKUP(C125,工作表9!$G$1:$H$142, 2, FALSE )","v":14800},0]
[null,null,23,{"$f":"VLOOKUP(C126,工作表9!$G$1:$I$136, 3, FALSE )","v":"純物質"},null,{"$f":"VLOOKUP(C126,工作表9!$G$1:$H$142, 2, FALSE )","v":14800},0]
[null,null,23,{"$f":"VLOOKUP(C127,工作表9!$G$1:$I$136, 3, FALSE )","v":"純物質"},null,{"$f":"VLOOKUP(C127,工作表9!$G$1:$H$142, 2, FALSE )","v":14800},0]
[null,null,23,{"$f":"VLOOKUP(C128,工作表9!$G$1:$I$136, 3, FALSE )","v":"純物質"},null,{"$f":"VLOOKUP(C128,工作表9!$G$1:$H$142, 2, FALSE )","v":14800},0]
[null,null,23,{"$f":"VLOOKUP(C129,工作表9!$G$1:$I$136, 3, FALSE )","v":"純物質"},null,{"$f":"VLOOKUP(C129,工作表9!$G$1:$H$142, 2, FALSE )","v":14800},0]
[null,null,23,{"$f":"VLOOKUP(C130,工作表9!$G$1:$I$136, 3, FALSE )","v":"純物質"},null,{"$f":"VLOOKUP(C130,工作表9!$G$1:$H$142, 2, FALSE )","v":14800},0]
[null,null,23,{"$f":"VLOOKUP(C131,工作表9!$G$1:$I$136, 3, FALSE )","v":"純物質"},null,{"$f":"VLOOKUP(C131,工作表9!$G$1:$H$142, 2, FALSE )","v":14800},0]
[null,null,23,{"$f":"VLOOKUP(C132,工作表9!$G$1:$I$136, 3, FALSE )","v":"純物質"},null,{"$f":"VLOOKUP(C132,工作表9!$G$1:$H$142, 2, FALSE )","v":14800},0]
[null,null,23,{"$f":"VLOOKUP(C133,工作表9!$G$1:$I$136, 3, FALSE )","v":"純物質"},null,{"$f":"VLOOKUP(C133,工作表9!$G$1:$H$142, 2, FALSE )","v":14800},0]
[null,null,23,{"$f":"VLOOKUP(C134,工作表9!$G$1:$I$136, 3, FALSE )","v":"純物質"},null,{"$f":"VLOOKUP(C134,工作表9!$G$1:$H$142, 2, FALSE )","v":14800},{"$f":"E134*F134","v":0}]
[null,null,23,{"$f":"VLOOKUP(C135,工作表9!$G$1:$I$136, 3, FALSE )","v":"純物質"},null,{"$f":"VLOOKUP(C135,工作表9!$G$1:$H$142, 2, FALSE )","v":14800},0]
[null,null,23,{"$f":"VLOOKUP(C136,工作表9!$G$1:$I$136, 3, FALSE )","v":"純物質"},null,{"$f":"VLOOKUP(C136,工作表9!$G$1:$H$142, 2, FALSE )","v":14800},0]
[null,null,23,{"$f":"VLOOKUP(C137,工作表9!$G$1:$I$136, 3, FALSE )","v":"純物質"},null,{"$f":"VLOOKUP(C137,工作表9!$G$1:$H$142, 2, FALSE )","v":14800},0]
[null,null,23,{"$f":"VLOOKUP(C138,工作表9!$G$1:$I$136, 3, FALSE )","v":"純物質"},null,{"$f":"VLOOKUP(C138,工作表9!$G$1:$H$142, 2, FALSE )","v":14800},0]
[null,null,23,{"$f":"VLOOKUP(C139,工作表9!$G$1:$I$136, 3, FALSE )","v":"純物質"},null,{"$f":"VLOOKUP(C139,工作表9!$G$1:$H$142, 2, FALSE )","v":14800},0]
[null,null,23,{"$f":"VLOOKUP(C140,工作表9!$G$1:$I$136, 3, FALSE )","v":"純物質"},null,{"$f":"VLOOKUP(C140,工作表9!$G$1:$H$142, 2, FALSE )","v":14800},0]
[null,null,23,{"$f":"VLOOKUP(C141,工作表9!$G$1:$I$136, 3, FALSE )","v":"純物質"},null,{"$f":"VLOOKUP(C141,工作表9!$G$1:$H$142, 2, FALSE )","v":14800},0]
[null,null,23,{"$f":"VLOOKUP(C142,工作表9!$G$1:$I$136, 3, FALSE )","v":"純物質"},null,{"$f":"VLOOKUP(C142,工作表9!$G$1:$H$142, 2, FALSE )","v":14800},0]
[null,null,23,{"$f":"VLOOKUP(C143,工作表9!$G$1:$I$136, 3, FALSE )","v":"純物質"},null,{"$f":"VLOOKUP(C143,工作表9!$G$1:$H$142, 2, FALSE )","v":14800},0]
[null,null,23,{"$f":"VLOOKUP(C144,工作表9!$G$1:$I$136, 3, FALSE )","v":"純物質"},null,{"$f":"VLOOKUP(C144,工作表9!$G$1:$H$142, 2, FALSE )","v":14800},0]
[null,null,23,{"$f":"VLOOKUP(C145,工作表9!$G$1:$I$136, 3, FALSE )","v":"純物質"},null,{"$f":"VLOOKUP(C145,工作表9!$G$1:$H$142, 2, FALSE )","v":14800},0]
[null,null,23,{"$f":"VLOOKUP(C146,工作表9!$G$1:$I$136, 3, FALSE )","v":"純物質"},null,{"$f":"VLOOKUP(C146,工作表9!$G$1:$H$142, 2, FALSE )","v":14800},0]
[null,null,23,{"$f":"VLOOKUP(C147,工作表9!$G$1:$I$136, 3, FALSE )","v":"純物質"},null,{"$f":"VLOOKUP(C147,工作表9!$G$1:$H$142, 2, FALSE )","v":14800},0]
[null,null,23,{"$f":"VLOOKUP(C148,工作表9!$G$1:$I$136, 3, FALSE )","v":"純物質"},null,{"$f":"VLOOKUP(C148,工作表9!$G$1:$H$142, 2, FALSE )","v":14800},0]
[null,null,23,{"$f":"VLOOKUP(C149,工作表9!$G$1:$I$136, 3, FALSE )","v":"純物質"},null,{"$f":"VLOOKUP(C149,工作表9!$G$1:$H$142, 2, FALSE )","v":14800},0]
[null,null,23,{"$f":"VLOOKUP(C150,工作表9!$G$1:$I$136, 3, FALSE )","v":"純物質"},null,{"$f":"VLOOKUP(C150,工作表9!$G$1:$H$142, 2, FALSE )","v":14800},0]
[null,null,23,{"$f":"VLOOKUP(C151,工作表9!$G$1:$I$136, 3, FALSE )","v":"純物質"},null,{"$f":"VLOOKUP(C151,工作表9!$G$1:$H$142, 2, FALSE )","v":14800},0]
[null,null,23,{"$f":"VLOOKUP(C152,工作表9!$G$1:$I$136, 3, FALSE )","v":"純物質"},null,{"$f":"VLOOKUP(C152,工作表9!$G$1:$H$142, 2, FALSE )","v":14800},0]
[null,null,23,{"$f":"VLOOKUP(C153,工作表9!$G$1:$I$136, 3, FALSE )","v":"純物質"},null,{"$f":"VLOOKUP(C153,工作表9!$G$1:$H$142, 2, FALSE )","v":14800},0]
[null,null,23,{"$f":"VLOOKUP(C154,工作表9!$G$1:$I$136, 3, FALSE )","v":"純物質"},null,{"$f":"VLOOKUP(C154,工作表9!$G$1:$H$142, 2, FALSE )","v":14800},0]
[null,null,23,{"$f":"VLOOKUP(C155,工作表9!$G$1:$I$136, 3, FALSE )","v":"純物質"},null,{"$f":"VLOOKUP(C155,工作表9!$G$1:$H$142, 2, FALSE )","v":14800},0]
[null,null,23,{"$f":"VLOOKUP(C156,工作表9!$G$1:$I$136, 3, FALSE )","v":"純物質"},null,{"$f":"VLOOKUP(C156,工作表9!$G$1:$H$142, 2, FALSE )","v":14800},0]
[null,null,23,{"$f":"VLOOKUP(C157,工作表9!$G$1:$I$136, 3, FALSE )","v":"純物質"},null,{"$f":"VLOOKUP(C157,工作表9!$G$1:$H$142, 2, FALSE )","v":14800},0]
[null,null,23,{"$f":"VLOOKUP(C158,工作表9!$G$1:$I$136, 3, FALSE )","v":"純物質"},null,{"$f":"VLOOKUP(C158,工作表9!$G$1:$H$142, 2, FALSE )","v":14800},0]
[null,null,23,{"$f":"VLOOKUP(C159,工作表9!$G$1:$I$136, 3, FALSE )","v":"純物質"},null,{"$f":"VLOOKUP(C159,工作表9!$G$1:$H$142, 2, FALSE )","v":14800},0]
[null,null,23,{"$f":"VLOOKUP(C160,工作表9!$G$1:$I$136, 3, FALSE )","v":"純物質"},null,{"$f":"VLOOKUP(C160,工作表9!$G$1:$H$142, 2, FALSE )","v":14800},0]
[null,null,23,{"$f":"VLOOKUP(C161,工作表9!$G$1:$I$136, 3, FALSE )","v":"純物質"},null,{"$f":"VLOOKUP(C161,工作表9!$G$1:$H$142, 2, FALSE )","v":14800},0]
[null,null,23,{"$f":"VLOOKUP(C162,工作表9!$G$1:$I$136, 3, FALSE )","v":"純物質"},null,{"$f":"VLOOKUP(C162,工作表9!$G$1:$H$142, 2, FALSE )","v":14800},0]
[null,null,23,{"$f":"VLOOKUP(C163,工作表9!$G$1:$I$136, 3, FALSE )","v":"純物質"},null,{"$f":"VLOOKUP(C163,工作表9!$G$1:$H$142, 2, FALSE )","v":14800},0]
[null,null,23,{"$f":"VLOOKUP(C164,工作表9!$G$1:$I$136, 3, FALSE )","v":"純物質"},null,{"$f":"VLOOKUP(C164,工作表9!$G$1:$H$142, 2, FALSE )","v":14800},0]
[null,null,23,{"$f":"VLOOKUP(C165,工作表9!$G$1:$I$136, 3, FALSE )","v":"純物質"},null,{"$f":"VLOOKUP(C165,工作表9!$G$1:$H$142, 2, FALSE )","v":14800},0]
[null,null,23,{"$f":"VLOOKUP(C166,工作表9!$G$1:$I$136, 3, FALSE )","v":"純物質"},null,{"$f":"VLOOKUP(C166,工作表9!$G$1:$H$142, 2, FALSE )","v":14800},0]
[null,null,23,{"$f":"VLOOKUP(C167,工作表9!$G$1:$I$136, 3, FALSE )","v":"純物質"},null,{"$f":"VLOOKUP(C167,工作表9!$G$1:$H$142, 2, FALSE )","v":14800},0]
[null,null,23,{"$f":"VLOOKUP(C168,工作表9!$G$1:$I$136, 3, FALSE )","v":"純物質"},null,{"$f":"VLOOKUP(C168,工作表9!$G$1:$H$142, 2, FALSE )","v":14800},0]
[null,null,23,{"$f":"VLOOKUP(C169,工作表9!$G$1:$I$136, 3, FALSE )","v":"純物質"},null,{"$f":"VLOOKUP(C169,工作表9!$G$1:$H$142, 2, FALSE )","v":14800},0]
[null,null,23,{"$f":"VLOOKUP(C170,工作表9!$G$1:$I$136, 3, FALSE )","v":"純物質"},null,{"$f":"VLOOKUP(C170,工作表9!$G$1:$H$142, 2, FALSE )","v":14800},0]
[null,null,23,{"$f":"VLOOKUP(C171,工作表9!$G$1:$I$136, 3, FALSE )","v":"純物質"},null,{"$f":"VLOOKUP(C171,工作表9!$G$1:$H$142, 2, FALSE )","v":14800},0]
[null,null,23,{"$f":"VLOOKUP(C172,工作表9!$G$1:$I$136, 3, FALSE )","v":"純物質"},null,{"$f":"VLOOKUP(C172,工作表9!$G$1:$H$142, 2, FALSE )","v":14800},0]
[null,null,23,{"$f":"VLOOKUP(C173,工作表9!$G$1:$I$136, 3, FALSE )","v":"純物質"},null,{"$f":"VLOOKUP(C173,工作表9!$G$1:$H$142, 2, FALSE )","v":14800},0]
[null,null,23,{"$f":"VLOOKUP(C174,工作表9!$G$1:$I$136, 3, FALSE )","v":"純物質"},null,{"$f":"VLOOKUP(C174,工作表9!$G$1:$H$142, 2, FALSE )","v":14800},0]
[null,null,23,{"$f":"VLOOKUP(C175,工作表9!$G$1:$I$136, 3, FALSE )","v":"純物質"},null,{"$f":"VLOOKUP(C175,工作表9!$G$1:$H$142, 2, FALSE )","v":14800},0]
[null,null,23,{"$f":"VLOOKUP(C176,工作表9!$G$1:$I$136, 3, FALSE )","v":"純物質"},null,{"$f":"VLOOKUP(C176,工作表9!$G$1:$H$142, 2, FALSE )","v":14800},0]
[null,null,23,{"$f":"VLOOKUP(C177,工作表9!$G$1:$I$136, 3, FALSE )","v":"純物質"},null,{"$f":"VLOOKUP(C177,工作表9!$G$1:$H$142, 2, FALSE )","v":14800},0]
[null,null,23,{"$f":"VLOOKUP(C178,工作表9!$G$1:$I$136, 3, FALSE )","v":"純物質"},null,{"$f":"VLOOKUP(C178,工作表9!$G$1:$H$142, 2, FALSE )","v":14800},0]
[null,null,23,{"$f":"VLOOKUP(C179,工作表9!$G$1:$I$136, 3, FALSE )","v":"純物質"},null,{"$f":"VLOOKUP(C179,工作表9!$G$1:$H$142, 2, FALSE )","v":14800},0]
[null,null,23,{"$f":"VLOOKUP(C180,工作表9!$G$1:$I$136, 3, FALSE )","v":"純物質"},null,{"$f":"VLOOKUP(C180,工作表9!$G$1:$H$142, 2, FALSE )","v":14800},0]
[null,null,23,{"$f":"VLOOKUP(C181,工作表9!$G$1:$I$136, 3, FALSE )","v":"純物質"},null,{"$f":"VLOOKUP(C181,工作表9!$G$1:$H$142, 2, FALSE )","v":14800},0]
[null,null,23,{"$f":"VLOOKUP(C182,工作表9!$G$1:$I$136, 3, FALSE )","v":"純物質"},null,{"$f":"VLOOKUP(C182,工作表9!$G$1:$H$142, 2, FALSE )","v":14800},0]
[null,null,23,{"$f":"VLOOKUP(C183,工作表9!$G$1:$I$136, 3, FALSE )","v":"純物質"},null,{"$f":"VLOOKUP(C183,工作表9!$G$1:$H$142, 2, FALSE )","v":14800},0]
[null,null,23,{"$f":"VLOOKUP(C184,工作表9!$G$1:$I$136, 3, FALSE )","v":"純物質"},null,{"$f":"VLOOKUP(C184,工作表9!$G$1:$H$142, 2, FALSE )","v":14800},0]
[null,null,23,{"$f":"VLOOKUP(C185,工作表9!$G$1:$I$136, 3, FALSE )","v":"純物質"},null,{"$f":"VLOOKUP(C185,工作表9!$G$1:$H$142, 2, FALSE )","v":14800},0]
[null,null,23,{"$f":"VLOOKUP(C186,工作表9!$G$1:$I$136, 3, FALSE )","v":"純物質"},null,{"$f":"VLOOKUP(C186,工作表9!$G$1:$H$142, 2, FALSE )","v":14800},0]
[null,null,23,{"$f":"VLOOKUP(C187,工作表9!$G$1:$I$136, 3, FALSE )","v":"純物質"},null,{"$f":"VLOOKUP(C187,工作表9!$G$1:$H$142, 2, FALSE )","v":14800},0]
[null,null,23,{"$f":"VLOOKUP(C188,工作表9!$G$1:$I$136, 3, FALSE )","v":"純物質"},null,{"$f":"VLOOKUP(C188,工作表9!$G$1:$H$142, 2, FALSE )","v":14800},0]
[null,null,23,{"$f":"VLOOKUP(C189,工作表9!$G$1:$I$136, 3, FALSE )","v":"純物質"},null,{"$f":"VLOOKUP(C189,工作表9!$G$1:$H$142, 2, FALSE )","v":14800},0]
[null,null,23,{"$f":"VLOOKUP(C190,工作表9!$G$1:$I$136, 3, FALSE )","v":"純物質"},null,{"$f":"VLOOKUP(C190,工作表9!$G$1:$H$142, 2, FALSE )","v":14800},0]
[null,null,23,{"$f":"VLOOKUP(C191,工作表9!$G$1:$I$136, 3, FALSE )","v":"純物質"},null,{"$f":"VLOOKUP(C191,工作表9!$G$1:$H$142, 2, FALSE )","v":14800},0]
[null,null,23,{"$f":"VLOOKUP(C192,工作表9!$G$1:$I$136, 3, FALSE )","v":"純物質"},null,{"$f":"VLOOKUP(C192,工作表9!$G$1:$H$142, 2, FALSE )","v":14800},0]
[null,null,23,{"$f":"VLOOKUP(C193,工作表9!$G$1:$I$136, 3, FALSE )","v":"純物質"},null,{"$f":"VLOOKUP(C193,工作表9!$G$1:$H$142, 2, FALSE )","v":14800},0]
[null,null,23,{"$f":"VLOOKUP(C194,工作表9!$G$1:$I$136, 3, FALSE )","v":"純物質"},null,{"$f":"VLOOKUP(C194,工作表9!$G$1:$H$142, 2, FALSE )","v":14800},0]
[null,null,23,{"$f":"VLOOKUP(C195,工作表9!$G$1:$I$136, 3, FALSE )","v":"純物質"},null,{"$f":"VLOOKUP(C195,工作表9!$G$1:$H$142, 2, FALSE )","v":14800},0]
[null,null,23,{"$f":"VLOOKUP(C196,工作表9!$G$1:$I$136, 3, FALSE )","v":"純物質"},null,{"$f":"VLOOKUP(C196,工作表9!$G$1:$H$142, 2, FALSE )","v":14800},0]
[null,null,23,{"$f":"VLOOKUP(C197,工作表9!$G$1:$I$136, 3, FALSE )","v":"純物質"},null,{"$f":"VLOOKUP(C197,工作表9!$G$1:$H$142, 2, FALSE )","v":14800},0]
[null,null,23,{"$f":"VLOOKUP(C198,工作表9!$G$1:$I$136, 3, FALSE )","v":"純物質"},null,{"$f":"VLOOKUP(C198,工作表9!$G$1:$H$142, 2, FALSE )","v":14800},{"$f":"E198*F198","v":0}]
[null,null,23,{"$f":"VLOOKUP(C199,工作表9!$G$1:$I$136, 3, FALSE )","v":"純物質"},null,{"$f":"VLOOKUP(C199,工作表9!$G$1:$H$142, 2, FALSE )","v":14800},0]
[null,null,23,{"$f":"VLOOKUP(C200,工作表9!$G$1:$I$136, 3, FALSE )","v":"純物質"},null,{"$f":"VLOOKUP(C200,工作表9!$G$1:$H$142, 2, FALSE )","v":14800},0]
[null,null,23,{"$f":"VLOOKUP(C201,工作表9!$G$1:$I$136, 3, FALSE )","v":"純物質"},null,{"$f":"VLOOKUP(C201,工作表9!$G$1:$H$142, 2, FALSE )","v":14800},0]
[null,null,23,{"$f":"VLOOKUP(C202,工作表9!$G$1:$I$136, 3, FALSE )","v":"純物質"},null,{"$f":"VLOOKUP(C202,工作表9!$G$1:$H$142, 2, FALSE )","v":14800},0]
[null,null,23,{"$f":"VLOOKUP(C203,工作表9!$G$1:$I$136, 3, FALSE )","v":"純物質"},null,{"$f":"VLOOKUP(C203,工作表9!$G$1:$H$142, 2, FALSE )","v":14800},0]
[null,null,23,{"$f":"VLOOKUP(C204,工作表9!$G$1:$I$136, 3, FALSE )","v":"純物質"},null,{"$f":"VLOOKUP(C204,工作表9!$G$1:$H$142, 2, FALSE )","v":14800},0]
[null,null,23,{"$f":"VLOOKUP(C205,工作表9!$G$1:$I$136, 3, FALSE )","v":"純物質"},null,{"$f":"VLOOKUP(C205,工作表9!$G$1:$H$142, 2, FALSE )","v":14800},0]
[null,null,23,{"$f":"VLOOKUP(C206,工作表9!$G$1:$I$136, 3, FALSE )","v":"純物質"},null,{"$f":"VLOOKUP(C206,工作表9!$G$1:$H$142, 2, FALSE )","v":14800},0]
[null,null,23,{"$f":"VLOOKUP(C207,工作表9!$G$1:$I$136, 3, FALSE )","v":"純物質"},null,{"$f":"VLOOKUP(C207,工作表9!$G$1:$H$142, 2, FALSE )","v":14800},0]
[null,null,23,{"$f":"VLOOKUP(C208,工作表9!$G$1:$I$136, 3, FALSE )","v":"純物質"},null,{"$f":"VLOOKUP(C208,工作表9!$G$1:$H$142, 2, FALSE )","v":14800},0]
[null,null,23,{"$f":"VLOOKUP(C209,工作表9!$G$1:$I$136, 3, FALSE )","v":"純物質"},null,{"$f":"VLOOKUP(C209,工作表9!$G$1:$H$142, 2, FALSE )","v":14800},0]
[null,null,23,{"$f":"VLOOKUP(C210,工作表9!$G$1:$I$136, 3, FALSE )","v":"純物質"},null,{"$f":"VLOOKUP(C210,工作表9!$G$1:$H$142, 2, FALSE )","v":14800},0]
[null,null,23,{"$f":"VLOOKUP(C211,工作表9!$G$1:$I$136, 3, FALSE )","v":"純物質"},null,{"$f":"VLOOKUP(C211,工作表9!$G$1:$H$142, 2, FALSE )","v":14800},0]
[null,null,23,{"$f":"VLOOKUP(C212,工作表9!$G$1:$I$136, 3, FALSE )","v":"純物質"},null,{"$f":"VLOOKUP(C212,工作表9!$G$1:$H$142, 2, FALSE )","v":14800},0]
[null,null,23,{"$f":"VLOOKUP(C213,工作表9!$G$1:$I$136, 3, FALSE )","v":"純物質"},null,{"$f":"VLOOKUP(C213,工作表9!$G$1:$H$142, 2, FALSE )","v":14800},0]
[null,null,23,{"$f":"VLOOKUP(C214,工作表9!$G$1:$I$136, 3, FALSE )","v":"純物質"},null,{"$f":"VLOOKUP(C214,工作表9!$G$1:$H$142, 2, FALSE )","v":14800},0]
[null,null,23,{"$f":"VLOOKUP(C215,工作表9!$G$1:$I$136, 3, FALSE )","v":"純物質"},null,{"$f":"VLOOKUP(C215,工作表9!$G$1:$H$142, 2, FALSE )","v":14800},0]
[null,null,23,{"$f":"VLOOKUP(C216,工作表9!$G$1:$I$136, 3, FALSE )","v":"純物質"},null,{"$f":"VLOOKUP(C216,工作表9!$G$1:$H$142, 2, FALSE )","v":14800},0]
[null,null,23,{"$f":"VLOOKUP(C217,工作表9!$G$1:$I$136, 3, FALSE )","v":"純物質"},null,{"$f":"VLOOKUP(C217,工作表9!$G$1:$H$142, 2, FALSE )","v":14800},0]
[null,null,23,{"$f":"VLOOKUP(C218,工作表9!$G$1:$I$136, 3, FALSE )","v":"純物質"},null,{"$f":"VLOOKUP(C218,工作表9!$G$1:$H$142, 2, FALSE )","v":14800},0]
[null,null,23,{"$f":"VLOOKUP(C219,工作表9!$G$1:$I$136, 3, FALSE )","v":"純物質"},null,{"$f":"VLOOKUP(C219,工作表9!$G$1:$H$142, 2, FALSE )","v":14800},0]
[null,null,23,{"$f":"VLOOKUP(C220,工作表9!$G$1:$I$136, 3, FALSE )","v":"純物質"},null,{"$f":"VLOOKUP(C220,工作表9!$G$1:$H$142, 2, FALSE )","v":14800},0]
[null,null,23,{"$f":"VLOOKUP(C221,工作表9!$G$1:$I$136, 3, FALSE )","v":"純物質"},null,{"$f":"VLOOKUP(C221,工作表9!$G$1:$H$142, 2, FALSE )","v":14800},0]
[null,null,23,{"$f":"VLOOKUP(C222,工作表9!$G$1:$I$136, 3, FALSE )","v":"純物質"},null,{"$f":"VLOOKUP(C222,工作表9!$G$1:$H$142, 2, FALSE )","v":14800},0]
[null,null,23,{"$f":"VLOOKUP(C223,工作表9!$G$1:$I$136, 3, FALSE )","v":"純物質"},null,{"$f":"VLOOKUP(C223,工作表9!$G$1:$H$142, 2, FALSE )","v":14800},0]
[null,null,23,{"$f":"VLOOKUP(C224,工作表9!$G$1:$I$136, 3, FALSE )","v":"純物質"},null,{"$f":"VLOOKUP(C224,工作表9!$G$1:$H$142, 2, FALSE )","v":14800},0]
[null,null,23,{"$f":"VLOOKUP(C225,工作表9!$G$1:$I$136, 3, FALSE )","v":"純物質"},null,{"$f":"VLOOKUP(C225,工作表9!$G$1:$H$142, 2, FALSE )","v":14800},0]
[null,null,23,{"$f":"VLOOKUP(C226,工作表9!$G$1:$I$136, 3, FALSE )","v":"純物質"},null,{"$f":"VLOOKUP(C226,工作表9!$G$1:$H$142, 2, FALSE )","v":14800},0]
[null,null,23,{"$f":"VLOOKUP(C227,工作表9!$G$1:$I$136, 3, FALSE )","v":"純物質"},null,{"$f":"VLOOKUP(C227,工作表9!$G$1:$H$142, 2, FALSE )","v":14800},0]
[null,null,23,{"$f":"VLOOKUP(C228,工作表9!$G$1:$I$136, 3, FALSE )","v":"純物質"},null,{"$f":"VLOOKUP(C228,工作表9!$G$1:$H$142, 2, FALSE )","v":14800},0]
[null,null,23,{"$f":"VLOOKUP(C229,工作表9!$G$1:$I$136, 3, FALSE )","v":"純物質"},null,{"$f":"VLOOKUP(C229,工作表9!$G$1:$H$142, 2, FALSE )","v":14800},0]
[null,null,23,{"$f":"VLOOKUP(C230,工作表9!$G$1:$I$136, 3, FALSE )","v":"純物質"},null,{"$f":"VLOOKUP(C230,工作表9!$G$1:$H$142, 2, FALSE )","v":14800},0]
[null,null,23,{"$f":"VLOOKUP(C231,工作表9!$G$1:$I$136, 3, FALSE )","v":"純物質"},null,{"$f":"VLOOKUP(C231,工作表9!$G$1:$H$142, 2, FALSE )","v":14800},0]
[null,null,23,{"$f":"VLOOKUP(C232,工作表9!$G$1:$I$136, 3, FALSE )","v":"純物質"},null,{"$f":"VLOOKUP(C232,工作表9!$G$1:$H$142, 2, FALSE )","v":14800},0]
[null,null,23,{"$f":"VLOOKUP(C233,工作表9!$G$1:$I$136, 3, FALSE )","v":"純物質"},null,{"$f":"VLOOKUP(C233,工作表9!$G$1:$H$142, 2, FALSE )","v":14800},0]
[null,null,23,{"$f":"VLOOKUP(C234,工作表9!$G$1:$I$136, 3, FALSE )","v":"純物質"},null,{"$f":"VLOOKUP(C234,工作表9!$G$1:$H$142, 2, FALSE )","v":14800},0]
[null,null,23,{"$f":"VLOOKUP(C235,工作表9!$G$1:$I$136, 3, FALSE )","v":"純物質"},null,{"$f":"VLOOKUP(C235,工作表9!$G$1:$H$142, 2, FALSE )","v":14800},0]
[null,null,23,{"$f":"VLOOKUP(C236,工作表9!$G$1:$I$136, 3, FALSE )","v":"純物質"},null,{"$f":"VLOOKUP(C236,工作表9!$G$1:$H$142, 2, FALSE )","v":14800},0]
[null,null,23,{"$f":"VLOOKUP(C237,工作表9!$G$1:$I$136, 3, FALSE )","v":"純物質"},null,{"$f":"VLOOKUP(C237,工作表9!$G$1:$H$142, 2, FALSE )","v":14800},0]
[null,null,23,{"$f":"VLOOKUP(C238,工作表9!$G$1:$I$136, 3, FALSE )","v":"純物質"},null,{"$f":"VLOOKUP(C238,工作表9!$G$1:$H$142, 2, FALSE )","v":14800},0]
[null,null,23,{"$f":"VLOOKUP(C239,工作表9!$G$1:$I$136, 3, FALSE )","v":"純物質"},null,{"$f":"VLOOKUP(C239,工作表9!$G$1:$H$142, 2, FALSE )","v":14800},0]
[null,null,23,{"$f":"VLOOKUP(C240,工作表9!$G$1:$I$136, 3, FALSE )","v":"純物質"},null,{"$f":"VLOOKUP(C240,工作表9!$G$1:$H$142, 2, FALSE )","v":14800},0]
[null,null,23,{"$f":"VLOOKUP(C241,工作表9!$G$1:$I$136, 3, FALSE )","v":"純物質"},null,{"$f":"VLOOKUP(C241,工作表9!$G$1:$H$142, 2, FALSE )","v":14800},0]
[null,null,23,{"$f":"VLOOKUP(C242,工作表9!$G$1:$I$136, 3, FALSE )","v":"純物質"},null,{"$f":"VLOOKUP(C242,工作表9!$G$1:$H$142, 2, FALSE )","v":14800},0]
[null,null,23,{"$f":"VLOOKUP(C243,工作表9!$G$1:$I$136, 3, FALSE )","v":"純物質"},null,{"$f":"VLOOKUP(C243,工作表9!$G$1:$H$142, 2, FALSE )","v":14800},0]
[null,null,23,{"$f":"VLOOKUP(C244,工作表9!$G$1:$I$136, 3, FALSE )","v":"純物質"},null,{"$f":"VLOOKUP(C244,工作表9!$G$1:$H$142, 2, FALSE )","v":14800},0]
[null,null,23,{"$f":"VLOOKUP(C245,工作表9!$G$1:$I$136, 3, FALSE )","v":"純物質"},null,{"$f":"VLOOKUP(C245,工作表9!$G$1:$H$142, 2, FALSE )","v":14800},0]
[null,null,23,{"$f":"VLOOKUP(C246,工作表9!$G$1:$I$136, 3, FALSE )","v":"純物質"},null,{"$f":"VLOOKUP(C246,工作表9!$G$1:$H$142, 2, FALSE )","v":14800},0]
[null,null,23,{"$f":"VLOOKUP(C247,工作表9!$G$1:$I$136, 3, FALSE )","v":"純物質"},null,{"$f":"VLOOKUP(C247,工作表9!$G$1:$H$142, 2, FALSE )","v":14800},0]
[null,null,23,{"$f":"VLOOKUP(C248,工作表9!$G$1:$I$136, 3, FALSE )","v":"純物質"},null,{"$f":"VLOOKUP(C248,工作表9!$G$1:$H$142, 2, FALSE )","v":14800},0]
[null,null,23,{"$f":"VLOOKUP(C249,工作表9!$G$1:$I$136, 3, FALSE )","v":"純物質"},null,{"$f":"VLOOKUP(C249,工作表9!$G$1:$H$142, 2, FALSE )","v":14800},0]
[null,null,23,{"$f":"VLOOKUP(C250,工作表9!$G$1:$I$136, 3, FALSE )","v":"純物質"},null,{"$f":"VLOOKUP(C250,工作表9!$G$1:$H$142, 2, FALSE )","v":14800},0]
[null,null,23,{"$f":"VLOOKUP(C251,工作表9!$G$1:$I$136, 3, FALSE )","v":"純物質"},null,{"$f":"VLOOKUP(C251,工作表9!$G$1:$H$142, 2, FALSE )","v":14800},0]
[null,null,23,{"$f":"VLOOKUP(C252,工作表9!$G$1:$I$136, 3, FALSE )","v":"純物質"},null,{"$f":"VLOOKUP(C252,工作表9!$G$1:$H$142, 2, FALSE )","v":14800},0]
[null,null,23,{"$f":"VLOOKUP(C253,工作表9!$G$1:$I$136, 3, FALSE )","v":"純物質"},null,{"$f":"VLOOKUP(C253,工作表9!$G$1:$H$142, 2, FALSE )","v":14800},0]
[null,null,23,{"$f":"VLOOKUP(C254,工作表9!$G$1:$I$136, 3, FALSE )","v":"純物質"},null,{"$f":"VLOOKUP(C254,工作表9!$G$1:$H$142, 2, FALSE )","v":14800},0]
[null,null,23,{"$f":"VLOOKUP(C255,工作表9!$G$1:$I$136, 3, FALSE )","v":"純物質"},null,{"$f":"VLOOKUP(C255,工作表9!$G$1:$H$142, 2, FALSE )","v":14800},0]
[null,null,23,{"$f":"VLOOKUP(C256,工作表9!$G$1:$I$136, 3, FALSE )","v":"純物質"},null,{"$f":"VLOOKUP(C256,工作表9!$G$1:$H$142, 2, FALSE )","v":14800},0]
[null,null,23,{"$f":"VLOOKUP(C257,工作表9!$G$1:$I$136, 3, FALSE )","v":"純物質"},null,{"$f":"VLOOKUP(C257,工作表9!$G$1:$H$142, 2, FALSE )","v":14800},0]
[null,null,23,{"$f":"VLOOKUP(C258,工作表9!$G$1:$I$136, 3, FALSE )","v":"純物質"},null,{"$f":"VLOOKUP(C258,工作表9!$G$1:$H$142, 2, FALSE )","v":14800},0]
[null,null,23,{"$f":"VLOOKUP(C259,工作表9!$G$1:$I$136, 3, FALSE )","v":"純物質"},null,{"$f":"VLOOKUP(C259,工作表9!$G$1:$H$142, 2, FALSE )","v":14800},0]
[null,null,23,{"$f":"VLOOKUP(C260,工作表9!$G$1:$I$136, 3, FALSE )","v":"純物質"},null,{"$f":"VLOOKUP(C260,工作表9!$G$1:$H$142, 2, FALSE )","v":14800},0]
[null,null,23,{"$f":"VLOOKUP(C261,工作表9!$G$1:$I$136, 3, FALSE )","v":"純物質"},null,{"$f":"VLOOKUP(C261,工作表9!$G$1:$H$142, 2, FALSE )","v":14800},0]
[null,null,23,{"$f":"VLOOKUP(C262,工作表9!$G$1:$I$136, 3, FALSE )","v":"純物質"},null,{"$f":"VLOOKUP(C262,工作表9!$G$1:$H$142, 2, FALSE )","v":14800},{"$f":"E262*F262","v":0}]
[null,null,23,{"$f":"VLOOKUP(C263,工作表9!$G$1:$I$136, 3, FALSE )","v":"純物質"},null,{"$f":"VLOOKUP(C263,工作表9!$G$1:$H$142, 2, FALSE )","v":14800},0]
[null,null,23,{"$f":"VLOOKUP(C264,工作表9!$G$1:$I$136, 3, FALSE )","v":"純物質"},null,{"$f":"VLOOKUP(C264,工作表9!$G$1:$H$142, 2, FALSE )","v":14800},0]
[null,null,23,{"$f":"VLOOKUP(C265,工作表9!$G$1:$I$136, 3, FALSE )","v":"純物質"},null,{"$f":"VLOOKUP(C265,工作表9!$G$1:$H$142, 2, FALSE )","v":14800},0]
[null,null,23,{"$f":"VLOOKUP(C266,工作表9!$G$1:$I$136, 3, FALSE )","v":"純物質"},null,{"$f":"VLOOKUP(C266,工作表9!$G$1:$H$142, 2, FALSE )","v":14800},0]
[null,null,23,{"$f":"VLOOKUP(C267,工作表9!$G$1:$I$136, 3, FALSE )","v":"純物質"},null,{"$f":"VLOOKUP(C267,工作表9!$G$1:$H$142, 2, FALSE )","v":14800},0]
[null,null,23,{"$f":"VLOOKUP(C268,工作表9!$G$1:$I$136, 3, FALSE )","v":"純物質"},null,{"$f":"VLOOKUP(C268,工作表9!$G$1:$H$142, 2, FALSE )","v":14800},0]
[null,null,23,{"$f":"VLOOKUP(C269,工作表9!$G$1:$I$136, 3, FALSE )","v":"純物質"},null,{"$f":"VLOOKUP(C269,工作表9!$G$1:$H$142, 2, FALSE )","v":14800},0]
[null,null,23,{"$f":"VLOOKUP(C270,工作表9!$G$1:$I$136, 3, FALSE )","v":"純物質"},null,{"$f":"VLOOKUP(C270,工作表9!$G$1:$H$142, 2, FALSE )","v":14800},0]
[null,null,23,{"$f":"VLOOKUP(C271,工作表9!$G$1:$I$136, 3, FALSE )","v":"純物質"},null,{"$f":"VLOOKUP(C271,工作表9!$G$1:$H$142, 2, FALSE )","v":14800},0]
[null,null,23,{"$f":"VLOOKUP(C272,工作表9!$G$1:$I$136, 3, FALSE )","v":"純物質"},null,{"$f":"VLOOKUP(C272,工作表9!$G$1:$H$142, 2, FALSE )","v":14800},0]
[null,null,23,{"$f":"VLOOKUP(C273,工作表9!$G$1:$I$136, 3, FALSE )","v":"純物質"},null,{"$f":"VLOOKUP(C273,工作表9!$G$1:$H$142, 2, FALSE )","v":14800},0]
[null,null,23,{"$f":"VLOOKUP(C274,工作表9!$G$1:$I$136, 3, FALSE )","v":"純物質"},null,{"$f":"VLOOKUP(C274,工作表9!$G$1:$H$142, 2, FALSE )","v":14800},0]
[null,null,23,{"$f":"VLOOKUP(C275,工作表9!$G$1:$I$136, 3, FALSE )","v":"純物質"},null,{"$f":"VLOOKUP(C275,工作表9!$G$1:$H$142, 2, FALSE )","v":14800},0]
[null,null,23,{"$f":"VLOOKUP(C276,工作表9!$G$1:$I$136, 3, FALSE )","v":"純物質"},null,{"$f":"VLOOKUP(C276,工作表9!$G$1:$H$142, 2, FALSE )","v":14800},0]
[null,null,23,{"$f":"VLOOKUP(C277,工作表9!$G$1:$I$136, 3, FALSE )","v":"純物質"},null,{"$f":"VLOOKUP(C277,工作表9!$G$1:$H$142, 2, FALSE )","v":14800},0]
[null,null,23,{"$f":"VLOOKUP(C278,工作表9!$G$1:$I$136, 3, FALSE )","v":"純物質"},null,{"$f":"VLOOKUP(C278,工作表9!$G$1:$H$142, 2, FALSE )","v":14800},0]
[null,null,23,{"$f":"VLOOKUP(C279,工作表9!$G$1:$I$136, 3, FALSE )","v":"純物質"},null,{"$f":"VLOOKUP(C279,工作表9!$G$1:$H$142, 2, FALSE )","v":14800},0]
[null,null,23,{"$f":"VLOOKUP(C280,工作表9!$G$1:$I$136, 3, FALSE )","v":"純物質"},null,{"$f":"VLOOKUP(C280,工作表9!$G$1:$H$142, 2, FALSE )","v":14800},0]
[null,null,23,{"$f":"VLOOKUP(C281,工作表9!$G$1:$I$136, 3, FALSE )","v":"純物質"},null,{"$f":"VLOOKUP(C281,工作表9!$G$1:$H$142, 2, FALSE )","v":14800},0]
[null,null,23,{"$f":"VLOOKUP(C282,工作表9!$G$1:$I$136, 3, FALSE )","v":"純物質"},null,{"$f":"VLOOKUP(C282,工作表9!$G$1:$H$142, 2, FALSE )","v":14800},0]
[null,null,23,{"$f":"VLOOKUP(C283,工作表9!$G$1:$I$136, 3, FALSE )","v":"純物質"},null,{"$f":"VLOOKUP(C283,工作表9!$G$1:$H$142, 2, FALSE )","v":14800},0]
[null,null,23,{"$f":"VLOOKUP(C284,工作表9!$G$1:$I$136, 3, FALSE )","v":"純物質"},null,{"$f":"VLOOKUP(C284,工作表9!$G$1:$H$142, 2, FALSE )","v":14800},0]
[null,null,23,{"$f":"VLOOKUP(C285,工作表9!$G$1:$I$136, 3, FALSE )","v":"純物質"},null,{"$f":"VLOOKUP(C285,工作表9!$G$1:$H$142, 2, FALSE )","v":14800},0]
[null,null,23,{"$f":"VLOOKUP(C286,工作表9!$G$1:$I$136, 3, FALSE )","v":"純物質"},null,{"$f":"VLOOKUP(C286,工作表9!$G$1:$H$142, 2, FALSE )","v":14800},0]
[null,null,23,{"$f":"VLOOKUP(C287,工作表9!$G$1:$I$136, 3, FALSE )","v":"純物質"},null,{"$f":"VLOOKUP(C287,工作表9!$G$1:$H$142, 2, FALSE )","v":14800},0]
[null,null,23,{"$f":"VLOOKUP(C288,工作表9!$G$1:$I$136, 3, FALSE )","v":"純物質"},null,{"$f":"VLOOKUP(C288,工作表9!$G$1:$H$142, 2, FALSE )","v":14800},0]
[null,null,23,{"$f":"VLOOKUP(C289,工作表9!$G$1:$I$136, 3, FALSE )","v":"純物質"},null,{"$f":"VLOOKUP(C289,工作表9!$G$1:$H$142, 2, FALSE )","v":14800},0]
[null,null,23,{"$f":"VLOOKUP(C290,工作表9!$G$1:$I$136, 3, FALSE )","v":"純物質"},null,{"$f":"VLOOKUP(C290,工作表9!$G$1:$H$142, 2, FALSE )","v":14800},0]
[null,null,23,{"$f":"VLOOKUP(C291,工作表9!$G$1:$I$136, 3, FALSE )","v":"純物質"},null,{"$f":"VLOOKUP(C291,工作表9!$G$1:$H$142, 2, FALSE )","v":14800},0]
[null,null,23,{"$f":"VLOOKUP(C292,工作表9!$G$1:$I$136, 3, FALSE )","v":"純物質"},null,{"$f":"VLOOKUP(C292,工作表9!$G$1:$H$142, 2, FALSE )","v":14800},0]
[null,null,23,{"$f":"VLOOKUP(C293,工作表9!$G$1:$I$136, 3, FALSE )","v":"純物質"},null,{"$f":"VLOOKUP(C293,工作表9!$G$1:$H$142, 2, FALSE )","v":14800},0]
[null,null,23,{"$f":"VLOOKUP(C294,工作表9!$G$1:$I$136, 3, FALSE )","v":"純物質"},null,{"$f":"VLOOKUP(C294,工作表9!$G$1:$H$142, 2, FALSE )","v":14800},0]
[null,null,23,{"$f":"VLOOKUP(C295,工作表9!$G$1:$I$136, 3, FALSE )","v":"純物質"},null,{"$f":"VLOOKUP(C295,工作表9!$G$1:$H$142, 2, FALSE )","v":14800},0]
[null,null,23,{"$f":"VLOOKUP(C296,工作表9!$G$1:$I$136, 3, FALSE )","v":"純物質"},null,{"$f":"VLOOKUP(C296,工作表9!$G$1:$H$142, 2, FALSE )","v":14800},0]
[null,null,23,{"$f":"VLOOKUP(C297,工作表9!$G$1:$I$136, 3, FALSE )","v":"純物質"},null,{"$f":"VLOOKUP(C297,工作表9!$G$1:$H$142, 2, FALSE )","v":14800},0]
[null,null,23,{"$f":"VLOOKUP(C298,工作表9!$G$1:$I$136, 3, FALSE )","v":"純物質"},null,{"$f":"VLOOKUP(C298,工作表9!$G$1:$H$142, 2, FALSE )","v":14800},0]
[null,null,23,{"$f":"VLOOKUP(C299,工作表9!$G$1:$I$136, 3, FALSE )","v":"純物質"},null,{"$f":"VLOOKUP(C299,工作表9!$G$1:$H$142, 2, FALSE )","v":14800},0]
[null,null,23,{"$f":"VLOOKUP(C300,工作表9!$G$1:$I$136, 3, FALSE )","v":"純物質"},null,{"$f":"VLOOKUP(C300,工作表9!$G$1:$H$142, 2, FALSE )","v":14800},0]
[null,null,23,{"$f":"VLOOKUP(C301,工作表9!$G$1:$I$136, 3, FALSE )","v":"純物質"},null,{"$f":"VLOOKUP(C301,工作表9!$G$1:$H$142, 2, FALSE )","v":14800},0]
[null,null,23,{"$f":"VLOOKUP(C302,工作表9!$G$1:$I$136, 3, FALSE )","v":"純物質"},null,{"$f":"VLOOKUP(C302,工作表9!$G$1:$H$142, 2, FALSE )","v":14800},0]
[null,null,23,{"$f":"VLOOKUP(C303,工作表9!$G$1:$I$136, 3, FALSE )","v":"純物質"},null,{"$f":"VLOOKUP(C303,工作表9!$G$1:$H$142, 2, FALSE )","v":14800},0]
[null,null,23,{"$f":"VLOOKUP(C304,工作表9!$G$1:$I$136, 3, FALSE )","v":"純物質"},null,{"$f":"VLOOKUP(C304,工作表9!$G$1:$H$142, 2, FALSE )","v":14800},0]
[null,null,23,{"$f":"VLOOKUP(C305,工作表9!$G$1:$I$136, 3, FALSE )","v":"純物質"},null,{"$f":"VLOOKUP(C305,工作表9!$G$1:$H$142, 2, FALSE )","v":14800},0]
[null,null,23,{"$f":"VLOOKUP(C306,工作表9!$G$1:$I$136, 3, FALSE )","v":"純物質"},null,{"$f":"VLOOKUP(C306,工作表9!$G$1:$H$142, 2, FALSE )","v":14800},0]
[null,null,23,{"$f":"VLOOKUP(C307,工作表9!$G$1:$I$136, 3, FALSE )","v":"純物質"},null,{"$f":"VLOOKUP(C307,工作表9!$G$1:$H$142, 2, FALSE )","v":14800},0]
[null,null,23,{"$f":"VLOOKUP(C308,工作表9!$G$1:$I$136, 3, FALSE )","v":"純物質"},null,{"$f":"VLOOKUP(C308,工作表9!$G$1:$H$142, 2, FALSE )","v":14800},0]
[null,null,23,{"$f":"VLOOKUP(C309,工作表9!$G$1:$I$136, 3, FALSE )","v":"純物質"},null,{"$f":"VLOOKUP(C309,工作表9!$G$1:$H$142, 2, FALSE )","v":14800},0]
[null,null,23,{"$f":"VLOOKUP(C310,工作表9!$G$1:$I$136, 3, FALSE )","v":"純物質"},null,{"$f":"VLOOKUP(C310,工作表9!$G$1:$H$142, 2, FALSE )","v":14800},0]
[null,null,23,{"$f":"VLOOKUP(C311,工作表9!$G$1:$I$136, 3, FALSE )","v":"純物質"},null,{"$f":"VLOOKUP(C311,工作表9!$G$1:$H$142, 2, FALSE )","v":14800},0]
[null,null,23,{"$f":"VLOOKUP(C312,工作表9!$G$1:$I$136, 3, FALSE )","v":"純物質"},null,{"$f":"VLOOKUP(C312,工作表9!$G$1:$H$142, 2, FALSE )","v":14800},0]
[null,null,23,{"$f":"VLOOKUP(C313,工作表9!$G$1:$I$136, 3, FALSE )","v":"純物質"},null,{"$f":"VLOOKUP(C313,工作表9!$G$1:$H$142, 2, FALSE )","v":14800},0]
[null,null,23,{"$f":"VLOOKUP(C314,工作表9!$G$1:$I$136, 3, FALSE )","v":"純物質"},null,{"$f":"VLOOKUP(C314,工作表9!$G$1:$H$142, 2, FALSE )","v":14800},0]
[null,null,23,{"$f":"VLOOKUP(C315,工作表9!$G$1:$I$136, 3, FALSE )","v":"純物質"},null,{"$f":"VLOOKUP(C315,工作表9!$G$1:$H$142, 2, FALSE )","v":14800},0]
[null,null,23,{"$f":"VLOOKUP(C316,工作表9!$G$1:$I$136, 3, FALSE )","v":"純物質"},null,{"$f":"VLOOKUP(C316,工作表9!$G$1:$H$142, 2, FALSE )","v":14800},0]
[null,null,23,{"$f":"VLOOKUP(C317,工作表9!$G$1:$I$136, 3, FALSE )","v":"純物質"},null,{"$f":"VLOOKUP(C317,工作表9!$G$1:$H$142, 2, FALSE )","v":14800},0]
[null,null,23,{"$f":"VLOOKUP(C318,工作表9!$G$1:$I$136, 3, FALSE )","v":"純物質"},null,{"$f":"VLOOKUP(C318,工作表9!$G$1:$H$142, 2, FALSE )","v":14800},0]
[null,null,23,{"$f":"VLOOKUP(C319,工作表9!$G$1:$I$136, 3, FALSE )","v":"純物質"},null,{"$f":"VLOOKUP(C319,工作表9!$G$1:$H$142, 2, FALSE )","v":14800},0]
[null,null,23,{"$f":"VLOOKUP(C320,工作表9!$G$1:$I$136, 3, FALSE )","v":"純物質"},null,{"$f":"VLOOKUP(C320,工作表9!$G$1:$H$142, 2, FALSE )","v":14800},0]
[null,null,23,{"$f":"VLOOKUP(C321,工作表9!$G$1:$I$136, 3, FALSE )","v":"純物質"},null,{"$f":"VLOOKUP(C321,工作表9!$G$1:$H$142, 2, FALSE )","v":14800},0]
[null,null,23,{"$f":"VLOOKUP(C322,工作表9!$G$1:$I$136, 3, FALSE )","v":"純物質"},null,{"$f":"VLOOKUP(C322,工作表9!$G$1:$H$142, 2, FALSE )","v":14800},0]
[null,null,23,{"$f":"VLOOKUP(C323,工作表9!$G$1:$I$136, 3, FALSE )","v":"純物質"},null,{"$f":"VLOOKUP(C323,工作表9!$G$1:$H$142, 2, FALSE )","v":14800},0]
[null,null,23,{"$f":"VLOOKUP(C324,工作表9!$G$1:$I$136, 3, FALSE )","v":"純物質"},null,{"$f":"VLOOKUP(C324,工作表9!$G$1:$H$142, 2, FALSE )","v":14800},0]
[null,null,23,{"$f":"VLOOKUP(C325,工作表9!$G$1:$I$136, 3, FALSE )","v":"純物質"},null,{"$f":"VLOOKUP(C325,工作表9!$G$1:$H$142, 2, FALSE )","v":14800},0]
[null,null,23,{"$f":"VLOOKUP(C326,工作表9!$G$1:$I$136, 3, FALSE )","v":"純物質"},null,{"$f":"VLOOKUP(C326,工作表9!$G$1:$H$142, 2, FALSE )","v":14800},{"$f":"E326*F326","v":0}]
[null,null,23,{"$f":"VLOOKUP(C327,工作表9!$G$1:$I$136, 3, FALSE )","v":"純物質"},null,{"$f":"VLOOKUP(C327,工作表9!$G$1:$H$142, 2, FALSE )","v":14800},0]
[null,null,23,{"$f":"VLOOKUP(C328,工作表9!$G$1:$I$136, 3, FALSE )","v":"純物質"},null,{"$f":"VLOOKUP(C328,工作表9!$G$1:$H$142, 2, FALSE )","v":14800},0]
[null,null,23,{"$f":"VLOOKUP(C329,工作表9!$G$1:$I$136, 3, FALSE )","v":"純物質"},null,{"$f":"VLOOKUP(C329,工作表9!$G$1:$H$142, 2, FALSE )","v":14800},0]
[null,null,23,{"$f":"VLOOKUP(C330,工作表9!$G$1:$I$136, 3, FALSE )","v":"純物質"},null,{"$f":"VLOOKUP(C330,工作表9!$G$1:$H$142, 2, FALSE )","v":14800},0]
[null,null,23,{"$f":"VLOOKUP(C331,工作表9!$G$1:$I$136, 3, FALSE )","v":"純物質"},null,{"$f":"VLOOKUP(C331,工作表9!$G$1:$H$142, 2, FALSE )","v":14800},0]
[null,null,23,{"$f":"VLOOKUP(C332,工作表9!$G$1:$I$136, 3, FALSE )","v":"純物質"},null,{"$f":"VLOOKUP(C332,工作表9!$G$1:$H$142, 2, FALSE )","v":14800},0]
[null,null,23,{"$f":"VLOOKUP(C333,工作表9!$G$1:$I$136, 3, FALSE )","v":"純物質"},null,{"$f":"VLOOKUP(C333,工作表9!$G$1:$H$142, 2, FALSE )","v":14800},0]
[null,null,23,{"$f":"VLOOKUP(C334,工作表9!$G$1:$I$136, 3, FALSE )","v":"純物質"},null,{"$f":"VLOOKUP(C334,工作表9!$G$1:$H$142, 2, FALSE )","v":14800},0]
[null,null,23,{"$f":"VLOOKUP(C335,工作表9!$G$1:$I$136, 3, FALSE )","v":"純物質"},null,{"$f":"VLOOKUP(C335,工作表9!$G$1:$H$142, 2, FALSE )","v":14800},0]
[null,null,23,{"$f":"VLOOKUP(C336,工作表9!$G$1:$I$136, 3, FALSE )","v":"純物質"},null,{"$f":"VLOOKUP(C336,工作表9!$G$1:$H$142, 2, FALSE )","v":14800},0]
[null,null,23,{"$f":"VLOOKUP(C337,工作表9!$G$1:$I$136, 3, FALSE )","v":"純物質"},null,{"$f":"VLOOKUP(C337,工作表9!$G$1:$H$142, 2, FALSE )","v":14800},0]
[null,null,23,{"$f":"VLOOKUP(C338,工作表9!$G$1:$I$136, 3, FALSE )","v":"純物質"},null,{"$f":"VLOOKUP(C338,工作表9!$G$1:$H$142, 2, FALSE )","v":14800},0]
[null,null,23,{"$f":"VLOOKUP(C339,工作表9!$G$1:$I$136, 3, FALSE )","v":"純物質"},null,{"$f":"VLOOKUP(C339,工作表9!$G$1:$H$142, 2, FALSE )","v":14800},0]
[null,null,23,{"$f":"VLOOKUP(C340,工作表9!$G$1:$I$136, 3, FALSE )","v":"純物質"},null,{"$f":"VLOOKUP(C340,工作表9!$G$1:$H$142, 2, FALSE )","v":14800},0]
[null,null,23,{"$f":"VLOOKUP(C341,工作表9!$G$1:$I$136, 3, FALSE )","v":"純物質"},null,{"$f":"VLOOKUP(C341,工作表9!$G$1:$H$142, 2, FALSE )","v":14800},0]
[null,null,23,{"$f":"VLOOKUP(C342,工作表9!$G$1:$I$136, 3, FALSE )","v":"純物質"},null,{"$f":"VLOOKUP(C342,工作表9!$G$1:$H$142, 2, FALSE )","v":14800},0]
[null,null,23,{"$f":"VLOOKUP(C343,工作表9!$G$1:$I$136, 3, FALSE )","v":"純物質"},null,{"$f":"VLOOKUP(C343,工作表9!$G$1:$H$142, 2, FALSE )","v":14800},0]
[null,null,23,{"$f":"VLOOKUP(C344,工作表9!$G$1:$I$136, 3, FALSE )","v":"純物質"},null,{"$f":"VLOOKUP(C344,工作表9!$G$1:$H$142, 2, FALSE )","v":14800},0]
[null,null,23,{"$f":"VLOOKUP(C345,工作表9!$G$1:$I$136, 3, FALSE )","v":"純物質"},null,{"$f":"VLOOKUP(C345,工作表9!$G$1:$H$142, 2, FALSE )","v":14800},0]
[null,null,23,{"$f":"VLOOKUP(C346,工作表9!$G$1:$I$136, 3, FALSE )","v":"純物質"},null,{"$f":"VLOOKUP(C346,工作表9!$G$1:$H$142, 2, FALSE )","v":14800},0]
[null,null,23,{"$f":"VLOOKUP(C347,工作表9!$G$1:$I$136, 3, FALSE )","v":"純物質"},null,{"$f":"VLOOKUP(C347,工作表9!$G$1:$H$142, 2, FALSE )","v":14800},0]
[null,null,23,{"$f":"VLOOKUP(C348,工作表9!$G$1:$I$136, 3, FALSE )","v":"純物質"},null,{"$f":"VLOOKUP(C348,工作表9!$G$1:$H$142, 2, FALSE )","v":14800},0]
[null,null,23,{"$f":"VLOOKUP(C349,工作表9!$G$1:$I$136, 3, FALSE )","v":"純物質"},null,{"$f":"VLOOKUP(C349,工作表9!$G$1:$H$142, 2, FALSE )","v":14800},0]
[null,null,23,{"$f":"VLOOKUP(C350,工作表9!$G$1:$I$136, 3, FALSE )","v":"純物質"},null,{"$f":"VLOOKUP(C350,工作表9!$G$1:$H$142, 2, FALSE )","v":14800},0]
[null,null,23,{"$f":"VLOOKUP(C351,工作表9!$G$1:$I$136, 3, FALSE )","v":"純物質"},null,{"$f":"VLOOKUP(C351,工作表9!$G$1:$H$142, 2, FALSE )","v":14800},0]
[null,null,23,{"$f":"VLOOKUP(C352,工作表9!$G$1:$I$136, 3, FALSE )","v":"純物質"},null,{"$f":"VLOOKUP(C352,工作表9!$G$1:$H$142, 2, FALSE )","v":14800},0]
[null,null,23,{"$f":"VLOOKUP(C353,工作表9!$G$1:$I$136, 3, FALSE )","v":"純物質"},null,{"$f":"VLOOKUP(C353,工作表9!$G$1:$H$142, 2, FALSE )","v":14800},0]
[null,null,23,{"$f":"VLOOKUP(C354,工作表9!$G$1:$I$136, 3, FALSE )","v":"純物質"},null,{"$f":"VLOOKUP(C354,工作表9!$G$1:$H$142, 2, FALSE )","v":14800},0]
[null,null,23,{"$f":"VLOOKUP(C355,工作表9!$G$1:$I$136, 3, FALSE )","v":"純物質"},null,{"$f":"VLOOKUP(C355,工作表9!$G$1:$H$142, 2, FALSE )","v":14800},0]
[null,null,23,{"$f":"VLOOKUP(C356,工作表9!$G$1:$I$136, 3, FALSE )","v":"純物質"},null,{"$f":"VLOOKUP(C356,工作表9!$G$1:$H$142, 2, FALSE )","v":14800},0]
[null,null,23,{"$f":"VLOOKUP(C357,工作表9!$G$1:$I$136, 3, FALSE )","v":"純物質"},null,{"$f":"VLOOKUP(C357,工作表9!$G$1:$H$142, 2, FALSE )","v":14800},0]
[null,null,23,{"$f":"VLOOKUP(C358,工作表9!$G$1:$I$136, 3, FALSE )","v":"純物質"},null,{"$f":"VLOOKUP(C358,工作表9!$G$1:$H$142, 2, FALSE )","v":14800},0]
[null,null,23,{"$f":"VLOOKUP(C359,工作表9!$G$1:$I$136, 3, FALSE )","v":"純物質"},null,{"$f":"VLOOKUP(C359,工作表9!$G$1:$H$142, 2, FALSE )","v":14800},0]
[null,null,23,{"$f":"VLOOKUP(C360,工作表9!$G$1:$I$136, 3, FALSE )","v":"純物質"},null,{"$f":"VLOOKUP(C360,工作表9!$G$1:$H$142, 2, FALSE )","v":14800},0]
[null,null,23,{"$f":"VLOOKUP(C361,工作表9!$G$1:$I$136, 3, FALSE )","v":"純物質"},null,{"$f":"VLOOKUP(C361,工作表9!$G$1:$H$142, 2, FALSE )","v":14800},0]
[null,null,23,{"$f":"VLOOKUP(C362,工作表9!$G$1:$I$136, 3, FALSE )","v":"純物質"},null,{"$f":"VLOOKUP(C362,工作表9!$G$1:$H$142, 2, FALSE )","v":14800},0]
[null,null,23,{"$f":"VLOOKUP(C363,工作表9!$G$1:$I$136, 3, FALSE )","v":"純物質"},null,{"$f":"VLOOKUP(C363,工作表9!$G$1:$H$142, 2, FALSE )","v":14800},0]
[null,null,23,{"$f":"VLOOKUP(C364,工作表9!$G$1:$I$136, 3, FALSE )","v":"純物質"},null,{"$f":"VLOOKUP(C364,工作表9!$G$1:$H$142, 2, FALSE )","v":14800},0]
[null,null,23,{"$f":"VLOOKUP(C365,工作表9!$G$1:$I$136, 3, FALSE )","v":"純物質"},null,{"$f":"VLOOKUP(C365,工作表9!$G$1:$H$142, 2, FALSE )","v":14800},0]
[null,null,23,{"$f":"VLOOKUP(C366,工作表9!$G$1:$I$136, 3, FALSE )","v":"純物質"},null,{"$f":"VLOOKUP(C366,工作表9!$G$1:$H$142, 2, FALSE )","v":14800},0]
[null,null,23,{"$f":"VLOOKUP(C367,工作表9!$G$1:$I$136, 3, FALSE )","v":"純物質"},null,{"$f":"VLOOKUP(C367,工作表9!$G$1:$H$142, 2, FALSE )","v":14800},0]
[null,null,23,{"$f":"VLOOKUP(C368,工作表9!$G$1:$I$136, 3, FALSE )","v":"純物質"},null,{"$f":"VLOOKUP(C368,工作表9!$G$1:$H$142, 2, FALSE )","v":14800},0]
[null,null,23,{"$f":"VLOOKUP(C369,工作表9!$G$1:$I$136, 3, FALSE )","v":"純物質"},null,{"$f":"VLOOKUP(C369,工作表9!$G$1:$H$142, 2, FALSE )","v":14800},0]
[null,null,23,{"$f":"VLOOKUP(C370,工作表9!$G$1:$I$136, 3, FALSE )","v":"純物質"},null,{"$f":"VLOOKUP(C370,工作表9!$G$1:$H$142, 2, FALSE )","v":14800},0]
[null,null,23,{"$f":"VLOOKUP(C371,工作表9!$G$1:$I$136, 3, FALSE )","v":"純物質"},null,{"$f":"VLOOKUP(C371,工作表9!$G$1:$H$142, 2, FALSE )","v":14800},0]
[null,null,23,{"$f":"VLOOKUP(C372,工作表9!$G$1:$I$136, 3, FALSE )","v":"純物質"},null,{"$f":"VLOOKUP(C372,工作表9!$G$1:$H$142, 2, FALSE )","v":14800},0]
[null,null,23,{"$f":"VLOOKUP(C373,工作表9!$G$1:$I$136, 3, FALSE )","v":"純物質"},null,{"$f":"VLOOKUP(C373,工作表9!$G$1:$H$142, 2, FALSE )","v":14800},0]
[null,null,23,{"$f":"VLOOKUP(C374,工作表9!$G$1:$I$136, 3, FALSE )","v":"純物質"},null,{"$f":"VLOOKUP(C374,工作表9!$G$1:$H$142, 2, FALSE )","v":14800},0]
[null,null,23,{"$f":"VLOOKUP(C375,工作表9!$G$1:$I$136, 3, FALSE )","v":"純物質"},null,{"$f":"VLOOKUP(C375,工作表9!$G$1:$H$142, 2, FALSE )","v":14800},0]
[null,null,23,{"$f":"VLOOKUP(C376,工作表9!$G$1:$I$136, 3, FALSE )","v":"純物質"},null,{"$f":"VLOOKUP(C376,工作表9!$G$1:$H$142, 2, FALSE )","v":14800},0]
[null,null,23,{"$f":"VLOOKUP(C377,工作表9!$G$1:$I$136, 3, FALSE )","v":"純物質"},null,{"$f":"VLOOKUP(C377,工作表9!$G$1:$H$142, 2, FALSE )","v":14800},0]
[null,null,23,{"$f":"VLOOKUP(C378,工作表9!$G$1:$I$136, 3, FALSE )","v":"純物質"},null,{"$f":"VLOOKUP(C378,工作表9!$G$1:$H$142, 2, FALSE )","v":14800},0]
[null,null,23,{"$f":"VLOOKUP(C379,工作表9!$G$1:$I$136, 3, FALSE )","v":"純物質"},null,{"$f":"VLOOKUP(C379,工作表9!$G$1:$H$142, 2, FALSE )","v":14800},0]
[null,null,23,{"$f":"VLOOKUP(C380,工作表9!$G$1:$I$136, 3, FALSE )","v":"純物質"},null,{"$f":"VLOOKUP(C380,工作表9!$G$1:$H$142, 2, FALSE )","v":14800},0]
[null,null,23,{"$f":"VLOOKUP(C381,工作表9!$G$1:$I$136, 3, FALSE )","v":"純物質"},null,{"$f":"VLOOKUP(C381,工作表9!$G$1:$H$142, 2, FALSE )","v":14800},0]
[null,null,23,{"$f":"VLOOKUP(C382,工作表9!$G$1:$I$136, 3, FALSE )","v":"純物質"},null,{"$f":"VLOOKUP(C382,工作表9!$G$1:$H$142, 2, FALSE )","v":14800},0]
[null,null,23,{"$f":"VLOOKUP(C383,工作表9!$G$1:$I$136, 3, FALSE )","v":"純物質"},null,{"$f":"VLOOKUP(C383,工作表9!$G$1:$H$142, 2, FALSE )","v":14800},0]
[null,null,23,{"$f":"VLOOKUP(C384,工作表9!$G$1:$I$136, 3, FALSE )","v":"純物質"},null,{"$f":"VLOOKUP(C384,工作表9!$G$1:$H$142, 2, FALSE )","v":14800},0]
[null,null,23,{"$f":"VLOOKUP(C385,工作表9!$G$1:$I$136, 3, FALSE )","v":"純物質"},null,{"$f":"VLOOKUP(C385,工作表9!$G$1:$H$142, 2, FALSE )","v":14800},0]
[null,null,23,{"$f":"VLOOKUP(C386,工作表9!$G$1:$I$136, 3, FALSE )","v":"純物質"},null,{"$f":"VLOOKUP(C386,工作表9!$G$1:$H$142, 2, FALSE )","v":14800},0]
[null,null,23,{"$f":"VLOOKUP(C387,工作表9!$G$1:$I$136, 3, FALSE )","v":"純物質"},null,{"$f":"VLOOKUP(C387,工作表9!$G$1:$H$142, 2, FALSE )","v":14800},0]
[null,null,23,{"$f":"VLOOKUP(C388,工作表9!$G$1:$I$136, 3, FALSE )","v":"純物質"},null,{"$f":"VLOOKUP(C388,工作表9!$G$1:$H$142, 2, FALSE )","v":14800},0]
[null,null,23,{"$f":"VLOOKUP(C389,工作表9!$G$1:$I$136, 3, FALSE )","v":"純物質"},null,{"$f":"VLOOKUP(C389,工作表9!$G$1:$H$142, 2, FALSE )","v":14800},0]
[null,null,23,{"$f":"VLOOKUP(C390,工作表9!$G$1:$I$136, 3, FALSE )","v":"純物質"},null,{"$f":"VLOOKUP(C390,工作表9!$G$1:$H$142, 2, FALSE )","v":14800},{"$f":"E390*F390","v":0}]
[null,null,23,{"$f":"VLOOKUP(C391,工作表9!$G$1:$I$136, 3, FALSE )","v":"純物質"},null,{"$f":"VLOOKUP(C391,工作表9!$G$1:$H$142, 2, FALSE )","v":14800},0]
[null,null,23,{"$f":"VLOOKUP(C392,工作表9!$G$1:$I$136, 3, FALSE )","v":"純物質"},null,{"$f":"VLOOKUP(C392,工作表9!$G$1:$H$142, 2, FALSE )","v":14800},0]
[null,null,23,{"$f":"VLOOKUP(C393,工作表9!$G$1:$I$136, 3, FALSE )","v":"純物質"},null,{"$f":"VLOOKUP(C393,工作表9!$G$1:$H$142, 2, FALSE )","v":14800},0]
[null,null,23,{"$f":"VLOOKUP(C394,工作表9!$G$1:$I$136, 3, FALSE )","v":"純物質"},null,{"$f":"VLOOKUP(C394,工作表9!$G$1:$H$142, 2, FALSE )","v":14800},0]
[null,null,23,{"$f":"VLOOKUP(C395,工作表9!$G$1:$I$136, 3, FALSE )","v":"純物質"},null,{"$f":"VLOOKUP(C395,工作表9!$G$1:$H$142, 2, FALSE )","v":14800},0]
[null,null,23,{"$f":"VLOOKUP(C396,工作表9!$G$1:$I$136, 3, FALSE )","v":"純物質"},null,{"$f":"VLOOKUP(C396,工作表9!$G$1:$H$142, 2, FALSE )","v":14800},0]
[null,null,23,{"$f":"VLOOKUP(C397,工作表9!$G$1:$I$136, 3, FALSE )","v":"純物質"},null,{"$f":"VLOOKUP(C397,工作表9!$G$1:$H$142, 2, FALSE )","v":14800},0]
[null,null,23,{"$f":"VLOOKUP(C398,工作表9!$G$1:$I$136, 3, FALSE )","v":"純物質"},null,{"$f":"VLOOKUP(C398,工作表9!$G$1:$H$142, 2, FALSE )","v":14800},0]
[null,null,23,{"$f":"VLOOKUP(C399,工作表9!$G$1:$I$136, 3, FALSE )","v":"純物質"},null,{"$f":"VLOOKUP(C399,工作表9!$G$1:$H$142, 2, FALSE )","v":14800},0]
[null,null,23,{"$f":"VLOOKUP(C400,工作表9!$G$1:$I$136, 3, FALSE )","v":"純物質"},null,{"$f":"VLOOKUP(C400,工作表9!$G$1:$H$142, 2, FALSE )","v":14800},0]
[null,null,23,{"$f":"VLOOKUP(C401,工作表9!$G$1:$I$136, 3, FALSE )","v":"純物質"},null,{"$f":"VLOOKUP(C401,工作表9!$G$1:$H$142, 2, FALSE )","v":14800},0]
[null,null,23,{"$f":"VLOOKUP(C402,工作表9!$G$1:$I$136, 3, FALSE )","v":"純物質"},null,{"$f":"VLOOKUP(C402,工作表9!$G$1:$H$142, 2, FALSE )","v":14800},0]
[null,null,23,{"$f":"VLOOKUP(C403,工作表9!$G$1:$I$136, 3, FALSE )","v":"純物質"},null,{"$f":"VLOOKUP(C403,工作表9!$G$1:$H$142, 2, FALSE )","v":14800},0]
[null,null,23,{"$f":"VLOOKUP(C404,工作表9!$G$1:$I$136, 3, FALSE )","v":"純物質"},null,{"$f":"VLOOKUP(C404,工作表9!$G$1:$H$142, 2, FALSE )","v":14800},0]
[null,null,23,{"$f":"VLOOKUP(C405,工作表9!$G$1:$I$136, 3, FALSE )","v":"純物質"},null,{"$f":"VLOOKUP(C405,工作表9!$G$1:$H$142, 2, FALSE )","v":14800},0]
[null,null,23,{"$f":"VLOOKUP(C406,工作表9!$G$1:$I$136, 3, FALSE )","v":"純物質"},null,{"$f":"VLOOKUP(C406,工作表9!$G$1:$H$142, 2, FALSE )","v":14800},0]
[null,null,23,{"$f":"VLOOKUP(C407,工作表9!$G$1:$I$136, 3, FALSE )","v":"純物質"},null,{"$f":"VLOOKUP(C407,工作表9!$G$1:$H$142, 2, FALSE )","v":14800},0]
[null,null,23,{"$f":"VLOOKUP(C408,工作表9!$G$1:$I$136, 3, FALSE )","v":"純物質"},null,{"$f":"VLOOKUP(C408,工作表9!$G$1:$H$142, 2, FALSE )","v":14800},0]
[null,null,23,{"$f":"VLOOKUP(C409,工作表9!$G$1:$I$136, 3, FALSE )","v":"純物質"},null,{"$f":"VLOOKUP(C409,工作表9!$G$1:$H$142, 2, FALSE )","v":14800},0]
[null,null,23,{"$f":"VLOOKUP(C410,工作表9!$G$1:$I$136, 3, FALSE )","v":"純物質"},null,{"$f":"VLOOKUP(C410,工作表9!$G$1:$H$142, 2, FALSE )","v":14800},0]
[null,null,23,{"$f":"VLOOKUP(C411,工作表9!$G$1:$I$136, 3, FALSE )","v":"純物質"},null,{"$f":"VLOOKUP(C411,工作表9!$G$1:$H$142, 2, FALSE )","v":14800},0]
[null,null,23,{"$f":"VLOOKUP(C412,工作表9!$G$1:$I$136, 3, FALSE )","v":"純物質"},null,{"$f":"VLOOKUP(C412,工作表9!$G$1:$H$142, 2, FALSE )","v":14800},0]
[null,null,23,{"$f":"VLOOKUP(C413,工作表9!$G$1:$I$136, 3, FALSE )","v":"純物質"},null,{"$f":"VLOOKUP(C413,工作表9!$G$1:$H$142, 2, FALSE )","v":14800},0]
[null,null,23,{"$f":"VLOOKUP(C414,工作表9!$G$1:$I$136, 3, FALSE )","v":"純物質"},null,{"$f":"VLOOKUP(C414,工作表9!$G$1:$H$142, 2, FALSE )","v":14800},0]
[null,null,23,{"$f":"VLOOKUP(C415,工作表9!$G$1:$I$136, 3, FALSE )","v":"純物質"},null,{"$f":"VLOOKUP(C415,工作表9!$G$1:$H$142, 2, FALSE )","v":14800},0]
[null,null,23,{"$f":"VLOOKUP(C416,工作表9!$G$1:$I$136, 3, FALSE )","v":"純物質"},null,{"$f":"VLOOKUP(C416,工作表9!$G$1:$H$142, 2, FALSE )","v":14800},0]
[null,null,23,{"$f":"VLOOKUP(C417,工作表9!$G$1:$I$136, 3, FALSE )","v":"純物質"},null,{"$f":"VLOOKUP(C417,工作表9!$G$1:$H$142, 2, FALSE )","v":14800},0]
[null,null,23,{"$f":"VLOOKUP(C418,工作表9!$G$1:$I$136, 3, FALSE )","v":"純物質"},null,{"$f":"VLOOKUP(C418,工作表9!$G$1:$H$142, 2, FALSE )","v":14800},0]
[null,null,23,{"$f":"VLOOKUP(C419,工作表9!$G$1:$I$136, 3, FALSE )","v":"純物質"},null,{"$f":"VLOOKUP(C419,工作表9!$G$1:$H$142, 2, FALSE )","v":14800},0]
[null,null,23,{"$f":"VLOOKUP(C420,工作表9!$G$1:$I$136, 3, FALSE )","v":"純物質"},null,{"$f":"VLOOKUP(C420,工作表9!$G$1:$H$142, 2, FALSE )","v":14800},0]
[null,null,23,{"$f":"VLOOKUP(C421,工作表9!$G$1:$I$136, 3, FALSE )","v":"純物質"},null,{"$f":"VLOOKUP(C421,工作表9!$G$1:$H$142, 2, FALSE )","v":14800},0]
[null,null,23,{"$f":"VLOOKUP(C422,工作表9!$G$1:$I$136, 3, FALSE )","v":"純物質"},null,{"$f":"VLOOKUP(C422,工作表9!$G$1:$H$142, 2, FALSE )","v":14800},0]
[null,null,23,{"$f":"VLOOKUP(C423,工作表9!$G$1:$I$136, 3, FALSE )","v":"純物質"},null,{"$f":"VLOOKUP(C423,工作表9!$G$1:$H$142, 2, FALSE )","v":14800},0]
[null,null,23,{"$f":"VLOOKUP(C424,工作表9!$G$1:$I$136, 3, FALSE )","v":"純物質"},null,{"$f":"VLOOKUP(C424,工作表9!$G$1:$H$142, 2, FALSE )","v":14800},0]
[null,null,23,{"$f":"VLOOKUP(C425,工作表9!$G$1:$I$136, 3, FALSE )","v":"純物質"},null,{"$f":"VLOOKUP(C425,工作表9!$G$1:$H$142, 2, FALSE )","v":14800},0]
[null,null,23,{"$f":"VLOOKUP(C426,工作表9!$G$1:$I$136, 3, FALSE )","v":"純物質"},null,{"$f":"VLOOKUP(C426,工作表9!$G$1:$H$142, 2, FALSE )","v":14800},0]
[null,null,23,{"$f":"VLOOKUP(C427,工作表9!$G$1:$I$136, 3, FALSE )","v":"純物質"},null,{"$f":"VLOOKUP(C427,工作表9!$G$1:$H$142, 2, FALSE )","v":14800},0]
[null,null,23,{"$f":"VLOOKUP(C428,工作表9!$G$1:$I$136, 3, FALSE )","v":"純物質"},null,{"$f":"VLOOKUP(C428,工作表9!$G$1:$H$142, 2, FALSE )","v":14800},0]
[null,null,23,{"$f":"VLOOKUP(C429,工作表9!$G$1:$I$136, 3, FALSE )","v":"純物質"},null,{"$f":"VLOOKUP(C429,工作表9!$G$1:$H$142, 2, FALSE )","v":14800},0]
[null,null,23,{"$f":"VLOOKUP(C430,工作表9!$G$1:$I$136, 3, FALSE )","v":"純物質"},null,{"$f":"VLOOKUP(C430,工作表9!$G$1:$H$142, 2, FALSE )","v":14800},0]
[null,null,23,{"$f":"VLOOKUP(C431,工作表9!$G$1:$I$136, 3, FALSE )","v":"純物質"},null,{"$f":"VLOOKUP(C431,工作表9!$G$1:$H$142, 2, FALSE )","v":14800},0]
[null,null,23,{"$f":"VLOOKUP(C432,工作表9!$G$1:$I$136, 3, FALSE )","v":"純物質"},null,{"$f":"VLOOKUP(C432,工作表9!$G$1:$H$142, 2, FALSE )","v":14800},0]
[null,null,23,{"$f":"VLOOKUP(C433,工作表9!$G$1:$I$136, 3, FALSE )","v":"純物質"},null,{"$f":"VLOOKUP(C433,工作表9!$G$1:$H$142, 2, FALSE )","v":14800},0]
[null,null,23,{"$f":"VLOOKUP(C434,工作表9!$G$1:$I$136, 3, FALSE )","v":"純物質"},null,{"$f":"VLOOKUP(C434,工作表9!$G$1:$H$142, 2, FALSE )","v":14800},0]
[null,null,23,{"$f":"VLOOKUP(C435,工作表9!$G$1:$I$136, 3, FALSE )","v":"純物質"},null,{"$f":"VLOOKUP(C435,工作表9!$G$1:$H$142, 2, FALSE )","v":14800},0]
[null,null,23,{"$f":"VLOOKUP(C436,工作表9!$G$1:$I$136, 3, FALSE )","v":"純物質"},null,{"$f":"VLOOKUP(C436,工作表9!$G$1:$H$142, 2, FALSE )","v":14800},0]
[null,null,23,{"$f":"VLOOKUP(C437,工作表9!$G$1:$I$136, 3, FALSE )","v":"純物質"},null,{"$f":"VLOOKUP(C437,工作表9!$G$1:$H$142, 2, FALSE )","v":14800},0]
[null,null,23,{"$f":"VLOOKUP(C438,工作表9!$G$1:$I$136, 3, FALSE )","v":"純物質"},null,{"$f":"VLOOKUP(C438,工作表9!$G$1:$H$142, 2, FALSE )","v":14800},0]
[null,null,23,{"$f":"VLOOKUP(C439,工作表9!$G$1:$I$136, 3, FALSE )","v":"純物質"},null,{"$f":"VLOOKUP(C439,工作表9!$G$1:$H$142, 2, FALSE )","v":14800},0]
[null,null,23,{"$f":"VLOOKUP(C440,工作表9!$G$1:$I$136, 3, FALSE )","v":"純物質"},null,{"$f":"VLOOKUP(C440,工作表9!$G$1:$H$142, 2, FALSE )","v":14800},0]
[null,null,23,{"$f":"VLOOKUP(C441,工作表9!$G$1:$I$136, 3, FALSE )","v":"純物質"},null,{"$f":"VLOOKUP(C441,工作表9!$G$1:$H$142, 2, FALSE )","v":14800},0]
[null,null,23,{"$f":"VLOOKUP(C442,工作表9!$G$1:$I$136, 3, FALSE )","v":"純物質"},null,{"$f":"VLOOKUP(C442,工作表9!$G$1:$H$142, 2, FALSE )","v":14800},0]
[null,null,23,{"$f":"VLOOKUP(C443,工作表9!$G$1:$I$136, 3, FALSE )","v":"純物質"},null,{"$f":"VLOOKUP(C443,工作表9!$G$1:$H$142, 2, FALSE )","v":14800},0]
[null,null,23,{"$f":"VLOOKUP(C444,工作表9!$G$1:$I$136, 3, FALSE )","v":"純物質"},null,{"$f":"VLOOKUP(C444,工作表9!$G$1:$H$142, 2, FALSE )","v":14800},0]
[null,null,23,{"$f":"VLOOKUP(C445,工作表9!$G$1:$I$136, 3, FALSE )","v":"純物質"},null,{"$f":"VLOOKUP(C445,工作表9!$G$1:$H$142, 2, FALSE )","v":14800},0]
[null,null,23,{"$f":"VLOOKUP(C446,工作表9!$G$1:$I$136, 3, FALSE )","v":"純物質"},null,{"$f":"VLOOKUP(C446,工作表9!$G$1:$H$142, 2, FALSE )","v":14800},0]
[null,null,23,{"$f":"VLOOKUP(C447,工作表9!$G$1:$I$136, 3, FALSE )","v":"純物質"},null,{"$f":"VLOOKUP(C447,工作表9!$G$1:$H$142, 2, FALSE )","v":14800},0]
[null,null,23,{"$f":"VLOOKUP(C448,工作表9!$G$1:$I$136, 3, FALSE )","v":"純物質"},null,{"$f":"VLOOKUP(C448,工作表9!$G$1:$H$142, 2, FALSE )","v":14800},0]
[null,null,23,{"$f":"VLOOKUP(C449,工作表9!$G$1:$I$136, 3, FALSE )","v":"純物質"},null,{"$f":"VLOOKUP(C449,工作表9!$G$1:$H$142, 2, FALSE )","v":14800},0]
[null,null,23,{"$f":"VLOOKUP(C450,工作表9!$G$1:$I$136, 3, FALSE )","v":"純物質"},null,{"$f":"VLOOKUP(C450,工作表9!$G$1:$H$142, 2, FALSE )","v":14800},0]
[null,null,23,{"$f":"VLOOKUP(C451,工作表9!$G$1:$I$136, 3, FALSE )","v":"純物質"},null,{"$f":"VLOOKUP(C451,工作表9!$G$1:$H$142, 2, FALSE )","v":14800},0]
[null,null,23,{"$f":"VLOOKUP(C452,工作表9!$G$1:$I$136, 3, FALSE )","v":"純物質"},null,{"$f":"VLOOKUP(C452,工作表9!$G$1:$H$142, 2, FALSE )","v":14800},0]
[null,null,23,{"$f":"VLOOKUP(C453,工作表9!$G$1:$I$136, 3, FALSE )","v":"純物質"},null,{"$f":"VLOOKUP(C453,工作表9!$G$1:$H$142, 2, FALSE )","v":14800},0]
[null,null,23,{"$f":"VLOOKUP(C454,工作表9!$G$1:$I$136, 3, FALSE )","v":"純物質"},null,{"$f":"VLOOKUP(C454,工作表9!$G$1:$H$142, 2, FALSE )","v":14800},{"$f":"E454*F454","v":0}]
[null,null,23,{"$f":"VLOOKUP(C455,工作表9!$G$1:$I$136, 3, FALSE )","v":"純物質"},null,{"$f":"VLOOKUP(C455,工作表9!$G$1:$H$142, 2, FALSE )","v":14800},0]
[null,null,23,{"$f":"VLOOKUP(C456,工作表9!$G$1:$I$136, 3, FALSE )","v":"純物質"},null,{"$f":"VLOOKUP(C456,工作表9!$G$1:$H$142, 2, FALSE )","v":14800},0]
[null,null,23,{"$f":"VLOOKUP(C457,工作表9!$G$1:$I$136, 3, FALSE )","v":"純物質"},null,{"$f":"VLOOKUP(C457,工作表9!$G$1:$H$142, 2, FALSE )","v":14800},0]
[null,null,23,{"$f":"VLOOKUP(C458,工作表9!$G$1:$I$136, 3, FALSE )","v":"純物質"},null,{"$f":"VLOOKUP(C458,工作表9!$G$1:$H$142, 2, FALSE )","v":14800},0]
[null,null,23,{"$f":"VLOOKUP(C459,工作表9!$G$1:$I$136, 3, FALSE )","v":"純物質"},null,{"$f":"VLOOKUP(C459,工作表9!$G$1:$H$142, 2, FALSE )","v":14800},0]
[null,null,23,{"$f":"VLOOKUP(C460,工作表9!$G$1:$I$136, 3, FALSE )","v":"純物質"},null,{"$f":"VLOOKUP(C460,工作表9!$G$1:$H$142, 2, FALSE )","v":14800},0]
[null,null,23,{"$f":"VLOOKUP(C461,工作表9!$G$1:$I$136, 3, FALSE )","v":"純物質"},null,{"$f":"VLOOKUP(C461,工作表9!$G$1:$H$142, 2, FALSE )","v":14800},0]
[null,null,23,{"$f":"VLOOKUP(C462,工作表9!$G$1:$I$136, 3, FALSE )","v":"純物質"},null,{"$f":"VLOOKUP(C462,工作表9!$G$1:$H$142, 2, FALSE )","v":14800},0]
[null,null,23,{"$f":"VLOOKUP(C463,工作表9!$G$1:$I$136, 3, FALSE )","v":"純物質"},null,{"$f":"VLOOKUP(C463,工作表9!$G$1:$H$142, 2, FALSE )","v":14800},0]
[null,null,23,{"$f":"VLOOKUP(C464,工作表9!$G$1:$I$136, 3, FALSE )","v":"純物質"},null,{"$f":"VLOOKUP(C464,工作表9!$G$1:$H$142, 2, FALSE )","v":14800},0]
[null,null,23,{"$f":"VLOOKUP(C465,工作表9!$G$1:$I$136, 3, FALSE )","v":"純物質"},null,{"$f":"VLOOKUP(C465,工作表9!$G$1:$H$142, 2, FALSE )","v":14800},0]
[null,null,23,{"$f":"VLOOKUP(C466,工作表9!$G$1:$I$136, 3, FALSE )","v":"純物質"},null,{"$f":"VLOOKUP(C466,工作表9!$G$1:$H$142, 2, FALSE )","v":14800},0]
[null,null,23,{"$f":"VLOOKUP(C467,工作表9!$G$1:$I$136, 3, FALSE )","v":"純物質"},null,{"$f":"VLOOKUP(C467,工作表9!$G$1:$H$142, 2, FALSE )","v":14800},0]
[null,null,23,{"$f":"VLOOKUP(C468,工作表9!$G$1:$I$136, 3, FALSE )","v":"純物質"},null,{"$f":"VLOOKUP(C468,工作表9!$G$1:$H$142, 2, FALSE )","v":14800},0]
[null,null,23,{"$f":"VLOOKUP(C469,工作表9!$G$1:$I$136, 3, FALSE )","v":"純物質"},null,{"$f":"VLOOKUP(C469,工作表9!$G$1:$H$142, 2, FALSE )","v":14800},0]
[null,null,23,{"$f":"VLOOKUP(C470,工作表9!$G$1:$I$136, 3, FALSE )","v":"純物質"},null,{"$f":"VLOOKUP(C470,工作表9!$G$1:$H$142, 2, FALSE )","v":14800},0]
[null,null,23,{"$f":"VLOOKUP(C471,工作表9!$G$1:$I$136, 3, FALSE )","v":"純物質"},null,{"$f":"VLOOKUP(C471,工作表9!$G$1:$H$142, 2, FALSE )","v":14800},0]
[null,null,23,{"$f":"VLOOKUP(C472,工作表9!$G$1:$I$136, 3, FALSE )","v":"純物質"},null,{"$f":"VLOOKUP(C472,工作表9!$G$1:$H$142, 2, FALSE )","v":14800},0]
[null,null,23,{"$f":"VLOOKUP(C473,工作表9!$G$1:$I$136, 3, FALSE )","v":"純物質"},null,{"$f":"VLOOKUP(C473,工作表9!$G$1:$H$142, 2, FALSE )","v":14800},0]
[null,null,23,{"$f":"VLOOKUP(C474,工作表9!$G$1:$I$136, 3, FALSE )","v":"純物質"},null,{"$f":"VLOOKUP(C474,工作表9!$G$1:$H$142, 2, FALSE )","v":14800},0]
[null,null,23,{"$f":"VLOOKUP(C475,工作表9!$G$1:$I$136, 3, FALSE )","v":"純物質"},null,{"$f":"VLOOKUP(C475,工作表9!$G$1:$H$142, 2, FALSE )","v":14800},0]
[null,null,23,{"$f":"VLOOKUP(C476,工作表9!$G$1:$I$136, 3, FALSE )","v":"純物質"},null,{"$f":"VLOOKUP(C476,工作表9!$G$1:$H$142, 2, FALSE )","v":14800},0]
[null,null,23,{"$f":"VLOOKUP(C477,工作表9!$G$1:$I$136, 3, FALSE )","v":"純物質"},null,{"$f":"VLOOKUP(C477,工作表9!$G$1:$H$142, 2, FALSE )","v":14800},0]
[null,null,23,{"$f":"VLOOKUP(C478,工作表9!$G$1:$I$136, 3, FALSE )","v":"純物質"},null,{"$f":"VLOOKUP(C478,工作表9!$G$1:$H$142, 2, FALSE )","v":14800},0]
[null,null,23,{"$f":"VLOOKUP(C479,工作表9!$G$1:$I$136, 3, FALSE )","v":"純物質"},null,{"$f":"VLOOKUP(C479,工作表9!$G$1:$H$142, 2, FALSE )","v":14800},0]
[null,null,23,{"$f":"VLOOKUP(C480,工作表9!$G$1:$I$136, 3, FALSE )","v":"純物質"},null,{"$f":"VLOOKUP(C480,工作表9!$G$1:$H$142, 2, FALSE )","v":14800},0]
[null,null,23,{"$f":"VLOOKUP(C481,工作表9!$G$1:$I$136, 3, FALSE )","v":"純物質"},null,{"$f":"VLOOKUP(C481,工作表9!$G$1:$H$142, 2, FALSE )","v":14800},0]
[null,null,23,{"$f":"VLOOKUP(C482,工作表9!$G$1:$I$136, 3, FALSE )","v":"純物質"},null,{"$f":"VLOOKUP(C482,工作表9!$G$1:$H$142, 2, FALSE )","v":14800},0]
[null,null,23,{"$f":"VLOOKUP(C483,工作表9!$G$1:$I$136, 3, FALSE )","v":"純物質"},null,{"$f":"VLOOKUP(C483,工作表9!$G$1:$H$142, 2, FALSE )","v":14800},0]
[null,null,23,{"$f":"VLOOKUP(C484,工作表9!$G$1:$I$136, 3, FALSE )","v":"純物質"},null,{"$f":"VLOOKUP(C484,工作表9!$G$1:$H$142, 2, FALSE )","v":14800},0]
[null,null,23,{"$f":"VLOOKUP(C485,工作表9!$G$1:$I$136, 3, FALSE )","v":"純物質"},null,{"$f":"VLOOKUP(C485,工作表9!$G$1:$H$142, 2, FALSE )","v":14800},0]
[null,null,23,{"$f":"VLOOKUP(C486,工作表9!$G$1:$I$136, 3, FALSE )","v":"純物質"},null,{"$f":"VLOOKUP(C486,工作表9!$G$1:$H$142, 2, FALSE )","v":14800},0]
[null,null,23,{"$f":"VLOOKUP(C487,工作表9!$G$1:$I$136, 3, FALSE )","v":"純物質"},null,{"$f":"VLOOKUP(C487,工作表9!$G$1:$H$142, 2, FALSE )","v":14800},0]
[null,null,23,{"$f":"VLOOKUP(C488,工作表9!$G$1:$I$136, 3, FALSE )","v":"純物質"},null,{"$f":"VLOOKUP(C488,工作表9!$G$1:$H$142, 2, FALSE )","v":14800},0]
[null,null,23,{"$f":"VLOOKUP(C489,工作表9!$G$1:$I$136, 3, FALSE )","v":"純物質"},null,{"$f":"VLOOKUP(C489,工作表9!$G$1:$H$142, 2, FALSE )","v":14800},0]
[null,null,23,{"$f":"VLOOKUP(C490,工作表9!$G$1:$I$136, 3, FALSE )","v":"純物質"},null,{"$f":"VLOOKUP(C490,工作表9!$G$1:$H$142, 2, FALSE )","v":14800},0]
[null,null,23,{"$f":"VLOOKUP(C491,工作表9!$G$1:$I$136, 3, FALSE )","v":"純物質"},null,{"$f":"VLOOKUP(C491,工作表9!$G$1:$H$142, 2, FALSE )","v":14800},0]
[null,null,23,{"$f":"VLOOKUP(C492,工作表9!$G$1:$I$136, 3, FALSE )","v":"純物質"},null,{"$f":"VLOOKUP(C492,工作表9!$G$1:$H$142, 2, FALSE )","v":14800},0]
[null,null,23,{"$f":"VLOOKUP(C493,工作表9!$G$1:$I$136, 3, FALSE )","v":"純物質"},null,{"$f":"VLOOKUP(C493,工作表9!$G$1:$H$142, 2, FALSE )","v":14800},0]
[null,null,23,{"$f":"VLOOKUP(C494,工作表9!$G$1:$I$136, 3, FALSE )","v":"純物質"},null,{"$f":"VLOOKUP(C494,工作表9!$G$1:$H$142, 2, FALSE )","v":14800},0]
[null,null,23,{"$f":"VLOOKUP(C495,工作表9!$G$1:$I$136, 3, FALSE )","v":"純物質"},null,{"$f":"VLOOKUP(C495,工作表9!$G$1:$H$142, 2, FALSE )","v":14800},0]
[null,null,23,{"$f":"VLOOKUP(C496,工作表9!$G$1:$I$136, 3, FALSE )","v":"純物質"},null,{"$f":"VLOOKUP(C496,工作表9!$G$1:$H$142, 2, FALSE )","v":14800},0]
[null,null,23,{"$f":"VLOOKUP(C497,工作表9!$G$1:$I$136, 3, FALSE )","v":"純物質"},null,{"$f":"VLOOKUP(C497,工作表9!$G$1:$H$142, 2, FALSE )","v":14800},0]
[null,null,23,{"$f":"VLOOKUP(C498,工作表9!$G$1:$I$136, 3, FALSE )","v":"純物質"},null,{"$f":"VLOOKUP(C498,工作表9!$G$1:$H$142, 2, FALSE )","v":14800},0]
[null,null,23,{"$f":"VLOOKUP(C499,工作表9!$G$1:$I$136, 3, FALSE )","v":"純物質"},null,{"$f":"VLOOKUP(C499,工作表9!$G$1:$H$142, 2, FALSE )","v":14800},0]
[null,null,23,{"$f":"VLOOKUP(C500,工作表9!$G$1:$I$136, 3, FALSE )","v":"純物質"},null,{"$f":"VLOOKUP(C500,工作表9!$G$1:$H$142, 2, FALSE )","v":14800},0]
[null,null,23,{"$f":"VLOOKUP(C501,工作表9!$G$1:$I$136, 3, FALSE )","v":"純物質"},null,{"$f":"VLOOKUP(C501,工作表9!$G$1:$H$142, 2, FALSE )","v":14800},0]
[null,null,23,{"$f":"VLOOKUP(C502,工作表9!$G$1:$I$136, 3, FALSE )","v":"純物質"},null,{"$f":"VLOOKUP(C502,工作表9!$G$1:$H$142, 2, FALSE )","v":14800},0]
[null,null,23,{"$f":"VLOOKUP(C503,工作表9!$G$1:$I$136, 3, FALSE )","v":"純物質"},null,{"$f":"VLOOKUP(C503,工作表9!$G$1:$H$142, 2, FALSE )","v":14800},0]
[null,null,23,{"$f":"VLOOKUP(C504,工作表9!$G$1:$I$136, 3, FALSE )","v":"純物質"},null,{"$f":"VLOOKUP(C504,工作表9!$G$1:$H$142, 2, FALSE )","v":14800},0]
[null,null,23,{"$f":"VLOOKUP(C505,工作表9!$G$1:$I$136, 3, FALSE )","v":"純物質"},null,{"$f":"VLOOKUP(C505,工作表9!$G$1:$H$142, 2, FALSE )","v":14800},0]
[null,null,23,{"$f":"VLOOKUP(C506,工作表9!$G$1:$I$136, 3, FALSE )","v":"純物質"},null,{"$f":"VLOOKUP(C506,工作表9!$G$1:$H$142, 2, FALSE )","v":14800},0]
[null,null,23,{"$f":"VLOOKUP(C507,工作表9!$G$1:$I$136, 3, FALSE )","v":"純物質"},null,{"$f":"VLOOKUP(C507,工作表9!$G$1:$H$142, 2, FALSE )","v":14800},0]
[null,null,23,{"$f":"VLOOKUP(C508,工作表9!$G$1:$I$136, 3, FALSE )","v":"純物質"},null,{"$f":"VLOOKUP(C508,工作表9!$G$1:$H$142, 2, FALSE )","v":14800},0]
[null,null,23,{"$f":"VLOOKUP(C509,工作表9!$G$1:$I$136, 3, FALSE )","v":"純物質"},null,{"$f":"VLOOKUP(C509,工作表9!$G$1:$H$142, 2, FALSE )","v":14800},0]
[null,null,23,{"$f":"VLOOKUP(C510,工作表9!$G$1:$I$136, 3, FALSE )","v":"純物質"},null,{"$f":"VLOOKUP(C510,工作表9!$G$1:$H$142, 2, FALSE )","v":14800},0]
[null,null,23,{"$f":"VLOOKUP(C511,工作表9!$G$1:$I$136, 3, FALSE )","v":"純物質"},null,{"$f":"VLOOKUP(C511,工作表9!$G$1:$H$142, 2, FALSE )","v":14800},0]
[null,null,23,{"$f":"VLOOKUP(C512,工作表9!$G$1:$I$136, 3, FALSE )","v":"純物質"},null,{"$f":"VLOOKUP(C512,工作表9!$G$1:$H$142, 2, FALSE )","v":14800},0]
[null,null,23,{"$f":"VLOOKUP(C513,工作表9!$G$1:$I$136, 3, FALSE )","v":"純物質"},null,{"$f":"VLOOKUP(C513,工作表9!$G$1:$H$142, 2, FALSE )","v":14800},0]
[null,null,23,{"$f":"VLOOKUP(C514,工作表9!$G$1:$I$136, 3, FALSE )","v":"純物質"},null,{"$f":"VLOOKUP(C514,工作表9!$G$1:$H$142, 2, FALSE )","v":14800},0]
[null,null,23,{"$f":"VLOOKUP(C515,工作表9!$G$1:$I$136, 3, FALSE )","v":"純物質"},null,{"$f":"VLOOKUP(C515,工作表9!$G$1:$H$142, 2, FALSE )","v":14800},0]
[null,null,23,{"$f":"VLOOKUP(C516,工作表9!$G$1:$I$136, 3, FALSE )","v":"純物質"},null,{"$f":"VLOOKUP(C516,工作表9!$G$1:$H$142, 2, FALSE )","v":14800},0]
[null,null,23,{"$f":"VLOOKUP(C517,工作表9!$G$1:$I$136, 3, FALSE )","v":"純物質"},null,{"$f":"VLOOKUP(C517,工作表9!$G$1:$H$142, 2, FALSE )","v":14800},0]
[null,null,23,{"$f":"VLOOKUP(C518,工作表9!$G$1:$I$136, 3, FALSE )","v":"純物質"},null,{"$f":"VLOOKUP(C518,工作表9!$G$1:$H$142, 2, FALSE )","v":14800},{"$f":"E518*F518","v":0}]
[null,null,23,{"$f":"VLOOKUP(C519,工作表9!$G$1:$I$136, 3, FALSE )","v":"純物質"},null,{"$f":"VLOOKUP(C519,工作表9!$G$1:$H$142, 2, FALSE )","v":14800},0]
[null,null,23,{"$f":"VLOOKUP(C520,工作表9!$G$1:$I$136, 3, FALSE )","v":"純物質"},null,{"$f":"VLOOKUP(C520,工作表9!$G$1:$H$142, 2, FALSE )","v":14800},0]
[null,null,23,{"$f":"VLOOKUP(C521,工作表9!$G$1:$I$136, 3, FALSE )","v":"純物質"},null,{"$f":"VLOOKUP(C521,工作表9!$G$1:$H$142, 2, FALSE )","v":14800},0]
[null,null,23,{"$f":"VLOOKUP(C522,工作表9!$G$1:$I$136, 3, FALSE )","v":"純物質"},null,{"$f":"VLOOKUP(C522,工作表9!$G$1:$H$142, 2, FALSE )","v":14800},0]
[null,null,23,{"$f":"VLOOKUP(C523,工作表9!$G$1:$I$136, 3, FALSE )","v":"純物質"},null,{"$f":"VLOOKUP(C523,工作表9!$G$1:$H$142, 2, FALSE )","v":14800},0]
[null,null,23,{"$f":"VLOOKUP(C524,工作表9!$G$1:$I$136, 3, FALSE )","v":"純物質"},null,{"$f":"VLOOKUP(C524,工作表9!$G$1:$H$142, 2, FALSE )","v":14800},0]
[null,null,23,{"$f":"VLOOKUP(C525,工作表9!$G$1:$I$136, 3, FALSE )","v":"純物質"},null,{"$f":"VLOOKUP(C525,工作表9!$G$1:$H$142, 2, FALSE )","v":14800},0]
[null,null,23,{"$f":"VLOOKUP(C526,工作表9!$G$1:$I$136, 3, FALSE )","v":"純物質"},null,{"$f":"VLOOKUP(C526,工作表9!$G$1:$H$142, 2, FALSE )","v":14800},0]
[null,null,23,{"$f":"VLOOKUP(C527,工作表9!$G$1:$I$136, 3, FALSE )","v":"純物質"},null,{"$f":"VLOOKUP(C527,工作表9!$G$1:$H$142, 2, FALSE )","v":14800},0]
[null,null,23,{"$f":"VLOOKUP(C528,工作表9!$G$1:$I$136, 3, FALSE )","v":"純物質"},null,{"$f":"VLOOKUP(C528,工作表9!$G$1:$H$142, 2, FALSE )","v":14800},0]
[null,null,23,{"$f":"VLOOKUP(C529,工作表9!$G$1:$I$136, 3, FALSE )","v":"純物質"},null,{"$f":"VLOOKUP(C529,工作表9!$G$1:$H$142, 2, FALSE )","v":14800},0]
[null,null,23,{"$f":"VLOOKUP(C530,工作表9!$G$1:$I$136, 3, FALSE )","v":"純物質"},null,{"$f":"VLOOKUP(C530,工作表9!$G$1:$H$142, 2, FALSE )","v":14800},0]
[null,null,23,{"$f":"VLOOKUP(C531,工作表9!$G$1:$I$136, 3, FALSE )","v":"純物質"},null,{"$f":"VLOOKUP(C531,工作表9!$G$1:$H$142, 2, FALSE )","v":14800},0]
[null,null,23,{"$f":"VLOOKUP(C532,工作表9!$G$1:$I$136, 3, FALSE )","v":"純物質"},null,{"$f":"VLOOKUP(C532,工作表9!$G$1:$H$142, 2, FALSE )","v":14800},0]
[null,null,23,{"$f":"VLOOKUP(C533,工作表9!$G$1:$I$136, 3, FALSE )","v":"純物質"},null,{"$f":"VLOOKUP(C533,工作表9!$G$1:$H$142, 2, FALSE )","v":14800},0]
[null,null,23,{"$f":"VLOOKUP(C534,工作表9!$G$1:$I$136, 3, FALSE )","v":"純物質"},null,{"$f":"VLOOKUP(C534,工作表9!$G$1:$H$142, 2, FALSE )","v":14800},0]
[null,null,23,{"$f":"VLOOKUP(C535,工作表9!$G$1:$I$136, 3, FALSE )","v":"純物質"},null,{"$f":"VLOOKUP(C535,工作表9!$G$1:$H$142, 2, FALSE )","v":14800},0]
[null,null,23,{"$f":"VLOOKUP(C536,工作表9!$G$1:$I$136, 3, FALSE )","v":"純物質"},null,{"$f":"VLOOKUP(C536,工作表9!$G$1:$H$142, 2, FALSE )","v":14800},0]
[null,null,23,{"$f":"VLOOKUP(C537,工作表9!$G$1:$I$136, 3, FALSE )","v":"純物質"},null,{"$f":"VLOOKUP(C537,工作表9!$G$1:$H$142, 2, FALSE )","v":14800},0]
[null,null,23,{"$f":"VLOOKUP(C538,工作表9!$G$1:$I$136, 3, FALSE )","v":"純物質"},null,{"$f":"VLOOKUP(C538,工作表9!$G$1:$H$142, 2, FALSE )","v":14800},0]
[null,null,23,{"$f":"VLOOKUP(C539,工作表9!$G$1:$I$136, 3, FALSE )","v":"純物質"},null,{"$f":"VLOOKUP(C539,工作表9!$G$1:$H$142, 2, FALSE )","v":14800},0]
[null,null,23,{"$f":"VLOOKUP(C540,工作表9!$G$1:$I$136, 3, FALSE )","v":"純物質"},null,{"$f":"VLOOKUP(C540,工作表9!$G$1:$H$142, 2, FALSE )","v":14800},0]
[null,null,23,{"$f":"VLOOKUP(C541,工作表9!$G$1:$I$136, 3, FALSE )","v":"純物質"},null,{"$f":"VLOOKUP(C541,工作表9!$G$1:$H$142, 2, FALSE )","v":14800},0]
[null,null,23,{"$f":"VLOOKUP(C542,工作表9!$G$1:$I$136, 3, FALSE )","v":"純物質"},null,{"$f":"VLOOKUP(C542,工作表9!$G$1:$H$142, 2, FALSE )","v":14800},0]
[null,null,23,{"$f":"VLOOKUP(C543,工作表9!$G$1:$I$136, 3, FALSE )","v":"純物質"},null,{"$f":"VLOOKUP(C543,工作表9!$G$1:$H$142, 2, FALSE )","v":14800},0]
[null,null,23,{"$f":"VLOOKUP(C544,工作表9!$G$1:$I$136, 3, FALSE )","v":"純物質"},null,{"$f":"VLOOKUP(C544,工作表9!$G$1:$H$142, 2, FALSE )","v":14800},0]
[null,null,23,{"$f":"VLOOKUP(C545,工作表9!$G$1:$I$136, 3, FALSE )","v":"純物質"},null,{"$f":"VLOOKUP(C545,工作表9!$G$1:$H$142, 2, FALSE )","v":14800},0]
[null,null,23,{"$f":"VLOOKUP(C546,工作表9!$G$1:$I$136, 3, FALSE )","v":"純物質"},null,{"$f":"VLOOKUP(C546,工作表9!$G$1:$H$142, 2, FALSE )","v":14800},0]
[null,null,23,{"$f":"VLOOKUP(C547,工作表9!$G$1:$I$136, 3, FALSE )","v":"純物質"},null,{"$f":"VLOOKUP(C547,工作表9!$G$1:$H$142, 2, FALSE )","v":14800},0]
[null,null,23,{"$f":"VLOOKUP(C548,工作表9!$G$1:$I$136, 3, FALSE )","v":"純物質"},null,{"$f":"VLOOKUP(C548,工作表9!$G$1:$H$142, 2, FALSE )","v":14800},0]
[null,null,23,{"$f":"VLOOKUP(C549,工作表9!$G$1:$I$136, 3, FALSE )","v":"純物質"},null,{"$f":"VLOOKUP(C549,工作表9!$G$1:$H$142, 2, FALSE )","v":14800},0]
[null,null,23,{"$f":"VLOOKUP(C550,工作表9!$G$1:$I$136, 3, FALSE )","v":"純物質"},null,{"$f":"VLOOKUP(C550,工作表9!$G$1:$H$142, 2, FALSE )","v":14800},0]
[null,null,23,{"$f":"VLOOKUP(C551,工作表9!$G$1:$I$136, 3, FALSE )","v":"純物質"},null,{"$f":"VLOOKUP(C551,工作表9!$G$1:$H$142, 2, FALSE )","v":14800},0]
[null,null,23,{"$f":"VLOOKUP(C552,工作表9!$G$1:$I$136, 3, FALSE )","v":"純物質"},null,{"$f":"VLOOKUP(C552,工作表9!$G$1:$H$142, 2, FALSE )","v":14800},0]
[null,null,23,{"$f":"VLOOKUP(C553,工作表9!$G$1:$I$136, 3, FALSE )","v":"純物質"},null,{"$f":"VLOOKUP(C553,工作表9!$G$1:$H$142, 2, FALSE )","v":14800},0]
[null,null,23,{"$f":"VLOOKUP(C554,工作表9!$G$1:$I$136, 3, FALSE )","v":"純物質"},null,{"$f":"VLOOKUP(C554,工作表9!$G$1:$H$142, 2, FALSE )","v":14800},0]
[null,null,23,{"$f":"VLOOKUP(C555,工作表9!$G$1:$I$136, 3, FALSE )","v":"純物質"},null,{"$f":"VLOOKUP(C555,工作表9!$G$1:$H$142, 2, FALSE )","v":14800},0]
[null,null,23,{"$f":"VLOOKUP(C556,工作表9!$G$1:$I$136, 3, FALSE )","v":"純物質"},null,{"$f":"VLOOKUP(C556,工作表9!$G$1:$H$142, 2, FALSE )","v":14800},0]
[null,null,23,{"$f":"VLOOKUP(C557,工作表9!$G$1:$I$136, 3, FALSE )","v":"純物質"},null,{"$f":"VLOOKUP(C557,工作表9!$G$1:$H$142, 2, FALSE )","v":14800},0]
[null,null,23,{"$f":"VLOOKUP(C558,工作表9!$G$1:$I$136, 3, FALSE )","v":"純物質"},null,{"$f":"VLOOKUP(C558,工作表9!$G$1:$H$142, 2, FALSE )","v":14800},0]
[null,null,23,{"$f":"VLOOKUP(C559,工作表9!$G$1:$I$136, 3, FALSE )","v":"純物質"},null,{"$f":"VLOOKUP(C559,工作表9!$G$1:$H$142, 2, FALSE )","v":14800},0]
[null,null,23,{"$f":"VLOOKUP(C560,工作表9!$G$1:$I$136, 3, FALSE )","v":"純物質"},null,{"$f":"VLOOKUP(C560,工作表9!$G$1:$H$142, 2, FALSE )","v":14800},0]
[null,null,23,{"$f":"VLOOKUP(C561,工作表9!$G$1:$I$136, 3, FALSE )","v":"純物質"},null,{"$f":"VLOOKUP(C561,工作表9!$G$1:$H$142, 2, FALSE )","v":14800},0]
[null,null,23,{"$f":"VLOOKUP(C562,工作表9!$G$1:$I$136, 3, FALSE )","v":"純物質"},null,{"$f":"VLOOKUP(C562,工作表9!$G$1:$H$142, 2, FALSE )","v":14800},0]
[null,null,23,{"$f":"VLOOKUP(C563,工作表9!$G$1:$I$136, 3, FALSE )","v":"純物質"},null,{"$f":"VLOOKUP(C563,工作表9!$G$1:$H$142, 2, FALSE )","v":14800},0]
[null,null,23,{"$f":"VLOOKUP(C564,工作表9!$G$1:$I$136, 3, FALSE )","v":"純物質"},null,{"$f":"VLOOKUP(C564,工作表9!$G$1:$H$142, 2, FALSE )","v":14800},0]
[null,null,23,{"$f":"VLOOKUP(C565,工作表9!$G$1:$I$136, 3, FALSE )","v":"純物質"},null,{"$f":"VLOOKUP(C565,工作表9!$G$1:$H$142, 2, FALSE )","v":14800},0]
[null,null,23,{"$f":"VLOOKUP(C566,工作表9!$G$1:$I$136, 3, FALSE )","v":"純物質"},null,{"$f":"VLOOKUP(C566,工作表9!$G$1:$H$142, 2, FALSE )","v":14800},0]
[null,null,23,{"$f":"VLOOKUP(C567,工作表9!$G$1:$I$136, 3, FALSE )","v":"純物質"},null,{"$f":"VLOOKUP(C567,工作表9!$G$1:$H$142, 2, FALSE )","v":14800},0]
[null,null,23,{"$f":"VLOOKUP(C568,工作表9!$G$1:$I$136, 3, FALSE )","v":"純物質"},null,{"$f":"VLOOKUP(C568,工作表9!$G$1:$H$142, 2, FALSE )","v":14800},0]
[null,null,23,{"$f":"VLOOKUP(C569,工作表9!$G$1:$I$136, 3, FALSE )","v":"純物質"},null,{"$f":"VLOOKUP(C569,工作表9!$G$1:$H$142, 2, FALSE )","v":14800},0]
[null,null,23,{"$f":"VLOOKUP(C570,工作表9!$G$1:$I$136, 3, FALSE )","v":"純物質"},null,{"$f":"VLOOKUP(C570,工作表9!$G$1:$H$142, 2, FALSE )","v":14800},0]
[null,null,23,{"$f":"VLOOKUP(C571,工作表9!$G$1:$I$136, 3, FALSE )","v":"純物質"},null,{"$f":"VLOOKUP(C571,工作表9!$G$1:$H$142, 2, FALSE )","v":14800},0]
[null,null,23,{"$f":"VLOOKUP(C572,工作表9!$G$1:$I$136, 3, FALSE )","v":"純物質"},null,{"$f":"VLOOKUP(C572,工作表9!$G$1:$H$142, 2, FALSE )","v":14800},0]
[null,null,23,{"$f":"VLOOKUP(C573,工作表9!$G$1:$I$136, 3, FALSE )","v":"純物質"},null,{"$f":"VLOOKUP(C573,工作表9!$G$1:$H$142, 2, FALSE )","v":14800},0]
[null,null,23,{"$f":"VLOOKUP(C574,工作表9!$G$1:$I$136, 3, FALSE )","v":"純物質"},null,{"$f":"VLOOKUP(C574,工作表9!$G$1:$H$142, 2, FALSE )","v":14800},0]
[null,null,23,{"$f":"VLOOKUP(C575,工作表9!$G$1:$I$136, 3, FALSE )","v":"純物質"},null,{"$f":"VLOOKUP(C575,工作表9!$G$1:$H$142, 2, FALSE )","v":14800},0]
[null,null,23,{"$f":"VLOOKUP(C576,工作表9!$G$1:$I$136, 3, FALSE )","v":"純物質"},null,{"$f":"VLOOKUP(C576,工作表9!$G$1:$H$142, 2, FALSE )","v":14800},0]
[null,null,23,{"$f":"VLOOKUP(C577,工作表9!$G$1:$I$136, 3, FALSE )","v":"純物質"},null,{"$f":"VLOOKUP(C577,工作表9!$G$1:$H$142, 2, FALSE )","v":14800},0]
[null,null,23,{"$f":"VLOOKUP(C578,工作表9!$G$1:$I$136, 3, FALSE )","v":"純物質"},null,{"$f":"VLOOKUP(C578,工作表9!$G$1:$H$142, 2, FALSE )","v":14800},0]
[null,null,23,{"$f":"VLOOKUP(C579,工作表9!$G$1:$I$136, 3, FALSE )","v":"純物質"},null,{"$f":"VLOOKUP(C579,工作表9!$G$1:$H$142, 2, FALSE )","v":14800},0]
[null,null,23,{"$f":"VLOOKUP(C580,工作表9!$G$1:$I$136, 3, FALSE )","v":"純物質"},null,{"$f":"VLOOKUP(C580,工作表9!$G$1:$H$142, 2, FALSE )","v":14800},0]
[null,null,23,{"$f":"VLOOKUP(C581,工作表9!$G$1:$I$136, 3, FALSE )","v":"純物質"},null,{"$f":"VLOOKUP(C581,工作表9!$G$1:$H$142, 2, FALSE )","v":14800},0]
[null,null,23,{"$f":"VLOOKUP(C582,工作表9!$G$1:$I$136, 3, FALSE )","v":"純物質"},null,{"$f":"VLOOKUP(C582,工作表9!$G$1:$H$142, 2, FALSE )","v":14800},{"$f":"E582*F582","v":0}]
[null,null,23,{"$f":"VLOOKUP(C583,工作表9!$G$1:$I$136, 3, FALSE )","v":"純物質"},null,{"$f":"VLOOKUP(C583,工作表9!$G$1:$H$142, 2, FALSE )","v":14800},0]
[null,null,23,{"$f":"VLOOKUP(C584,工作表9!$G$1:$I$136, 3, FALSE )","v":"純物質"},null,{"$f":"VLOOKUP(C584,工作表9!$G$1:$H$142, 2, FALSE )","v":14800},0]
[null,null,23,{"$f":"VLOOKUP(C585,工作表9!$G$1:$I$136, 3, FALSE )","v":"純物質"},null,{"$f":"VLOOKUP(C585,工作表9!$G$1:$H$142, 2, FALSE )","v":14800},0]
[null,null,23,{"$f":"VLOOKUP(C586,工作表9!$G$1:$I$136, 3, FALSE )","v":"純物質"},null,{"$f":"VLOOKUP(C586,工作表9!$G$1:$H$142, 2, FALSE )","v":14800},0]
[null,null,23,{"$f":"VLOOKUP(C587,工作表9!$G$1:$I$136, 3, FALSE )","v":"純物質"},null,{"$f":"VLOOKUP(C587,工作表9!$G$1:$H$142, 2, FALSE )","v":14800},0]
[null,null,23,{"$f":"VLOOKUP(C588,工作表9!$G$1:$I$136, 3, FALSE )","v":"純物質"},null,{"$f":"VLOOKUP(C588,工作表9!$G$1:$H$142, 2, FALSE )","v":14800},0]
[null,null,23,{"$f":"VLOOKUP(C589,工作表9!$G$1:$I$136, 3, FALSE )","v":"純物質"},null,{"$f":"VLOOKUP(C589,工作表9!$G$1:$H$142, 2, FALSE )","v":14800},0]
[null,null,23,{"$f":"VLOOKUP(C590,工作表9!$G$1:$I$136, 3, FALSE )","v":"純物質"},null,{"$f":"VLOOKUP(C590,工作表9!$G$1:$H$142, 2, FALSE )","v":14800},0]
[null,null,23,{"$f":"VLOOKUP(C591,工作表9!$G$1:$I$136, 3, FALSE )","v":"純物質"},null,{"$f":"VLOOKUP(C591,工作表9!$G$1:$H$142, 2, FALSE )","v":14800},0]
[null,null,23,{"$f":"VLOOKUP(C592,工作表9!$G$1:$I$136, 3, FALSE )","v":"純物質"},null,{"$f":"VLOOKUP(C592,工作表9!$G$1:$H$142, 2, FALSE )","v":14800},0]
[null,null,23,{"$f":"VLOOKUP(C593,工作表9!$G$1:$I$136, 3, FALSE )","v":"純物質"},null,{"$f":"VLOOKUP(C593,工作表9!$G$1:$H$142, 2, FALSE )","v":14800},0]
[null,null,23,{"$f":"VLOOKUP(C594,工作表9!$G$1:$I$136, 3, FALSE )","v":"純物質"},null,{"$f":"VLOOKUP(C594,工作表9!$G$1:$H$142, 2, FALSE )","v":14800},0]
[null,null,23,{"$f":"VLOOKUP(C595,工作表9!$G$1:$I$136, 3, FALSE )","v":"純物質"},null,{"$f":"VLOOKUP(C595,工作表9!$G$1:$H$142, 2, FALSE )","v":14800},0]
[null,null,23,{"$f":"VLOOKUP(C596,工作表9!$G$1:$I$136, 3, FALSE )","v":"純物質"},null,{"$f":"VLOOKUP(C596,工作表9!$G$1:$H$142, 2, FALSE )","v":14800},0]
[null,null,23,{"$f":"VLOOKUP(C597,工作表9!$G$1:$I$136, 3, FALSE )","v":"純物質"},null,{"$f":"VLOOKUP(C597,工作表9!$G$1:$H$142, 2, FALSE )","v":14800},0]
[null,null,23,{"$f":"VLOOKUP(C598,工作表9!$G$1:$I$136, 3, FALSE )","v":"純物質"},null,{"$f":"VLOOKUP(C598,工作表9!$G$1:$H$142, 2, FALSE )","v":14800},0]
[null,null,23,{"$f":"VLOOKUP(C599,工作表9!$G$1:$I$136, 3, FALSE )","v":"純物質"},null,{"$f":"VLOOKUP(C599,工作表9!$G$1:$H$142, 2, FALSE )","v":14800},0]
[null,null,23,{"$f":"VLOOKUP(C600,工作表9!$G$1:$I$136, 3, FALSE )","v":"純物質"},null,{"$f":"VLOOKUP(C600,工作表9!$G$1:$H$142, 2, FALSE )","v":14800},0]
[null,null,23,{"$f":"VLOOKUP(C601,工作表9!$G$1:$I$136, 3, FALSE )","v":"純物質"},null,{"$f":"VLOOKUP(C601,工作表9!$G$1:$H$142, 2, FALSE )","v":14800},0]
[null,null,23,{"$f":"VLOOKUP(C602,工作表9!$G$1:$I$136, 3, FALSE )","v":"純物質"},null,{"$f":"VLOOKUP(C602,工作表9!$G$1:$H$142, 2, FALSE )","v":14800},0]
[null,null,23,{"$f":"VLOOKUP(C603,工作表9!$G$1:$I$136, 3, FALSE )","v":"純物質"},null,{"$f":"VLOOKUP(C603,工作表9!$G$1:$H$142, 2, FALSE )","v":14800},0]
[null,null,23,{"$f":"VLOOKUP(C604,工作表9!$G$1:$I$136, 3, FALSE )","v":"純物質"},null,{"$f":"VLOOKUP(C604,工作表9!$G$1:$H$142, 2, FALSE )","v":14800},0]
[null,null,23,{"$f":"VLOOKUP(C605,工作表9!$G$1:$I$136, 3, FALSE )","v":"純物質"},null,{"$f":"VLOOKUP(C605,工作表9!$G$1:$H$142, 2, FALSE )","v":14800},0]
[null,null,23,{"$f":"VLOOKUP(C606,工作表9!$G$1:$I$136, 3, FALSE )","v":"純物質"},null,{"$f":"VLOOKUP(C606,工作表9!$G$1:$H$142, 2, FALSE )","v":14800},0]
[null,null,23,{"$f":"VLOOKUP(C607,工作表9!$G$1:$I$136, 3, FALSE )","v":"純物質"},null,{"$f":"VLOOKUP(C607,工作表9!$G$1:$H$142, 2, FALSE )","v":14800},0]
[null,null,23,{"$f":"VLOOKUP(C608,工作表9!$G$1:$I$136, 3, FALSE )","v":"純物質"},null,{"$f":"VLOOKUP(C608,工作表9!$G$1:$H$142, 2, FALSE )","v":14800},0]
[null,null,23,{"$f":"VLOOKUP(C609,工作表9!$G$1:$I$136, 3, FALSE )","v":"純物質"},null,{"$f":"VLOOKUP(C609,工作表9!$G$1:$H$142, 2, FALSE )","v":14800},0]
[null,null,23,{"$f":"VLOOKUP(C610,工作表9!$G$1:$I$136, 3, FALSE )","v":"純物質"},null,{"$f":"VLOOKUP(C610,工作表9!$G$1:$H$142, 2, FALSE )","v":14800},0]
[null,null,23,{"$f":"VLOOKUP(C611,工作表9!$G$1:$I$136, 3, FALSE )","v":"純物質"},null,{"$f":"VLOOKUP(C611,工作表9!$G$1:$H$142, 2, FALSE )","v":14800},0]
[null,null,23,{"$f":"VLOOKUP(C612,工作表9!$G$1:$I$136, 3, FALSE )","v":"純物質"},null,{"$f":"VLOOKUP(C612,工作表9!$G$1:$H$142, 2, FALSE )","v":14800},0]
[null,null,23,{"$f":"VLOOKUP(C613,工作表9!$G$1:$I$136, 3, FALSE )","v":"純物質"},null,{"$f":"VLOOKUP(C613,工作表9!$G$1:$H$142, 2, FALSE )","v":14800},0]
[null,null,23,{"$f":"VLOOKUP(C614,工作表9!$G$1:$I$136, 3, FALSE )","v":"純物質"},null,{"$f":"VLOOKUP(C614,工作表9!$G$1:$H$142, 2, FALSE )","v":14800},0]
[null,null,23,{"$f":"VLOOKUP(C615,工作表9!$G$1:$I$136, 3, FALSE )","v":"純物質"},null,{"$f":"VLOOKUP(C615,工作表9!$G$1:$H$142, 2, FALSE )","v":14800},0]
[null,null,23,{"$f":"VLOOKUP(C616,工作表9!$G$1:$I$136, 3, FALSE )","v":"純物質"},null,{"$f":"VLOOKUP(C616,工作表9!$G$1:$H$142, 2, FALSE )","v":14800},0]
[null,null,23,{"$f":"VLOOKUP(C617,工作表9!$G$1:$I$136, 3, FALSE )","v":"純物質"},null,{"$f":"VLOOKUP(C617,工作表9!$G$1:$H$142, 2, FALSE )","v":14800},0]
[null,null,23,{"$f":"VLOOKUP(C618,工作表9!$G$1:$I$136, 3, FALSE )","v":"純物質"},null,{"$f":"VLOOKUP(C618,工作表9!$G$1:$H$142, 2, FALSE )","v":14800},0]
[null,null,23,{"$f":"VLOOKUP(C619,工作表9!$G$1:$I$136, 3, FALSE )","v":"純物質"},null,{"$f":"VLOOKUP(C619,工作表9!$G$1:$H$142, 2, FALSE )","v":14800},0]
[null,null,23,{"$f":"VLOOKUP(C620,工作表9!$G$1:$I$136, 3, FALSE )","v":"純物質"},null,{"$f":"VLOOKUP(C620,工作表9!$G$1:$H$142, 2, FALSE )","v":14800},0]
[null,null,23,{"$f":"VLOOKUP(C621,工作表9!$G$1:$I$136, 3, FALSE )","v":"純物質"},null,{"$f":"VLOOKUP(C621,工作表9!$G$1:$H$142, 2, FALSE )","v":14800},0]
[null,null,23,{"$f":"VLOOKUP(C622,工作表9!$G$1:$I$136, 3, FALSE )","v":"純物質"},null,{"$f":"VLOOKUP(C622,工作表9!$G$1:$H$142, 2, FALSE )","v":14800},0]
[null,null,23,{"$f":"VLOOKUP(C623,工作表9!$G$1:$I$136, 3, FALSE )","v":"純物質"},null,{"$f":"VLOOKUP(C623,工作表9!$G$1:$H$142, 2, FALSE )","v":14800},0]
[null,null,23,{"$f":"VLOOKUP(C624,工作表9!$G$1:$I$136, 3, FALSE )","v":"純物質"},null,{"$f":"VLOOKUP(C624,工作表9!$G$1:$H$142, 2, FALSE )","v":14800},0]
[null,null,23,{"$f":"VLOOKUP(C625,工作表9!$G$1:$I$136, 3, FALSE )","v":"純物質"},null,{"$f":"VLOOKUP(C625,工作表9!$G$1:$H$142, 2, FALSE )","v":14800},0]
[null,null,23,{"$f":"VLOOKUP(C626,工作表9!$G$1:$I$136, 3, FALSE )","v":"純物質"},null,{"$f":"VLOOKUP(C626,工作表9!$G$1:$H$142, 2, FALSE )","v":14800},0]
[null,null,23,{"$f":"VLOOKUP(C627,工作表9!$G$1:$I$136, 3, FALSE )","v":"純物質"},null,{"$f":"VLOOKUP(C627,工作表9!$G$1:$H$142, 2, FALSE )","v":14800},0]
[null,null,23,{"$f":"VLOOKUP(C628,工作表9!$G$1:$I$136, 3, FALSE )","v":"純物質"},null,{"$f":"VLOOKUP(C628,工作表9!$G$1:$H$142, 2, FALSE )","v":14800},0]
[null,null,23,{"$f":"VLOOKUP(C629,工作表9!$G$1:$I$136, 3, FALSE )","v":"純物質"},null,{"$f":"VLOOKUP(C629,工作表9!$G$1:$H$142, 2, FALSE )","v":14800},0]
[null,null,23,{"$f":"VLOOKUP(C630,工作表9!$G$1:$I$136, 3, FALSE )","v":"純物質"},null,{"$f":"VLOOKUP(C630,工作表9!$G$1:$H$142, 2, FALSE )","v":14800},0]
[null,null,23,{"$f":"VLOOKUP(C631,工作表9!$G$1:$I$136, 3, FALSE )","v":"純物質"},null,{"$f":"VLOOKUP(C631,工作表9!$G$1:$H$142, 2, FALSE )","v":14800},0]
[null,null,23,{"$f":"VLOOKUP(C632,工作表9!$G$1:$I$136, 3, FALSE )","v":"純物質"},null,{"$f":"VLOOKUP(C632,工作表9!$G$1:$H$142, 2, FALSE )","v":14800},0]
[null,null,23,{"$f":"VLOOKUP(C633,工作表9!$G$1:$I$136, 3, FALSE )","v":"純物質"},null,{"$f":"VLOOKUP(C633,工作表9!$G$1:$H$142, 2, FALSE )","v":14800},0]
[null,null,23,{"$f":"VLOOKUP(C634,工作表9!$G$1:$I$136, 3, FALSE )","v":"純物質"},null,{"$f":"VLOOKUP(C634,工作表9!$G$1:$H$142, 2, FALSE )","v":14800},0]
[null,null,23,{"$f":"VLOOKUP(C635,工作表9!$G$1:$I$136, 3, FALSE )","v":"純物質"},null,{"$f":"VLOOKUP(C635,工作表9!$G$1:$H$142, 2, FALSE )","v":14800},0]
[null,null,23,{"$f":"VLOOKUP(C636,工作表9!$G$1:$I$136, 3, FALSE )","v":"純物質"},null,{"$f":"VLOOKUP(C636,工作表9!$G$1:$H$142, 2, FALSE )","v":14800},0]
[null,null,23,{"$f":"VLOOKUP(C637,工作表9!$G$1:$I$136, 3, FALSE )","v":"純物質"},null,{"$f":"VLOOKUP(C637,工作表9!$G$1:$H$142, 2, FALSE )","v":14800},0]
[null,null,23,{"$f":"VLOOKUP(C638,工作表9!$G$1:$I$136, 3, FALSE )","v":"純物質"},null,{"$f":"VLOOKUP(C638,工作表9!$G$1:$H$142, 2, FALSE )","v":14800},0]
[null,null,23,{"$f":"VLOOKUP(C639,工作表9!$G$1:$I$136, 3, FALSE )","v":"純物質"},null,{"$f":"VLOOKUP(C639,工作表9!$G$1:$H$142, 2, FALSE )","v":14800},0]
[null,null,23,{"$f":"VLOOKUP(C640,工作表9!$G$1:$I$136, 3, FALSE )","v":"純物質"},null,{"$f":"VLOOKUP(C640,工作表9!$G$1:$H$142, 2, FALSE )","v":14800},0]
[null,null,23,{"$f":"VLOOKUP(C641,工作表9!$G$1:$I$136, 3, FALSE )","v":"純物質"},null,{"$f":"VLOOKUP(C641,工作表9!$G$1:$H$142, 2, FALSE )","v":14800},0]
[null,null,23,{"$f":"VLOOKUP(C642,工作表9!$G$1:$I$136, 3, FALSE )","v":"純物質"},null,{"$f":"VLOOKUP(C642,工作表9!$G$1:$H$142, 2, FALSE )","v":14800},0]
[null,null,23,{"$f":"VLOOKUP(C643,工作表9!$G$1:$I$136, 3, FALSE )","v":"純物質"},null,{"$f":"VLOOKUP(C643,工作表9!$G$1:$H$142, 2, FALSE )","v":14800},0]
[null,null,23,{"$f":"VLOOKUP(C644,工作表9!$G$1:$I$136, 3, FALSE )","v":"純物質"},null,{"$f":"VLOOKUP(C644,工作表9!$G$1:$H$142, 2, FALSE )","v":14800},0]
[null,null,23,{"$f":"VLOOKUP(C645,工作表9!$G$1:$I$136, 3, FALSE )","v":"純物質"},null,{"$f":"VLOOKUP(C645,工作表9!$G$1:$H$142, 2, FALSE )","v":14800},0]
[null,null,23,{"$f":"VLOOKUP(C646,工作表9!$G$1:$I$136, 3, FALSE )","v":"純物質"},null,{"$f":"VLOOKUP(C646,工作表9!$G$1:$H$142, 2, FALSE )","v":14800},{"$f":"E646*F646","v":0}]
[null,null,23,{"$f":"VLOOKUP(C647,工作表9!$G$1:$I$136, 3, FALSE )","v":"純物質"},null,{"$f":"VLOOKUP(C647,工作表9!$G$1:$H$142, 2, FALSE )","v":14800},0]
[null,null,23,{"$f":"VLOOKUP(C648,工作表9!$G$1:$I$136, 3, FALSE )","v":"純物質"},null,{"$f":"VLOOKUP(C648,工作表9!$G$1:$H$142, 2, FALSE )","v":14800},0]
[null,null,23,{"$f":"VLOOKUP(C649,工作表9!$G$1:$I$136, 3, FALSE )","v":"純物質"},null,{"$f":"VLOOKUP(C649,工作表9!$G$1:$H$142, 2, FALSE )","v":14800},0]
[null,null,23,{"$f":"VLOOKUP(C650,工作表9!$G$1:$I$136, 3, FALSE )","v":"純物質"},null,{"$f":"VLOOKUP(C650,工作表9!$G$1:$H$142, 2, FALSE )","v":14800},0]
[null,null,23,{"$f":"VLOOKUP(C651,工作表9!$G$1:$I$136, 3, FALSE )","v":"純物質"},null,{"$f":"VLOOKUP(C651,工作表9!$G$1:$H$142, 2, FALSE )","v":14800},0]
[null,null,23,{"$f":"VLOOKUP(C652,工作表9!$G$1:$I$136, 3, FALSE )","v":"純物質"},null,{"$f":"VLOOKUP(C652,工作表9!$G$1:$H$142, 2, FALSE )","v":14800},0]
[null,null,23,{"$f":"VLOOKUP(C653,工作表9!$G$1:$I$136, 3, FALSE )","v":"純物質"},null,{"$f":"VLOOKUP(C653,工作表9!$G$1:$H$142, 2, FALSE )","v":14800},0]
[null,null,23,{"$f":"VLOOKUP(C654,工作表9!$G$1:$I$136, 3, FALSE )","v":"純物質"},null,{"$f":"VLOOKUP(C654,工作表9!$G$1:$H$142, 2, FALSE )","v":14800},0]
[null,null,23,{"$f":"VLOOKUP(C655,工作表9!$G$1:$I$136, 3, FALSE )","v":"純物質"},null,{"$f":"VLOOKUP(C655,工作表9!$G$1:$H$142, 2, FALSE )","v":14800},0]
[null,null,23,{"$f":"VLOOKUP(C656,工作表9!$G$1:$I$136, 3, FALSE )","v":"純物質"},null,{"$f":"VLOOKUP(C656,工作表9!$G$1:$H$142, 2, FALSE )","v":14800},0]
[null,null,23,{"$f":"VLOOKUP(C657,工作表9!$G$1:$I$136, 3, FALSE )","v":"純物質"},null,{"$f":"VLOOKUP(C657,工作表9!$G$1:$H$142, 2, FALSE )","v":14800},0]
[null,null,23,{"$f":"VLOOKUP(C658,工作表9!$G$1:$I$136, 3, FALSE )","v":"純物質"},null,{"$f":"VLOOKUP(C658,工作表9!$G$1:$H$142, 2, FALSE )","v":14800},0]
[null,null,23,{"$f":"VLOOKUP(C659,工作表9!$G$1:$I$136, 3, FALSE )","v":"純物質"},null,{"$f":"VLOOKUP(C659,工作表9!$G$1:$H$142, 2, FALSE )","v":14800},0]
[null,null,23,{"$f":"VLOOKUP(C660,工作表9!$G$1:$I$136, 3, FALSE )","v":"純物質"},null,{"$f":"VLOOKUP(C660,工作表9!$G$1:$H$142, 2, FALSE )","v":14800},0]
[null,null,23,{"$f":"VLOOKUP(C661,工作表9!$G$1:$I$136, 3, FALSE )","v":"純物質"},null,{"$f":"VLOOKUP(C661,工作表9!$G$1:$H$142, 2, FALSE )","v":14800},0]
[null,null,23,{"$f":"VLOOKUP(C662,工作表9!$G$1:$I$136, 3, FALSE )","v":"純物質"},null,{"$f":"VLOOKUP(C662,工作表9!$G$1:$H$142, 2, FALSE )","v":14800},0]
[null,null,23,{"$f":"VLOOKUP(C663,工作表9!$G$1:$I$136, 3, FALSE )","v":"純物質"},null,{"$f":"VLOOKUP(C663,工作表9!$G$1:$H$142, 2, FALSE )","v":14800},0]
[null,null,23,{"$f":"VLOOKUP(C664,工作表9!$G$1:$I$136, 3, FALSE )","v":"純物質"},null,{"$f":"VLOOKUP(C664,工作表9!$G$1:$H$142, 2, FALSE )","v":14800},0]
[null,null,23,{"$f":"VLOOKUP(C665,工作表9!$G$1:$I$136, 3, FALSE )","v":"純物質"},null,{"$f":"VLOOKUP(C665,工作表9!$G$1:$H$142, 2, FALSE )","v":14800},0]
[null,null,23,{"$f":"VLOOKUP(C666,工作表9!$G$1:$I$136, 3, FALSE )","v":"純物質"},null,{"$f":"VLOOKUP(C666,工作表9!$G$1:$H$142, 2, FALSE )","v":14800},0]
[null,null,23,{"$f":"VLOOKUP(C667,工作表9!$G$1:$I$136, 3, FALSE )","v":"純物質"},null,{"$f":"VLOOKUP(C667,工作表9!$G$1:$H$142, 2, FALSE )","v":14800},0]
[null,null,23,{"$f":"VLOOKUP(C668,工作表9!$G$1:$I$136, 3, FALSE )","v":"純物質"},null,{"$f":"VLOOKUP(C668,工作表9!$G$1:$H$142, 2, FALSE )","v":14800},0]
[null,null,23,{"$f":"VLOOKUP(C669,工作表9!$G$1:$I$136, 3, FALSE )","v":"純物質"},null,{"$f":"VLOOKUP(C669,工作表9!$G$1:$H$142, 2, FALSE )","v":14800},0]
[null,null,23,{"$f":"VLOOKUP(C670,工作表9!$G$1:$I$136, 3, FALSE )","v":"純物質"},null,{"$f":"VLOOKUP(C670,工作表9!$G$1:$H$142, 2, FALSE )","v":14800},0]
[null,null,23,{"$f":"VLOOKUP(C671,工作表9!$G$1:$I$136, 3, FALSE )","v":"純物質"},null,{"$f":"VLOOKUP(C671,工作表9!$G$1:$H$142, 2, FALSE )","v":14800},0]
[null,null,23,{"$f":"VLOOKUP(C672,工作表9!$G$1:$I$136, 3, FALSE )","v":"純物質"},null,{"$f":"VLOOKUP(C672,工作表9!$G$1:$H$142, 2, FALSE )","v":14800},0]
[null,null,23,{"$f":"VLOOKUP(C673,工作表9!$G$1:$I$136, 3, FALSE )","v":"純物質"},null,{"$f":"VLOOKUP(C673,工作表9!$G$1:$H$142, 2, FALSE )","v":14800},0]
[null,null,23,{"$f":"VLOOKUP(C674,工作表9!$G$1:$I$136, 3, FALSE )","v":"純物質"},null,{"$f":"VLOOKUP(C674,工作表9!$G$1:$H$142, 2, FALSE )","v":14800},0]
[null,null,23,{"$f":"VLOOKUP(C675,工作表9!$G$1:$I$136, 3, FALSE )","v":"純物質"},null,{"$f":"VLOOKUP(C675,工作表9!$G$1:$H$142, 2, FALSE )","v":14800},0]
[null,null,23,{"$f":"VLOOKUP(C676,工作表9!$G$1:$I$136, 3, FALSE )","v":"純物質"},null,{"$f":"VLOOKUP(C676,工作表9!$G$1:$H$142, 2, FALSE )","v":14800},0]
[null,null,23,{"$f":"VLOOKUP(C677,工作表9!$G$1:$I$136, 3, FALSE )","v":"純物質"},null,{"$f":"VLOOKUP(C677,工作表9!$G$1:$H$142, 2, FALSE )","v":14800},0]
[null,null,23,{"$f":"VLOOKUP(C678,工作表9!$G$1:$I$136, 3, FALSE )","v":"純物質"},null,{"$f":"VLOOKUP(C678,工作表9!$G$1:$H$142, 2, FALSE )","v":14800},0]
[null,null,23,{"$f":"VLOOKUP(C679,工作表9!$G$1:$I$136, 3, FALSE )","v":"純物質"},null,{"$f":"VLOOKUP(C679,工作表9!$G$1:$H$142, 2, FALSE )","v":14800},0]
[null,null,23,{"$f":"VLOOKUP(C680,工作表9!$G$1:$I$136, 3, FALSE )","v":"純物質"},null,{"$f":"VLOOKUP(C680,工作表9!$G$1:$H$142, 2, FALSE )","v":14800},0]
[null,null,23,{"$f":"VLOOKUP(C681,工作表9!$G$1:$I$136, 3, FALSE )","v":"純物質"},null,{"$f":"VLOOKUP(C681,工作表9!$G$1:$H$142, 2, FALSE )","v":14800},0]
[null,null,23,{"$f":"VLOOKUP(C682,工作表9!$G$1:$I$136, 3, FALSE )","v":"純物質"},null,{"$f":"VLOOKUP(C682,工作表9!$G$1:$H$142, 2, FALSE )","v":14800},0]
[null,null,23,{"$f":"VLOOKUP(C683,工作表9!$G$1:$I$136, 3, FALSE )","v":"純物質"},null,{"$f":"VLOOKUP(C683,工作表9!$G$1:$H$142, 2, FALSE )","v":14800},0]
[null,null,23,{"$f":"VLOOKUP(C684,工作表9!$G$1:$I$136, 3, FALSE )","v":"純物質"},null,{"$f":"VLOOKUP(C684,工作表9!$G$1:$H$142, 2, FALSE )","v":14800},0]
[null,null,23,{"$f":"VLOOKUP(C685,工作表9!$G$1:$I$136, 3, FALSE )","v":"純物質"},null,{"$f":"VLOOKUP(C685,工作表9!$G$1:$H$142, 2, FALSE )","v":14800},0]
[null,null,23,{"$f":"VLOOKUP(C686,工作表9!$G$1:$I$136, 3, FALSE )","v":"純物質"},null,{"$f":"VLOOKUP(C686,工作表9!$G$1:$H$142, 2, FALSE )","v":14800},0]
[null,null,23,{"$f":"VLOOKUP(C687,工作表9!$G$1:$I$136, 3, FALSE )","v":"純物質"},null,{"$f":"VLOOKUP(C687,工作表9!$G$1:$H$142, 2, FALSE )","v":14800},0]
[null,null,23,{"$f":"VLOOKUP(C688,工作表9!$G$1:$I$136, 3, FALSE )","v":"純物質"},null,{"$f":"VLOOKUP(C688,工作表9!$G$1:$H$142, 2, FALSE )","v":14800},0]
[null,null,23,{"$f":"VLOOKUP(C689,工作表9!$G$1:$I$136, 3, FALSE )","v":"純物質"},null,{"$f":"VLOOKUP(C689,工作表9!$G$1:$H$142, 2, FALSE )","v":14800},0]
[null,null,23,{"$f":"VLOOKUP(C690,工作表9!$G$1:$I$136, 3, FALSE )","v":"純物質"},null,{"$f":"VLOOKUP(C690,工作表9!$G$1:$H$142, 2, FALSE )","v":14800},0]
[null,null,23,{"$f":"VLOOKUP(C691,工作表9!$G$1:$I$136, 3, FALSE )","v":"純物質"},null,{"$f":"VLOOKUP(C691,工作表9!$G$1:$H$142, 2, FALSE )","v":14800},0]
[null,null,23,{"$f":"VLOOKUP(C692,工作表9!$G$1:$I$136, 3, FALSE )","v":"純物質"},null,{"$f":"VLOOKUP(C692,工作表9!$G$1:$H$142, 2, FALSE )","v":14800},0]
[null,null,23,{"$f":"VLOOKUP(C693,工作表9!$G$1:$I$136, 3, FALSE )","v":"純物質"},null,{"$f":"VLOOKUP(C693,工作表9!$G$1:$H$142, 2, FALSE )","v":14800},0]
[null,null,23,{"$f":"VLOOKUP(C694,工作表9!$G$1:$I$136, 3, FALSE )","v":"純物質"},null,{"$f":"VLOOKUP(C694,工作表9!$G$1:$H$142, 2, FALSE )","v":14800},0]
[null,null,23,{"$f":"VLOOKUP(C695,工作表9!$G$1:$I$136, 3, FALSE )","v":"純物質"},null,{"$f":"VLOOKUP(C695,工作表9!$G$1:$H$142, 2, FALSE )","v":14800},0]
[null,null,23,{"$f":"VLOOKUP(C696,工作表9!$G$1:$I$136, 3, FALSE )","v":"純物質"},null,{"$f":"VLOOKUP(C696,工作表9!$G$1:$H$142, 2, FALSE )","v":14800},0]
[null,null,23,{"$f":"VLOOKUP(C697,工作表9!$G$1:$I$136, 3, FALSE )","v":"純物質"},null,{"$f":"VLOOKUP(C697,工作表9!$G$1:$H$142, 2, FALSE )","v":14800},0]
[null,null,23,{"$f":"VLOOKUP(C698,工作表9!$G$1:$I$136, 3, FALSE )","v":"純物質"},null,{"$f":"VLOOKUP(C698,工作表9!$G$1:$H$142, 2, FALSE )","v":14800},0]
[null,null,23,{"$f":"VLOOKUP(C699,工作表9!$G$1:$I$136, 3, FALSE )","v":"純物質"},null,{"$f":"VLOOKUP(C699,工作表9!$G$1:$H$142, 2, FALSE )","v":14800},0]
[null,null,23,{"$f":"VLOOKUP(C700,工作表9!$G$1:$I$136, 3, FALSE )","v":"純物質"},null,{"$f":"VLOOKUP(C700,工作表9!$G$1:$H$142, 2, FALSE )","v":14800},0]
[null,null,23,{"$f":"VLOOKUP(C701,工作表9!$G$1:$I$136, 3, FALSE )","v":"純物質"},null,{"$f":"VLOOKUP(C701,工作表9!$G$1:$H$142, 2, FALSE )","v":14800},0]
[null,null,23,{"$f":"VLOOKUP(C702,工作表9!$G$1:$I$136, 3, FALSE )","v":"純物質"},null,{"$f":"VLOOKUP(C702,工作表9!$G$1:$H$142, 2, FALSE )","v":14800},0]
[null,null,23,{"$f":"VLOOKUP(C703,工作表9!$G$1:$I$136, 3, FALSE )","v":"純物質"},null,{"$f":"VLOOKUP(C703,工作表9!$G$1:$H$142, 2, FALSE )","v":14800},0]
[null,null,23,{"$f":"VLOOKUP(C704,工作表9!$G$1:$I$136, 3, FALSE )","v":"純物質"},null,{"$f":"VLOOKUP(C704,工作表9!$G$1:$H$142, 2, FALSE )","v":14800},0]
[null,null,23,{"$f":"VLOOKUP(C705,工作表9!$G$1:$I$136, 3, FALSE )","v":"純物質"},null,{"$f":"VLOOKUP(C705,工作表9!$G$1:$H$142, 2, FALSE )","v":14800},0]
[null,null,23,{"$f":"VLOOKUP(C706,工作表9!$G$1:$I$136, 3, FALSE )","v":"純物質"},null,{"$f":"VLOOKUP(C706,工作表9!$G$1:$H$142, 2, FALSE )","v":14800},0]
[null,null,23,{"$f":"VLOOKUP(C707,工作表9!$G$1:$I$136, 3, FALSE )","v":"純物質"},null,{"$f":"VLOOKUP(C707,工作表9!$G$1:$H$142, 2, FALSE )","v":14800},0]
[null,null,23,{"$f":"VLOOKUP(C708,工作表9!$G$1:$I$136, 3, FALSE )","v":"純物質"},null,{"$f":"VLOOKUP(C708,工作表9!$G$1:$H$142, 2, FALSE )","v":14800},0]
[null,null,23,{"$f":"VLOOKUP(C709,工作表9!$G$1:$I$136, 3, FALSE )","v":"純物質"},null,{"$f":"VLOOKUP(C709,工作表9!$G$1:$H$142, 2, FALSE )","v":14800},0]
[null,null,23,{"$f":"VLOOKUP(C710,工作表9!$G$1:$I$136, 3, FALSE )","v":"純物質"},null,{"$f":"VLOOKUP(C710,工作表9!$G$1:$H$142, 2, FALSE )","v":14800},{"$f":"E710*F710","v":0}]
[null,null,23,{"$f":"VLOOKUP(C711,工作表9!$G$1:$I$136, 3, FALSE )","v":"純物質"},null,{"$f":"VLOOKUP(C711,工作表9!$G$1:$H$142, 2, FALSE )","v":14800},0]
[null,null,23,{"$f":"VLOOKUP(C712,工作表9!$G$1:$I$136, 3, FALSE )","v":"純物質"},null,{"$f":"VLOOKUP(C712,工作表9!$G$1:$H$142, 2, FALSE )","v":14800},0]
[null,null,23,{"$f":"VLOOKUP(C713,工作表9!$G$1:$I$136, 3, FALSE )","v":"純物質"},null,{"$f":"VLOOKUP(C713,工作表9!$G$1:$H$142, 2, FALSE )","v":14800},0]
[null,null,23,{"$f":"VLOOKUP(C714,工作表9!$G$1:$I$136, 3, FALSE )","v":"純物質"},null,{"$f":"VLOOKUP(C714,工作表9!$G$1:$H$142, 2, FALSE )","v":14800},0]
[null,null,23,{"$f":"VLOOKUP(C715,工作表9!$G$1:$I$136, 3, FALSE )","v":"純物質"},null,{"$f":"VLOOKUP(C715,工作表9!$G$1:$H$142, 2, FALSE )","v":14800},0]
[null,null,23,{"$f":"VLOOKUP(C716,工作表9!$G$1:$I$136, 3, FALSE )","v":"純物質"},null,{"$f":"VLOOKUP(C716,工作表9!$G$1:$H$142, 2, FALSE )","v":14800},0]
[null,null,23,{"$f":"VLOOKUP(C717,工作表9!$G$1:$I$136, 3, FALSE )","v":"純物質"},null,{"$f":"VLOOKUP(C717,工作表9!$G$1:$H$142, 2, FALSE )","v":14800},0]
[null,null,23,{"$f":"VLOOKUP(C718,工作表9!$G$1:$I$136, 3, FALSE )","v":"純物質"},null,{"$f":"VLOOKUP(C718,工作表9!$G$1:$H$142, 2, FALSE )","v":14800},0]
[null,null,23,{"$f":"VLOOKUP(C719,工作表9!$G$1:$I$136, 3, FALSE )","v":"純物質"},null,{"$f":"VLOOKUP(C719,工作表9!$G$1:$H$142, 2, FALSE )","v":14800},0]
[null,null,23,{"$f":"VLOOKUP(C720,工作表9!$G$1:$I$136, 3, FALSE )","v":"純物質"},null,{"$f":"VLOOKUP(C720,工作表9!$G$1:$H$142, 2, FALSE )","v":14800},0]
[null,null,23,{"$f":"VLOOKUP(C721,工作表9!$G$1:$I$136, 3, FALSE )","v":"純物質"},null,{"$f":"VLOOKUP(C721,工作表9!$G$1:$H$142, 2, FALSE )","v":14800},0]
[null,null,23,{"$f":"VLOOKUP(C722,工作表9!$G$1:$I$136, 3, FALSE )","v":"純物質"},null,{"$f":"VLOOKUP(C722,工作表9!$G$1:$H$142, 2, FALSE )","v":14800},0]
[null,null,23,{"$f":"VLOOKUP(C723,工作表9!$G$1:$I$136, 3, FALSE )","v":"純物質"},null,{"$f":"VLOOKUP(C723,工作表9!$G$1:$H$142, 2, FALSE )","v":14800},0]
[null,null,23,{"$f":"VLOOKUP(C724,工作表9!$G$1:$I$136, 3, FALSE )","v":"純物質"},null,{"$f":"VLOOKUP(C724,工作表9!$G$1:$H$142, 2, FALSE )","v":14800},0]
[null,null,23,{"$f":"VLOOKUP(C725,工作表9!$G$1:$I$136, 3, FALSE )","v":"純物質"},null,{"$f":"VLOOKUP(C725,工作表9!$G$1:$H$142, 2, FALSE )","v":14800},0]
[null,null,23,{"$f":"VLOOKUP(C726,工作表9!$G$1:$I$136, 3, FALSE )","v":"純物質"},null,{"$f":"VLOOKUP(C726,工作表9!$G$1:$H$142, 2, FALSE )","v":14800},0]
[null,null,23,{"$f":"VLOOKUP(C727,工作表9!$G$1:$I$136, 3, FALSE )","v":"純物質"},null,{"$f":"VLOOKUP(C727,工作表9!$G$1:$H$142, 2, FALSE )","v":14800},0]
[null,null,23,{"$f":"VLOOKUP(C728,工作表9!$G$1:$I$136, 3, FALSE )","v":"純物質"},null,{"$f":"VLOOKUP(C728,工作表9!$G$1:$H$142, 2, FALSE )","v":14800},0]
[null,null,23,{"$f":"VLOOKUP(C729,工作表9!$G$1:$I$136, 3, FALSE )","v":"純物質"},null,{"$f":"VLOOKUP(C729,工作表9!$G$1:$H$142, 2, FALSE )","v":14800},0]
[null,null,23,{"$f":"VLOOKUP(C730,工作表9!$G$1:$I$136, 3, FALSE )","v":"純物質"},null,{"$f":"VLOOKUP(C730,工作表9!$G$1:$H$142, 2, FALSE )","v":14800},0]
[null,null,23,{"$f":"VLOOKUP(C731,工作表9!$G$1:$I$136, 3, FALSE )","v":"純物質"},null,{"$f":"VLOOKUP(C731,工作表9!$G$1:$H$142, 2, FALSE )","v":14800},0]
[null,null,23,{"$f":"VLOOKUP(C732,工作表9!$G$1:$I$136, 3, FALSE )","v":"純物質"},null,{"$f":"VLOOKUP(C732,工作表9!$G$1:$H$142, 2, FALSE )","v":14800},0]
[null,null,23,{"$f":"VLOOKUP(C733,工作表9!$G$1:$I$136, 3, FALSE )","v":"純物質"},null,{"$f":"VLOOKUP(C733,工作表9!$G$1:$H$142, 2, FALSE )","v":14800},0]
[null,null,23,{"$f":"VLOOKUP(C734,工作表9!$G$1:$I$136, 3, FALSE )","v":"純物質"},null,{"$f":"VLOOKUP(C734,工作表9!$G$1:$H$142, 2, FALSE )","v":14800},0]
[null,null,23,{"$f":"VLOOKUP(C735,工作表9!$G$1:$I$136, 3, FALSE )","v":"純物質"},null,{"$f":"VLOOKUP(C735,工作表9!$G$1:$H$142, 2, FALSE )","v":14800},0]
[null,null,23,{"$f":"VLOOKUP(C736,工作表9!$G$1:$I$136, 3, FALSE )","v":"純物質"},null,{"$f":"VLOOKUP(C736,工作表9!$G$1:$H$142, 2, FALSE )","v":14800},0]
[null,null,23,{"$f":"VLOOKUP(C737,工作表9!$G$1:$I$136, 3, FALSE )","v":"純物質"},null,{"$f":"VLOOKUP(C737,工作表9!$G$1:$H$142, 2, FALSE )","v":14800},0]
[null,null,23,{"$f":"VLOOKUP(C738,工作表9!$G$1:$I$136, 3, FALSE )","v":"純物質"},null,{"$f":"VLOOKUP(C738,工作表9!$G$1:$H$142, 2, FALSE )","v":14800},0]
[null,null,23,{"$f":"VLOOKUP(C739,工作表9!$G$1:$I$136, 3, FALSE )","v":"純物質"},null,{"$f":"VLOOKUP(C739,工作表9!$G$1:$H$142, 2, FALSE )","v":14800},0]
[null,null,23,{"$f":"VLOOKUP(C740,工作表9!$G$1:$I$136, 3, FALSE )","v":"純物質"},null,{"$f":"VLOOKUP(C740,工作表9!$G$1:$H$142, 2, FALSE )","v":14800},0]
[null,null,23,{"$f":"VLOOKUP(C741,工作表9!$G$1:$I$136, 3, FALSE )","v":"純物質"},null,{"$f":"VLOOKUP(C741,工作表9!$G$1:$H$142, 2, FALSE )","v":14800},0]
[null,null,23,{"$f":"VLOOKUP(C742,工作表9!$G$1:$I$136, 3, FALSE )","v":"純物質"},null,{"$f":"VLOOKUP(C742,工作表9!$G$1:$H$142, 2, FALSE )","v":14800},0]
[null,null,23,{"$f":"VLOOKUP(C743,工作表9!$G$1:$I$136, 3, FALSE )","v":"純物質"},null,{"$f":"VLOOKUP(C743,工作表9!$G$1:$H$142, 2, FALSE )","v":14800},0]
[null,null,23,{"$f":"VLOOKUP(C744,工作表9!$G$1:$I$136, 3, FALSE )","v":"純物質"},null,{"$f":"VLOOKUP(C744,工作表9!$G$1:$H$142, 2, FALSE )","v":14800},0]
[null,null,23,{"$f":"VLOOKUP(C745,工作表9!$G$1:$I$136, 3, FALSE )","v":"純物質"},null,{"$f":"VLOOKUP(C745,工作表9!$G$1:$H$142, 2, FALSE )","v":14800},0]
[null,null,23,{"$f":"VLOOKUP(C746,工作表9!$G$1:$I$136, 3, FALSE )","v":"純物質"},null,{"$f":"VLOOKUP(C746,工作表9!$G$1:$H$142, 2, FALSE )","v":14800},0]
[null,null,23,{"$f":"VLOOKUP(C747,工作表9!$G$1:$I$136, 3, FALSE )","v":"純物質"},null,{"$f":"VLOOKUP(C747,工作表9!$G$1:$H$142, 2, FALSE )","v":14800},0]
[null,null,23,{"$f":"VLOOKUP(C748,工作表9!$G$1:$I$136, 3, FALSE )","v":"純物質"},null,{"$f":"VLOOKUP(C748,工作表9!$G$1:$H$142, 2, FALSE )","v":14800},0]
[null,null,23,{"$f":"VLOOKUP(C749,工作表9!$G$1:$I$136, 3, FALSE )","v":"純物質"},null,{"$f":"VLOOKUP(C749,工作表9!$G$1:$H$142, 2, FALSE )","v":14800},0]
[null,null,23,{"$f":"VLOOKUP(C750,工作表9!$G$1:$I$136, 3, FALSE )","v":"純物質"},null,{"$f":"VLOOKUP(C750,工作表9!$G$1:$H$142, 2, FALSE )","v":14800},0]
[null,null,23,{"$f":"VLOOKUP(C751,工作表9!$G$1:$I$136, 3, FALSE )","v":"純物質"},null,{"$f":"VLOOKUP(C751,工作表9!$G$1:$H$142, 2, FALSE )","v":14800},0]
[null,null,23,{"$f":"VLOOKUP(C752,工作表9!$G$1:$I$136, 3, FALSE )","v":"純物質"},null,{"$f":"VLOOKUP(C752,工作表9!$G$1:$H$142, 2, FALSE )","v":14800},0]
[null,null,23,{"$f":"VLOOKUP(C753,工作表9!$G$1:$I$136, 3, FALSE )","v":"純物質"},null,{"$f":"VLOOKUP(C753,工作表9!$G$1:$H$142, 2, FALSE )","v":14800},0]
[null,null,23,{"$f":"VLOOKUP(C754,工作表9!$G$1:$I$136, 3, FALSE )","v":"純物質"},null,{"$f":"VLOOKUP(C754,工作表9!$G$1:$H$142, 2, FALSE )","v":14800},0]
[null,null,23,{"$f":"VLOOKUP(C755,工作表9!$G$1:$I$136, 3, FALSE )","v":"純物質"},null,{"$f":"VLOOKUP(C755,工作表9!$G$1:$H$142, 2, FALSE )","v":14800},0]
[null,null,23,{"$f":"VLOOKUP(C756,工作表9!$G$1:$I$136, 3, FALSE )","v":"純物質"},null,{"$f":"VLOOKUP(C756,工作表9!$G$1:$H$142, 2, FALSE )","v":14800},0]
[null,null,23,{"$f":"VLOOKUP(C757,工作表9!$G$1:$I$136, 3, FALSE )","v":"純物質"},null,{"$f":"VLOOKUP(C757,工作表9!$G$1:$H$142, 2, FALSE )","v":14800},0]
[null,null,23,{"$f":"VLOOKUP(C758,工作表9!$G$1:$I$136, 3, FALSE )","v":"純物質"},null,{"$f":"VLOOKUP(C758,工作表9!$G$1:$H$142, 2, FALSE )","v":14800},0]
[null,null,23,{"$f":"VLOOKUP(C759,工作表9!$G$1:$I$136, 3, FALSE )","v":"純物質"},null,{"$f":"VLOOKUP(C759,工作表9!$G$1:$H$142, 2, FALSE )","v":14800},0]
[null,null,23,{"$f":"VLOOKUP(C760,工作表9!$G$1:$I$136, 3, FALSE )","v":"純物質"},null,{"$f":"VLOOKUP(C760,工作表9!$G$1:$H$142, 2, FALSE )","v":14800},0]
[null,null,23,{"$f":"VLOOKUP(C761,工作表9!$G$1:$I$136, 3, FALSE )","v":"純物質"},null,{"$f":"VLOOKUP(C761,工作表9!$G$1:$H$142, 2, FALSE )","v":14800},0]
[null,null,23,{"$f":"VLOOKUP(C762,工作表9!$G$1:$I$136, 3, FALSE )","v":"純物質"},null,{"$f":"VLOOKUP(C762,工作表9!$G$1:$H$142, 2, FALSE )","v":14800},0]
[null,null,23,{"$f":"VLOOKUP(C763,工作表9!$G$1:$I$136, 3, FALSE )","v":"純物質"},null,{"$f":"VLOOKUP(C763,工作表9!$G$1:$H$142, 2, FALSE )","v":14800},0]
[null,null,23,{"$f":"VLOOKUP(C764,工作表9!$G$1:$I$136, 3, FALSE )","v":"純物質"},null,{"$f":"VLOOKUP(C764,工作表9!$G$1:$H$142, 2, FALSE )","v":14800},0]
[null,null,23,{"$f":"VLOOKUP(C765,工作表9!$G$1:$I$136, 3, FALSE )","v":"純物質"},null,{"$f":"VLOOKUP(C765,工作表9!$G$1:$H$142, 2, FALSE )","v":14800},0]
[null,null,23,{"$f":"VLOOKUP(C766,工作表9!$G$1:$I$136, 3, FALSE )","v":"純物質"},null,{"$f":"VLOOKUP(C766,工作表9!$G$1:$H$142, 2, FALSE )","v":14800},0]
[null,null,23,{"$f":"VLOOKUP(C767,工作表9!$G$1:$I$136, 3, FALSE )","v":"純物質"},null,{"$f":"VLOOKUP(C767,工作表9!$G$1:$H$142, 2, FALSE )","v":14800},0]
[null,null,23,{"$f":"VLOOKUP(C768,工作表9!$G$1:$I$136, 3, FALSE )","v":"純物質"},null,{"$f":"VLOOKUP(C768,工作表9!$G$1:$H$142, 2, FALSE )","v":14800},0]
[null,null,23,{"$f":"VLOOKUP(C769,工作表9!$G$1:$I$136, 3, FALSE )","v":"純物質"},null,{"$f":"VLOOKUP(C769,工作表9!$G$1:$H$142, 2, FALSE )","v":14800},0]
[null,null,23,{"$f":"VLOOKUP(C770,工作表9!$G$1:$I$136, 3, FALSE )","v":"純物質"},null,{"$f":"VLOOKUP(C770,工作表9!$G$1:$H$142, 2, FALSE )","v":14800},0]
[null,null,23,{"$f":"VLOOKUP(C771,工作表9!$G$1:$I$136, 3, FALSE )","v":"純物質"},null,{"$f":"VLOOKUP(C771,工作表9!$G$1:$H$142, 2, FALSE )","v":14800},0]
[null,null,23,{"$f":"VLOOKUP(C772,工作表9!$G$1:$I$136, 3, FALSE )","v":"純物質"},null,{"$f":"VLOOKUP(C772,工作表9!$G$1:$H$142, 2, FALSE )","v":14800},0]
[null,null,23,{"$f":"VLOOKUP(C773,工作表9!$G$1:$I$136, 3, FALSE )","v":"純物質"},null,{"$f":"VLOOKUP(C773,工作表9!$G$1:$H$142, 2, FALSE )","v":14800},0]
[null,null,23,{"$f":"VLOOKUP(C774,工作表9!$G$1:$I$136, 3, FALSE )","v":"純物質"},null,{"$f":"VLOOKUP(C774,工作表9!$G$1:$H$142, 2, FALSE )","v":14800},{"$f":"E774*F774","v":0}]
[null,null,23,{"$f":"VLOOKUP(C775,工作表9!$G$1:$I$136, 3, FALSE )","v":"純物質"},null,{"$f":"VLOOKUP(C775,工作表9!$G$1:$H$142, 2, FALSE )","v":14800},0]
[null,null,23,{"$f":"VLOOKUP(C776,工作表9!$G$1:$I$136, 3, FALSE )","v":"純物質"},null,{"$f":"VLOOKUP(C776,工作表9!$G$1:$H$142, 2, FALSE )","v":14800},0]
[null,null,23,{"$f":"VLOOKUP(C777,工作表9!$G$1:$I$136, 3, FALSE )","v":"純物質"},null,{"$f":"VLOOKUP(C777,工作表9!$G$1:$H$142, 2, FALSE )","v":14800},0]
[null,null,23,{"$f":"VLOOKUP(C778,工作表9!$G$1:$I$136, 3, FALSE )","v":"純物質"},null,{"$f":"VLOOKUP(C778,工作表9!$G$1:$H$142, 2, FALSE )","v":14800},0]
[null,null,23,{"$f":"VLOOKUP(C779,工作表9!$G$1:$I$136, 3, FALSE )","v":"純物質"},null,{"$f":"VLOOKUP(C779,工作表9!$G$1:$H$142, 2, FALSE )","v":14800},0]
[null,null,23,{"$f":"VLOOKUP(C780,工作表9!$G$1:$I$136, 3, FALSE )","v":"純物質"},null,{"$f":"VLOOKUP(C780,工作表9!$G$1:$H$142, 2, FALSE )","v":14800},0]
[null,null,23,{"$f":"VLOOKUP(C781,工作表9!$G$1:$I$136, 3, FALSE )","v":"純物質"},null,{"$f":"VLOOKUP(C781,工作表9!$G$1:$H$142, 2, FALSE )","v":14800},0]
[null,null,23,{"$f":"VLOOKUP(C782,工作表9!$G$1:$I$136, 3, FALSE )","v":"純物質"},null,{"$f":"VLOOKUP(C782,工作表9!$G$1:$H$142, 2, FALSE )","v":14800},0]
[null,null,23,{"$f":"VLOOKUP(C783,工作表9!$G$1:$I$136, 3, FALSE )","v":"純物質"},null,{"$f":"VLOOKUP(C783,工作表9!$G$1:$H$142, 2, FALSE )","v":14800},0]
[null,null,23,{"$f":"VLOOKUP(C784,工作表9!$G$1:$I$136, 3, FALSE )","v":"純物質"},null,{"$f":"VLOOKUP(C784,工作表9!$G$1:$H$142, 2, FALSE )","v":14800},0]
[null,null,23,{"$f":"VLOOKUP(C785,工作表9!$G$1:$I$136, 3, FALSE )","v":"純物質"},null,{"$f":"VLOOKUP(C785,工作表9!$G$1:$H$142, 2, FALSE )","v":14800},0]
[null,null,23,{"$f":"VLOOKUP(C786,工作表9!$G$1:$I$136, 3, FALSE )","v":"純物質"},null,{"$f":"VLOOKUP(C786,工作表9!$G$1:$H$142, 2, FALSE )","v":14800},0]
[null,null,23,{"$f":"VLOOKUP(C787,工作表9!$G$1:$I$136, 3, FALSE )","v":"純物質"},null,{"$f":"VLOOKUP(C787,工作表9!$G$1:$H$142, 2, FALSE )","v":14800},0]
[null,null,23,{"$f":"VLOOKUP(C788,工作表9!$G$1:$I$136, 3, FALSE )","v":"純物質"},null,{"$f":"VLOOKUP(C788,工作表9!$G$1:$H$142, 2, FALSE )","v":14800},0]
[null,null,23,{"$f":"VLOOKUP(C789,工作表9!$G$1:$I$136, 3, FALSE )","v":"純物質"},null,{"$f":"VLOOKUP(C789,工作表9!$G$1:$H$142, 2, FALSE )","v":14800},0]
[null,null,23,{"$f":"VLOOKUP(C790,工作表9!$G$1:$I$136, 3, FALSE )","v":"純物質"},null,{"$f":"VLOOKUP(C790,工作表9!$G$1:$H$142, 2, FALSE )","v":14800},0]
[null,null,23,{"$f":"VLOOKUP(C791,工作表9!$G$1:$I$136, 3, FALSE )","v":"純物質"},null,{"$f":"VLOOKUP(C791,工作表9!$G$1:$H$142, 2, FALSE )","v":14800},0]
[null,null,23,{"$f":"VLOOKUP(C792,工作表9!$G$1:$I$136, 3, FALSE )","v":"純物質"},null,{"$f":"VLOOKUP(C792,工作表9!$G$1:$H$142, 2, FALSE )","v":14800},0]
[null,null,23,{"$f":"VLOOKUP(C793,工作表9!$G$1:$I$136, 3, FALSE )","v":"純物質"},null,{"$f":"VLOOKUP(C793,工作表9!$G$1:$H$142, 2, FALSE )","v":14800},0]
[null,null,23,{"$f":"VLOOKUP(C794,工作表9!$G$1:$I$136, 3, FALSE )","v":"純物質"},null,{"$f":"VLOOKUP(C794,工作表9!$G$1:$H$142, 2, FALSE )","v":14800},0]
[null,null,23,{"$f":"VLOOKUP(C795,工作表9!$G$1:$I$136, 3, FALSE )","v":"純物質"},null,{"$f":"VLOOKUP(C795,工作表9!$G$1:$H$142, 2, FALSE )","v":14800},0]
[null,null,23,{"$f":"VLOOKUP(C796,工作表9!$G$1:$I$136, 3, FALSE )","v":"純物質"},null,{"$f":"VLOOKUP(C796,工作表9!$G$1:$H$142, 2, FALSE )","v":14800},0]
[null,null,23,{"$f":"VLOOKUP(C797,工作表9!$G$1:$I$136, 3, FALSE )","v":"純物質"},null,{"$f":"VLOOKUP(C797,工作表9!$G$1:$H$142, 2, FALSE )","v":14800},0]
[null,null,23,{"$f":"VLOOKUP(C798,工作表9!$G$1:$I$136, 3, FALSE )","v":"純物質"},null,{"$f":"VLOOKUP(C798,工作表9!$G$1:$H$142, 2, FALSE )","v":14800},0]
[null,null,23,{"$f":"VLOOKUP(C799,工作表9!$G$1:$I$136, 3, FALSE )","v":"純物質"},null,{"$f":"VLOOKUP(C799,工作表9!$G$1:$H$142, 2, FALSE )","v":14800},0]
[null,null,23,{"$f":"VLOOKUP(C800,工作表9!$G$1:$I$136, 3, FALSE )","v":"純物質"},null,{"$f":"VLOOKUP(C800,工作表9!$G$1:$H$142, 2, FALSE )","v":14800},0]
[null,null,23,{"$f":"VLOOKUP(C801,工作表9!$G$1:$I$136, 3, FALSE )","v":"純物質"},null,{"$f":"VLOOKUP(C801,工作表9!$G$1:$H$142, 2, FALSE )","v":14800},0]
[null,null,23,{"$f":"VLOOKUP(C802,工作表9!$G$1:$I$136, 3, FALSE )","v":"純物質"},null,{"$f":"VLOOKUP(C802,工作表9!$G$1:$H$142, 2, FALSE )","v":14800},0]
[null,null,23,{"$f":"VLOOKUP(C803,工作表9!$G$1:$I$136, 3, FALSE )","v":"純物質"},null,{"$f":"VLOOKUP(C803,工作表9!$G$1:$H$142, 2, FALSE )","v":14800},0]
[null,null,23,{"$f":"VLOOKUP(C804,工作表9!$G$1:$I$136, 3, FALSE )","v":"純物質"},null,{"$f":"VLOOKUP(C804,工作表9!$G$1:$H$142, 2, FALSE )","v":14800},0]
[null,null,23,{"$f":"VLOOKUP(C805,工作表9!$G$1:$I$136, 3, FALSE )","v":"純物質"},null,{"$f":"VLOOKUP(C805,工作表9!$G$1:$H$142, 2, FALSE )","v":14800},0]
[null,null,23,{"$f":"VLOOKUP(C806,工作表9!$G$1:$I$136, 3, FALSE )","v":"純物質"},null,{"$f":"VLOOKUP(C806,工作表9!$G$1:$H$142, 2, FALSE )","v":14800},0]
[null,null,23,{"$f":"VLOOKUP(C807,工作表9!$G$1:$I$136, 3, FALSE )","v":"純物質"},null,{"$f":"VLOOKUP(C807,工作表9!$G$1:$H$142, 2, FALSE )","v":14800},0]
[null,null,23,{"$f":"VLOOKUP(C808,工作表9!$G$1:$I$136, 3, FALSE )","v":"純物質"},null,{"$f":"VLOOKUP(C808,工作表9!$G$1:$H$142, 2, FALSE )","v":14800},0]
[null,null,23,{"$f":"VLOOKUP(C809,工作表9!$G$1:$I$136, 3, FALSE )","v":"純物質"},null,{"$f":"VLOOKUP(C809,工作表9!$G$1:$H$142, 2, FALSE )","v":14800},0]
[null,null,23,{"$f":"VLOOKUP(C810,工作表9!$G$1:$I$136, 3, FALSE )","v":"純物質"},null,{"$f":"VLOOKUP(C810,工作表9!$G$1:$H$142, 2, FALSE )","v":14800},0]
[null,null,23,{"$f":"VLOOKUP(C811,工作表9!$G$1:$I$136, 3, FALSE )","v":"純物質"},null,{"$f":"VLOOKUP(C811,工作表9!$G$1:$H$142, 2, FALSE )","v":14800},0]
[null,null,23,{"$f":"VLOOKUP(C812,工作表9!$G$1:$I$136, 3, FALSE )","v":"純物質"},null,{"$f":"VLOOKUP(C812,工作表9!$G$1:$H$142, 2, FALSE )","v":14800},0]
[null,null,23,{"$f":"VLOOKUP(C813,工作表9!$G$1:$I$136, 3, FALSE )","v":"純物質"},null,{"$f":"VLOOKUP(C813,工作表9!$G$1:$H$142, 2, FALSE )","v":14800},0]
[null,null,23,{"$f":"VLOOKUP(C814,工作表9!$G$1:$I$136, 3, FALSE )","v":"純物質"},null,{"$f":"VLOOKUP(C814,工作表9!$G$1:$H$142, 2, FALSE )","v":14800},0]
[null,null,23,{"$f":"VLOOKUP(C815,工作表9!$G$1:$I$136, 3, FALSE )","v":"純物質"},null,{"$f":"VLOOKUP(C815,工作表9!$G$1:$H$142, 2, FALSE )","v":14800},0]
[null,null,23,{"$f":"VLOOKUP(C816,工作表9!$G$1:$I$136, 3, FALSE )","v":"純物質"},null,{"$f":"VLOOKUP(C816,工作表9!$G$1:$H$142, 2, FALSE )","v":14800},0]
[null,null,23,{"$f":"VLOOKUP(C817,工作表9!$G$1:$I$136, 3, FALSE )","v":"純物質"},null,{"$f":"VLOOKUP(C817,工作表9!$G$1:$H$142, 2, FALSE )","v":14800},0]
[null,null,23,{"$f":"VLOOKUP(C818,工作表9!$G$1:$I$136, 3, FALSE )","v":"純物質"},null,{"$f":"VLOOKUP(C818,工作表9!$G$1:$H$142, 2, FALSE )","v":14800},0]
[null,null,23,{"$f":"VLOOKUP(C819,工作表9!$G$1:$I$136, 3, FALSE )","v":"純物質"},null,{"$f":"VLOOKUP(C819,工作表9!$G$1:$H$142, 2, FALSE )","v":14800},0]
[null,null,23,{"$f":"VLOOKUP(C820,工作表9!$G$1:$I$136, 3, FALSE )","v":"純物質"},null,{"$f":"VLOOKUP(C820,工作表9!$G$1:$H$142, 2, FALSE )","v":14800},0]
[null,null,23,{"$f":"VLOOKUP(C821,工作表9!$G$1:$I$136, 3, FALSE )","v":"純物質"},null,{"$f":"VLOOKUP(C821,工作表9!$G$1:$H$142, 2, FALSE )","v":14800},0]
[null,null,23,{"$f":"VLOOKUP(C822,工作表9!$G$1:$I$136, 3, FALSE )","v":"純物質"},null,{"$f":"VLOOKUP(C822,工作表9!$G$1:$H$142, 2, FALSE )","v":14800},0]
[null,null,23,{"$f":"VLOOKUP(C823,工作表9!$G$1:$I$136, 3, FALSE )","v":"純物質"},null,{"$f":"VLOOKUP(C823,工作表9!$G$1:$H$142, 2, FALSE )","v":14800},0]
[null,null,23,{"$f":"VLOOKUP(C824,工作表9!$G$1:$I$136, 3, FALSE )","v":"純物質"},null,{"$f":"VLOOKUP(C824,工作表9!$G$1:$H$142, 2, FALSE )","v":14800},0]
[null,null,23,{"$f":"VLOOKUP(C825,工作表9!$G$1:$I$136, 3, FALSE )","v":"純物質"},null,{"$f":"VLOOKUP(C825,工作表9!$G$1:$H$142, 2, FALSE )","v":14800},0]
[null,null,23,{"$f":"VLOOKUP(C826,工作表9!$G$1:$I$136, 3, FALSE )","v":"純物質"},null,{"$f":"VLOOKUP(C826,工作表9!$G$1:$H$142, 2, FALSE )","v":14800},0]
[null,null,23,{"$f":"VLOOKUP(C827,工作表9!$G$1:$I$136, 3, FALSE )","v":"純物質"},null,{"$f":"VLOOKUP(C827,工作表9!$G$1:$H$142, 2, FALSE )","v":14800},0]
[null,null,23,{"$f":"VLOOKUP(C828,工作表9!$G$1:$I$136, 3, FALSE )","v":"純物質"},null,{"$f":"VLOOKUP(C828,工作表9!$G$1:$H$142, 2, FALSE )","v":14800},0]
[null,null,23,{"$f":"VLOOKUP(C829,工作表9!$G$1:$I$136, 3, FALSE )","v":"純物質"},null,{"$f":"VLOOKUP(C829,工作表9!$G$1:$H$142, 2, FALSE )","v":14800},0]
[null,null,23,{"$f":"VLOOKUP(C830,工作表9!$G$1:$I$136, 3, FALSE )","v":"純物質"},null,{"$f":"VLOOKUP(C830,工作表9!$G$1:$H$142, 2, FALSE )","v":14800},0]
[null,null,23,{"$f":"VLOOKUP(C831,工作表9!$G$1:$I$136, 3, FALSE )","v":"純物質"},null,{"$f":"VLOOKUP(C831,工作表9!$G$1:$H$142, 2, FALSE )","v":14800},0]
[null,null,23,{"$f":"VLOOKUP(C832,工作表9!$G$1:$I$136, 3, FALSE )","v":"純物質"},null,{"$f":"VLOOKUP(C832,工作表9!$G$1:$H$142, 2, FALSE )","v":14800},0]
[null,null,23,{"$f":"VLOOKUP(C833,工作表9!$G$1:$I$136, 3, FALSE )","v":"純物質"},null,{"$f":"VLOOKUP(C833,工作表9!$G$1:$H$142, 2, FALSE )","v":14800},0]
[null,null,23,{"$f":"VLOOKUP(C834,工作表9!$G$1:$I$136, 3, FALSE )","v":"純物質"},null,{"$f":"VLOOKUP(C834,工作表9!$G$1:$H$142, 2, FALSE )","v":14800},0]
[null,null,23,{"$f":"VLOOKUP(C835,工作表9!$G$1:$I$136, 3, FALSE )","v":"純物質"},null,{"$f":"VLOOKUP(C835,工作表9!$G$1:$H$142, 2, FALSE )","v":14800},0]
[null,null,23,{"$f":"VLOOKUP(C836,工作表9!$G$1:$I$136, 3, FALSE )","v":"純物質"},null,{"$f":"VLOOKUP(C836,工作表9!$G$1:$H$142, 2, FALSE )","v":14800},0]
[null,null,23,{"$f":"VLOOKUP(C837,工作表9!$G$1:$I$136, 3, FALSE )","v":"純物質"},null,{"$f":"VLOOKUP(C837,工作表9!$G$1:$H$142, 2, FALSE )","v":14800},0]
[null,null,23,{"$f":"VLOOKUP(C838,工作表9!$G$1:$I$136, 3, FALSE )","v":"純物質"},null,{"$f":"VLOOKUP(C838,工作表9!$G$1:$H$142, 2, FALSE )","v":14800},{"$f":"E838*F838","v":0}]
[null,null,23,{"$f":"VLOOKUP(C839,工作表9!$G$1:$I$136, 3, FALSE )","v":"純物質"},null,{"$f":"VLOOKUP(C839,工作表9!$G$1:$H$142, 2, FALSE )","v":14800},0]
[null,null,23,{"$f":"VLOOKUP(C840,工作表9!$G$1:$I$136, 3, FALSE )","v":"純物質"},null,{"$f":"VLOOKUP(C840,工作表9!$G$1:$H$142, 2, FALSE )","v":14800},0]
[null,null,23,{"$f":"VLOOKUP(C841,工作表9!$G$1:$I$136, 3, FALSE )","v":"純物質"},null,{"$f":"VLOOKUP(C841,工作表9!$G$1:$H$142, 2, FALSE )","v":14800},0]
[null,null,23,{"$f":"VLOOKUP(C842,工作表9!$G$1:$I$136, 3, FALSE )","v":"純物質"},null,{"$f":"VLOOKUP(C842,工作表9!$G$1:$H$142, 2, FALSE )","v":14800},0]
[null,null,23,{"$f":"VLOOKUP(C843,工作表9!$G$1:$I$136, 3, FALSE )","v":"純物質"},null,{"$f":"VLOOKUP(C843,工作表9!$G$1:$H$142, 2, FALSE )","v":14800},0]
[null,null,23,{"$f":"VLOOKUP(C844,工作表9!$G$1:$I$136, 3, FALSE )","v":"純物質"},null,{"$f":"VLOOKUP(C844,工作表9!$G$1:$H$142, 2, FALSE )","v":14800},0]
[null,null,23,{"$f":"VLOOKUP(C845,工作表9!$G$1:$I$136, 3, FALSE )","v":"純物質"},null,{"$f":"VLOOKUP(C845,工作表9!$G$1:$H$142, 2, FALSE )","v":14800},0]
[null,null,23,{"$f":"VLOOKUP(C846,工作表9!$G$1:$I$136, 3, FALSE )","v":"純物質"},null,{"$f":"VLOOKUP(C846,工作表9!$G$1:$H$142, 2, FALSE )","v":14800},0]
[null,null,23,{"$f":"VLOOKUP(C847,工作表9!$G$1:$I$136, 3, FALSE )","v":"純物質"},null,{"$f":"VLOOKUP(C847,工作表9!$G$1:$H$142, 2, FALSE )","v":14800},0]
[null,null,23,{"$f":"VLOOKUP(C848,工作表9!$G$1:$I$136, 3, FALSE )","v":"純物質"},null,{"$f":"VLOOKUP(C848,工作表9!$G$1:$H$142, 2, FALSE )","v":14800},0]
[null,null,23,{"$f":"VLOOKUP(C849,工作表9!$G$1:$I$136, 3, FALSE )","v":"純物質"},null,{"$f":"VLOOKUP(C849,工作表9!$G$1:$H$142, 2, FALSE )","v":14800},0]
[null,null,23,{"$f":"VLOOKUP(C850,工作表9!$G$1:$I$136, 3, FALSE )","v":"純物質"},null,{"$f":"VLOOKUP(C850,工作表9!$G$1:$H$142, 2, FALSE )","v":14800},0]
[null,null,23,{"$f":"VLOOKUP(C851,工作表9!$G$1:$I$136, 3, FALSE )","v":"純物質"},null,{"$f":"VLOOKUP(C851,工作表9!$G$1:$H$142, 2, FALSE )","v":14800},0]
[null,null,23,{"$f":"VLOOKUP(C852,工作表9!$G$1:$I$136, 3, FALSE )","v":"純物質"},null,{"$f":"VLOOKUP(C852,工作表9!$G$1:$H$142, 2, FALSE )","v":14800},0]
[null,null,23,{"$f":"VLOOKUP(C853,工作表9!$G$1:$I$136, 3, FALSE )","v":"純物質"},null,{"$f":"VLOOKUP(C853,工作表9!$G$1:$H$142, 2, FALSE )","v":14800},0]
[null,null,23,{"$f":"VLOOKUP(C854,工作表9!$G$1:$I$136, 3, FALSE )","v":"純物質"},null,{"$f":"VLOOKUP(C854,工作表9!$G$1:$H$142, 2, FALSE )","v":14800},0]
[null,null,23,{"$f":"VLOOKUP(C855,工作表9!$G$1:$I$136, 3, FALSE )","v":"純物質"},null,{"$f":"VLOOKUP(C855,工作表9!$G$1:$H$142, 2, FALSE )","v":14800},0]
[null,null,23,{"$f":"VLOOKUP(C856,工作表9!$G$1:$I$136, 3, FALSE )","v":"純物質"},null,{"$f":"VLOOKUP(C856,工作表9!$G$1:$H$142, 2, FALSE )","v":14800},0]
[null,null,23,{"$f":"VLOOKUP(C857,工作表9!$G$1:$I$136, 3, FALSE )","v":"純物質"},null,{"$f":"VLOOKUP(C857,工作表9!$G$1:$H$142, 2, FALSE )","v":14800},0]
[null,null,23,{"$f":"VLOOKUP(C858,工作表9!$G$1:$I$136, 3, FALSE )","v":"純物質"},null,{"$f":"VLOOKUP(C858,工作表9!$G$1:$H$142, 2, FALSE )","v":14800},0]
[null,null,23,{"$f":"VLOOKUP(C859,工作表9!$G$1:$I$136, 3, FALSE )","v":"純物質"},null,{"$f":"VLOOKUP(C859,工作表9!$G$1:$H$142, 2, FALSE )","v":14800},0]
[null,null,23,{"$f":"VLOOKUP(C860,工作表9!$G$1:$I$136, 3, FALSE )","v":"純物質"},null,{"$f":"VLOOKUP(C860,工作表9!$G$1:$H$142, 2, FALSE )","v":14800},0]
[null,null,23,{"$f":"VLOOKUP(C861,工作表9!$G$1:$I$136, 3, FALSE )","v":"純物質"},null,{"$f":"VLOOKUP(C861,工作表9!$G$1:$H$142, 2, FALSE )","v":14800},0]
[null,null,23,{"$f":"VLOOKUP(C862,工作表9!$G$1:$I$136, 3, FALSE )","v":"純物質"},null,{"$f":"VLOOKUP(C862,工作表9!$G$1:$H$142, 2, FALSE )","v":14800},0]
[null,null,23,{"$f":"VLOOKUP(C863,工作表9!$G$1:$I$136, 3, FALSE )","v":"純物質"},null,{"$f":"VLOOKUP(C863,工作表9!$G$1:$H$142, 2, FALSE )","v":14800},0]
[null,null,23,{"$f":"VLOOKUP(C864,工作表9!$G$1:$I$136, 3, FALSE )","v":"純物質"},null,{"$f":"VLOOKUP(C864,工作表9!$G$1:$H$142, 2, FALSE )","v":14800},0]
[null,null,23,{"$f":"VLOOKUP(C865,工作表9!$G$1:$I$136, 3, FALSE )","v":"純物質"},null,{"$f":"VLOOKUP(C865,工作表9!$G$1:$H$142, 2, FALSE )","v":14800},0]
[null,null,23,{"$f":"VLOOKUP(C866,工作表9!$G$1:$I$136, 3, FALSE )","v":"純物質"},null,{"$f":"VLOOKUP(C866,工作表9!$G$1:$H$142, 2, FALSE )","v":14800},0]
[null,null,23,{"$f":"VLOOKUP(C867,工作表9!$G$1:$I$136, 3, FALSE )","v":"純物質"},null,{"$f":"VLOOKUP(C867,工作表9!$G$1:$H$142, 2, FALSE )","v":14800},0]
[null,null,23,{"$f":"VLOOKUP(C868,工作表9!$G$1:$I$136, 3, FALSE )","v":"純物質"},null,{"$f":"VLOOKUP(C868,工作表9!$G$1:$H$142, 2, FALSE )","v":14800},0]
[null,null,23,{"$f":"VLOOKUP(C869,工作表9!$G$1:$I$136, 3, FALSE )","v":"純物質"},null,{"$f":"VLOOKUP(C869,工作表9!$G$1:$H$142, 2, FALSE )","v":14800},0]
[null,null,23,{"$f":"VLOOKUP(C870,工作表9!$G$1:$I$136, 3, FALSE )","v":"純物質"},null,{"$f":"VLOOKUP(C870,工作表9!$G$1:$H$142, 2, FALSE )","v":14800},0]
[null,null,23,{"$f":"VLOOKUP(C871,工作表9!$G$1:$I$136, 3, FALSE )","v":"純物質"},null,{"$f":"VLOOKUP(C871,工作表9!$G$1:$H$142, 2, FALSE )","v":14800},0]
[null,null,23,{"$f":"VLOOKUP(C872,工作表9!$G$1:$I$136, 3, FALSE )","v":"純物質"},null,{"$f":"VLOOKUP(C872,工作表9!$G$1:$H$142, 2, FALSE )","v":14800},0]
[null,null,23,{"$f":"VLOOKUP(C873,工作表9!$G$1:$I$136, 3, FALSE )","v":"純物質"},null,{"$f":"VLOOKUP(C873,工作表9!$G$1:$H$142, 2, FALSE )","v":14800},0]
[null,null,23,{"$f":"VLOOKUP(C874,工作表9!$G$1:$I$136, 3, FALSE )","v":"純物質"},null,{"$f":"VLOOKUP(C874,工作表9!$G$1:$H$142, 2, FALSE )","v":14800},0]
[null,null,23,{"$f":"VLOOKUP(C875,工作表9!$G$1:$I$136, 3, FALSE )","v":"純物質"},null,{"$f":"VLOOKUP(C875,工作表9!$G$1:$H$142, 2, FALSE )","v":14800},0]
[null,null,23,{"$f":"VLOOKUP(C876,工作表9!$G$1:$I$136, 3, FALSE )","v":"純物質"},null,{"$f":"VLOOKUP(C876,工作表9!$G$1:$H$142, 2, FALSE )","v":14800},0]
[null,null,23,{"$f":"VLOOKUP(C877,工作表9!$G$1:$I$136, 3, FALSE )","v":"純物質"},null,{"$f":"VLOOKUP(C877,工作表9!$G$1:$H$142, 2, FALSE )","v":14800},0]
[null,null,23,{"$f":"VLOOKUP(C878,工作表9!$G$1:$I$136, 3, FALSE )","v":"純物質"},null,{"$f":"VLOOKUP(C878,工作表9!$G$1:$H$142, 2, FALSE )","v":14800},0]
[null,null,23,{"$f":"VLOOKUP(C879,工作表9!$G$1:$I$136, 3, FALSE )","v":"純物質"},null,{"$f":"VLOOKUP(C879,工作表9!$G$1:$H$142, 2, FALSE )","v":14800},0]
[null,null,23,{"$f":"VLOOKUP(C880,工作表9!$G$1:$I$136, 3, FALSE )","v":"純物質"},null,{"$f":"VLOOKUP(C880,工作表9!$G$1:$H$142, 2, FALSE )","v":14800},0]
[null,null,23,{"$f":"VLOOKUP(C881,工作表9!$G$1:$I$136, 3, FALSE )","v":"純物質"},null,{"$f":"VLOOKUP(C881,工作表9!$G$1:$H$142, 2, FALSE )","v":14800},0]
[null,null,23,{"$f":"VLOOKUP(C882,工作表9!$G$1:$I$136, 3, FALSE )","v":"純物質"},null,{"$f":"VLOOKUP(C882,工作表9!$G$1:$H$142, 2, FALSE )","v":14800},0]
[null,null,23,{"$f":"VLOOKUP(C883,工作表9!$G$1:$I$136, 3, FALSE )","v":"純物質"},null,{"$f":"VLOOKUP(C883,工作表9!$G$1:$H$142, 2, FALSE )","v":14800},0]
[null,null,23,{"$f":"VLOOKUP(C884,工作表9!$G$1:$I$136, 3, FALSE )","v":"純物質"},null,{"$f":"VLOOKUP(C884,工作表9!$G$1:$H$142, 2, FALSE )","v":14800},0]
[null,null,23,{"$f":"VLOOKUP(C885,工作表9!$G$1:$I$136, 3, FALSE )","v":"純物質"},null,{"$f":"VLOOKUP(C885,工作表9!$G$1:$H$142, 2, FALSE )","v":14800},0]
[null,null,23,{"$f":"VLOOKUP(C886,工作表9!$G$1:$I$136, 3, FALSE )","v":"純物質"},null,{"$f":"VLOOKUP(C886,工作表9!$G$1:$H$142, 2, FALSE )","v":14800},0]
[null,null,23,{"$f":"VLOOKUP(C887,工作表9!$G$1:$I$136, 3, FALSE )","v":"純物質"},null,{"$f":"VLOOKUP(C887,工作表9!$G$1:$H$142, 2, FALSE )","v":14800},0]
[null,null,23,{"$f":"VLOOKUP(C888,工作表9!$G$1:$I$136, 3, FALSE )","v":"純物質"},null,{"$f":"VLOOKUP(C888,工作表9!$G$1:$H$142, 2, FALSE )","v":14800},0]
[null,null,23,{"$f":"VLOOKUP(C889,工作表9!$G$1:$I$136, 3, FALSE )","v":"純物質"},null,{"$f":"VLOOKUP(C889,工作表9!$G$1:$H$142, 2, FALSE )","v":14800},0]
[null,null,23,{"$f":"VLOOKUP(C890,工作表9!$G$1:$I$136, 3, FALSE )","v":"純物質"},null,{"$f":"VLOOKUP(C890,工作表9!$G$1:$H$142, 2, FALSE )","v":14800},0]
[null,null,23,{"$f":"VLOOKUP(C891,工作表9!$G$1:$I$136, 3, FALSE )","v":"純物質"},null,{"$f":"VLOOKUP(C891,工作表9!$G$1:$H$142, 2, FALSE )","v":14800},0]
[null,null,23,{"$f":"VLOOKUP(C892,工作表9!$G$1:$I$136, 3, FALSE )","v":"純物質"},null,{"$f":"VLOOKUP(C892,工作表9!$G$1:$H$142, 2, FALSE )","v":14800},0]
[null,null,23,{"$f":"VLOOKUP(C893,工作表9!$G$1:$I$136, 3, FALSE )","v":"純物質"},null,{"$f":"VLOOKUP(C893,工作表9!$G$1:$H$142, 2, FALSE )","v":14800},0]
[null,null,23,{"$f":"VLOOKUP(C894,工作表9!$G$1:$I$136, 3, FALSE )","v":"純物質"},null,{"$f":"VLOOKUP(C894,工作表9!$G$1:$H$142, 2, FALSE )","v":14800},0]
[null,null,23,{"$f":"VLOOKUP(C895,工作表9!$G$1:$I$136, 3, FALSE )","v":"純物質"},null,{"$f":"VLOOKUP(C895,工作表9!$G$1:$H$142, 2, FALSE )","v":14800},0]
[null,null,23,{"$f":"VLOOKUP(C896,工作表9!$G$1:$I$136, 3, FALSE )","v":"純物質"},null,{"$f":"VLOOKUP(C896,工作表9!$G$1:$H$142, 2, FALSE )","v":14800},0]
[null,null,23,{"$f":"VLOOKUP(C897,工作表9!$G$1:$I$136, 3, FALSE )","v":"純物質"},null,{"$f":"VLOOKUP(C897,工作表9!$G$1:$H$142, 2, FALSE )","v":14800},0]
[null,null,23,{"$f":"VLOOKUP(C898,工作表9!$G$1:$I$136, 3, FALSE )","v":"純物質"},null,{"$f":"VLOOKUP(C898,工作表9!$G$1:$H$142, 2, FALSE )","v":14800},0]
[null,null,23,{"$f":"VLOOKUP(C899,工作表9!$G$1:$I$136, 3, FALSE )","v":"純物質"},null,{"$f":"VLOOKUP(C899,工作表9!$G$1:$H$142, 2, FALSE )","v":14800},0]
[null,null,23,{"$f":"VLOOKUP(C900,工作表9!$G$1:$I$136, 3, FALSE )","v":"純物質"},null,{"$f":"VLOOKUP(C900,工作表9!$G$1:$H$142, 2, FALSE )","v":14800},0]
[null,null,23,{"$f":"VLOOKUP(C901,工作表9!$G$1:$I$136, 3, FALSE )","v":"純物質"},null,{"$f":"VLOOKUP(C901,工作表9!$G$1:$H$142, 2, FALSE )","v":14800},0]
[null,null,23,{"$f":"VLOOKUP(C902,工作表9!$G$1:$I$136, 3, FALSE )","v":"純物質"},null,{"$f":"VLOOKUP(C902,工作表9!$G$1:$H$142, 2, FALSE )","v":14800},{"$f":"E902*F902","v":0}]
[null,null,23,{"$f":"VLOOKUP(C903,工作表9!$G$1:$I$136, 3, FALSE )","v":"純物質"},null,{"$f":"VLOOKUP(C903,工作表9!$G$1:$H$142, 2, FALSE )","v":14800},0]
[null,null,23,{"$f":"VLOOKUP(C904,工作表9!$G$1:$I$136, 3, FALSE )","v":"純物質"},null,{"$f":"VLOOKUP(C904,工作表9!$G$1:$H$142, 2, FALSE )","v":14800},0]
[null,null,23,{"$f":"VLOOKUP(C905,工作表9!$G$1:$I$136, 3, FALSE )","v":"純物質"},null,{"$f":"VLOOKUP(C905,工作表9!$G$1:$H$142, 2, FALSE )","v":14800},0]
[null,null,23,{"$f":"VLOOKUP(C906,工作表9!$G$1:$I$136, 3, FALSE )","v":"純物質"},null,{"$f":"VLOOKUP(C906,工作表9!$G$1:$H$142, 2, FALSE )","v":14800},0]
[null,null,23,{"$f":"VLOOKUP(C907,工作表9!$G$1:$I$136, 3, FALSE )","v":"純物質"},null,{"$f":"VLOOKUP(C907,工作表9!$G$1:$H$142, 2, FALSE )","v":14800},0]
[null,null,23,{"$f":"VLOOKUP(C908,工作表9!$G$1:$I$136, 3, FALSE )","v":"純物質"},null,{"$f":"VLOOKUP(C908,工作表9!$G$1:$H$142, 2, FALSE )","v":14800},0]
[null,null,23,{"$f":"VLOOKUP(C909,工作表9!$G$1:$I$136, 3, FALSE )","v":"純物質"},null,{"$f":"VLOOKUP(C909,工作表9!$G$1:$H$142, 2, FALSE )","v":14800},0]
[null,null,23,{"$f":"VLOOKUP(C910,工作表9!$G$1:$I$136, 3, FALSE )","v":"純物質"},null,{"$f":"VLOOKUP(C910,工作表9!$G$1:$H$142, 2, FALSE )","v":14800},0]
[null,null,23,{"$f":"VLOOKUP(C911,工作表9!$G$1:$I$136, 3, FALSE )","v":"純物質"},null,{"$f":"VLOOKUP(C911,工作表9!$G$1:$H$142, 2, FALSE )","v":14800},0]
[null,null,23,{"$f":"VLOOKUP(C912,工作表9!$G$1:$I$136, 3, FALSE )","v":"純物質"},null,{"$f":"VLOOKUP(C912,工作表9!$G$1:$H$142, 2, FALSE )","v":14800},0]
[null,null,23,{"$f":"VLOOKUP(C913,工作表9!$G$1:$I$136, 3, FALSE )","v":"純物質"},null,{"$f":"VLOOKUP(C913,工作表9!$G$1:$H$142, 2, FALSE )","v":14800},0]
[null,null,23,{"$f":"VLOOKUP(C914,工作表9!$G$1:$I$136, 3, FALSE )","v":"純物質"},null,{"$f":"VLOOKUP(C914,工作表9!$G$1:$H$142, 2, FALSE )","v":14800},0]
[null,null,23,{"$f":"VLOOKUP(C915,工作表9!$G$1:$I$136, 3, FALSE )","v":"純物質"},null,{"$f":"VLOOKUP(C915,工作表9!$G$1:$H$142, 2, FALSE )","v":14800},0]
[null,null,23,{"$f":"VLOOKUP(C916,工作表9!$G$1:$I$136, 3, FALSE )","v":"純物質"},null,{"$f":"VLOOKUP(C916,工作表9!$G$1:$H$142, 2, FALSE )","v":14800},0]
[null,null,23,{"$f":"VLOOKUP(C917,工作表9!$G$1:$I$136, 3, FALSE )","v":"純物質"},null,{"$f":"VLOOKUP(C917,工作表9!$G$1:$H$142, 2, FALSE )","v":14800},0]
[null,null,23,{"$f":"VLOOKUP(C918,工作表9!$G$1:$I$136, 3, FALSE )","v":"純物質"},null,{"$f":"VLOOKUP(C918,工作表9!$G$1:$H$142, 2, FALSE )","v":14800},0]
[null,null,23,{"$f":"VLOOKUP(C919,工作表9!$G$1:$I$136, 3, FALSE )","v":"純物質"},null,{"$f":"VLOOKUP(C919,工作表9!$G$1:$H$142, 2, FALSE )","v":14800},0]
[null,null,23,{"$f":"VLOOKUP(C920,工作表9!$G$1:$I$136, 3, FALSE )","v":"純物質"},null,{"$f":"VLOOKUP(C920,工作表9!$G$1:$H$142, 2, FALSE )","v":14800},0]
[null,null,23,{"$f":"VLOOKUP(C921,工作表9!$G$1:$I$136, 3, FALSE )","v":"純物質"},null,{"$f":"VLOOKUP(C921,工作表9!$G$1:$H$142, 2, FALSE )","v":14800},0]
[null,null,23,{"$f":"VLOOKUP(C922,工作表9!$G$1:$I$136, 3, FALSE )","v":"純物質"},null,{"$f":"VLOOKUP(C922,工作表9!$G$1:$H$142, 2, FALSE )","v":14800},0]
[null,null,23,{"$f":"VLOOKUP(C923,工作表9!$G$1:$I$136, 3, FALSE )","v":"純物質"},null,{"$f":"VLOOKUP(C923,工作表9!$G$1:$H$142, 2, FALSE )","v":14800},0]
[null,null,23,{"$f":"VLOOKUP(C924,工作表9!$G$1:$I$136, 3, FALSE )","v":"純物質"},null,{"$f":"VLOOKUP(C924,工作表9!$G$1:$H$142, 2, FALSE )","v":14800},0]
[null,null,23,{"$f":"VLOOKUP(C925,工作表9!$G$1:$I$136, 3, FALSE )","v":"純物質"},null,{"$f":"VLOOKUP(C925,工作表9!$G$1:$H$142, 2, FALSE )","v":14800},0]
[null,null,23,{"$f":"VLOOKUP(C926,工作表9!$G$1:$I$136, 3, FALSE )","v":"純物質"},null,{"$f":"VLOOKUP(C926,工作表9!$G$1:$H$142, 2, FALSE )","v":14800},0]
[null,null,23,{"$f":"VLOOKUP(C927,工作表9!$G$1:$I$136, 3, FALSE )","v":"純物質"},null,{"$f":"VLOOKUP(C927,工作表9!$G$1:$H$142, 2, FALSE )","v":14800},0]
[null,null,23,{"$f":"VLOOKUP(C928,工作表9!$G$1:$I$136, 3, FALSE )","v":"純物質"},null,{"$f":"VLOOKUP(C928,工作表9!$G$1:$H$142, 2, FALSE )","v":14800},0]
[null,null,23,{"$f":"VLOOKUP(C929,工作表9!$G$1:$I$136, 3, FALSE )","v":"純物質"},null,{"$f":"VLOOKUP(C929,工作表9!$G$1:$H$142, 2, FALSE )","v":14800},0]
[null,null,23,{"$f":"VLOOKUP(C930,工作表9!$G$1:$I$136, 3, FALSE )","v":"純物質"},null,{"$f":"VLOOKUP(C930,工作表9!$G$1:$H$142, 2, FALSE )","v":14800},0]
[null,null,23,{"$f":"VLOOKUP(C931,工作表9!$G$1:$I$136, 3, FALSE )","v":"純物質"},null,{"$f":"VLOOKUP(C931,工作表9!$G$1:$H$142, 2, FALSE )","v":14800},0]
[null,null,23,{"$f":"VLOOKUP(C932,工作表9!$G$1:$I$136, 3, FALSE )","v":"純物質"},null,{"$f":"VLOOKUP(C932,工作表9!$G$1:$H$142, 2, FALSE )","v":14800},0]
[null,null,23,{"$f":"VLOOKUP(C933,工作表9!$G$1:$I$136, 3, FALSE )","v":"純物質"},null,{"$f":"VLOOKUP(C933,工作表9!$G$1:$H$142, 2, FALSE )","v":14800},0]
[null,null,23,{"$f":"VLOOKUP(C934,工作表9!$G$1:$I$136, 3, FALSE )","v":"純物質"},null,{"$f":"VLOOKUP(C934,工作表9!$G$1:$H$142, 2, FALSE )","v":14800},0]
[null,null,23,{"$f":"VLOOKUP(C935,工作表9!$G$1:$I$136, 3, FALSE )","v":"純物質"},null,{"$f":"VLOOKUP(C935,工作表9!$G$1:$H$142, 2, FALSE )","v":14800},0]
[null,null,23,{"$f":"VLOOKUP(C936,工作表9!$G$1:$I$136, 3, FALSE )","v":"純物質"},null,{"$f":"VLOOKUP(C936,工作表9!$G$1:$H$142, 2, FALSE )","v":14800},0]
[null,null,23,{"$f":"VLOOKUP(C937,工作表9!$G$1:$I$136, 3, FALSE )","v":"純物質"},null,{"$f":"VLOOKUP(C937,工作表9!$G$1:$H$142, 2, FALSE )","v":14800},0]
[null,null,23,{"$f":"VLOOKUP(C938,工作表9!$G$1:$I$136, 3, FALSE )","v":"純物質"},null,{"$f":"VLOOKUP(C938,工作表9!$G$1:$H$142, 2, FALSE )","v":14800},0]
[null,null,23,{"$f":"VLOOKUP(C939,工作表9!$G$1:$I$136, 3, FALSE )","v":"純物質"},null,{"$f":"VLOOKUP(C939,工作表9!$G$1:$H$142, 2, FALSE )","v":14800},0]
[null,null,23,{"$f":"VLOOKUP(C940,工作表9!$G$1:$I$136, 3, FALSE )","v":"純物質"},null,{"$f":"VLOOKUP(C940,工作表9!$G$1:$H$142, 2, FALSE )","v":14800},0]
[null,null,23,{"$f":"VLOOKUP(C941,工作表9!$G$1:$I$136, 3, FALSE )","v":"純物質"},null,{"$f":"VLOOKUP(C941,工作表9!$G$1:$H$142, 2, FALSE )","v":14800},0]
[null,null,23,{"$f":"VLOOKUP(C942,工作表9!$G$1:$I$136, 3, FALSE )","v":"純物質"},null,{"$f":"VLOOKUP(C942,工作表9!$G$1:$H$142, 2, FALSE )","v":14800},0]
[null,null,23,{"$f":"VLOOKUP(C943,工作表9!$G$1:$I$136, 3, FALSE )","v":"純物質"},null,{"$f":"VLOOKUP(C943,工作表9!$G$1:$H$142, 2, FALSE )","v":14800},0]
[null,null,23,{"$f":"VLOOKUP(C944,工作表9!$G$1:$I$136, 3, FALSE )","v":"純物質"},null,{"$f":"VLOOKUP(C944,工作表9!$G$1:$H$142, 2, FALSE )","v":14800},0]
[null,null,23,{"$f":"VLOOKUP(C945,工作表9!$G$1:$I$136, 3, FALSE )","v":"純物質"},null,{"$f":"VLOOKUP(C945,工作表9!$G$1:$H$142, 2, FALSE )","v":14800},0]
[null,null,23,{"$f":"VLOOKUP(C946,工作表9!$G$1:$I$136, 3, FALSE )","v":"純物質"},null,{"$f":"VLOOKUP(C946,工作表9!$G$1:$H$142, 2, FALSE )","v":14800},0]
[null,null,23,{"$f":"VLOOKUP(C947,工作表9!$G$1:$I$136, 3, FALSE )","v":"純物質"},null,{"$f":"VLOOKUP(C947,工作表9!$G$1:$H$142, 2, FALSE )","v":14800},0]
[null,null,23,{"$f":"VLOOKUP(C948,工作表9!$G$1:$I$136, 3, FALSE )","v":"純物質"},null,{"$f":"VLOOKUP(C948,工作表9!$G$1:$H$142, 2, FALSE )","v":14800},0]
[null,null,23,{"$f":"VLOOKUP(C949,工作表9!$G$1:$I$136, 3, FALSE )","v":"純物質"},null,{"$f":"VLOOKUP(C949,工作表9!$G$1:$H$142, 2, FALSE )","v":14800},0]
[null,null,23,{"$f":"VLOOKUP(C950,工作表9!$G$1:$I$136, 3, FALSE )","v":"純物質"},null,{"$f":"VLOOKUP(C950,工作表9!$G$1:$H$142, 2, FALSE )","v":14800},0]
[null,null,23,{"$f":"VLOOKUP(C951,工作表9!$G$1:$I$136, 3, FALSE )","v":"純物質"},null,{"$f":"VLOOKUP(C951,工作表9!$G$1:$H$142, 2, FALSE )","v":14800},0]
[null,null,23,{"$f":"VLOOKUP(C952,工作表9!$G$1:$I$136, 3, FALSE )","v":"純物質"},null,{"$f":"VLOOKUP(C952,工作表9!$G$1:$H$142, 2, FALSE )","v":14800},0]
[null,null,23,{"$f":"VLOOKUP(C953,工作表9!$G$1:$I$136, 3, FALSE )","v":"純物質"},null,{"$f":"VLOOKUP(C953,工作表9!$G$1:$H$142, 2, FALSE )","v":14800},0]
[null,null,23,{"$f":"VLOOKUP(C954,工作表9!$G$1:$I$136, 3, FALSE )","v":"純物質"},null,{"$f":"VLOOKUP(C954,工作表9!$G$1:$H$142, 2, FALSE )","v":14800},0]
[null,null,23,{"$f":"VLOOKUP(C955,工作表9!$G$1:$I$136, 3, FALSE )","v":"純物質"},null,{"$f":"VLOOKUP(C955,工作表9!$G$1:$H$142, 2, FALSE )","v":14800},0]
[null,null,23,{"$f":"VLOOKUP(C956,工作表9!$G$1:$I$136, 3, FALSE )","v":"純物質"},null,{"$f":"VLOOKUP(C956,工作表9!$G$1:$H$142, 2, FALSE )","v":14800},0]
[null,null,23,{"$f":"VLOOKUP(C957,工作表9!$G$1:$I$136, 3, FALSE )","v":"純物質"},null,{"$f":"VLOOKUP(C957,工作表9!$G$1:$H$142, 2, FALSE )","v":14800},0]
[null,null,23,{"$f":"VLOOKUP(C958,工作表9!$G$1:$I$136, 3, FALSE )","v":"純物質"},null,{"$f":"VLOOKUP(C958,工作表9!$G$1:$H$142, 2, FALSE )","v":14800},0]
[null,null,23,{"$f":"VLOOKUP(C959,工作表9!$G$1:$I$136, 3, FALSE )","v":"純物質"},null,{"$f":"VLOOKUP(C959,工作表9!$G$1:$H$142, 2, FALSE )","v":14800},0]
[null,null,23,{"$f":"VLOOKUP(C960,工作表9!$G$1:$I$136, 3, FALSE )","v":"純物質"},null,{"$f":"VLOOKUP(C960,工作表9!$G$1:$H$142, 2, FALSE )","v":14800},0]
[null,null,23,{"$f":"VLOOKUP(C961,工作表9!$G$1:$I$136, 3, FALSE )","v":"純物質"},null,{"$f":"VLOOKUP(C961,工作表9!$G$1:$H$142, 2, FALSE )","v":14800},0]
[null,null,23,{"$f":"VLOOKUP(C962,工作表9!$G$1:$I$136, 3, FALSE )","v":"純物質"},null,{"$f":"VLOOKUP(C962,工作表9!$G$1:$H$142, 2, FALSE )","v":14800},0]
[null,null,23,{"$f":"VLOOKUP(C963,工作表9!$G$1:$I$136, 3, FALSE )","v":"純物質"},null,{"$f":"VLOOKUP(C963,工作表9!$G$1:$H$142, 2, FALSE )","v":14800},0]
[null,null,23,{"$f":"VLOOKUP(C964,工作表9!$G$1:$I$136, 3, FALSE )","v":"純物質"},null,{"$f":"VLOOKUP(C964,工作表9!$G$1:$H$142, 2, FALSE )","v":14800},0]
[null,null,23,{"$f":"VLOOKUP(C965,工作表9!$G$1:$I$136, 3, FALSE )","v":"純物質"},null,{"$f":"VLOOKUP(C965,工作表9!$G$1:$H$142, 2, FALSE )","v":14800},0]
[null,null,23,{"$f":"VLOOKUP(C966,工作表9!$G$1:$I$136, 3, FALSE )","v":"純物質"},null,{"$f":"VLOOKUP(C966,工作表9!$G$1:$H$142, 2, FALSE )","v":14800},{"$f":"E966*F966","v":0}]
[null,null,23,{"$f":"VLOOKUP(C967,工作表9!$G$1:$I$136, 3, FALSE )","v":"純物質"},null,{"$f":"VLOOKUP(C967,工作表9!$G$1:$H$142, 2, FALSE )","v":14800},0]
[null,null,23,{"$f":"VLOOKUP(C968,工作表9!$G$1:$I$136, 3, FALSE )","v":"純物質"},null,{"$f":"VLOOKUP(C968,工作表9!$G$1:$H$142, 2, FALSE )","v":14800},0]
[null,null,23,{"$f":"VLOOKUP(C969,工作表9!$G$1:$I$136, 3, FALSE )","v":"純物質"},null,{"$f":"VLOOKUP(C969,工作表9!$G$1:$H$142, 2, FALSE )","v":14800},0]
[null,null,23,{"$f":"VLOOKUP(C970,工作表9!$G$1:$I$136, 3, FALSE )","v":"純物質"},null,{"$f":"VLOOKUP(C970,工作表9!$G$1:$H$142, 2, FALSE )","v":14800},0]
[null,null,23,{"$f":"VLOOKUP(C971,工作表9!$G$1:$I$136, 3, FALSE )","v":"純物質"},null,{"$f":"VLOOKUP(C971,工作表9!$G$1:$H$142, 2, FALSE )","v":14800},0]
[null,null,23,{"$f":"VLOOKUP(C972,工作表9!$G$1:$I$136, 3, FALSE )","v":"純物質"},null,{"$f":"VLOOKUP(C972,工作表9!$G$1:$H$142, 2, FALSE )","v":14800},0]
[null,null,23,{"$f":"VLOOKUP(C973,工作表9!$G$1:$I$136, 3, FALSE )","v":"純物質"},null,{"$f":"VLOOKUP(C973,工作表9!$G$1:$H$142, 2, FALSE )","v":14800},0]
[null,null,23,{"$f":"VLOOKUP(C974,工作表9!$G$1:$I$136, 3, FALSE )","v":"純物質"},null,{"$f":"VLOOKUP(C974,工作表9!$G$1:$H$142, 2, FALSE )","v":14800},0]
[null,null,23,{"$f":"VLOOKUP(C975,工作表9!$G$1:$I$136, 3, FALSE )","v":"純物質"},null,{"$f":"VLOOKUP(C975,工作表9!$G$1:$H$142, 2, FALSE )","v":14800},0]
[null,null,23,{"$f":"VLOOKUP(C976,工作表9!$G$1:$I$136, 3, FALSE )","v":"純物質"},null,{"$f":"VLOOKUP(C976,工作表9!$G$1:$H$142, 2, FALSE )","v":14800},0]
[null,null,23,{"$f":"VLOOKUP(C977,工作表9!$G$1:$I$136, 3, FALSE )","v":"純物質"},null,{"$f":"VLOOKUP(C977,工作表9!$G$1:$H$142, 2, FALSE )","v":14800},0]
[null,null,23,{"$f":"VLOOKUP(C978,工作表9!$G$1:$I$136, 3, FALSE )","v":"純物質"},null,{"$f":"VLOOKUP(C978,工作表9!$G$1:$H$142, 2, FALSE )","v":14800},0]
[null,null,23,{"$f":"VLOOKUP(C979,工作表9!$G$1:$I$136, 3, FALSE )","v":"純物質"},null,{"$f":"VLOOKUP(C979,工作表9!$G$1:$H$142, 2, FALSE )","v":14800},0]
[null,null,23,{"$f":"VLOOKUP(C980,工作表9!$G$1:$I$136, 3, FALSE )","v":"純物質"},null,{"$f":"VLOOKUP(C980,工作表9!$G$1:$H$142, 2, FALSE )","v":14800},0]
[null,null,23,{"$f":"VLOOKUP(C981,工作表9!$G$1:$I$136, 3, FALSE )","v":"純物質"},null,{"$f":"VLOOKUP(C981,工作表9!$G$1:$H$142, 2, FALSE )","v":14800},0]
[null,null,23,{"$f":"VLOOKUP(C982,工作表9!$G$1:$I$136, 3, FALSE )","v":"純物質"},null,{"$f":"VLOOKUP(C982,工作表9!$G$1:$H$142, 2, FALSE )","v":14800},0]
[null,null,23,{"$f":"VLOOKUP(C983,工作表9!$G$1:$I$136, 3, FALSE )","v":"純物質"},null,{"$f":"VLOOKUP(C983,工作表9!$G$1:$H$142, 2, FALSE )","v":14800},0]
[null,null,23,{"$f":"VLOOKUP(C984,工作表9!$G$1:$I$136, 3, FALSE )","v":"純物質"},null,{"$f":"VLOOKUP(C984,工作表9!$G$1:$H$142, 2, FALSE )","v":14800},0]
[null,null,23,{"$f":"VLOOKUP(C985,工作表9!$G$1:$I$136, 3, FALSE )","v":"純物質"},null,{"$f":"VLOOKUP(C985,工作表9!$G$1:$H$142, 2, FALSE )","v":14800},0]
[null,null,23,{"$f":"VLOOKUP(C986,工作表9!$G$1:$I$136, 3, FALSE )","v":"純物質"},null,{"$f":"VLOOKUP(C986,工作表9!$G$1:$H$142, 2, FALSE )","v":14800},0]
[null,null,23,{"$f":"VLOOKUP(C987,工作表9!$G$1:$I$136, 3, FALSE )","v":"純物質"},null,{"$f":"VLOOKUP(C987,工作表9!$G$1:$H$142, 2, FALSE )","v":14800},0]
[null,null,23,{"$f":"VLOOKUP(C988,工作表9!$G$1:$I$136, 3, FALSE )","v":"純物質"},null,{"$f":"VLOOKUP(C988,工作表9!$G$1:$H$142, 2, FALSE )","v":14800},0]
[null,null,23,{"$f":"VLOOKUP(C989,工作表9!$G$1:$I$136, 3, FALSE )","v":"純物質"},null,{"$f":"VLOOKUP(C989,工作表9!$G$1:$H$142, 2, FALSE )","v":14800},0]
[null,null,23,{"$f":"VLOOKUP(C990,工作表9!$G$1:$I$136, 3, FALSE )","v":"純物質"},null,{"$f":"VLOOKUP(C990,工作表9!$G$1:$H$142, 2, FALSE )","v":14800},0]
[null,null,23,{"$f":"VLOOKUP(C991,工作表9!$G$1:$I$136, 3, FALSE )","v":"純物質"},null,{"$f":"VLOOKUP(C991,工作表9!$G$1:$H$142, 2, FALSE )","v":14800},0]
[null,null,23,{"$f":"VLOOKUP(C992,工作表9!$G$1:$I$136, 3, FALSE )","v":"純物質"},null,{"$f":"VLOOKUP(C992,工作表9!$G$1:$H$142, 2, FALSE )","v":14800},0]
[null,null,23,{"$f":"VLOOKUP(C993,工作表9!$G$1:$I$136, 3, FALSE )","v":"純物質"},null,{"$f":"VLOOKUP(C993,工作表9!$G$1:$H$142, 2, FALSE )","v":14800},0]
[null,null,23,{"$f":"VLOOKUP(C994,工作表9!$G$1:$I$136, 3, FALSE )","v":"純物質"},null,{"$f":"VLOOKUP(C994,工作表9!$G$1:$H$142, 2, FALSE )","v":14800},0]
[null,null,23,{"$f":"VLOOKUP(C995,工作表9!$G$1:$I$136, 3, FALSE )","v":"純物質"},null,{"$f":"VLOOKUP(C995,工作表9!$G$1:$H$142, 2, FALSE )","v":14800},0]
[null,null,23,{"$f":"VLOOKUP(C996,工作表9!$G$1:$I$136, 3, FALSE )","v":"純物質"},null,{"$f":"VLOOKUP(C996,工作表9!$G$1:$H$142, 2, FALSE )","v":14800},0]
[null,null,23,{"$f":"VLOOKUP(C997,工作表9!$G$1:$I$136, 3, FALSE )","v":"純物質"},null,{"$f":"VLOOKUP(C997,工作表9!$G$1:$H$142, 2, FALSE )","v":14800},0]
[null,null,23,{"$f":"VLOOKUP(C998,工作表9!$G$1:$I$136, 3, FALSE )","v":"純物質"},null,{"$f":"VLOOKUP(C998,工作表9!$G$1:$H$142, 2, FALSE )","v":14800},0]
[null,null,23,{"$f":"VLOOKUP(C999,工作表9!$G$1:$I$136, 3, FALSE )","v":"純物質"},null,{"$f":"VLOOKUP(C999,工作表9!$G$1:$H$142, 2, FALSE )","v":14800},0]
[null,null,23,{"$f":"VLOOKUP(C1000,工作表9!$G$1:$I$136, 3, FALSE )","v":"純物質"},null,{"$f":"VLOOKUP(C1000,工作表9!$G$1:$H$142, 2, FALSE )","v":14800},0]
["備註："]

{"sheet":"使用用途申報表","index":7,"n_rows":30,"n_cols":7,"rows_kept":30,"cut":false,"hidden":false,"merged":[[1,4,3,4],[0,0,0,1],[1,0,3,0],[1,1,3,1],[1,2,3,2],[1,3,3,3]]}
["申報年份",null,"          109 - 111     年"]
["編號","使用用途（請於下拉式選單點選，若屬其他用途，請先於附件、使用用途列表中填寫，即可在此下拉式選單出現）","冷媒編號\n請填寫號碼即可，毋須填寫R-","109-111年總採購重量（公噸）","物質類別","GWP*","公噸CO2eq"]
[null,null,null,null,null,null,"C=A*B"]
[null,null,null,null,null,"B"]
["範例 1","家用空調填充冷媒",32,50,{"$f":"VLOOKUP(C5,工作表9!$G$1:$I$136, 3,  FALSE)","v":"純物質"},{"$f":"VLOOKUP(C5,工作表9!$G$1:$H$142, 2, FALSE)","v":675},{"$f":"D5*F5","v":33750}]
["範例 2","商用空調填充冷媒","134a",80,{"$f":"VLOOKUP(C6,工作表9!$G$1:$I$136, 3,  FALSE)","v":"純物質"},{"$f":"VLOOKUP(C6,工作表9!$G$1:$H$142, 2, FALSE)","v":1430},{"$f":"D6*F6","v":114400}]
["範例 3","家用冰箱填充冷媒","134a",200,{"$f":"VLOOKUP(C7,工作表9!$G$1:$I$136, 3,  FALSE)","v":"純物質"},{"$f":"VLOOKUP(C7,工作表9!$G$1:$H$142, 2, FALSE)","v":1430},286000]
["範例 4","商用冷凍冷藏設備填充冷媒","404A",150,{"$f":"VLOOKUP(C8,工作表9!$G$1:$I$136, 3,  FALSE)","v":"混合物"},{"$f":"VLOOKUP(C8,工作表9!$G$1:$H$142, 2, FALSE)","v":3921.6000000000004},588240]
["範例 5","其他：（請自行於附件、使用用途列表中填寫）","410A",150,{"$f":"VLOOKUP(C9,工作表9!$G$1:$I$136, 3,  FALSE)","v":"混合物"},{"$f":"VLOOKUP(C9,工作表9!$G$1:$H$142, 2, FALSE)","v":2087.5},313125]
[null,"使用用途列表",32,null,{"$f":"VLOOKUP(C10,工作表9!$G$1:$I$136, 3,  FALSE)","v":"純物質"},{"$f":"VLOOKUP(C10,工作表9!$G$1:$H$142, 2, FALSE)","v":675},0]
[null,"使用用途列表",32,null,{"$f":"VLOOKUP(C11,工作表9!$G$1:$I$136, 3,  FALSE)","v":"純物質"},{"$f":"VLOOKUP(C11,工作表9!$G$1:$H$142, 2, FALSE)","v":675},0]
[null,"使用用途列表",32,null,{"$f":"VLOOKUP(C12,工作表9!$G$1:$I$136, 3,  FALSE)","v":"純物質"},{"$f":"VLOOKUP(C12,工作表9!$G$1:$H$142, 2, FALSE)","v":675},0]
[null,"使用用途列表",32,null,{"$f":"VLOOKUP(C13,工作表9!$G$1:$I$136, 3,  FALSE)","v":"純物質"},{"$f":"VLOOKUP(C13,工作表9!$G$1:$H$142, 2, FALSE)","v":675},0]
[null,"使用用途列表",32,null,{"$f":"VLOOKUP(C14,工作表9!$G$1:$I$136, 3,  FALSE)","v":"純物質"},{"$f":"VLOOKUP(C14,工作表9!$G$1:$H$142, 2, FALSE)","v":675},0]
[null,"使用用途列表",32,null,{"$f":"VLOOKUP(C15,工作表9!$G$1:$I$136, 3,  FALSE)","v":"純物質"},{"$f":"VLOOKUP(C15,工作表9!$G$1:$H$142, 2, FALSE)","v":675},0]
[null,"使用用途列表",32,null,{"$f":"VLOOKUP(C16,工作表9!$G$1:$I$136, 3,  FALSE)","v":"純物質"},{"$f":"VLOOKUP(C16,工作表9!$G$1:$H$142, 2, FALSE)","v":675},0]
[null,"使用用途列表",32,null,{"$f":"VLOOKUP(C17,工作表9!$G$1:$I$136, 3,  FALSE)","v":"純物質"},{"$f":"VLOOKUP(C17,工作表9!$G$1:$H$142, 2, FALSE)","v":675},0]
[null,"使用用途列表",32,null,{"$f":"VLOOKUP(C18,工作表9!$G$1:$I$136, 3,  FALSE)","v":"純物質"},{"$f":"VLOOKUP(C18,工作表9!$G$1:$H$142, 2, FALSE)","v":675},0]
[null,"使用用途列表",32,null,{"$f":"VLOOKUP(C19,工作表9!$G$1:$I$136, 3,  FALSE)","v":"純物質"},{"$f":"VLOOKUP(C19,工作表9!$G$1:$H$142, 2, FALSE)","v":675},0]
[null,"使用用途列表",32,null,{"$f":"VLOOKUP(C20,工作表9!$G$1:$I$136, 3,  FALSE)","v":"純物質"},{"$f":"VLOOKUP(C20,工作表9!$G$1:$H$142, 2, FALSE)","v":675},0]
[null,"使用用途列表",32,null,{"$f":"VLOOKUP(C21,工作表9!$G$1:$I$136, 3,  FALSE)","v":"純物質"},{"$f":"VLOOKUP(C21,工作表9!$G$1:$H$142, 2, FALSE)","v":675},0]
[null,"使用用途列表",32,null,{"$f":"VLOOKUP(C22,工作表9!$G$1:$I$136, 3,  FALSE)","v":"純物質"},{"$f":"VLOOKUP(C22,工作表9!$G$1:$H$142, 2, FALSE)","v":675},0]
[null,"使用用途列表",32,null,{"$f":"VLOOKUP(C23,工作表9!$G$1:$I$136, 3,  FALSE)","v":"純物質"},{"$f":"VLOOKUP(C23,工作表9!$G$1:$H$142, 2, FALSE)","v":675},0]
[null,"使用用途列表",32,null,{"$f":"VLOOKUP(C24,工作表9!$G$1:$I$136, 3,  FALSE)","v":"純物質"},{"$f":"VLOOKUP(C24,工作表9!$G$1:$H$142, 2, FALSE)","v":675},0]
[null,"使用用途列表",32,null,{"$f":"VLOOKUP(C25,工作表9!$G$1:$I$136, 3,  FALSE)","v":"純物質"},{"$f":"VLOOKUP(C25,工作表9!$G$1:$H$142, 2, FALSE)","v":675},0]
[null,"使用用途列表",32,null,{"$f":"VLOOKUP(C26,工作表9!$G$1:$I$136, 3,  FALSE)","v":"純物質"},{"$f":"VLOOKUP(C26,工作表9!$G$1:$H$142, 2, FALSE)","v":675},0]
[null,"使用用途列表",32,null,{"$f":"VLOOKUP(C27,工作表9!$G$1:$I$136, 3,  FALSE)","v":"純物質"},{"$f":"VLOOKUP(C27,工作表9!$G$1:$H$142, 2, FALSE)","v":675},0]
[null,"使用用途列表",32,null,{"$f":"VLOOKUP(C28,工作表9!$G$1:$I$136, 3,  FALSE)","v":"純物質"},{"$f":"VLOOKUP(C28,工作表9!$G$1:$H$142, 2, FALSE)","v":675},0]
[null,"使用用途列表",32,null,{"$f":"VLOOKUP(C29,工作表9!$G$1:$I$136, 3,  FALSE)","v":"純物質"},{"$f":"VLOOKUP(C29,工作表9!$G$1:$H$142, 2, FALSE)","v":675},0]
[null,"使用用途列表",32,null,{"$f":"VLOOKUP(C30,工作表9!$G$1:$I$136, 3,  FALSE)","v":"純物質"},{"$f":"VLOOKUP(C30,工作表9!$G$1:$H$142, 2, FALSE)","v":675},0]

{"sheet":"附件、使用用途列表","index":8,"n_rows":10,"n_cols":1,"rows_kept":10,"cut":false,"hidden":false,"merged":[]}
["使用用途列表"]
["家用空調填充冷媒"]
["商用空調填充冷媒"]
["家用冰箱填充冷媒"]
["商用冷凍冷藏設備填充冷媒"]
["其他：（請自行於附件、使用用途列表中填寫）"]
["其他："]
["其他："]
["其他："]
["其他："]

{"sheet":"98年氟氯烴（HCFCs）之國內採購統計申報表","index":9,"n_rows":1001,"n_cols":10,"rows_kept":1001,"cut":false,"hidden":false,"merged":[[1,6,3,6],[1,5,3,5],[1,2,3,2],[0,2,0,5],[0,0,0,1],[1,3,3,3],[1,4,3,4],[1,0,3,0],[1,1,3,1]]}
["申報年份",null,"            98          年"]
["編號","採購發票編號","供應廠商統一編號","供應廠商名稱","商品名稱","冷媒編號\n請填寫號碼即可，毋須填寫R-","物質類別","採購量","GWP*","公噸CO2eq"]
[null,null,null,null,null,null,null,"（公噸）",null,"C=A*B"]
[null,null,null,null,null,null,null,"A","B"]
["範例 1","UZ07990000","02750961","AA","R22",22,{"$f":"VLOOKUP(F5,工作表9!$C$1:$E$8, 3,  FALSE)","v":"純物質"},50,{"$f":"VLOOKUP(F5,工作表9!$C$1:$D$8, 2, FALSE)","v":1810},{"$f":"H5*I5","v":90500}]
["範例 2","UZ07990000","02750961","AA","R123",123,{"$f":"VLOOKUP(F6,工作表9!$C$1:$E$8, 3,  FALSE)","v":"純物質"},100,{"$f":"VLOOKUP(F6,工作表9!$C$1:$D$8, 2, FALSE)","v":77},{"$f":"H6*I6","v":7700}]
["範例 3","UZ07990060","02750963","BB","HCFC141b","141b",{"$f":"VLOOKUP(F7,工作表9!$C$1:$E$8, 3,  FALSE)","v":"純物質"},20,{"$f":"VLOOKUP(F7,工作表9!$C$1:$D$8, 2, FALSE)","v":725},14500]
["範例 4","UZ07990060","02750963","BB","R408A","408A",{"$f":"VLOOKUP(F8,工作表9!$C$1:$E$8, 3,  FALSE)","v":"混合物"},5,{"$f":"VLOOKUP(F8,工作表9!$C$1:$D$8, 2, FALSE)","v":850.69999999999993},4253.5]
[null,null,null,null,null,22,{"$f":"VLOOKUP(F9,工作表9!$C$1:$E$8, 3,  FALSE)","v":"純物質"},null,{"$f":"VLOOKUP(F9,工作表9!$C$1:$D$8, 2, FALSE)","v":1810},0]
[null,null,null,null,null,22,{"$f":"VLOOKUP(F10,工作表9!$C$1:$E$8, 3,  FALSE)","v":"純物質"},null,{"$f":"VLOOKUP(F10,工作表9!$C$1:$D$8, 2, FALSE)","v":1810},0]
[null,null,null,null,null,22,{"$f":"VLOOKUP(F11,工作表9!$C$1:$E$8, 3,  FALSE)","v":"純物質"},null,{"$f":"VLOOKUP(F11,工作表9!$C$1:$D$8, 2, FALSE)","v":1810},0]
[null,null,null,null,null,22,{"$f":"VLOOKUP(F12,工作表9!$C$1:$E$8, 3,  FALSE)","v":"純物質"},null,{"$f":"VLOOKUP(F12,工作表9!$C$1:$D$8, 2, FALSE)","v":1810},0]
[null,null,null,null,null,22,{"$f":"VLOOKUP(F13,工作表9!$C$1:$E$8, 3,  FALSE)","v":"純物質"},null,{"$f":"VLOOKUP(F13,工作表9!$C$1:$D$8, 2, FALSE)","v":1810},0]
[null,null,null,null,null,22,{"$f":"VLOOKUP(F14,工作表9!$C$1:$E$8, 3,  FALSE)","v":"純物質"},null,{"$f":"VLOOKUP(F14,工作表9!$C$1:$D$8, 2, FALSE)","v":1810},0]
[null,null,null,null,null,22,{"$f":"VLOOKUP(F15,工作表9!$C$1:$E$8, 3,  FALSE)","v":"純物質"},null,{"$f":"VLOOKUP(F15,工作表9!$C$1:$D$8, 2, FALSE)","v":1810},0]
[null,null,null,null,null,22,{"$f":"VLOOKUP(F16,工作表9!$C$1:$E$8, 3,  FALSE)","v":"純物質"},null,{"$f":"VLOOKUP(F16,工作表9!$C$1:$D$8, 2, FALSE)","v":1810},0]
[null,null,null,null,null,22,{"$f":"VLOOKUP(F17,工作表9!$C$1:$E$8, 3,  FALSE)","v":"純物質"},null,{"$f":"VLOOKUP(F17,工作表9!$C$1:$D$8, 2, FALSE)","v":1810},0]
[null,null,null,null,null,22,{"$f":"VLOOKUP(F18,工作表9!$C$1:$E$8, 3,  FALSE)","v":"純物質"},null,{"$f":"VLOOKUP(F18,工作表9!$C$1:$D$8, 2, FALSE)","v":1810},0]
[null,null,null,null,null,22,{"$f":"VLOOKUP(F19,工作表9!$C$1:$E$8, 3,  FALSE)","v":"純物質"},null,{"$f":"VLOOKUP(F19,工作表9!$C$1:$D$8, 2, FALSE)","v":1810},0]
[null,null,null,null,null,22,{"$f":"VLOOKUP(F20,工作表9!$C$1:$E$8, 3,  FALSE)","v":"純物質"},null,{"$f":"VLOOKUP(F20,工作表9!$C$1:$D$8, 2, FALSE)","v":1810},0]
[null,null,null,null,null,22,{"$f":"VLOOKUP(F21,工作表9!$C$1:$E$8, 3,  FALSE)","v":"純物質"},null,{"$f":"VLOOKUP(F21,工作表9!$C$1:$D$8, 2, FALSE)","v":1810},0]
[null,null,null,null,null,22,{"$f":"VLOOKUP(F22,工作表9!$C$1:$E$8, 3,  FALSE)","v":"純物質"},null,{"$f":"VLOOKUP(F22,工作表9!$C$1:$D$8, 2, FALSE)","v":1810},0]
[null,null,null,null,null,22,{"$f":"VLOOKUP(F23,工作表9!$C$1:$E$8, 3,  FALSE)","v":"純物質"},null,{"$f":"VLOOKUP(F23,工作表9!$C$1:$D$8, 2, FALSE)","v":1810},0]
[null,null,null,null,null,22,{"$f":"VLOOKUP(F24,工作表9!$C$1:$E$8, 3,  FALSE)","v":"純物質"},null,{"$f":"VLOOKUP(F24,工作表9!$C$1:$D$8, 2, FALSE)","v":1810},0]
[null,null,null,null,null,22,{"$f":"VLOOKUP(F25,工作表9!$C$1:$E$8, 3,  FALSE)","v":"純物質"},null,{"$f":"VLOOKUP(F25,工作表9!$C$1:$D$8, 2, FALSE)","v":1810},0]
[null,null,null,null,null,22,{"$f":"VLOOKUP(F26,工作表9!$C$1:$E$8, 3,  FALSE)","v":"純物質"},null,{"$f":"VLOOKUP(F26,工作表9!$C$1:$D$8, 2, FALSE)","v":1810},0]
[null,null,null,null,null,22,{"$f":"VLOOKUP(F27,工作表9!$C$1:$E$8, 3,  FALSE)","v":"純物質"},null,{"$f":"VLOOKUP(F27,工作表9!$C$1:$D$8, 2, FALSE)","v":1810},0]
[null,null,null,null,null,22,{"$f":"VLOOKUP(F28,工作表9!$C$1:$E$8, 3,  FALSE)","v":"純物質"},null,{"$f":"VLOOKUP(F28,工作表9!$C$1:$D$8, 2, FALSE)","v":1810},0]
[null,null,null,null,null,22,{"$f":"VLOOKUP(F29,工作表9!$C$1:$E$8, 3,  FALSE)","v":"純物質"},null,{"$f":"VLOOKUP(F29,工作表9!$C$1:$D$8, 2, FALSE)","v":1810},0]
[null,null,null,null,null,22,{"$f":"VLOOKUP(F30,工作表9!$C$1:$E$8, 3,  FALSE)","v":"純物質"},null,{"$f":"VLOOKUP(F30,工作表9!$C$1:$D$8, 2, FALSE)","v":1810},0]
[null,null,null,null,null,22,{"$f":"VLOOKUP(F31,工作表9!$C$1:$E$8, 3,  FALSE)","v":"純物質"},null,{"$f":"VLOOKUP(F31,工作表9!$C$1:$D$8, 2, FALSE)","v":1810},0]
[null,null,null,null,null,22,{"$f":"VLOOKUP(F32,工作表9!$C$1:$E$8, 3,  FALSE)","v":"純物質"},null,{"$f":"VLOOKUP(F32,工作表9!$C$1:$D$8, 2, FALSE)","v":1810},0]
[null,null,null,null,null,22,{"$f":"VLOOKUP(F33,工作表9!$C$1:$E$8, 3,  FALSE)","v":"純物質"},null,{"$f":"VLOOKUP(F33,工作表9!$C$1:$D$8, 2, FALSE)","v":1810},0]
[null,null,null,null,null,22,{"$f":"VLOOKUP(F34,工作表9!$C$1:$E$8, 3,  FALSE)","v":"純物質"},null,{"$f":"VLOOKUP(F34,工作表9!$C$1:$D$8, 2, FALSE)","v":1810},0]
[null,null,null,null,null,22,{"$f":"VLOOKUP(F35,工作表9!$C$1:$E$8, 3,  FALSE)","v":"純物質"},null,{"$f":"VLOOKUP(F35,工作表9!$C$1:$D$8, 2, FALSE)","v":1810},0]
[null,null,null,null,null,22,{"$f":"VLOOKUP(F36,工作表9!$C$1:$E$8, 3,  FALSE)","v":"純物質"},null,{"$f":"VLOOKUP(F36,工作表9!$C$1:$D$8, 2, FALSE)","v":1810},0]
[null,null,null,null,null,22,{"$f":"VLOOKUP(F37,工作表9!$C$1:$E$8, 3,  FALSE)","v":"純物質"},null,{"$f":"VLOOKUP(F37,工作表9!$C$1:$D$8, 2, FALSE)","v":1810},0]
[null,null,null,null,null,22,{"$f":"VLOOKUP(F38,工作表9!$C$1:$E$8, 3,  FALSE)","v":"純物質"},null,{"$f":"VLOOKUP(F38,工作表9!$C$1:$D$8, 2, FALSE)","v":1810},0]
[null,null,null,null,null,22,{"$f":"VLOOKUP(F39,工作表9!$C$1:$E$8, 3,  FALSE)","v":"純物質"},null,{"$f":"VLOOKUP(F39,工作表9!$C$1:$D$8, 2, FALSE)","v":1810},0]
[null,null,null,null,null,22,{"$f":"VLOOKUP(F40,工作表9!$C$1:$E$8, 3,  FALSE)","v":"純物質"},null,{"$f":"VLOOKUP(F40,工作表9!$C$1:$D$8, 2, FALSE)","v":1810},0]
[null,null,null,null,null,22,{"$f":"VLOOKUP(F41,工作表9!$C$1:$E$8, 3,  FALSE)","v":"純物質"},null,{"$f":"VLOOKUP(F41,工作表9!$C$1:$D$8, 2, FALSE)","v":1810},0]
[null,null,null,null,null,22,{"$f":"VLOOKUP(F42,工作表9!$C$1:$E$8, 3,  FALSE)","v":"純物質"},null,{"$f":"VLOOKUP(F42,工作表9!$C$1:$D$8, 2, FALSE)","v":1810},0]
[null,null,null,null,null,22,{"$f":"VLOOKUP(F43,工作表9!$C$1:$E$8, 3,  FALSE)","v":"純物質"},null,{"$f":"VLOOKUP(F43,工作表9!$C$1:$D$8, 2, FALSE)","v":1810},0]
[null,null,null,null,null,22,{"$f":"VLOOKUP(F44,工作表9!$C$1:$E$8, 3,  FALSE)","v":"純物質"},null,{"$f":"VLOOKUP(F44,工作表9!$C$1:$D$8, 2, FALSE)","v":1810},0]
[null,null,null,null,null,22,{"$f":"VLOOKUP(F45,工作表9!$C$1:$E$8, 3,  FALSE)","v":"純物質"},null,{"$f":"VLOOKUP(F45,工作表9!$C$1:$D$8, 2, FALSE)","v":1810},0]
[null,null,null,null,null,22,{"$f":"VLOOKUP(F46,工作表9!$C$1:$E$8, 3,  FALSE)","v":"純物質"},null,{"$f":"VLOOKUP(F46,工作表9!$C$1:$D$8, 2, FALSE)","v":1810},0]
[null,null,null,null,null,22,{"$f":"VLOOKUP(F47,工作表9!$C$1:$E$8, 3,  FALSE)","v":"純物質"},null,{"$f":"VLOOKUP(F47,工作表9!$C$1:$D$8, 2, FALSE)","v":1810},0]
[null,null,null,null,null,22,{"$f":"VLOOKUP(F48,工作表9!$C$1:$E$8, 3,  FALSE)","v":"純物質"},null,{"$f":"VLOOKUP(F48,工作表9!$C$1:$D$8, 2, FALSE)","v":1810},0]
[null,null,null,null,null,22,{"$f":"VLOOKUP(F49,工作表9!$C$1:$E$8, 3,  FALSE)","v":"純物質"},null,{"$f":"VLOOKUP(F49,工作表9!$C$1:$D$8, 2, FALSE)","v":1810},0]
[null,null,null,null,null,22,{"$f":"VLOOKUP(F50,工作表9!$C$1:$E$8, 3,  FALSE)","v":"純物質"},null,{"$f":"VLOOKUP(F50,工作表9!$C$1:$D$8, 2, FALSE)","v":1810},0]
[null,null,null,null,null,22,{"$f":"VLOOKUP(F51,工作表9!$C$1:$E$8, 3,  FALSE)","v":"純物質"},null,{"$f":"VLOOKUP(F51,工作表9!$C$1:$D$8, 2, FALSE)","v":1810},0]
[null,null,null,null,null,22,{"$f":"VLOOKUP(F52,工作表9!$C$1:$E$8, 3,  FALSE)","v":"純物質"},null,{"$f":"VLOOKUP(F52,工作表9!$C$1:$D$8, 2, FALSE)","v":1810},0]
[null,null,null,null,null,22,{"$f":"VLOOKUP(F53,工作表9!$C$1:$E$8, 3,  FALSE)","v":"純物質"},null,{"$f":"VLOOKUP(F53,工作表9!$C$1:$D$8, 2, FALSE)","v":1810},0]
[null,null,null,null,null,22,{"$f":"VLOOKUP(F54,工作表9!$C$1:$E$8, 3,  FALSE)","v":"純物質"},null,{"$f":"VLOOKUP(F54,工作表9!$C$1:$D$8, 2, FALSE)","v":1810},0]
[null,null,null,null,null,22,{"$f":"VLOOKUP(F55,工作表9!$C$1:$E$8, 3,  FALSE)","v":"純物質"},null,{"$f":"VLOOKUP(F55,工作表9!$C$1:$D$8, 2, FALSE)","v":1810},0]
[null,null,null,null,null,22,{"$f":"VLOOKUP(F56,工作表9!$C$1:$E$8, 3,  FALSE)","v":"純物質"},null,{"$f":"VLOOKUP(F56,工作表9!$C$1:$D$8, 2, FALSE)","v":1810},0]
[null,null,null,null,null,22,{"$f":"VLOOKUP(F57,工作表9!$C$1:$E$8, 3,  FALSE)","v":"純物質"},null,{"$f":"VLOOKUP(F57,工作表9!$C$1:$D$8, 2, FALSE)","v":1810},0]
[null,null,null,null,null,22,{"$f":"VLOOKUP(F58,工作表9!$C$1:$E$8, 3,  FALSE)","v":"純物質"},null,{"$f":"VLOOKUP(F58,工作表9!$C$1:$D$8, 2, FALSE)","v":1810},0]
[null,null,null,null,null,22,{"$f":"VLOOKUP(F59,工作表9!$C$1:$E$8, 3,  FALSE)","v":"純物質"},null,{"$f":"VLOOKUP(F59,工作表9!$C$1:$D$8, 2, FALSE)","v":1810},0]
[null,null,null,null,null,22,{"$f":"VLOOKUP(F60,工作表9!$C$1:$E$8, 3,  FALSE)","v":"純物質"},null,{"$f":"VLOOKUP(F60,工作表9!$C$1:$D$8, 2, FALSE)","v":1810},0]
[null,null,null,null,null,22,{"$f":"VLOOKUP(F61,工作表9!$C$1:$E$8, 3,  FALSE)","v":"純物質"},null,{"$f":"VLOOKUP(F61,工作表9!$C$1:$D$8, 2, FALSE)","v":1810},0]
[null,null,null,null,null,22,{"$f":"VLOOKUP(F62,工作表9!$C$1:$E$8, 3,  FALSE)","v":"純物質"},null,{"$f":"VLOOKUP(F62,工作表9!$C$1:$D$8, 2, FALSE)","v":1810},0]
[null,null,null,null,null,22,{"$f":"VLOOKUP(F63,工作表9!$C$1:$E$8, 3,  FALSE)","v":"純物質"},null,{"$f":"VLOOKUP(F63,工作表9!$C$1:$D$8, 2, FALSE)","v":1810},0]
[null,null,null,null,null,22,{"$f":"VLOOKUP(F64,工作表9!$C$1:$E$8, 3,  FALSE)","v":"純物質"},null,{"$f":"VLOOKUP(F64,工作表9!$C$1:$D$8, 2, FALSE)","v":1810},0]
[null,null,null,null,null,22,{"$f":"VLOOKUP(F65,工作表9!$C$1:$E$8, 3,  FALSE)","v":"純物質"},null,{"$f":"VLOOKUP(F65,工作表9!$C$1:$D$8, 2, FALSE)","v":1810},0]
[null,null,null,null,null,22,{"$f":"VLOOKUP(F66,工作表9!$C$1:$E$8, 3,  FALSE)","v":"純物質"},null,{"$f":"VLOOKUP(F66,工作表9!$C$1:$D$8, 2, FALSE)","v":1810},0]
[null,null,null,null,null,22,{"$f":"VLOOKUP(F67,工作表9!$C$1:$E$8, 3,  FALSE)","v":"純物質"},null,{"$f":"VLOOKUP(F67,工作表9!$C$1:$D$8, 2, FALSE)","v":1810},0]
[null,null,null,null,null,22,{"$f":"VLOOKUP(F68,工作表9!$C$1:$E$8, 3,  FALSE)","v":"純物質"},null,{"$f":"VLOOKUP(F68,工作表9!$C$1:$D$8, 2, FALSE)","v":1810},0]
[null,null,null,null,null,22,{"$f":"VLOOKUP(F69,工作表9!$C$1:$E$8, 3,  FALSE)","v":"純物質"},null,{"$f":"VLOOKUP(F69,工作表9!$C$1:$D$8, 2, FALSE)","v":1810},0]
[null,null,null,null,null,22,{"$f":"VLOOKUP(F70,工作表9!$C$1:$E$8, 3,  FALSE)","v":"純物質"},null,{"$f":"VLOOKUP(F70,工作表9!$C$1:$D$8, 2, FALSE)","v":1810},{"$f":"H70*I70","v":0}]
[null,null,null,null,null,22,{"$f":"VLOOKUP(F71,工作表9!$C$1:$E$8, 3,  FALSE)","v":"純物質"},null,{"$f":"VLOOKUP(F71,工作表9!$C$1:$D$8, 2, FALSE)","v":1810},0]
[null,null,null,null,null,22,{"$f":"VLOOKUP(F72,工作表9!$C$1:$E$8, 3,  FALSE)","v":"純物質"},null,{"$f":"VLOOKUP(F72,工作表9!$C$1:$D$8, 2, FALSE)","v":1810},0]
[null,null,null,null,null,22,{"$f":"VLOOKUP(F73,工作表9!$C$1:$E$8, 3,  FALSE)","v":"純物質"},null,{"$f":"VLOOKUP(F73,工作表9!$C$1:$D$8, 2, FALSE)","v":1810},0]
[null,null,null,null,null,22,{"$f":"VLOOKUP(F74,工作表9!$C$1:$E$8, 3,  FALSE)","v":"純物質"},null,{"$f":"VLOOKUP(F74,工作表9!$C$1:$D$8, 2, FALSE)","v":1810},0]
[null,null,null,null,null,22,{"$f":"VLOOKUP(F75,工作表9!$C$1:$E$8, 3,  FALSE)","v":"純物質"},null,{"$f":"VLOOKUP(F75,工作表9!$C$1:$D$8, 2, FALSE)","v":1810},0]
[null,null,null,null,null,22,{"$f":"VLOOKUP(F76,工作表9!$C$1:$E$8, 3,  FALSE)","v":"純物質"},null,{"$f":"VLOOKUP(F76,工作表9!$C$1:$D$8, 2, FALSE)","v":1810},0]
[null,null,null,null,null,22,{"$f":"VLOOKUP(F77,工作表9!$C$1:$E$8, 3,  FALSE)","v":"純物質"},null,{"$f":"VLOOKUP(F77,工作表9!$C$1:$D$8, 2, FALSE)","v":1810},0]
[null,null,null,null,null,22,{"$f":"VLOOKUP(F78,工作表9!$C$1:$E$8, 3,  FALSE)","v":"純物質"},null,{"$f":"VLOOKUP(F78,工作表9!$C$1:$D$8, 2, FALSE)","v":1810},0]
[null,null,null,null,null,22,{"$f":"VLOOKUP(F79,工作表9!$C$1:$E$8, 3,  FALSE)","v":"純物質"},null,{"$f":"VLOOKUP(F79,工作表9!$C$1:$D$8, 2, FALSE)","v":1810},0]
[null,null,null,null,null,22,{"$f":"VLOOKUP(F80,工作表9!$C$1:$E$8, 3,  FALSE)","v":"純物質"},null,{"$f":"VLOOKUP(F80,工作表9!$C$1:$D$8, 2, FALSE)","v":1810},0]
[null,null,null,null,null,22,{"$f":"VLOOKUP(F81,工作表9!$C$1:$E$8, 3,  FALSE)","v":"純物質"},null,{"$f":"VLOOKUP(F81,工作表9!$C$1:$D$8, 2, FALSE)","v":1810},0]
[null,null,null,null,null,22,{"$f":"VLOOKUP(F82,工作表9!$C$1:$E$8, 3,  FALSE)","v":"純物質"},null,{"$f":"VLOOKUP(F82,工作表9!$C$1:$D$8, 2, FALSE)","v":1810},0]
[null,null,null,null,null,22,{"$f":"VLOOKUP(F83,工作表9!$C$1:$E$8, 3,  FALSE)","v":"純物質"},null,{"$f":"VLOOKUP(F83,工作表9!$C$1:$D$8, 2, FALSE)","v":1810},0]
[null,null,null,null,null,22,{"$f":"VLOOKUP(F84,工作表9!$C$1:$E$8, 3,  FALSE)","v":"純物質"},null,{"$f":"VLOOKUP(F84,工作表9!$C$1:$D$8, 2, FALSE)","v":1810},0]
[null,null,null,null,null,22,{"$f":"VLOOKUP(F85,工作表9!$C$1:$E$8, 3,  FALSE)","v":"純物質"},null,{"$f":"VLOOKUP(F85,工作表9!$C$1:$D$8, 2, FALSE)","v":1810},0]
[null,null,null,null,null,22,{"$f":"VLOOKUP(F86,工作表9!$C$1:$E$8, 3,  FALSE)","v":"純物質"},null,{"$f":"VLOOKUP(F86,工作表9!$C$1:$D$8, 2, FALSE)","v":1810},0]
[null,null,null,null,null,22,{"$f":"VLOOKUP(F87,工作表9!$C$1:$E$8, 3,  FALSE)","v":"純物質"},null,{"$f":"VLOOKUP(F87,工作表9!$C$1:$D$8, 2, FALSE)","v":1810},0]
[null,null,null,null,null,22,{"$f":"VLOOKUP(F88,工作表9!$C$1:$E$8, 3,  FALSE)","v":"純物質"},null,{"$f":"VLOOKUP(F88,工作表9!$C$1:$D$8, 2, FALSE)","v":1810},0]
[null,null,null,null,null,22,{"$f":"VLOOKUP(F89,工作表9!$C$1:$E$8, 3,  FALSE)","v":"純物質"},null,{"$f":"VLOOKUP(F89,工作表9!$C$1:$D$8, 2, FALSE)","v":1810},0]
[null,null,null,null,null,22,{"$f":"VLOOKUP(F90,工作表9!$C$1:$E$8, 3,  FALSE)","v":"純物質"},null,{"$f":"VLOOKUP(F90,工作表9!$C$1:$D$8, 2, FALSE)","v":1810},0]
[null,null,null,null,null,22,{"$f":"VLOOKUP(F91,工作表9!$C$1:$E$8, 3,  FALSE)","v":"純物質"},null,{"$f":"VLOOKUP(F91,工作表9!$C$1:$D$8, 2, FALSE)","v":1810},0]
[null,null,null,null,null,22,{"$f":"VLOOKUP(F92,工作表9!$C$1:$E$8, 3,  FALSE)","v":"純物質"},null,{"$f":"VLOOKUP(F92,工作表9!$C$1:$D$8, 2, FALSE)","v":1810},0]
[null,null,null,null,null,22,{"$f":"VLOOKUP(F93,工作表9!$C$1:$E$8, 3,  FALSE)","v":"純物質"},null,{"$f":"VLOOKUP(F93,工作表9!$C$1:$D$8, 2, FALSE)","v":1810},0]
[null,null,null,null,null,22,{"$f":"VLOOKUP(F94,工作表9!$C$1:$E$8, 3,  FALSE)","v":"純物質"},null,{"$f":"VLOOKUP(F94,工作表9!$C$1:$D$8, 2, FALSE)","v":1810},0]
[null,null,null,null,null,22,{"$f":"VLOOKUP(F95,工作表9!$C$1:$E$8, 3,  FALSE)","v":"純物質"},null,{"$f":"VLOOKUP(F95,工作表9!$C$1:$D$8, 2, FALSE)","v":1810},0]
[null,null,null,null,null,22,{"$f":"VLOOKUP(F96,工作表9!$C$1:$E$8, 3,  FALSE)","v":"純物質"},null,{"$f":"VLOOKUP(F96,工作表9!$C$1:$D$8, 2, FALSE)","v":1810},0]
[null,null,null,null,null,22,{"$f":"VLOOKUP(F97,工作表9!$C$1:$E$8, 3,  FALSE)","v":"純物質"},null,{"$f":"VLOOKUP(F97,工作表9!$C$1:$D$8, 2, FALSE)","v":1810},0]
[null,null,null,null,null,22,{"$f":"VLOOKUP(F98,工作表9!$C$1:$E$8, 3,  FALSE)","v":"純物質"},null,{"$f":"VLOOKUP(F98,工作表9!$C$1:$D$8, 2, FALSE)","v":1810},0]
[null,null,null,null,null,22,{"$f":"VLOOKUP(F99,工作表9!$C$1:$E$8, 3,  FALSE)","v":"純物質"},null,{"$f":"VLOOKUP(F99,工作表9!$C$1:$D$8, 2, FALSE)","v":1810},0]
[null,null,null,null,null,22,{"$f":"VLOOKUP(F100,工作表9!$C$1:$E$8, 3,  FALSE)","v":"純物質"},null,{"$f":"VLOOKUP(F100,工作表9!$C$1:$D$8, 2, FALSE)","v":1810},0]
[null,null,null,null,null,22,{"$f":"VLOOKUP(F101,工作表9!$C$1:$E$8, 3,  FALSE)","v":"純物質"},null,{"$f":"VLOOKUP(F101,工作表9!$C$1:$D$8, 2, FALSE)","v":1810},0]
[null,null,null,null,null,22,{"$f":"VLOOKUP(F102,工作表9!$C$1:$E$8, 3,  FALSE)","v":"純物質"},null,{"$f":"VLOOKUP(F102,工作表9!$C$1:$D$8, 2, FALSE)","v":1810},0]
[null,null,null,null,null,22,{"$f":"VLOOKUP(F103,工作表9!$C$1:$E$8, 3,  FALSE)","v":"純物質"},null,{"$f":"VLOOKUP(F103,工作表9!$C$1:$D$8, 2, FALSE)","v":1810},0]
[null,null,null,null,null,22,{"$f":"VLOOKUP(F104,工作表9!$C$1:$E$8, 3,  FALSE)","v":"純物質"},null,{"$f":"VLOOKUP(F104,工作表9!$C$1:$D$8, 2, FALSE)","v":1810},0]
[null,null,null,null,null,22,{"$f":"VLOOKUP(F105,工作表9!$C$1:$E$8, 3,  FALSE)","v":"純物質"},null,{"$f":"VLOOKUP(F105,工作表9!$C$1:$D$8, 2, FALSE)","v":1810},0]
[null,null,null,null,null,22,{"$f":"VLOOKUP(F106,工作表9!$C$1:$E$8, 3,  FALSE)","v":"純物質"},null,{"$f":"VLOOKUP(F106,工作表9!$C$1:$D$8, 2, FALSE)","v":1810},0]
[null,null,null,null,null,22,{"$f":"VLOOKUP(F107,工作表9!$C$1:$E$8, 3,  FALSE)","v":"純物質"},null,{"$f":"VLOOKUP(F107,工作表9!$C$1:$D$8, 2, FALSE)","v":1810},0]
[null,null,null,null,null,22,{"$f":"VLOOKUP(F108,工作表9!$C$1:$E$8, 3,  FALSE)","v":"純物質"},null,{"$f":"VLOOKUP(F108,工作表9!$C$1:$D$8, 2, FALSE)","v":1810},0]
[null,null,null,null,null,22,{"$f":"VLOOKUP(F109,工作表9!$C$1:$E$8, 3,  FALSE)","v":"純物質"},null,{"$f":"VLOOKUP(F109,工作表9!$C$1:$D$8, 2, FALSE)","v":1810},0]
[null,null,null,null,null,22,{"$f":"VLOOKUP(F110,工作表9!$C$1:$E$8, 3,  FALSE)","v":"純物質"},null,{"$f":"VLOOKUP(F110,工作表9!$C$1:$D$8, 2, FALSE)","v":1810},0]
[null,null,null,null,null,22,{"$f":"VLOOKUP(F111,工作表9!$C$1:$E$8, 3,  FALSE)","v":"純物質"},null,{"$f":"VLOOKUP(F111,工作表9!$C$1:$D$8, 2, FALSE)","v":1810},0]
[null,null,null,null,null,22,{"$f":"VLOOKUP(F112,工作表9!$C$1:$E$8, 3,  FALSE)","v":"純物質"},null,{"$f":"VLOOKUP(F112,工作表9!$C$1:$D$8, 2, FALSE)","v":1810},0]
[null,null,null,null,null,22,{"$f":"VLOOKUP(F113,工作表9!$C$1:$E$8, 3,  FALSE)","v":"純物質"},null,{"$f":"VLOOKUP(F113,工作表9!$C$1:$D$8, 2, FALSE)","v":1810},0]
[null,null,null,null,null,22,{"$f":"VLOOKUP(F114,工作表9!$C$1:$E$8, 3,  FALSE)","v":"純物質"},null,{"$f":"VLOOKUP(F114,工作表9!$C$1:$D$8, 2, FALSE)","v":1810},0]
[null,null,null,null,null,22,{"$f":"VLOOKUP(F115,工作表9!$C$1:$E$8, 3,  FALSE)","v":"純物質"},null,{"$f":"VLOOKUP(F115,工作表9!$C$1:$D$8, 2, FALSE)","v":1810},0]
[null,null,null,null,null,22,{"$f":"VLOOKUP(F116,工作表9!$C$1:$E$8, 3,  FALSE)","v":"純物質"},null,{"$f":"VLOOKUP(F116,工作表9!$C$1:$D$8, 2, FALSE)","v":1810},0]
[null,null,null,null,null,22,{"$f":"VLOOKUP(F117,工作表9!$C$1:$E$8, 3,  FALSE)","v":"純物質"},null,{"$f":"VLOOKUP(F117,工作表9!$C$1:$D$8, 2, FALSE)","v":1810},0]
[null,null,null,null,null,22,{"$f":"VLOOKUP(F118,工作表9!$C$1:$E$8, 3,  FALSE)","v":"純物質"},null,{"$f":"VLOOKUP(F118,工作表9!$C$1:$D$8, 2, FALSE)","v":1810},0]
[null,null,null,null,null,22,{"$f":"VLOOKUP(F119,工作表9!$C$1:$E$8, 3,  FALSE)","v":"純物質"},null,{"$f":"VLOOKUP(F119,工作表9!$C$1:$D$8, 2, FALSE)","v":1810},0]
[null,null,null,null,null,22,{"$f":"VLOOKUP(F120,工作表9!$C$1:$E$8, 3,  FALSE)","v":"純物質"},null,{"$f":"VLOOKUP(F120,工作表9!$C$1:$D$8, 2, FALSE)","v":1810},0]
[null,null,null,null,null,22,{"$f":"VLOOKUP(F121,工作表9!$C$1:$E$8, 3,  FALSE)","v":"純物質"},null,{"$f":"VLOOKUP(F121,工作表9!$C$1:$D$8, 2, FALSE)","v":1810},0]
[null,null,null,null,null,22,{"$f":"VLOOKUP(F122,工作表9!$C$1:$E$8, 3,  FALSE)","v":"純物質"},null,{"$f":"VLOOKUP(F122,工作表9!$C$1:$D$8, 2, FALSE)","v":1810},0]
[null,null,null,null,null,22,{"$f":"VLOOKUP(F123,工作表9!$C$1:$E$8, 3,  FALSE)","v":"純物質"},null,{"$f":"VLOOKUP(F123,工作表9!$C$1:$D$8, 2, FALSE)","v":1810},0]
[null,null,null,null,null,22,{"$f":"VLOOKUP(F124,工作表9!$C$1:$E$8, 3,  FALSE)","v":"純物質"},null,{"$f":"VLOOKUP(F124,工作表9!$C$1:$D$8, 2, FALSE)","v":1810},0]
[null,null,null,null,null,22,{"$f":"VLOOKUP(F125,工作表9!$C$1:$E$8, 3,  FALSE)","v":"純物質"},null,{"$f":"VLOOKUP(F125,工作表9!$C$1:$D$8, 2, FALSE)","v":1810},0]
[null,null,null,null,null,22,{"$f":"VLOOKUP(F126,工作表9!$C$1:$E$8, 3,  FALSE)","v":"純物質"},null,{"$f":"VLOOKUP(F126,工作表9!$C$1:$D$8, 2, FALSE)","v":1810},0]
[null,null,null,null,null,22,{"$f":"VLOOKUP(F127,工作表9!$C$1:$E$8, 3,  FALSE)","v":"純物質"},null,{"$f":"VLOOKUP(F127,工作表9!$C$1:$D$8, 2, FALSE)","v":1810},0]
[null,null,null,null,null,22,{"$f":"VLOOKUP(F128,工作表9!$C$1:$E$8, 3,  FALSE)","v":"純物質"},null,{"$f":"VLOOKUP(F128,工作表9!$C$1:$D$8, 2, FALSE)","v":1810},0]
[null,null,null,null,null,22,{"$f":"VLOOKUP(F129,工作表9!$C$1:$E$8, 3,  FALSE)","v":"純物質"},null,{"$f":"VLOOKUP(F129,工作表9!$C$1:$D$8, 2, FALSE)","v":1810},0]
[null,null,null,null,null,22,{"$f":"VLOOKUP(F130,工作表9!$C$1:$E$8, 3,  FALSE)","v":"純物質"},null,{"$f":"VLOOKUP(F130,工作表9!$C$1:$D$8, 2, FALSE)","v":1810},0]
[null,null,null,null,null,22,{"$f":"VLOOKUP(F131,工作表9!$C$1:$E$8, 3,  FALSE)","v":"純物質"},null,{"$f":"VLOOKUP(F131,工作表9!$C$1:$D$8, 2, FALSE)","v":1810},0]
[null,null,null,null,null,22,{"$f":"VLOOKUP(F132,工作表9!$C$1:$E$8, 3,  FALSE)","v":"純物質"},null,{"$f":"VLOOKUP(F132,工作表9!$C$1:$D$8, 2, FALSE)","v":1810},0]
[null,null,null,null,null,22,{"$f":"VLOOKUP(F133,工作表9!$C$1:$E$8, 3,  FALSE)","v":"純物質"},null,{"$f":"VLOOKUP(F133,工作表9!$C$1:$D$8, 2, FALSE)","v":1810},0]
[null,null,null,null,null,22,{"$f":"VLOOKUP(F134,工作表9!$C$1:$E$8, 3,  FALSE)","v":"純物質"},null,{"$f":"VLOOKUP(F134,工作表9!$C$1:$D$8, 2, FALSE)","v":1810},{"$f":"H134*I134","v":0}]
[null,null,null,null,null,22,{"$f":"VLOOKUP(F135,工作表9!$C$1:$E$8, 3,  FALSE)","v":"純物質"},null,{"$f":"VLOOKUP(F135,工作表9!$C$1:$D$8, 2, FALSE)","v":1810},0]
[null,null,null,null,null,22,{"$f":"VLOOKUP(F136,工作表9!$C$1:$E$8, 3,  FALSE)","v":"純物質"},null,{"$f":"VLOOKUP(F136,工作表9!$C$1:$D$8, 2, FALSE)","v":1810},0]
[null,null,null,null,null,22,{"$f":"VLOOKUP(F137,工作表9!$C$1:$E$8, 3,  FALSE)","v":"純物質"},null,{"$f":"VLOOKUP(F137,工作表9!$C$1:$D$8, 2, FALSE)","v":1810},0]
[null,null,null,null,null,22,{"$f":"VLOOKUP(F138,工作表9!$C$1:$E$8, 3,  FALSE)","v":"純物質"},null,{"$f":"VLOOKUP(F138,工作表9!$C$1:$D$8, 2, FALSE)","v":1810},0]
[null,null,null,null,null,22,{"$f":"VLOOKUP(F139,工作表9!$C$1:$E$8, 3,  FALSE)","v":"純物質"},null,{"$f":"VLOOKUP(F139,工作表9!$C$1:$D$8, 2, FALSE)","v":1810},0]
[null,null,null,null,null,22,{"$f":"VLOOKUP(F140,工作表9!$C$1:$E$8, 3,  FALSE)","v":"純物質"},null,{"$f":"VLOOKUP(F140,工作表9!$C$1:$D$8, 2, FALSE)","v":1810},0]
[null,null,null,null,null,22,{"$f":"VLOOKUP(F141,工作表9!$C$1:$E$8, 3,  FALSE)","v":"純物質"},null,{"$f":"VLOOKUP(F141,工作表9!$C$1:$D$8, 2, FALSE)","v":1810},0]
[null,null,null,null,null,22,{"$f":"VLOOKUP(F142,工作表9!$C$1:$E$8, 3,  FALSE)","v":"純物質"},null,{"$f":"VLOOKUP(F142,工作表9!$C$1:$D$8, 2, FALSE)","v":1810},0]
[null,null,null,null,null,22,{"$f":"VLOOKUP(F143,工作表9!$C$1:$E$8, 3,  FALSE)","v":"純物質"},null,{"$f":"VLOOKUP(F143,工作表9!$C$1:$D$8, 2, FALSE)","v":1810},0]
[null,null,null,null,null,22,{"$f":"VLOOKUP(F144,工作表9!$C$1:$E$8, 3,  FALSE)","v":"純物質"},null,{"$f":"VLOOKUP(F144,工作表9!$C$1:$D$8, 2, FALSE)","v":1810},0]
[null,null,null,null,null,22,{"$f":"VLOOKUP(F145,工作表9!$C$1:$E$8, 3,  FALSE)","v":"純物質"},null,{"$f":"VLOOKUP(F145,工作表9!$C$1:$D$8, 2, FALSE)","v":1810},0]
[null,null,null,null,null,22,{"$f":"VLOOKUP(F146,工作表9!$C$1:$E$8, 3,  FALSE)","v":"純物質"},null,{"$f":"VLOOKUP(F146,工作表9!$C$1:$D$8, 2, FALSE)","v":1810},0]
[null,null,null,null,null,22,{"$f":"VLOOKUP(F147,工作表9!$C$1:$E$8, 3,  FALSE)","v":"純物質"},null,{"$f":"VLOOKUP(F147,工作表9!$C$1:$D$8, 2, FALSE)","v":1810},0]
[null,null,null,null,null,22,{"$f":"VLOOKUP(F148,工作表9!$C$1:$E$8, 3,  FALSE)","v":"純物質"},null,{"$f":"VLOOKUP(F148,工作表9!$C$1:$D$8, 2, FALSE)","v":1810},0]
[null,null,null,null,null,22,{"$f":"VLOOKUP(F149,工作表9!$C$1:$E$8, 3,  FALSE)","v":"純物質"},null,{"$f":"VLOOKUP(F149,工作表9!$C$1:$D$8, 2, FALSE)","v":1810},0]
[null,null,null,null,null,22,{"$f":"VLOOKUP(F150,工作表9!$C$1:$E$8, 3,  FALSE)","v":"純物質"},null,{"$f":"VLOOKUP(F150,工作表9!$C$1:$D$8, 2, FALSE)","v":1810},0]
[null,null,null,null,null,22,{"$f":"VLOOKUP(F151,工作表9!$C$1:$E$8, 3,  FALSE)","v":"純物質"},null,{"$f":"VLOOKUP(F151,工作表9!$C$1:$D$8, 2, FALSE)","v":1810},0]
[null,null,null,null,null,22,{"$f":"VLOOKUP(F152,工作表9!$C$1:$E$8, 3,  FALSE)","v":"純物質"},null,{"$f":"VLOOKUP(F152,工作表9!$C$1:$D$8, 2, FALSE)","v":1810},0]
[null,null,null,null,null,22,{"$f":"VLOOKUP(F153,工作表9!$C$1:$E$8, 3,  FALSE)","v":"純物質"},null,{"$f":"VLOOKUP(F153,工作表9!$C$1:$D$8, 2, FALSE)","v":1810},0]
[null,null,null,null,null,22,{"$f":"VLOOKUP(F154,工作表9!$C$1:$E$8, 3,  FALSE)","v":"純物質"},null,{"$f":"VLOOKUP(F154,工作表9!$C$1:$D$8, 2, FALSE)","v":1810},0]
[null,null,null,null,null,22,{"$f":"VLOOKUP(F155,工作表9!$C$1:$E$8, 3,  FALSE)","v":"純物質"},null,{"$f":"VLOOKUP(F155,工作表9!$C$1:$D$8, 2, FALSE)","v":1810},0]
[null,null,null,null,null,22,{"$f":"VLOOKUP(F156,工作表9!$C$1:$E$8, 3,  FALSE)","v":"純物質"},null,{"$f":"VLOOKUP(F156,工作表9!$C$1:$D$8, 2, FALSE)","v":1810},0]
[null,null,null,null,null,22,{"$f":"VLOOKUP(F157,工作表9!$C$1:$E$8, 3,  FALSE)","v":"純物質"},null,{"$f":"VLOOKUP(F157,工作表9!$C$1:$D$8, 2, FALSE)","v":1810},0]
[null,null,null,null,null,22,{"$f":"VLOOKUP(F158,工作表9!$C$1:$E$8, 3,  FALSE)","v":"純物質"},null,{"$f":"VLOOKUP(F158,工作表9!$C$1:$D$8, 2, FALSE)","v":1810},0]
[null,null,null,null,null,22,{"$f":"VLOOKUP(F159,工作表9!$C$1:$E$8, 3,  FALSE)","v":"純物質"},null,{"$f":"VLOOKUP(F159,工作表9!$C$1:$D$8, 2, FALSE)","v":1810},0]
[null,null,null,null,null,22,{"$f":"VLOOKUP(F160,工作表9!$C$1:$E$8, 3,  FALSE)","v":"純物質"},null,{"$f":"VLOOKUP(F160,工作表9!$C$1:$D$8, 2, FALSE)","v":1810},0]
[null,null,null,null,null,22,{"$f":"VLOOKUP(F161,工作表9!$C$1:$E$8, 3,  FALSE)","v":"純物質"},null,{"$f":"VLOOKUP(F161,工作表9!$C$1:$D$8, 2, FALSE)","v":1810},0]
[null,null,null,null,null,22,{"$f":"VLOOKUP(F162,工作表9!$C$1:$E$8, 3,  FALSE)","v":"純物質"},null,{"$f":"VLOOKUP(F162,工作表9!$C$1:$D$8, 2, FALSE)","v":1810},0]
[null,null,null,null,null,22,{"$f":"VLOOKUP(F163,工作表9!$C$1:$E$8, 3,  FALSE)","v":"純物質"},null,{"$f":"VLOOKUP(F163,工作表9!$C$1:$D$8, 2, FALSE)","v":1810},0]
[null,null,null,null,null,22,{"$f":"VLOOKUP(F164,工作表9!$C$1:$E$8, 3,  FALSE)","v":"純物質"},null,{"$f":"VLOOKUP(F164,工作表9!$C$1:$D$8, 2, FALSE)","v":1810},0]
[null,null,null,null,null,22,{"$f":"VLOOKUP(F165,工作表9!$C$1:$E$8, 3,  FALSE)","v":"純物質"},null,{"$f":"VLOOKUP(F165,工作表9!$C$1:$D$8, 2, FALSE)","v":1810},0]
[null,null,null,null,null,22,{"$f":"VLOOKUP(F166,工作表9!$C$1:$E$8, 3,  FALSE)","v":"純物質"},null,{"$f":"VLOOKUP(F166,工作表9!$C$1:$D$8, 2, FALSE)","v":1810},0]
[null,null,null,null,null,22,{"$f":"VLOOKUP(F167,工作表9!$C$1:$E$8, 3,  FALSE)","v":"純物質"},null,{"$f":"VLOOKUP(F167,工作表9!$C$1:$D$8, 2, FALSE)","v":1810},0]
[null,null,null,null,null,22,{"$f":"VLOOKUP(F168,工作表9!$C$1:$E$8, 3,  FALSE)","v":"純物質"},null,{"$f":"VLOOKUP(F168,工作表9!$C$1:$D$8, 2, FALSE)","v":1810},0]
[null,null,null,null,null,22,{"$f":"VLOOKUP(F169,工作表9!$C$1:$E$8, 3,  FALSE)","v":"純物質"},null,{"$f":"VLOOKUP(F169,工作表9!$C$1:$D$8, 2, FALSE)","v":1810},0]
[null,null,null,null,null,22,{"$f":"VLOOKUP(F170,工作表9!$C$1:$E$8, 3,  FALSE)","v":"純物質"},null,{"$f":"VLOOKUP(F170,工作表9!$C$1:$D$8, 2, FALSE)","v":1810},0]
[null,null,null,null,null,22,{"$f":"VLOOKUP(F171,工作表9!$C$1:$E$8, 3,  FALSE)","v":"純物質"},null,{"$f":"VLOOKUP(F171,工作表9!$C$1:$D$8, 2, FALSE)","v":1810},0]
[null,null,null,null,null,22,{"$f":"VLOOKUP(F172,工作表9!$C$1:$E$8, 3,  FALSE)","v":"純物質"},null,{"$f":"VLOOKUP(F172,工作表9!$C$1:$D$8, 2, FALSE)","v":1810},0]
[null,null,null,null,null,22,{"$f":"VLOOKUP(F173,工作表9!$C$1:$E$8, 3,  FALSE)","v":"純物質"},null,{"$f":"VLOOKUP(F173,工作表9!$C$1:$D$8, 2, FALSE)","v":1810},0]
[null,null,null,null,null,22,{"$f":"VLOOKUP(F174,工作表9!$C$1:$E$8, 3,  FALSE)","v":"純物質"},null,{"$f":"VLOOKUP(F174,工作表9!$C$1:$D$8, 2, FALSE)","v":1810},0]
[null,null,null,null,null,22,{"$f":"VLOOKUP(F175,工作表9!$C$1:$E$8, 3,  FALSE)","v":"純物質"},null,{"$f":"VLOOKUP(F175,工作表9!$C$1:$D$8, 2, FALSE)","v":1810},0]
[null,null,null,null,null,22,{"$f":"VLOOKUP(F176,工作表9!$C$1:$E$8, 3,  FALSE)","v":"純物質"},null,{"$f":"VLOOKUP(F176,工作表9!$C$1:$D$8, 2, FALSE)","v":1810},0]
[null,null,null,null,null,22,{"$f":"VLOOKUP(F177,工作表9!$C$1:$E$8, 3,  FALSE)","v":"純物質"},null,{"$f":"VLOOKUP(F177,工作表9!$C$1:$D$8, 2, FALSE)","v":1810},0]
[null,null,null,null,null,22,{"$f":"VLOOKUP(F178,工作表9!$C$1:$E$8, 3,  FALSE)","v":"純物質"},null,{"$f":"VLOOKUP(F178,工作表9!$C$1:$D$8, 2, FALSE)","v":1810},0]
[null,null,null,null,null,22,{"$f":"VLOOKUP(F179,工作表9!$C$1:$E$8, 3,  FALSE)","v":"純物質"},null,{"$f":"VLOOKUP(F179,工作表9!$C$1:$D$8, 2, FALSE)","v":1810},0]
[null,null,null,null,null,22,{"$f":"VLOOKUP(F180,工作表9!$C$1:$E$8, 3,  FALSE)","v":"純物質"},null,{"$f":"VLOOKUP(F180,工作表9!$C$1:$D$8, 2, FALSE)","v":1810},0]
[null,null,null,null,null,22,{"$f":"VLOOKUP(F181,工作表9!$C$1:$E$8, 3,  FALSE)","v":"純物質"},null,{"$f":"VLOOKUP(F181,工作表9!$C$1:$D$8, 2, FALSE)","v":1810},0]
[null,null,null,null,null,22,{"$f":"VLOOKUP(F182,工作表9!$C$1:$E$8, 3,  FALSE)","v":"純物質"},null,{"$f":"VLOOKUP(F182,工作表9!$C$1:$D$8, 2, FALSE)","v":1810},0]
[null,null,null,null,null,22,{"$f":"VLOOKUP(F183,工作表9!$C$1:$E$8, 3,  FALSE)","v":"純物質"},null,{"$f":"VLOOKUP(F183,工作表9!$C$1:$D$8, 2, FALSE)","v":1810},0]
[null,null,null,null,null,22,{"$f":"VLOOKUP(F184,工作表9!$C$1:$E$8, 3,  FALSE)","v":"純物質"},null,{"$f":"VLOOKUP(F184,工作表9!$C$1:$D$8, 2, FALSE)","v":1810},0]
[null,null,null,null,null,22,{"$f":"VLOOKUP(F185,工作表9!$C$1:$E$8, 3,  FALSE)","v":"純物質"},null,{"$f":"VLOOKUP(F185,工作表9!$C$1:$D$8, 2, FALSE)","v":1810},0]
[null,null,null,null,null,22,{"$f":"VLOOKUP(F186,工作表9!$C$1:$E$8, 3,  FALSE)","v":"純物質"},null,{"$f":"VLOOKUP(F186,工作表9!$C$1:$D$8, 2, FALSE)","v":1810},0]
[null,null,null,null,null,22,{"$f":"VLOOKUP(F187,工作表9!$C$1:$E$8, 3,  FALSE)","v":"純物質"},null,{"$f":"VLOOKUP(F187,工作表9!$C$1:$D$8, 2, FALSE)","v":1810},0]
[null,null,null,null,null,22,{"$f":"VLOOKUP(F188,工作表9!$C$1:$E$8, 3,  FALSE)","v":"純物質"},null,{"$f":"VLOOKUP(F188,工作表9!$C$1:$D$8, 2, FALSE)","v":1810},0]
[null,null,null,null,null,22,{"$f":"VLOOKUP(F189,工作表9!$C$1:$E$8, 3,  FALSE)","v":"純物質"},null,{"$f":"VLOOKUP(F189,工作表9!$C$1:$D$8, 2, FALSE)","v":1810},0]
[null,null,null,null,null,22,{"$f":"VLOOKUP(F190,工作表9!$C$1:$E$8, 3,  FALSE)","v":"純物質"},null,{"$f":"VLOOKUP(F190,工作表9!$C$1:$D$8, 2, FALSE)","v":1810},0]
[null,null,null,null,null,22,{"$f":"VLOOKUP(F191,工作表9!$C$1:$E$8, 3,  FALSE)","v":"純物質"},null,{"$f":"VLOOKUP(F191,工作表9!$C$1:$D$8, 2, FALSE)","v":1810},0]
[null,null,null,null,null,22,{"$f":"VLOOKUP(F192,工作表9!$C$1:$E$8, 3,  FALSE)","v":"純物質"},null,{"$f":"VLOOKUP(F192,工作表9!$C$1:$D$8, 2, FALSE)","v":1810},0]
[null,null,null,null,null,22,{"$f":"VLOOKUP(F193,工作表9!$C$1:$E$8, 3,  FALSE)","v":"純物質"},null,{"$f":"VLOOKUP(F193,工作表9!$C$1:$D$8, 2, FALSE)","v":1810},0]
[null,null,null,null,null,22,{"$f":"VLOOKUP(F194,工作表9!$C$1:$E$8, 3,  FALSE)","v":"純物質"},null,{"$f":"VLOOKUP(F194,工作表9!$C$1:$D$8, 2, FALSE)","v":1810},0]
[null,null,null,null,null,22,{"$f":"VLOOKUP(F195,工作表9!$C$1:$E$8, 3,  FALSE)","v":"純物質"},null,{"$f":"VLOOKUP(F195,工作表9!$C$1:$D$8, 2, FALSE)","v":1810},0]
[null,null,null,null,null,22,{"$f":"VLOOKUP(F196,工作表9!$C$1:$E$8, 3,  FALSE)","v":"純物質"},null,{"$f":"VLOOKUP(F196,工作表9!$C$1:$D$8, 2, FALSE)","v":1810},0]
[null,null,null,null,null,22,{"$f":"VLOOKUP(F197,工作表9!$C$1:$E$8, 3,  FALSE)","v":"純物質"},null,{"$f":"VLOOKUP(F197,工作表9!$C$1:$D$8, 2, FALSE)","v":1810},0]
[null,null,null,null,null,22,{"$f":"VLOOKUP(F198,工作表9!$C$1:$E$8, 3,  FALSE)","v":"純物質"},null,{"$f":"VLOOKUP(F198,工作表9!$C$1:$D$8, 2, FALSE)","v":1810},{"$f":"H198*I198","v":0}]
[null,null,null,null,null,22,{"$f":"VLOOKUP(F199,工作表9!$C$1:$E$8, 3,  FALSE)","v":"純物質"},null,{"$f":"VLOOKUP(F199,工作表9!$C$1:$D$8, 2, FALSE)","v":1810},0]
[null,null,null,null,null,22,{"$f":"VLOOKUP(F200,工作表9!$C$1:$E$8, 3,  FALSE)","v":"純物質"},null,{"$f":"VLOOKUP(F200,工作表9!$C$1:$D$8, 2, FALSE)","v":1810},0]
[null,null,null,null,null,22,{"$f":"VLOOKUP(F201,工作表9!$C$1:$E$8, 3,  FALSE)","v":"純物質"},null,{"$f":"VLOOKUP(F201,工作表9!$C$1:$D$8, 2, FALSE)","v":1810},0]
[null,null,null,null,null,22,{"$f":"VLOOKUP(F202,工作表9!$C$1:$E$8, 3,  FALSE)","v":"純物質"},null,{"$f":"VLOOKUP(F202,工作表9!$C$1:$D$8, 2, FALSE)","v":1810},0]
[null,null,null,null,null,22,{"$f":"VLOOKUP(F203,工作表9!$C$1:$E$8, 3,  FALSE)","v":"純物質"},null,{"$f":"VLOOKUP(F203,工作表9!$C$1:$D$8, 2, FALSE)","v":1810},0]
[null,null,null,null,null,22,{"$f":"VLOOKUP(F204,工作表9!$C$1:$E$8, 3,  FALSE)","v":"純物質"},null,{"$f":"VLOOKUP(F204,工作表9!$C$1:$D$8, 2, FALSE)","v":1810},0]
[null,null,null,null,null,22,{"$f":"VLOOKUP(F205,工作表9!$C$1:$E$8, 3,  FALSE)","v":"純物質"},null,{"$f":"VLOOKUP(F205,工作表9!$C$1:$D$8, 2, FALSE)","v":1810},0]
[null,null,null,null,null,22,{"$f":"VLOOKUP(F206,工作表9!$C$1:$E$8, 3,  FALSE)","v":"純物質"},null,{"$f":"VLOOKUP(F206,工作表9!$C$1:$D$8, 2, FALSE)","v":1810},0]
[null,null,null,null,null,22,{"$f":"VLOOKUP(F207,工作表9!$C$1:$E$8, 3,  FALSE)","v":"純物質"},null,{"$f":"VLOOKUP(F207,工作表9!$C$1:$D$8, 2, FALSE)","v":1810},0]
[null,null,null,null,null,22,{"$f":"VLOOKUP(F208,工作表9!$C$1:$E$8, 3,  FALSE)","v":"純物質"},null,{"$f":"VLOOKUP(F208,工作表9!$C$1:$D$8, 2, FALSE)","v":1810},0]
[null,null,null,null,null,22,{"$f":"VLOOKUP(F209,工作表9!$C$1:$E$8, 3,  FALSE)","v":"純物質"},null,{"$f":"VLOOKUP(F209,工作表9!$C$1:$D$8, 2, FALSE)","v":1810},0]
[null,null,null,null,null,22,{"$f":"VLOOKUP(F210,工作表9!$C$1:$E$8, 3,  FALSE)","v":"純物質"},null,{"$f":"VLOOKUP(F210,工作表9!$C$1:$D$8, 2, FALSE)","v":1810},0]
[null,null,null,null,null,22,{"$f":"VLOOKUP(F211,工作表9!$C$1:$E$8, 3,  FALSE)","v":"純物質"},null,{"$f":"VLOOKUP(F211,工作表9!$C$1:$D$8, 2, FALSE)","v":1810},0]
[null,null,null,null,null,22,{"$f":"VLOOKUP(F212,工作表9!$C$1:$E$8, 3,  FALSE)","v":"純物質"},null,{"$f":"VLOOKUP(F212,工作表9!$C$1:$D$8, 2, FALSE)","v":1810},0]
[null,null,null,null,null,22,{"$f":"VLOOKUP(F213,工作表9!$C$1:$E$8, 3,  FALSE)","v":"純物質"},null,{"$f":"VLOOKUP(F213,工作表9!$C$1:$D$8, 2, FALSE)","v":1810},0]
[null,null,null,null,null,22,{"$f":"VLOOKUP(F214,工作表9!$C$1:$E$8, 3,  FALSE)","v":"純物質"},null,{"$f":"VLOOKUP(F214,工作表9!$C$1:$D$8, 2, FALSE)","v":1810},0]
[null,null,null,null,null,22,{"$f":"VLOOKUP(F215,工作表9!$C$1:$E$8, 3,  FALSE)","v":"純物質"},null,{"$f":"VLOOKUP(F215,工作表9!$C$1:$D$8, 2, FALSE)","v":1810},0]
[null,null,null,null,null,22,{"$f":"VLOOKUP(F216,工作表9!$C$1:$E$8, 3,  FALSE)","v":"純物質"},null,{"$f":"VLOOKUP(F216,工作表9!$C$1:$D$8, 2, FALSE)","v":1810},0]
[null,null,null,null,null,22,{"$f":"VLOOKUP(F217,工作表9!$C$1:$E$8, 3,  FALSE)","v":"純物質"},null,{"$f":"VLOOKUP(F217,工作表9!$C$1:$D$8, 2, FALSE)","v":1810},0]
[null,null,null,null,null,22,{"$f":"VLOOKUP(F218,工作表9!$C$1:$E$8, 3,  FALSE)","v":"純物質"},null,{"$f":"VLOOKUP(F218,工作表9!$C$1:$D$8, 2, FALSE)","v":1810},0]
[null,null,null,null,null,22,{"$f":"VLOOKUP(F219,工作表9!$C$1:$E$8, 3,  FALSE)","v":"純物質"},null,{"$f":"VLOOKUP(F219,工作表9!$C$1:$D$8, 2, FALSE)","v":1810},0]
[null,null,null,null,null,22,{"$f":"VLOOKUP(F220,工作表9!$C$1:$E$8, 3,  FALSE)","v":"純物質"},null,{"$f":"VLOOKUP(F220,工作表9!$C$1:$D$8, 2, FALSE)","v":1810},0]
[null,null,null,null,null,22,{"$f":"VLOOKUP(F221,工作表9!$C$1:$E$8, 3,  FALSE)","v":"純物質"},null,{"$f":"VLOOKUP(F221,工作表9!$C$1:$D$8, 2, FALSE)","v":1810},0]
[null,null,null,null,null,22,{"$f":"VLOOKUP(F222,工作表9!$C$1:$E$8, 3,  FALSE)","v":"純物質"},null,{"$f":"VLOOKUP(F222,工作表9!$C$1:$D$8, 2, FALSE)","v":1810},0]
[null,null,null,null,null,22,{"$f":"VLOOKUP(F223,工作表9!$C$1:$E$8, 3,  FALSE)","v":"純物質"},null,{"$f":"VLOOKUP(F223,工作表9!$C$1:$D$8, 2, FALSE)","v":1810},0]
[null,null,null,null,null,22,{"$f":"VLOOKUP(F224,工作表9!$C$1:$E$8, 3,  FALSE)","v":"純物質"},null,{"$f":"VLOOKUP(F224,工作表9!$C$1:$D$8, 2, FALSE)","v":1810},0]
[null,null,null,null,null,22,{"$f":"VLOOKUP(F225,工作表9!$C$1:$E$8, 3,  FALSE)","v":"純物質"},null,{"$f":"VLOOKUP(F225,工作表9!$C$1:$D$8, 2, FALSE)","v":1810},0]
[null,null,null,null,null,22,{"$f":"VLOOKUP(F226,工作表9!$C$1:$E$8, 3,  FALSE)","v":"純物質"},null,{"$f":"VLOOKUP(F226,工作表9!$C$1:$D$8, 2, FALSE)","v":1810},0]
[null,null,null,null,null,22,{"$f":"VLOOKUP(F227,工作表9!$C$1:$E$8, 3,  FALSE)","v":"純物質"},null,{"$f":"VLOOKUP(F227,工作表9!$C$1:$D$8, 2, FALSE)","v":1810},0]
[null,null,null,null,null,22,{"$f":"VLOOKUP(F228,工作表9!$C$1:$E$8, 3,  FALSE)","v":"純物質"},null,{"$f":"VLOOKUP(F228,工作表9!$C$1:$D$8, 2, FALSE)","v":1810},0]
[null,null,null,null,null,22,{"$f":"VLOOKUP(F229,工作表9!$C$1:$E$8, 3,  FALSE)","v":"純物質"},null,{"$f":"VLOOKUP(F229,工作表9!$C$1:$D$8, 2, FALSE)","v":1810},0]
[null,null,null,null,null,22,{"$f":"VLOOKUP(F230,工作表9!$C$1:$E$8, 3,  FALSE)","v":"純物質"},null,{"$f":"VLOOKUP(F230,工作表9!$C$1:$D$8, 2, FALSE)","v":1810},0]
[null,null,null,null,null,22,{"$f":"VLOOKUP(F231,工作表9!$C$1:$E$8, 3,  FALSE)","v":"純物質"},null,{"$f":"VLOOKUP(F231,工作表9!$C$1:$D$8, 2, FALSE)","v":1810},0]
[null,null,null,null,null,22,{"$f":"VLOOKUP(F232,工作表9!$C$1:$E$8, 3,  FALSE)","v":"純物質"},null,{"$f":"VLOOKUP(F232,工作表9!$C$1:$D$8, 2, FALSE)","v":1810},0]
[null,null,null,null,null,22,{"$f":"VLOOKUP(F233,工作表9!$C$1:$E$8, 3,  FALSE)","v":"純物質"},null,{"$f":"VLOOKUP(F233,工作表9!$C$1:$D$8, 2, FALSE)","v":1810},0]
[null,null,null,null,null,22,{"$f":"VLOOKUP(F234,工作表9!$C$1:$E$8, 3,  FALSE)","v":"純物質"},null,{"$f":"VLOOKUP(F234,工作表9!$C$1:$D$8, 2, FALSE)","v":1810},0]
[null,null,null,null,null,22,{"$f":"VLOOKUP(F235,工作表9!$C$1:$E$8, 3,  FALSE)","v":"純物質"},null,{"$f":"VLOOKUP(F235,工作表9!$C$1:$D$8, 2, FALSE)","v":1810},0]
[null,null,null,null,null,22,{"$f":"VLOOKUP(F236,工作表9!$C$1:$E$8, 3,  FALSE)","v":"純物質"},null,{"$f":"VLOOKUP(F236,工作表9!$C$1:$D$8, 2, FALSE)","v":1810},0]
[null,null,null,null,null,22,{"$f":"VLOOKUP(F237,工作表9!$C$1:$E$8, 3,  FALSE)","v":"純物質"},null,{"$f":"VLOOKUP(F237,工作表9!$C$1:$D$8, 2, FALSE)","v":1810},0]
[null,null,null,null,null,22,{"$f":"VLOOKUP(F238,工作表9!$C$1:$E$8, 3,  FALSE)","v":"純物質"},null,{"$f":"VLOOKUP(F238,工作表9!$C$1:$D$8, 2, FALSE)","v":1810},0]
[null,null,null,null,null,22,{"$f":"VLOOKUP(F239,工作表9!$C$1:$E$8, 3,  FALSE)","v":"純物質"},null,{"$f":"VLOOKUP(F239,工作表9!$C$1:$D$8, 2, FALSE)","v":1810},0]
[null,null,null,null,null,22,{"$f":"VLOOKUP(F240,工作表9!$C$1:$E$8, 3,  FALSE)","v":"純物質"},null,{"$f":"VLOOKUP(F240,工作表9!$C$1:$D$8, 2, FALSE)","v":1810},0]
[null,null,null,null,null,22,{"$f":"VLOOKUP(F241,工作表9!$C$1:$E$8, 3,  FALSE)","v":"純物質"},null,{"$f":"VLOOKUP(F241,工作表9!$C$1:$D$8, 2, FALSE)","v":1810},0]
[null,null,null,null,null,22,{"$f":"VLOOKUP(F242,工作表9!$C$1:$E$8, 3,  FALSE)","v":"純物質"},null,{"$f":"VLOOKUP(F242,工作表9!$C$1:$D$8, 2, FALSE)","v":1810},0]
[null,null,null,null,null,22,{"$f":"VLOOKUP(F243,工作表9!$C$1:$E$8, 3,  FALSE)","v":"純物質"},null,{"$f":"VLOOKUP(F243,工作表9!$C$1:$D$8, 2, FALSE)","v":1810},0]
[null,null,null,null,null,22,{"$f":"VLOOKUP(F244,工作表9!$C$1:$E$8, 3,  FALSE)","v":"純物質"},null,{"$f":"VLOOKUP(F244,工作表9!$C$1:$D$8, 2, FALSE)","v":1810},0]
[null,null,null,null,null,22,{"$f":"VLOOKUP(F245,工作表9!$C$1:$E$8, 3,  FALSE)","v":"純物質"},null,{"$f":"VLOOKUP(F245,工作表9!$C$1:$D$8, 2, FALSE)","v":1810},0]
[null,null,null,null,null,22,{"$f":"VLOOKUP(F246,工作表9!$C$1:$E$8, 3,  FALSE)","v":"純物質"},null,{"$f":"VLOOKUP(F246,工作表9!$C$1:$D$8, 2, FALSE)","v":1810},0]
[null,null,null,null,null,22,{"$f":"VLOOKUP(F247,工作表9!$C$1:$E$8, 3,  FALSE)","v":"純物質"},null,{"$f":"VLOOKUP(F247,工作表9!$C$1:$D$8, 2, FALSE)","v":1810},0]
[null,null,null,null,null,22,{"$f":"VLOOKUP(F248,工作表9!$C$1:$E$8, 3,  FALSE)","v":"純物質"},null,{"$f":"VLOOKUP(F248,工作表9!$C$1:$D$8, 2, FALSE)","v":1810},0]
[null,null,null,null,null,22,{"$f":"VLOOKUP(F249,工作表9!$C$1:$E$8, 3,  FALSE)","v":"純物質"},null,{"$f":"VLOOKUP(F249,工作表9!$C$1:$D$8, 2, FALSE)","v":1810},0]
[null,null,null,null,null,22,{"$f":"VLOOKUP(F250,工作表9!$C$1:$E$8, 3,  FALSE)","v":"純物質"},null,{"$f":"VLOOKUP(F250,工作表9!$C$1:$D$8, 2, FALSE)","v":1810},0]
[null,null,null,null,null,22,{"$f":"VLOOKUP(F251,工作表9!$C$1:$E$8, 3,  FALSE)","v":"純物質"},null,{"$f":"VLOOKUP(F251,工作表9!$C$1:$D$8, 2, FALSE)","v":1810},0]
[null,null,null,null,null,22,{"$f":"VLOOKUP(F252,工作表9!$C$1:$E$8, 3,  FALSE)","v":"純物質"},null,{"$f":"VLOOKUP(F252,工作表9!$C$1:$D$8, 2, FALSE)","v":1810},0]
[null,null,null,null,null,22,{"$f":"VLOOKUP(F253,工作表9!$C$1:$E$8, 3,  FALSE)","v":"純物質"},null,{"$f":"VLOOKUP(F253,工作表9!$C$1:$D$8, 2, FALSE)","v":1810},0]
[null,null,null,null,null,22,{"$f":"VLOOKUP(F254,工作表9!$C$1:$E$8, 3,  FALSE)","v":"純物質"},null,{"$f":"VLOOKUP(F254,工作表9!$C$1:$D$8, 2, FALSE)","v":1810},0]
[null,null,null,null,null,22,{"$f":"VLOOKUP(F255,工作表9!$C$1:$E$8, 3,  FALSE)","v":"純物質"},null,{"$f":"VLOOKUP(F255,工作表9!$C$1:$D$8, 2, FALSE)","v":1810},0]
[null,null,null,null,null,22,{"$f":"VLOOKUP(F256,工作表9!$C$1:$E$8, 3,  FALSE)","v":"純物質"},null,{"$f":"VLOOKUP(F256,工作表9!$C$1:$D$8, 2, FALSE)","v":1810},0]
[null,null,null,null,null,22,{"$f":"VLOOKUP(F257,工作表9!$C$1:$E$8, 3,  FALSE)","v":"純物質"},null,{"$f":"VLOOKUP(F257,工作表9!$C$1:$D$8, 2, FALSE)","v":1810},0]
[null,null,null,null,null,22,{"$f":"VLOOKUP(F258,工作表9!$C$1:$E$8, 3,  FALSE)","v":"純物質"},null,{"$f":"VLOOKUP(F258,工作表9!$C$1:$D$8, 2, FALSE)","v":1810},0]
[null,null,null,null,null,22,{"$f":"VLOOKUP(F259,工作表9!$C$1:$E$8, 3,  FALSE)","v":"純物質"},null,{"$f":"VLOOKUP(F259,工作表9!$C$1:$D$8, 2, FALSE)","v":1810},0]
[null,null,null,null,null,22,{"$f":"VLOOKUP(F260,工作表9!$C$1:$E$8, 3,  FALSE)","v":"純物質"},null,{"$f":"VLOOKUP(F260,工作表9!$C$1:$D$8, 2, FALSE)","v":1810},0]
[null,null,null,null,null,22,{"$f":"VLOOKUP(F261,工作表9!$C$1:$E$8, 3,  FALSE)","v":"純物質"},null,{"$f":"VLOOKUP(F261,工作表9!$C$1:$D$8, 2, FALSE)","v":1810},0]
[null,null,null,null,null,22,{"$f":"VLOOKUP(F262,工作表9!$C$1:$E$8, 3,  FALSE)","v":"純物質"},null,{"$f":"VLOOKUP(F262,工作表9!$C$1:$D$8, 2, FALSE)","v":1810},{"$f":"H262*I262","v":0}]
[null,null,null,null,null,22,{"$f":"VLOOKUP(F263,工作表9!$C$1:$E$8, 3,  FALSE)","v":"純物質"},null,{"$f":"VLOOKUP(F263,工作表9!$C$1:$D$8, 2, FALSE)","v":1810},0]
[null,null,null,null,null,22,{"$f":"VLOOKUP(F264,工作表9!$C$1:$E$8, 3,  FALSE)","v":"純物質"},null,{"$f":"VLOOKUP(F264,工作表9!$C$1:$D$8, 2, FALSE)","v":1810},0]
[null,null,null,null,null,22,{"$f":"VLOOKUP(F265,工作表9!$C$1:$E$8, 3,  FALSE)","v":"純物質"},null,{"$f":"VLOOKUP(F265,工作表9!$C$1:$D$8, 2, FALSE)","v":1810},0]
[null,null,null,null,null,22,{"$f":"VLOOKUP(F266,工作表9!$C$1:$E$8, 3,  FALSE)","v":"純物質"},null,{"$f":"VLOOKUP(F266,工作表9!$C$1:$D$8, 2, FALSE)","v":1810},0]
[null,null,null,null,null,22,{"$f":"VLOOKUP(F267,工作表9!$C$1:$E$8, 3,  FALSE)","v":"純物質"},null,{"$f":"VLOOKUP(F267,工作表9!$C$1:$D$8, 2, FALSE)","v":1810},0]
[null,null,null,null,null,22,{"$f":"VLOOKUP(F268,工作表9!$C$1:$E$8, 3,  FALSE)","v":"純物質"},null,{"$f":"VLOOKUP(F268,工作表9!$C$1:$D$8, 2, FALSE)","v":1810},0]
[null,null,null,null,null,22,{"$f":"VLOOKUP(F269,工作表9!$C$1:$E$8, 3,  FALSE)","v":"純物質"},null,{"$f":"VLOOKUP(F269,工作表9!$C$1:$D$8, 2, FALSE)","v":1810},0]
[null,null,null,null,null,22,{"$f":"VLOOKUP(F270,工作表9!$C$1:$E$8, 3,  FALSE)","v":"純物質"},null,{"$f":"VLOOKUP(F270,工作表9!$C$1:$D$8, 2, FALSE)","v":1810},0]
[null,null,null,null,null,22,{"$f":"VLOOKUP(F271,工作表9!$C$1:$E$8, 3,  FALSE)","v":"純物質"},null,{"$f":"VLOOKUP(F271,工作表9!$C$1:$D$8, 2, FALSE)","v":1810},0]
[null,null,null,null,null,22,{"$f":"VLOOKUP(F272,工作表9!$C$1:$E$8, 3,  FALSE)","v":"純物質"},null,{"$f":"VLOOKUP(F272,工作表9!$C$1:$D$8, 2, FALSE)","v":1810},0]
[null,null,null,null,null,22,{"$f":"VLOOKUP(F273,工作表9!$C$1:$E$8, 3,  FALSE)","v":"純物質"},null,{"$f":"VLOOKUP(F273,工作表9!$C$1:$D$8, 2, FALSE)","v":1810},0]
[null,null,null,null,null,22,{"$f":"VLOOKUP(F274,工作表9!$C$1:$E$8, 3,  FALSE)","v":"純物質"},null,{"$f":"VLOOKUP(F274,工作表9!$C$1:$D$8, 2, FALSE)","v":1810},0]
[null,null,null,null,null,22,{"$f":"VLOOKUP(F275,工作表9!$C$1:$E$8, 3,  FALSE)","v":"純物質"},null,{"$f":"VLOOKUP(F275,工作表9!$C$1:$D$8, 2, FALSE)","v":1810},0]
[null,null,null,null,null,22,{"$f":"VLOOKUP(F276,工作表9!$C$1:$E$8, 3,  FALSE)","v":"純物質"},null,{"$f":"VLOOKUP(F276,工作表9!$C$1:$D$8, 2, FALSE)","v":1810},0]
[null,null,null,null,null,22,{"$f":"VLOOKUP(F277,工作表9!$C$1:$E$8, 3,  FALSE)","v":"純物質"},null,{"$f":"VLOOKUP(F277,工作表9!$C$1:$D$8, 2, FALSE)","v":1810},0]
[null,null,null,null,null,22,{"$f":"VLOOKUP(F278,工作表9!$C$1:$E$8, 3,  FALSE)","v":"純物質"},null,{"$f":"VLOOKUP(F278,工作表9!$C$1:$D$8, 2, FALSE)","v":1810},0]
[null,null,null,null,null,22,{"$f":"VLOOKUP(F279,工作表9!$C$1:$E$8, 3,  FALSE)","v":"純物質"},null,{"$f":"VLOOKUP(F279,工作表9!$C$1:$D$8, 2, FALSE)","v":1810},0]
[null,null,null,null,null,22,{"$f":"VLOOKUP(F280,工作表9!$C$1:$E$8, 3,  FALSE)","v":"純物質"},null,{"$f":"VLOOKUP(F280,工作表9!$C$1:$D$8, 2, FALSE)","v":1810},0]
[null,null,null,null,null,22,{"$f":"VLOOKUP(F281,工作表9!$C$1:$E$8, 3,  FALSE)","v":"純物質"},null,{"$f":"VLOOKUP(F281,工作表9!$C$1:$D$8, 2, FALSE)","v":1810},0]
[null,null,null,null,null,22,{"$f":"VLOOKUP(F282,工作表9!$C$1:$E$8, 3,  FALSE)","v":"純物質"},null,{"$f":"VLOOKUP(F282,工作表9!$C$1:$D$8, 2, FALSE)","v":1810},0]
[null,null,null,null,null,22,{"$f":"VLOOKUP(F283,工作表9!$C$1:$E$8, 3,  FALSE)","v":"純物質"},null,{"$f":"VLOOKUP(F283,工作表9!$C$1:$D$8, 2, FALSE)","v":1810},0]
[null,null,null,null,null,22,{"$f":"VLOOKUP(F284,工作表9!$C$1:$E$8, 3,  FALSE)","v":"純物質"},null,{"$f":"VLOOKUP(F284,工作表9!$C$1:$D$8, 2, FALSE)","v":1810},0]
[null,null,null,null,null,22,{"$f":"VLOOKUP(F285,工作表9!$C$1:$E$8, 3,  FALSE)","v":"純物質"},null,{"$f":"VLOOKUP(F285,工作表9!$C$1:$D$8, 2, FALSE)","v":1810},0]
[null,null,null,null,null,22,{"$f":"VLOOKUP(F286,工作表9!$C$1:$E$8, 3,  FALSE)","v":"純物質"},null,{"$f":"VLOOKUP(F286,工作表9!$C$1:$D$8, 2, FALSE)","v":1810},0]
[null,null,null,null,null,22,{"$f":"VLOOKUP(F287,工作表9!$C$1:$E$8, 3,  FALSE)","v":"純物質"},null,{"$f":"VLOOKUP(F287,工作表9!$C$1:$D$8, 2, FALSE)","v":1810},0]
[null,null,null,null,null,22,{"$f":"VLOOKUP(F288,工作表9!$C$1:$E$8, 3,  FALSE)","v":"純物質"},null,{"$f":"VLOOKUP(F288,工作表9!$C$1:$D$8, 2, FALSE)","v":1810},0]
[null,null,null,null,null,22,{"$f":"VLOOKUP(F289,工作表9!$C$1:$E$8, 3,  FALSE)","v":"純物質"},null,{"$f":"VLOOKUP(F289,工作表9!$C$1:$D$8, 2, FALSE)","v":1810},0]
[null,null,null,null,null,22,{"$f":"VLOOKUP(F290,工作表9!$C$1:$E$8, 3,  FALSE)","v":"純物質"},null,{"$f":"VLOOKUP(F290,工作表9!$C$1:$D$8, 2, FALSE)","v":1810},0]
[null,null,null,null,null,22,{"$f":"VLOOKUP(F291,工作表9!$C$1:$E$8, 3,  FALSE)","v":"純物質"},null,{"$f":"VLOOKUP(F291,工作表9!$C$1:$D$8, 2, FALSE)","v":1810},0]
[null,null,null,null,null,22,{"$f":"VLOOKUP(F292,工作表9!$C$1:$E$8, 3,  FALSE)","v":"純物質"},null,{"$f":"VLOOKUP(F292,工作表9!$C$1:$D$8, 2, FALSE)","v":1810},0]
[null,null,null,null,null,22,{"$f":"VLOOKUP(F293,工作表9!$C$1:$E$8, 3,  FALSE)","v":"純物質"},null,{"$f":"VLOOKUP(F293,工作表9!$C$1:$D$8, 2, FALSE)","v":1810},0]
[null,null,null,null,null,22,{"$f":"VLOOKUP(F294,工作表9!$C$1:$E$8, 3,  FALSE)","v":"純物質"},null,{"$f":"VLOOKUP(F294,工作表9!$C$1:$D$8, 2, FALSE)","v":1810},0]
[null,null,null,null,null,22,{"$f":"VLOOKUP(F295,工作表9!$C$1:$E$8, 3,  FALSE)","v":"純物質"},null,{"$f":"VLOOKUP(F295,工作表9!$C$1:$D$8, 2, FALSE)","v":1810},0]
[null,null,null,null,null,22,{"$f":"VLOOKUP(F296,工作表9!$C$1:$E$8, 3,  FALSE)","v":"純物質"},null,{"$f":"VLOOKUP(F296,工作表9!$C$1:$D$8, 2, FALSE)","v":1810},0]
[null,null,null,null,null,22,{"$f":"VLOOKUP(F297,工作表9!$C$1:$E$8, 3,  FALSE)","v":"純物質"},null,{"$f":"VLOOKUP(F297,工作表9!$C$1:$D$8, 2, FALSE)","v":1810},0]
[null,null,null,null,null,22,{"$f":"VLOOKUP(F298,工作表9!$C$1:$E$8, 3,  FALSE)","v":"純物質"},null,{"$f":"VLOOKUP(F298,工作表9!$C$1:$D$8, 2, FALSE)","v":1810},0]
[null,null,null,null,null,22,{"$f":"VLOOKUP(F299,工作表9!$C$1:$E$8, 3,  FALSE)","v":"純物質"},null,{"$f":"VLOOKUP(F299,工作表9!$C$1:$D$8, 2, FALSE)","v":1810},0]
[null,null,null,null,null,22,{"$f":"VLOOKUP(F300,工作表9!$C$1:$E$8, 3,  FALSE)","v":"純物質"},null,{"$f":"VLOOKUP(F300,工作表9!$C$1:$D$8, 2, FALSE)","v":1810},0]
[null,null,null,null,null,22,{"$f":"VLOOKUP(F301,工作表9!$C$1:$E$8, 3,  FALSE)","v":"純物質"},null,{"$f":"VLOOKUP(F301,工作表9!$C$1:$D$8, 2, FALSE)","v":1810},0]
[null,null,null,null,null,22,{"$f":"VLOOKUP(F302,工作表9!$C$1:$E$8, 3,  FALSE)","v":"純物質"},null,{"$f":"VLOOKUP(F302,工作表9!$C$1:$D$8, 2, FALSE)","v":1810},0]
[null,null,null,null,null,22,{"$f":"VLOOKUP(F303,工作表9!$C$1:$E$8, 3,  FALSE)","v":"純物質"},null,{"$f":"VLOOKUP(F303,工作表9!$C$1:$D$8, 2, FALSE)","v":1810},0]
[null,null,null,null,null,22,{"$f":"VLOOKUP(F304,工作表9!$C$1:$E$8, 3,  FALSE)","v":"純物質"},null,{"$f":"VLOOKUP(F304,工作表9!$C$1:$D$8, 2, FALSE)","v":1810},0]
[null,null,null,null,null,22,{"$f":"VLOOKUP(F305,工作表9!$C$1:$E$8, 3,  FALSE)","v":"純物質"},null,{"$f":"VLOOKUP(F305,工作表9!$C$1:$D$8, 2, FALSE)","v":1810},0]
[null,null,null,null,null,22,{"$f":"VLOOKUP(F306,工作表9!$C$1:$E$8, 3,  FALSE)","v":"純物質"},null,{"$f":"VLOOKUP(F306,工作表9!$C$1:$D$8, 2, FALSE)","v":1810},0]
[null,null,null,null,null,22,{"$f":"VLOOKUP(F307,工作表9!$C$1:$E$8, 3,  FALSE)","v":"純物質"},null,{"$f":"VLOOKUP(F307,工作表9!$C$1:$D$8, 2, FALSE)","v":1810},0]
[null,null,null,null,null,22,{"$f":"VLOOKUP(F308,工作表9!$C$1:$E$8, 3,  FALSE)","v":"純物質"},null,{"$f":"VLOOKUP(F308,工作表9!$C$1:$D$8, 2, FALSE)","v":1810},0]
[null,null,null,null,null,22,{"$f":"VLOOKUP(F309,工作表9!$C$1:$E$8, 3,  FALSE)","v":"純物質"},null,{"$f":"VLOOKUP(F309,工作表9!$C$1:$D$8, 2, FALSE)","v":1810},0]
[null,null,null,null,null,22,{"$f":"VLOOKUP(F310,工作表9!$C$1:$E$8, 3,  FALSE)","v":"純物質"},null,{"$f":"VLOOKUP(F310,工作表9!$C$1:$D$8, 2, FALSE)","v":1810},0]
[null,null,null,null,null,22,{"$f":"VLOOKUP(F311,工作表9!$C$1:$E$8, 3,  FALSE)","v":"純物質"},null,{"$f":"VLOOKUP(F311,工作表9!$C$1:$D$8, 2, FALSE)","v":1810},0]
[null,null,null,null,null,22,{"$f":"VLOOKUP(F312,工作表9!$C$1:$E$8, 3,  FALSE)","v":"純物質"},null,{"$f":"VLOOKUP(F312,工作表9!$C$1:$D$8, 2, FALSE)","v":1810},0]
[null,null,null,null,null,22,{"$f":"VLOOKUP(F313,工作表9!$C$1:$E$8, 3,  FALSE)","v":"純物質"},null,{"$f":"VLOOKUP(F313,工作表9!$C$1:$D$8, 2, FALSE)","v":1810},0]
[null,null,null,null,null,22,{"$f":"VLOOKUP(F314,工作表9!$C$1:$E$8, 3,  FALSE)","v":"純物質"},null,{"$f":"VLOOKUP(F314,工作表9!$C$1:$D$8, 2, FALSE)","v":1810},0]
[null,null,null,null,null,22,{"$f":"VLOOKUP(F315,工作表9!$C$1:$E$8, 3,  FALSE)","v":"純物質"},null,{"$f":"VLOOKUP(F315,工作表9!$C$1:$D$8, 2, FALSE)","v":1810},0]
[null,null,null,null,null,22,{"$f":"VLOOKUP(F316,工作表9!$C$1:$E$8, 3,  FALSE)","v":"純物質"},null,{"$f":"VLOOKUP(F316,工作表9!$C$1:$D$8, 2, FALSE)","v":1810},0]
[null,null,null,null,null,22,{"$f":"VLOOKUP(F317,工作表9!$C$1:$E$8, 3,  FALSE)","v":"純物質"},null,{"$f":"VLOOKUP(F317,工作表9!$C$1:$D$8, 2, FALSE)","v":1810},0]
[null,null,null,null,null,22,{"$f":"VLOOKUP(F318,工作表9!$C$1:$E$8, 3,  FALSE)","v":"純物質"},null,{"$f":"VLOOKUP(F318,工作表9!$C$1:$D$8, 2, FALSE)","v":1810},0]
[null,null,null,null,null,22,{"$f":"VLOOKUP(F319,工作表9!$C$1:$E$8, 3,  FALSE)","v":"純物質"},null,{"$f":"VLOOKUP(F319,工作表9!$C$1:$D$8, 2, FALSE)","v":1810},0]
[null,null,null,null,null,22,{"$f":"VLOOKUP(F320,工作表9!$C$1:$E$8, 3,  FALSE)","v":"純物質"},null,{"$f":"VLOOKUP(F320,工作表9!$C$1:$D$8, 2, FALSE)","v":1810},0]
[null,null,null,null,null,22,{"$f":"VLOOKUP(F321,工作表9!$C$1:$E$8, 3,  FALSE)","v":"純物質"},null,{"$f":"VLOOKUP(F321,工作表9!$C$1:$D$8, 2, FALSE)","v":1810},0]
[null,null,null,null,null,22,{"$f":"VLOOKUP(F322,工作表9!$C$1:$E$8, 3,  FALSE)","v":"純物質"},null,{"$f":"VLOOKUP(F322,工作表9!$C$1:$D$8, 2, FALSE)","v":1810},0]
[null,null,null,null,null,22,{"$f":"VLOOKUP(F323,工作表9!$C$1:$E$8, 3,  FALSE)","v":"純物質"},null,{"$f":"VLOOKUP(F323,工作表9!$C$1:$D$8, 2, FALSE)","v":1810},0]
[null,null,null,null,null,22,{"$f":"VLOOKUP(F324,工作表9!$C$1:$E$8, 3,  FALSE)","v":"純物質"},null,{"$f":"VLOOKUP(F324,工作表9!$C$1:$D$8, 2, FALSE)","v":1810},0]
[null,null,null,null,null,22,{"$f":"VLOOKUP(F325,工作表9!$C$1:$E$8, 3,  FALSE)","v":"純物質"},null,{"$f":"VLOOKUP(F325,工作表9!$C$1:$D$8, 2, FALSE)","v":1810},0]
[null,null,null,null,null,22,{"$f":"VLOOKUP(F326,工作表9!$C$1:$E$8, 3,  FALSE)","v":"純物質"},null,{"$f":"VLOOKUP(F326,工作表9!$C$1:$D$8, 2, FALSE)","v":1810},{"$f":"H326*I326","v":0}]
[null,null,null,null,null,22,{"$f":"VLOOKUP(F327,工作表9!$C$1:$E$8, 3,  FALSE)","v":"純物質"},null,{"$f":"VLOOKUP(F327,工作表9!$C$1:$D$8, 2, FALSE)","v":1810},0]
[null,null,null,null,null,22,{"$f":"VLOOKUP(F328,工作表9!$C$1:$E$8, 3,  FALSE)","v":"純物質"},null,{"$f":"VLOOKUP(F328,工作表9!$C$1:$D$8, 2, FALSE)","v":1810},0]
[null,null,null,null,null,22,{"$f":"VLOOKUP(F329,工作表9!$C$1:$E$8, 3,  FALSE)","v":"純物質"},null,{"$f":"VLOOKUP(F329,工作表9!$C$1:$D$8, 2, FALSE)","v":1810},0]
[null,null,null,null,null,22,{"$f":"VLOOKUP(F330,工作表9!$C$1:$E$8, 3,  FALSE)","v":"純物質"},null,{"$f":"VLOOKUP(F330,工作表9!$C$1:$D$8, 2, FALSE)","v":1810},0]
[null,null,null,null,null,22,{"$f":"VLOOKUP(F331,工作表9!$C$1:$E$8, 3,  FALSE)","v":"純物質"},null,{"$f":"VLOOKUP(F331,工作表9!$C$1:$D$8, 2, FALSE)","v":1810},0]
[null,null,null,null,null,22,{"$f":"VLOOKUP(F332,工作表9!$C$1:$E$8, 3,  FALSE)","v":"純物質"},null,{"$f":"VLOOKUP(F332,工作表9!$C$1:$D$8, 2, FALSE)","v":1810},0]
[null,null,null,null,null,22,{"$f":"VLOOKUP(F333,工作表9!$C$1:$E$8, 3,  FALSE)","v":"純物質"},null,{"$f":"VLOOKUP(F333,工作表9!$C$1:$D$8, 2, FALSE)","v":1810},0]
[null,null,null,null,null,22,{"$f":"VLOOKUP(F334,工作表9!$C$1:$E$8, 3,  FALSE)","v":"純物質"},null,{"$f":"VLOOKUP(F334,工作表9!$C$1:$D$8, 2, FALSE)","v":1810},0]
[null,null,null,null,null,22,{"$f":"VLOOKUP(F335,工作表9!$C$1:$E$8, 3,  FALSE)","v":"純物質"},null,{"$f":"VLOOKUP(F335,工作表9!$C$1:$D$8, 2, FALSE)","v":1810},0]
[null,null,null,null,null,22,{"$f":"VLOOKUP(F336,工作表9!$C$1:$E$8, 3,  FALSE)","v":"純物質"},null,{"$f":"VLOOKUP(F336,工作表9!$C$1:$D$8, 2, FALSE)","v":1810},0]
[null,null,null,null,null,22,{"$f":"VLOOKUP(F337,工作表9!$C$1:$E$8, 3,  FALSE)","v":"純物質"},null,{"$f":"VLOOKUP(F337,工作表9!$C$1:$D$8, 2, FALSE)","v":1810},0]
[null,null,null,null,null,22,{"$f":"VLOOKUP(F338,工作表9!$C$1:$E$8, 3,  FALSE)","v":"純物質"},null,{"$f":"VLOOKUP(F338,工作表9!$C$1:$D$8, 2, FALSE)","v":1810},0]
[null,null,null,null,null,22,{"$f":"VLOOKUP(F339,工作表9!$C$1:$E$8, 3,  FALSE)","v":"純物質"},null,{"$f":"VLOOKUP(F339,工作表9!$C$1:$D$8, 2, FALSE)","v":1810},0]
[null,null,null,null,null,22,{"$f":"VLOOKUP(F340,工作表9!$C$1:$E$8, 3,  FALSE)","v":"純物質"},null,{"$f":"VLOOKUP(F340,工作表9!$C$1:$D$8, 2, FALSE)","v":1810},0]
[null,null,null,null,null,22,{"$f":"VLOOKUP(F341,工作表9!$C$1:$E$8, 3,  FALSE)","v":"純物質"},null,{"$f":"VLOOKUP(F341,工作表9!$C$1:$D$8, 2, FALSE)","v":1810},0]
[null,null,null,null,null,22,{"$f":"VLOOKUP(F342,工作表9!$C$1:$E$8, 3,  FALSE)","v":"純物質"},null,{"$f":"VLOOKUP(F342,工作表9!$C$1:$D$8, 2, FALSE)","v":1810},0]
[null,null,null,null,null,22,{"$f":"VLOOKUP(F343,工作表9!$C$1:$E$8, 3,  FALSE)","v":"純物質"},null,{"$f":"VLOOKUP(F343,工作表9!$C$1:$D$8, 2, FALSE)","v":1810},0]
[null,null,null,null,null,22,{"$f":"VLOOKUP(F344,工作表9!$C$1:$E$8, 3,  FALSE)","v":"純物質"},null,{"$f":"VLOOKUP(F344,工作表9!$C$1:$D$8, 2, FALSE)","v":1810},0]
[null,null,null,null,null,22,{"$f":"VLOOKUP(F345,工作表9!$C$1:$E$8, 3,  FALSE)","v":"純物質"},null,{"$f":"VLOOKUP(F345,工作表9!$C$1:$D$8, 2, FALSE)","v":1810},0]
[null,null,null,null,null,22,{"$f":"VLOOKUP(F346,工作表9!$C$1:$E$8, 3,  FALSE)","v":"純物質"},null,{"$f":"VLOOKUP(F346,工作表9!$C$1:$D$8, 2, FALSE)","v":1810},0]
[null,null,null,null,null,22,{"$f":"VLOOKUP(F347,工作表9!$C$1:$E$8, 3,  FALSE)","v":"純物質"},null,{"$f":"VLOOKUP(F347,工作表9!$C$1:$D$8, 2, FALSE)","v":1810},0]
[null,null,null,null,null,22,{"$f":"VLOOKUP(F348,工作表9!$C$1:$E$8, 3,  FALSE)","v":"純物質"},null,{"$f":"VLOOKUP(F348,工作表9!$C$1:$D$8, 2, FALSE)","v":1810},0]
[null,null,null,null,null,22,{"$f":"VLOOKUP(F349,工作表9!$C$1:$E$8, 3,  FALSE)","v":"純物質"},null,{"$f":"VLOOKUP(F349,工作表9!$C$1:$D$8, 2, FALSE)","v":1810},0]
[null,null,null,null,null,22,{"$f":"VLOOKUP(F350,工作表9!$C$1:$E$8, 3,  FALSE)","v":"純物質"},null,{"$f":"VLOOKUP(F350,工作表9!$C$1:$D$8, 2, FALSE)","v":1810},0]
[null,null,null,null,null,22,{"$f":"VLOOKUP(F351,工作表9!$C$1:$E$8, 3,  FALSE)","v":"純物質"},null,{"$f":"VLOOKUP(F351,工作表9!$C$1:$D$8, 2, FALSE)","v":1810},0]
[null,null,null,null,null,22,{"$f":"VLOOKUP(F352,工作表9!$C$1:$E$8, 3,  FALSE)","v":"純物質"},null,{"$f":"VLOOKUP(F352,工作表9!$C$1:$D$8, 2, FALSE)","v":1810},0]
[null,null,null,null,null,22,{"$f":"VLOOKUP(F353,工作表9!$C$1:$E$8, 3,  FALSE)","v":"純物質"},null,{"$f":"VLOOKUP(F353,工作表9!$C$1:$D$8, 2, FALSE)","v":1810},0]
[null,null,null,null,null,22,{"$f":"VLOOKUP(F354,工作表9!$C$1:$E$8, 3,  FALSE)","v":"純物質"},null,{"$f":"VLOOKUP(F354,工作表9!$C$1:$D$8, 2, FALSE)","v":1810},0]
[null,null,null,null,null,22,{"$f":"VLOOKUP(F355,工作表9!$C$1:$E$8, 3,  FALSE)","v":"純物質"},null,{"$f":"VLOOKUP(F355,工作表9!$C$1:$D$8, 2, FALSE)","v":1810},0]
[null,null,null,null,null,22,{"$f":"VLOOKUP(F356,工作表9!$C$1:$E$8, 3,  FALSE)","v":"純物質"},null,{"$f":"VLOOKUP(F356,工作表9!$C$1:$D$8, 2, FALSE)","v":1810},0]
[null,null,null,null,null,22,{"$f":"VLOOKUP(F357,工作表9!$C$1:$E$8, 3,  FALSE)","v":"純物質"},null,{"$f":"VLOOKUP(F357,工作表9!$C$1:$D$8, 2, FALSE)","v":1810},0]
[null,null,null,null,null,22,{"$f":"VLOOKUP(F358,工作表9!$C$1:$E$8, 3,  FALSE)","v":"純物質"},null,{"$f":"VLOOKUP(F358,工作表9!$C$1:$D$8, 2, FALSE)","v":1810},0]
[null,null,null,null,null,22,{"$f":"VLOOKUP(F359,工作表9!$C$1:$E$8, 3,  FALSE)","v":"純物質"},null,{"$f":"VLOOKUP(F359,工作表9!$C$1:$D$8, 2, FALSE)","v":1810},0]
[null,null,null,null,null,22,{"$f":"VLOOKUP(F360,工作表9!$C$1:$E$8, 3,  FALSE)","v":"純物質"},null,{"$f":"VLOOKUP(F360,工作表9!$C$1:$D$8, 2, FALSE)","v":1810},0]
[null,null,null,null,null,22,{"$f":"VLOOKUP(F361,工作表9!$C$1:$E$8, 3,  FALSE)","v":"純物質"},null,{"$f":"VLOOKUP(F361,工作表9!$C$1:$D$8, 2, FALSE)","v":1810},0]
[null,null,null,null,null,22,{"$f":"VLOOKUP(F362,工作表9!$C$1:$E$8, 3,  FALSE)","v":"純物質"},null,{"$f":"VLOOKUP(F362,工作表9!$C$1:$D$8, 2, FALSE)","v":1810},0]
[null,null,null,null,null,22,{"$f":"VLOOKUP(F363,工作表9!$C$1:$E$8, 3,  FALSE)","v":"純物質"},null,{"$f":"VLOOKUP(F363,工作表9!$C$1:$D$8, 2, FALSE)","v":1810},0]
[null,null,null,null,null,22,{"$f":"VLOOKUP(F364,工作表9!$C$1:$E$8, 3,  FALSE)","v":"純物質"},null,{"$f":"VLOOKUP(F364,工作表9!$C$1:$D$8, 2, FALSE)","v":1810},0]
[null,null,null,null,null,22,{"$f":"VLOOKUP(F365,工作表9!$C$1:$E$8, 3,  FALSE)","v":"純物質"},null,{"$f":"VLOOKUP(F365,工作表9!$C$1:$D$8, 2, FALSE)","v":1810},0]
[null,null,null,null,null,22,{"$f":"VLOOKUP(F366,工作表9!$C$1:$E$8, 3,  FALSE)","v":"純物質"},null,{"$f":"VLOOKUP(F366,工作表9!$C$1:$D$8, 2, FALSE)","v":1810},0]
[null,null,null,null,null,22,{"$f":"VLOOKUP(F367,工作表9!$C$1:$E$8, 3,  FALSE)","v":"純物質"},null,{"$f":"VLOOKUP(F367,工作表9!$C$1:$D$8, 2, FALSE)","v":1810},0]
[null,null,null,null,null,22,{"$f":"VLOOKUP(F368,工作表9!$C$1:$E$8, 3,  FALSE)","v":"純物質"},null,{"$f":"VLOOKUP(F368,工作表9!$C$1:$D$8, 2, FALSE)","v":1810},0]
[null,null,null,null,null,22,{"$f":"VLOOKUP(F369,工作表9!$C$1:$E$8, 3,  FALSE)","v":"純物質"},null,{"$f":"VLOOKUP(F369,工作表9!$C$1:$D$8, 2, FALSE)","v":1810},0]
[null,null,null,null,null,22,{"$f":"VLOOKUP(F370,工作表9!$C$1:$E$8, 3,  FALSE)","v":"純物質"},null,{"$f":"VLOOKUP(F370,工作表9!$C$1:$D$8, 2, FALSE)","v":1810},0]
[null,null,null,null,null,22,{"$f":"VLOOKUP(F371,工作表9!$C$1:$E$8, 3,  FALSE)","v":"純物質"},null,{"$f":"VLOOKUP(F371,工作表9!$C$1:$D$8, 2, FALSE)","v":1810},0]
[null,null,null,null,null,22,{"$f":"VLOOKUP(F372,工作表9!$C$1:$E$8, 3,  FALSE)","v":"純物質"},null,{"$f":"VLOOKUP(F372,工作表9!$C$1:$D$8, 2, FALSE)","v":1810},0]
[null,null,null,null,null,22,{"$f":"VLOOKUP(F373,工作表9!$C$1:$E$8, 3,  FALSE)","v":"純物質"},null,{"$f":"VLOOKUP(F373,工作表9!$C$1:$D$8, 2, FALSE)","v":1810},0]
[null,null,null,null,null,22,{"$f":"VLOOKUP(F374,工作表9!$C$1:$E$8, 3,  FALSE)","v":"純物質"},null,{"$f":"VLOOKUP(F374,工作表9!$C$1:$D$8, 2, FALSE)","v":1810},0]
[null,null,null,null,null,22,{"$f":"VLOOKUP(F375,工作表9!$C$1:$E$8, 3,  FALSE)","v":"純物質"},null,{"$f":"VLOOKUP(F375,工作表9!$C$1:$D$8, 2, FALSE)","v":1810},0]
[null,null,null,null,null,22,{"$f":"VLOOKUP(F376,工作表9!$C$1:$E$8, 3,  FALSE)","v":"純物質"},null,{"$f":"VLOOKUP(F376,工作表9!$C$1:$D$8, 2, FALSE)","v":1810},0]
[null,null,null,null,null,22,{"$f":"VLOOKUP(F377,工作表9!$C$1:$E$8, 3,  FALSE)","v":"純物質"},null,{"$f":"VLOOKUP(F377,工作表9!$C$1:$D$8, 2, FALSE)","v":1810},0]
[null,null,null,null,null,22,{"$f":"VLOOKUP(F378,工作表9!$C$1:$E$8, 3,  FALSE)","v":"純物質"},null,{"$f":"VLOOKUP(F378,工作表9!$C$1:$D$8, 2, FALSE)","v":1810},0]
[null,null,null,null,null,22,{"$f":"VLOOKUP(F379,工作表9!$C$1:$E$8, 3,  FALSE)","v":"純物質"},null,{"$f":"VLOOKUP(F379,工作表9!$C$1:$D$8, 2, FALSE)","v":1810},0]
[null,null,null,null,null,22,{"$f":"VLOOKUP(F380,工作表9!$C$1:$E$8, 3,  FALSE)","v":"純物質"},null,{"$f":"VLOOKUP(F380,工作表9!$C$1:$D$8, 2, FALSE)","v":1810},0]
[null,null,null,null,null,22,{"$f":"VLOOKUP(F381,工作表9!$C$1:$E$8, 3,  FALSE)","v":"純物質"},null,{"$f":"VLOOKUP(F381,工作表9!$C$1:$D$8, 2, FALSE)","v":1810},0]
[null,null,null,null,null,22,{"$f":"VLOOKUP(F382,工作表9!$C$1:$E$8, 3,  FALSE)","v":"純物質"},null,{"$f":"VLOOKUP(F382,工作表9!$C$1:$D$8, 2, FALSE)","v":1810},0]
[null,null,null,null,null,22,{"$f":"VLOOKUP(F383,工作表9!$C$1:$E$8, 3,  FALSE)","v":"純物質"},null,{"$f":"VLOOKUP(F383,工作表9!$C$1:$D$8, 2, FALSE)","v":1810},0]
[null,null,null,null,null,22,{"$f":"VLOOKUP(F384,工作表9!$C$1:$E$8, 3,  FALSE)","v":"純物質"},null,{"$f":"VLOOKUP(F384,工作表9!$C$1:$D$8, 2, FALSE)","v":1810},0]
[null,null,null,null,null,22,{"$f":"VLOOKUP(F385,工作表9!$C$1:$E$8, 3,  FALSE)","v":"純物質"},null,{"$f":"VLOOKUP(F385,工作表9!$C$1:$D$8, 2, FALSE)","v":1810},0]
[null,null,null,null,null,22,{"$f":"VLOOKUP(F386,工作表9!$C$1:$E$8, 3,  FALSE)","v":"純物質"},null,{"$f":"VLOOKUP(F386,工作表9!$C$1:$D$8, 2, FALSE)","v":1810},0]
[null,null,null,null,null,22,{"$f":"VLOOKUP(F387,工作表9!$C$1:$E$8, 3,  FALSE)","v":"純物質"},null,{"$f":"VLOOKUP(F387,工作表9!$C$1:$D$8, 2, FALSE)","v":1810},0]
[null,null,null,null,null,22,{"$f":"VLOOKUP(F388,工作表9!$C$1:$E$8, 3,  FALSE)","v":"純物質"},null,{"$f":"VLOOKUP(F388,工作表9!$C$1:$D$8, 2, FALSE)","v":1810},0]
[null,null,null,null,null,22,{"$f":"VLOOKUP(F389,工作表9!$C$1:$E$8, 3,  FALSE)","v":"純物質"},null,{"$f":"VLOOKUP(F389,工作表9!$C$1:$D$8, 2, FALSE)","v":1810},0]
[null,null,null,null,null,22,{"$f":"VLOOKUP(F390,工作表9!$C$1:$E$8, 3,  FALSE)","v":"純物質"},null,{"$f":"VLOOKUP(F390,工作表9!$C$1:$D$8, 2, FALSE)","v":1810},{"$f":"H390*I390","v":0}]
[null,null,null,null,null,22,{"$f":"VLOOKUP(F391,工作表9!$C$1:$E$8, 3,  FALSE)","v":"純物質"},null,{"$f":"VLOOKUP(F391,工作表9!$C$1:$D$8, 2, FALSE)","v":1810},0]
[null,null,null,null,null,22,{"$f":"VLOOKUP(F392,工作表9!$C$1:$E$8, 3,  FALSE)","v":"純物質"},null,{"$f":"VLOOKUP(F392,工作表9!$C$1:$D$8, 2, FALSE)","v":1810},0]
[null,null,null,null,null,22,{"$f":"VLOOKUP(F393,工作表9!$C$1:$E$8, 3,  FALSE)","v":"純物質"},null,{"$f":"VLOOKUP(F393,工作表9!$C$1:$D$8, 2, FALSE)","v":1810},0]
[null,null,null,null,null,22,{"$f":"VLOOKUP(F394,工作表9!$C$1:$E$8, 3,  FALSE)","v":"純物質"},null,{"$f":"VLOOKUP(F394,工作表9!$C$1:$D$8, 2, FALSE)","v":1810},0]
[null,null,null,null,null,22,{"$f":"VLOOKUP(F395,工作表9!$C$1:$E$8, 3,  FALSE)","v":"純物質"},null,{"$f":"VLOOKUP(F395,工作表9!$C$1:$D$8, 2, FALSE)","v":1810},0]
[null,null,null,null,null,22,{"$f":"VLOOKUP(F396,工作表9!$C$1:$E$8, 3,  FALSE)","v":"純物質"},null,{"$f":"VLOOKUP(F396,工作表9!$C$1:$D$8, 2, FALSE)","v":1810},0]
[null,null,null,null,null,22,{"$f":"VLOOKUP(F397,工作表9!$C$1:$E$8, 3,  FALSE)","v":"純物質"},null,{"$f":"VLOOKUP(F397,工作表9!$C$1:$D$8, 2, FALSE)","v":1810},0]
[null,null,null,null,null,22,{"$f":"VLOOKUP(F398,工作表9!$C$1:$E$8, 3,  FALSE)","v":"純物質"},null,{"$f":"VLOOKUP(F398,工作表9!$C$1:$D$8, 2, FALSE)","v":1810},0]
[null,null,null,null,null,22,{"$f":"VLOOKUP(F399,工作表9!$C$1:$E$8, 3,  FALSE)","v":"純物質"},null,{"$f":"VLOOKUP(F399,工作表9!$C$1:$D$8, 2, FALSE)","v":1810},0]
[null,null,null,null,null,22,{"$f":"VLOOKUP(F400,工作表9!$C$1:$E$8, 3,  FALSE)","v":"純物質"},null,{"$f":"VLOOKUP(F400,工作表9!$C$1:$D$8, 2, FALSE)","v":1810},0]
[null,null,null,null,null,22,{"$f":"VLOOKUP(F401,工作表9!$C$1:$E$8, 3,  FALSE)","v":"純物質"},null,{"$f":"VLOOKUP(F401,工作表9!$C$1:$D$8, 2, FALSE)","v":1810},0]
[null,null,null,null,null,22,{"$f":"VLOOKUP(F402,工作表9!$C$1:$E$8, 3,  FALSE)","v":"純物質"},null,{"$f":"VLOOKUP(F402,工作表9!$C$1:$D$8, 2, FALSE)","v":1810},0]
[null,null,null,null,null,22,{"$f":"VLOOKUP(F403,工作表9!$C$1:$E$8, 3,  FALSE)","v":"純物質"},null,{"$f":"VLOOKUP(F403,工作表9!$C$1:$D$8, 2, FALSE)","v":1810},0]
[null,null,null,null,null,22,{"$f":"VLOOKUP(F404,工作表9!$C$1:$E$8, 3,  FALSE)","v":"純物質"},null,{"$f":"VLOOKUP(F404,工作表9!$C$1:$D$8, 2, FALSE)","v":1810},0]
[null,null,null,null,null,22,{"$f":"VLOOKUP(F405,工作表9!$C$1:$E$8, 3,  FALSE)","v":"純物質"},null,{"$f":"VLOOKUP(F405,工作表9!$C$1:$D$8, 2, FALSE)","v":1810},0]
[null,null,null,null,null,22,{"$f":"VLOOKUP(F406,工作表9!$C$1:$E$8, 3,  FALSE)","v":"純物質"},null,{"$f":"VLOOKUP(F406,工作表9!$C$1:$D$8, 2, FALSE)","v":1810},0]
[null,null,null,null,null,22,{"$f":"VLOOKUP(F407,工作表9!$C$1:$E$8, 3,  FALSE)","v":"純物質"},null,{"$f":"VLOOKUP(F407,工作表9!$C$1:$D$8, 2, FALSE)","v":1810},0]
[null,null,null,null,null,22,{"$f":"VLOOKUP(F408,工作表9!$C$1:$E$8, 3,  FALSE)","v":"純物質"},null,{"$f":"VLOOKUP(F408,工作表9!$C$1:$D$8, 2, FALSE)","v":1810},0]
[null,null,null,null,null,22,{"$f":"VLOOKUP(F409,工作表9!$C$1:$E$8, 3,  FALSE)","v":"純物質"},null,{"$f":"VLOOKUP(F409,工作表9!$C$1:$D$8, 2, FALSE)","v":1810},0]
[null,null,null,null,null,22,{"$f":"VLOOKUP(F410,工作表9!$C$1:$E$8, 3,  FALSE)","v":"純物質"},null,{"$f":"VLOOKUP(F410,工作表9!$C$1:$D$8, 2, FALSE)","v":1810},0]
[null,null,null,null,null,22,{"$f":"VLOOKUP(F411,工作表9!$C$1:$E$8, 3,  FALSE)","v":"純物質"},null,{"$f":"VLOOKUP(F411,工作表9!$C$1:$D$8, 2, FALSE)","v":1810},0]
[null,null,null,null,null,22,{"$f":"VLOOKUP(F412,工作表9!$C$1:$E$8, 3,  FALSE)","v":"純物質"},null,{"$f":"VLOOKUP(F412,工作表9!$C$1:$D$8, 2, FALSE)","v":1810},0]
[null,null,null,null,null,22,{"$f":"VLOOKUP(F413,工作表9!$C$1:$E$8, 3,  FALSE)","v":"純物質"},null,{"$f":"VLOOKUP(F413,工作表9!$C$1:$D$8, 2, FALSE)","v":1810},0]
[null,null,null,null,null,22,{"$f":"VLOOKUP(F414,工作表9!$C$1:$E$8, 3,  FALSE)","v":"純物質"},null,{"$f":"VLOOKUP(F414,工作表9!$C$1:$D$8, 2, FALSE)","v":1810},0]
[null,null,null,null,null,22,{"$f":"VLOOKUP(F415,工作表9!$C$1:$E$8, 3,  FALSE)","v":"純物質"},null,{"$f":"VLOOKUP(F415,工作表9!$C$1:$D$8, 2, FALSE)","v":1810},0]
[null,null,null,null,null,22,{"$f":"VLOOKUP(F416,工作表9!$C$1:$E$8, 3,  FALSE)","v":"純物質"},null,{"$f":"VLOOKUP(F416,工作表9!$C$1:$D$8, 2, FALSE)","v":1810},0]
[null,null,null,null,null,22,{"$f":"VLOOKUP(F417,工作表9!$C$1:$E$8, 3,  FALSE)","v":"純物質"},null,{"$f":"VLOOKUP(F417,工作表9!$C$1:$D$8, 2, FALSE)","v":1810},0]
[null,null,null,null,null,22,{"$f":"VLOOKUP(F418,工作表9!$C$1:$E$8, 3,  FALSE)","v":"純物質"},null,{"$f":"VLOOKUP(F418,工作表9!$C$1:$D$8, 2, FALSE)","v":1810},0]
[null,null,null,null,null,22,{"$f":"VLOOKUP(F419,工作表9!$C$1:$E$8, 3,  FALSE)","v":"純物質"},null,{"$f":"VLOOKUP(F419,工作表9!$C$1:$D$8, 2, FALSE)","v":1810},0]
[null,null,null,null,null,22,{"$f":"VLOOKUP(F420,工作表9!$C$1:$E$8, 3,  FALSE)","v":"純物質"},null,{"$f":"VLOOKUP(F420,工作表9!$C$1:$D$8, 2, FALSE)","v":1810},0]
[null,null,null,null,null,22,{"$f":"VLOOKUP(F421,工作表9!$C$1:$E$8, 3,  FALSE)","v":"純物質"},null,{"$f":"VLOOKUP(F421,工作表9!$C$1:$D$8, 2, FALSE)","v":1810},0]
[null,null,null,null,null,22,{"$f":"VLOOKUP(F422,工作表9!$C$1:$E$8, 3,  FALSE)","v":"純物質"},null,{"$f":"VLOOKUP(F422,工作表9!$C$1:$D$8, 2, FALSE)","v":1810},0]
[null,null,null,null,null,22,{"$f":"VLOOKUP(F423,工作表9!$C$1:$E$8, 3,  FALSE)","v":"純物質"},null,{"$f":"VLOOKUP(F423,工作表9!$C$1:$D$8, 2, FALSE)","v":1810},0]
[null,null,null,null,null,22,{"$f":"VLOOKUP(F424,工作表9!$C$1:$E$8, 3,  FALSE)","v":"純物質"},null,{"$f":"VLOOKUP(F424,工作表9!$C$1:$D$8, 2, FALSE)","v":1810},0]
[null,null,null,null,null,22,{"$f":"VLOOKUP(F425,工作表9!$C$1:$E$8, 3,  FALSE)","v":"純物質"},null,{"$f":"VLOOKUP(F425,工作表9!$C$1:$D$8, 2, FALSE)","v":1810},0]
[null,null,null,null,null,22,{"$f":"VLOOKUP(F426,工作表9!$C$1:$E$8, 3,  FALSE)","v":"純物質"},null,{"$f":"VLOOKUP(F426,工作表9!$C$1:$D$8, 2, FALSE)","v":1810},0]
[null,null,null,null,null,22,{"$f":"VLOOKUP(F427,工作表9!$C$1:$E$8, 3,  FALSE)","v":"純物質"},null,{"$f":"VLOOKUP(F427,工作表9!$C$1:$D$8, 2, FALSE)","v":1810},0]
[null,null,null,null,null,22,{"$f":"VLOOKUP(F428,工作表9!$C$1:$E$8, 3,  FALSE)","v":"純物質"},null,{"$f":"VLOOKUP(F428,工作表9!$C$1:$D$8, 2, FALSE)","v":1810},0]
[null,null,null,null,null,22,{"$f":"VLOOKUP(F429,工作表9!$C$1:$E$8, 3,  FALSE)","v":"純物質"},null,{"$f":"VLOOKUP(F429,工作表9!$C$1:$D$8, 2, FALSE)","v":1810},0]
[null,null,null,null,null,22,{"$f":"VLOOKUP(F430,工作表9!$C$1:$E$8, 3,  FALSE)","v":"純物質"},null,{"$f":"VLOOKUP(F430,工作表9!$C$1:$D$8, 2, FALSE)","v":1810},0]
[null,null,null,null,null,22,{"$f":"VLOOKUP(F431,工作表9!$C$1:$E$8, 3,  FALSE)","v":"純物質"},null,{"$f":"VLOOKUP(F431,工作表9!$C$1:$D$8, 2, FALSE)","v":1810},0]
[null,null,null,null,null,22,{"$f":"VLOOKUP(F432,工作表9!$C$1:$E$8, 3,  FALSE)","v":"純物質"},null,{"$f":"VLOOKUP(F432,工作表9!$C$1:$D$8, 2, FALSE)","v":1810},0]
[null,null,null,null,null,22,{"$f":"VLOOKUP(F433,工作表9!$C$1:$E$8, 3,  FALSE)","v":"純物質"},null,{"$f":"VLOOKUP(F433,工作表9!$C$1:$D$8, 2, FALSE)","v":1810},0]
[null,null,null,null,null,22,{"$f":"VLOOKUP(F434,工作表9!$C$1:$E$8, 3,  FALSE)","v":"純物質"},null,{"$f":"VLOOKUP(F434,工作表9!$C$1:$D$8, 2, FALSE)","v":1810},0]
[null,null,null,null,null,22,{"$f":"VLOOKUP(F435,工作表9!$C$1:$E$8, 3,  FALSE)","v":"純物質"},null,{"$f":"VLOOKUP(F435,工作表9!$C$1:$D$8, 2, FALSE)","v":1810},0]
[null,null,null,null,null,22,{"$f":"VLOOKUP(F436,工作表9!$C$1:$E$8, 3,  FALSE)","v":"純物質"},null,{"$f":"VLOOKUP(F436,工作表9!$C$1:$D$8, 2, FALSE)","v":1810},0]
[null,null,null,null,null,22,{"$f":"VLOOKUP(F437,工作表9!$C$1:$E$8, 3,  FALSE)","v":"純物質"},null,{"$f":"VLOOKUP(F437,工作表9!$C$1:$D$8, 2, FALSE)","v":1810},0]
[null,null,null,null,null,22,{"$f":"VLOOKUP(F438,工作表9!$C$1:$E$8, 3,  FALSE)","v":"純物質"},null,{"$f":"VLOOKUP(F438,工作表9!$C$1:$D$8, 2, FALSE)","v":1810},0]
[null,null,null,null,null,22,{"$f":"VLOOKUP(F439,工作表9!$C$1:$E$8, 3,  FALSE)","v":"純物質"},null,{"$f":"VLOOKUP(F439,工作表9!$C$1:$D$8, 2, FALSE)","v":1810},0]
[null,null,null,null,null,22,{"$f":"VLOOKUP(F440,工作表9!$C$1:$E$8, 3,  FALSE)","v":"純物質"},null,{"$f":"VLOOKUP(F440,工作表9!$C$1:$D$8, 2, FALSE)","v":1810},0]
[null,null,null,null,null,22,{"$f":"VLOOKUP(F441,工作表9!$C$1:$E$8, 3,  FALSE)","v":"純物質"},null,{"$f":"VLOOKUP(F441,工作表9!$C$1:$D$8, 2, FALSE)","v":1810},0]
[null,null,null,null,null,22,{"$f":"VLOOKUP(F442,工作表9!$C$1:$E$8, 3,  FALSE)","v":"純物質"},null,{"$f":"VLOOKUP(F442,工作表9!$C$1:$D$8, 2, FALSE)","v":1810},0]
[null,null,null,null,null,22,{"$f":"VLOOKUP(F443,工作表9!$C$1:$E$8, 3,  FALSE)","v":"純物質"},null,{"$f":"VLOOKUP(F443,工作表9!$C$1:$D$8, 2, FALSE)","v":1810},0]
[null,null,null,null,null,22,{"$f":"VLOOKUP(F444,工作表9!$C$1:$E$8, 3,  FALSE)","v":"純物質"},null,{"$f":"VLOOKUP(F444,工作表9!$C$1:$D$8, 2, FALSE)","v":1810},0]
[null,null,null,null,null,22,{"$f":"VLOOKUP(F445,工作表9!$C$1:$E$8, 3,  FALSE)","v":"純物質"},null,{"$f":"VLOOKUP(F445,工作表9!$C$1:$D$8, 2, FALSE)","v":1810},0]
[null,null,null,null,null,22,{"$f":"VLOOKUP(F446,工作表9!$C$1:$E$8, 3,  FALSE)","v":"純物質"},null,{"$f":"VLOOKUP(F446,工作表9!$C$1:$D$8, 2, FALSE)","v":1810},0]
[null,null,null,null,null,22,{"$f":"VLOOKUP(F447,工作表9!$C$1:$E$8, 3,  FALSE)","v":"純物質"},null,{"$f":"VLOOKUP(F447,工作表9!$C$1:$D$8, 2, FALSE)","v":1810},0]
[null,null,null,null,null,22,{"$f":"VLOOKUP(F448,工作表9!$C$1:$E$8, 3,  FALSE)","v":"純物質"},null,{"$f":"VLOOKUP(F448,工作表9!$C$1:$D$8, 2, FALSE)","v":1810},0]
[null,null,null,null,null,22,{"$f":"VLOOKUP(F449,工作表9!$C$1:$E$8, 3,  FALSE)","v":"純物質"},null,{"$f":"VLOOKUP(F449,工作表9!$C$1:$D$8, 2, FALSE)","v":1810},0]
[null,null,null,null,null,22,{"$f":"VLOOKUP(F450,工作表9!$C$1:$E$8, 3,  FALSE)","v":"純物質"},null,{"$f":"VLOOKUP(F450,工作表9!$C$1:$D$8, 2, FALSE)","v":1810},0]
[null,null,null,null,null,22,{"$f":"VLOOKUP(F451,工作表9!$C$1:$E$8, 3,  FALSE)","v":"純物質"},null,{"$f":"VLOOKUP(F451,工作表9!$C$1:$D$8, 2, FALSE)","v":1810},0]
[null,null,null,null,null,22,{"$f":"VLOOKUP(F452,工作表9!$C$1:$E$8, 3,  FALSE)","v":"純物質"},null,{"$f":"VLOOKUP(F452,工作表9!$C$1:$D$8, 2, FALSE)","v":1810},0]
[null,null,null,null,null,22,{"$f":"VLOOKUP(F453,工作表9!$C$1:$E$8, 3,  FALSE)","v":"純物質"},null,{"$f":"VLOOKUP(F453,工作表9!$C$1:$D$8, 2, FALSE)","v":1810},0]
[null,null,null,null,null,22,{"$f":"VLOOKUP(F454,工作表9!$C$1:$E$8, 3,  FALSE)","v":"純物質"},null,{"$f":"VLOOKUP(F454,工作表9!$C$1:$D$8, 2, FALSE)","v":1810},{"$f":"H454*I454","v":0}]
[null,null,null,null,null,22,{"$f":"VLOOKUP(F455,工作表9!$C$1:$E$8, 3,  FALSE)","v":"純物質"},null,{"$f":"VLOOKUP(F455,工作表9!$C$1:$D$8, 2, FALSE)","v":1810},0]
[null,null,null,null,null,22,{"$f":"VLOOKUP(F456,工作表9!$C$1:$E$8, 3,  FALSE)","v":"純物質"},null,{"$f":"VLOOKUP(F456,工作表9!$C$1:$D$8, 2, FALSE)","v":1810},0]
[null,null,null,null,null,22,{"$f":"VLOOKUP(F457,工作表9!$C$1:$E$8, 3,  FALSE)","v":"純物質"},null,{"$f":"VLOOKUP(F457,工作表9!$C$1:$D$8, 2, FALSE)","v":1810},0]
[null,null,null,null,null,22,{"$f":"VLOOKUP(F458,工作表9!$C$1:$E$8, 3,  FALSE)","v":"純物質"},null,{"$f":"VLOOKUP(F458,工作表9!$C$1:$D$8, 2, FALSE)","v":1810},0]
[null,null,null,null,null,22,{"$f":"VLOOKUP(F459,工作表9!$C$1:$E$8, 3,  FALSE)","v":"純物質"},null,{"$f":"VLOOKUP(F459,工作表9!$C$1:$D$8, 2, FALSE)","v":1810},0]
[null,null,null,null,null,22,{"$f":"VLOOKUP(F460,工作表9!$C$1:$E$8, 3,  FALSE)","v":"純物質"},null,{"$f":"VLOOKUP(F460,工作表9!$C$1:$D$8, 2, FALSE)","v":1810},0]
[null,null,null,null,null,22,{"$f":"VLOOKUP(F461,工作表9!$C$1:$E$8, 3,  FALSE)","v":"純物質"},null,{"$f":"VLOOKUP(F461,工作表9!$C$1:$D$8, 2, FALSE)","v":1810},0]
[null,null,null,null,null,22,{"$f":"VLOOKUP(F462,工作表9!$C$1:$E$8, 3,  FALSE)","v":"純物質"},null,{"$f":"VLOOKUP(F462,工作表9!$C$1:$D$8, 2, FALSE)","v":1810},0]
[null,null,null,null,null,22,{"$f":"VLOOKUP(F463,工作表9!$C$1:$E$8, 3,  FALSE)","v":"純物質"},null,{"$f":"VLOOKUP(F463,工作表9!$C$1:$D$8, 2, FALSE)","v":1810},0]
[null,null,null,null,null,22,{"$f":"VLOOKUP(F464,工作表9!$C$1:$E$8, 3,  FALSE)","v":"純物質"},null,{"$f":"VLOOKUP(F464,工作表9!$C$1:$D$8, 2, FALSE)","v":1810},0]
[null,null,null,null,null,22,{"$f":"VLOOKUP(F465,工作表9!$C$1:$E$8, 3,  FALSE)","v":"純物質"},null,{"$f":"VLOOKUP(F465,工作表9!$C$1:$D$8, 2, FALSE)","v":1810},0]
[null,null,null,null,null,22,{"$f":"VLOOKUP(F466,工作表9!$C$1:$E$8, 3,  FALSE)","v":"純物質"},null,{"$f":"VLOOKUP(F466,工作表9!$C$1:$D$8, 2, FALSE)","v":1810},0]
[null,null,null,null,null,22,{"$f":"VLOOKUP(F467,工作表9!$C$1:$E$8, 3,  FALSE)","v":"純物質"},null,{"$f":"VLOOKUP(F467,工作表9!$C$1:$D$8, 2, FALSE)","v":1810},0]
[null,null,null,null,null,22,{"$f":"VLOOKUP(F468,工作表9!$C$1:$E$8, 3,  FALSE)","v":"純物質"},null,{"$f":"VLOOKUP(F468,工作表9!$C$1:$D$8, 2, FALSE)","v":1810},0]
[null,null,null,null,null,22,{"$f":"VLOOKUP(F469,工作表9!$C$1:$E$8, 3,  FALSE)","v":"純物質"},null,{"$f":"VLOOKUP(F469,工作表9!$C$1:$D$8, 2, FALSE)","v":1810},0]
[null,null,null,null,null,22,{"$f":"VLOOKUP(F470,工作表9!$C$1:$E$8, 3,  FALSE)","v":"純物質"},null,{"$f":"VLOOKUP(F470,工作表9!$C$1:$D$8, 2, FALSE)","v":1810},0]
[null,null,null,null,null,22,{"$f":"VLOOKUP(F471,工作表9!$C$1:$E$8, 3,  FALSE)","v":"純物質"},null,{"$f":"VLOOKUP(F471,工作表9!$C$1:$D$8, 2, FALSE)","v":1810},0]
[null,null,null,null,null,22,{"$f":"VLOOKUP(F472,工作表9!$C$1:$E$8, 3,  FALSE)","v":"純物質"},null,{"$f":"VLOOKUP(F472,工作表9!$C$1:$D$8, 2, FALSE)","v":1810},0]
[null,null,null,null,null,22,{"$f":"VLOOKUP(F473,工作表9!$C$1:$E$8, 3,  FALSE)","v":"純物質"},null,{"$f":"VLOOKUP(F473,工作表9!$C$1:$D$8, 2, FALSE)","v":1810},0]
[null,null,null,null,null,22,{"$f":"VLOOKUP(F474,工作表9!$C$1:$E$8, 3,  FALSE)","v":"純物質"},null,{"$f":"VLOOKUP(F474,工作表9!$C$1:$D$8, 2, FALSE)","v":1810},0]
[null,null,null,null,null,22,{"$f":"VLOOKUP(F475,工作表9!$C$1:$E$8, 3,  FALSE)","v":"純物質"},null,{"$f":"VLOOKUP(F475,工作表9!$C$1:$D$8, 2, FALSE)","v":1810},0]
[null,null,null,null,null,22,{"$f":"VLOOKUP(F476,工作表9!$C$1:$E$8, 3,  FALSE)","v":"純物質"},null,{"$f":"VLOOKUP(F476,工作表9!$C$1:$D$8, 2, FALSE)","v":1810},0]
[null,null,null,null,null,22,{"$f":"VLOOKUP(F477,工作表9!$C$1:$E$8, 3,  FALSE)","v":"純物質"},null,{"$f":"VLOOKUP(F477,工作表9!$C$1:$D$8, 2, FALSE)","v":1810},0]
[null,null,null,null,null,22,{"$f":"VLOOKUP(F478,工作表9!$C$1:$E$8, 3,  FALSE)","v":"純物質"},null,{"$f":"VLOOKUP(F478,工作表9!$C$1:$D$8, 2, FALSE)","v":1810},0]
[null,null,null,null,null,22,{"$f":"VLOOKUP(F479,工作表9!$C$1:$E$8, 3,  FALSE)","v":"純物質"},null,{"$f":"VLOOKUP(F479,工作表9!$C$1:$D$8, 2, FALSE)","v":1810},0]
[null,null,null,null,null,22,{"$f":"VLOOKUP(F480,工作表9!$C$1:$E$8, 3,  FALSE)","v":"純物質"},null,{"$f":"VLOOKUP(F480,工作表9!$C$1:$D$8, 2, FALSE)","v":1810},0]
[null,null,null,null,null,22,{"$f":"VLOOKUP(F481,工作表9!$C$1:$E$8, 3,  FALSE)","v":"純物質"},null,{"$f":"VLOOKUP(F481,工作表9!$C$1:$D$8, 2, FALSE)","v":1810},0]
[null,null,null,null,null,22,{"$f":"VLOOKUP(F482,工作表9!$C$1:$E$8, 3,  FALSE)","v":"純物質"},null,{"$f":"VLOOKUP(F482,工作表9!$C$1:$D$8, 2, FALSE)","v":1810},0]
[null,null,null,null,null,22,{"$f":"VLOOKUP(F483,工作表9!$C$1:$E$8, 3,  FALSE)","v":"純物質"},null,{"$f":"VLOOKUP(F483,工作表9!$C$1:$D$8, 2, FALSE)","v":1810},0]
[null,null,null,null,null,22,{"$f":"VLOOKUP(F484,工作表9!$C$1:$E$8, 3,  FALSE)","v":"純物質"},null,{"$f":"VLOOKUP(F484,工作表9!$C$1:$D$8, 2, FALSE)","v":1810},0]
[null,null,null,null,null,22,{"$f":"VLOOKUP(F485,工作表9!$C$1:$E$8, 3,  FALSE)","v":"純物質"},null,{"$f":"VLOOKUP(F485,工作表9!$C$1:$D$8, 2, FALSE)","v":1810},0]
[null,null,null,null,null,22,{"$f":"VLOOKUP(F486,工作表9!$C$1:$E$8, 3,  FALSE)","v":"純物質"},null,{"$f":"VLOOKUP(F486,工作表9!$C$1:$D$8, 2, FALSE)","v":1810},0]
[null,null,null,null,null,22,{"$f":"VLOOKUP(F487,工作表9!$C$1:$E$8, 3,  FALSE)","v":"純物質"},null,{"$f":"VLOOKUP(F487,工作表9!$C$1:$D$8, 2, FALSE)","v":1810},0]
[null,null,null,null,null,22,{"$f":"VLOOKUP(F488,工作表9!$C$1:$E$8, 3,  FALSE)","v":"純物質"},null,{"$f":"VLOOKUP(F488,工作表9!$C$1:$D$8, 2, FALSE)","v":1810},0]
[null,null,null,null,null,22,{"$f":"VLOOKUP(F489,工作表9!$C$1:$E$8, 3,  FALSE)","v":"純物質"},null,{"$f":"VLOOKUP(F489,工作表9!$C$1:$D$8, 2, FALSE)","v":1810},0]
[null,null,null,null,null,22,{"$f":"VLOOKUP(F490,工作表9!$C$1:$E$8, 3,  FALSE)","v":"純物質"},null,{"$f":"VLOOKUP(F490,工作表9!$C$1:$D$8, 2, FALSE)","v":1810},0]
[null,null,null,null,null,22,{"$f":"VLOOKUP(F491,工作表9!$C$1:$E$8, 3,  FALSE)","v":"純物質"},null,{"$f":"VLOOKUP(F491,工作表9!$C$1:$D$8, 2, FALSE)","v":1810},0]
[null,null,null,null,null,22,{"$f":"VLOOKUP(F492,工作表9!$C$1:$E$8, 3,  FALSE)","v":"純物質"},null,{"$f":"VLOOKUP(F492,工作表9!$C$1:$D$8, 2, FALSE)","v":1810},0]
[null,null,null,null,null,22,{"$f":"VLOOKUP(F493,工作表9!$C$1:$E$8, 3,  FALSE)","v":"純物質"},null,{"$f":"VLOOKUP(F493,工作表9!$C$1:$D$8, 2, FALSE)","v":1810},0]
[null,null,null,null,null,22,{"$f":"VLOOKUP(F494,工作表9!$C$1:$E$8, 3,  FALSE)","v":"純物質"},null,{"$f":"VLOOKUP(F494,工作表9!$C$1:$D$8, 2, FALSE)","v":1810},0]
[null,null,null,null,null,22,{"$f":"VLOOKUP(F495,工作表9!$C$1:$E$8, 3,  FALSE)","v":"純物質"},null,{"$f":"VLOOKUP(F495,工作表9!$C$1:$D$8, 2, FALSE)","v":1810},0]
[null,null,null,null,null,22,{"$f":"VLOOKUP(F496,工作表9!$C$1:$E$8, 3,  FALSE)","v":"純物質"},null,{"$f":"VLOOKUP(F496,工作表9!$C$1:$D$8, 2, FALSE)","v":1810},0]
[null,null,null,null,null,22,{"$f":"VLOOKUP(F497,工作表9!$C$1:$E$8, 3,  FALSE)","v":"純物質"},null,{"$f":"VLOOKUP(F497,工作表9!$C$1:$D$8, 2, FALSE)","v":1810},0]
[null,null,null,null,null,22,{"$f":"VLOOKUP(F498,工作表9!$C$1:$E$8, 3,  FALSE)","v":"純物質"},null,{"$f":"VLOOKUP(F498,工作表9!$C$1:$D$8, 2, FALSE)","v":1810},0]
[null,null,null,null,null,22,{"$f":"VLOOKUP(F499,工作表9!$C$1:$E$8, 3,  FALSE)","v":"純物質"},null,{"$f":"VLOOKUP(F499,工作表9!$C$1:$D$8, 2, FALSE)","v":1810},0]
[null,null,null,null,null,22,{"$f":"VLOOKUP(F500,工作表9!$C$1:$E$8, 3,  FALSE)","v":"純物質"},null,{"$f":"VLOOKUP(F500,工作表9!$C$1:$D$8, 2, FALSE)","v":1810},0]
[null,null,null,null,null,22,{"$f":"VLOOKUP(F501,工作表9!$C$1:$E$8, 3,  FALSE)","v":"純物質"},null,{"$f":"VLOOKUP(F501,工作表9!$C$1:$D$8, 2, FALSE)","v":1810},0]
[null,null,null,null,null,22,{"$f":"VLOOKUP(F502,工作表9!$C$1:$E$8, 3,  FALSE)","v":"純物質"},null,{"$f":"VLOOKUP(F502,工作表9!$C$1:$D$8, 2, FALSE)","v":1810},0]
[null,null,null,null,null,22,{"$f":"VLOOKUP(F503,工作表9!$C$1:$E$8, 3,  FALSE)","v":"純物質"},null,{"$f":"VLOOKUP(F503,工作表9!$C$1:$D$8, 2, FALSE)","v":1810},0]
[null,null,null,null,null,22,{"$f":"VLOOKUP(F504,工作表9!$C$1:$E$8, 3,  FALSE)","v":"純物質"},null,{"$f":"VLOOKUP(F504,工作表9!$C$1:$D$8, 2, FALSE)","v":1810},0]
[null,null,null,null,null,22,{"$f":"VLOOKUP(F505,工作表9!$C$1:$E$8, 3,  FALSE)","v":"純物質"},null,{"$f":"VLOOKUP(F505,工作表9!$C$1:$D$8, 2, FALSE)","v":1810},0]
[null,null,null,null,null,22,{"$f":"VLOOKUP(F506,工作表9!$C$1:$E$8, 3,  FALSE)","v":"純物質"},null,{"$f":"VLOOKUP(F506,工作表9!$C$1:$D$8, 2, FALSE)","v":1810},0]
[null,null,null,null,null,22,{"$f":"VLOOKUP(F507,工作表9!$C$1:$E$8, 3,  FALSE)","v":"純物質"},null,{"$f":"VLOOKUP(F507,工作表9!$C$1:$D$8, 2, FALSE)","v":1810},0]
[null,null,null,null,null,22,{"$f":"VLOOKUP(F508,工作表9!$C$1:$E$8, 3,  FALSE)","v":"純物質"},null,{"$f":"VLOOKUP(F508,工作表9!$C$1:$D$8, 2, FALSE)","v":1810},0]
[null,null,null,null,null,22,{"$f":"VLOOKUP(F509,工作表9!$C$1:$E$8, 3,  FALSE)","v":"純物質"},null,{"$f":"VLOOKUP(F509,工作表9!$C$1:$D$8, 2, FALSE)","v":1810},0]
[null,null,null,null,null,22,{"$f":"VLOOKUP(F510,工作表9!$C$1:$E$8, 3,  FALSE)","v":"純物質"},null,{"$f":"VLOOKUP(F510,工作表9!$C$1:$D$8, 2, FALSE)","v":1810},0]
[null,null,null,null,null,22,{"$f":"VLOOKUP(F511,工作表9!$C$1:$E$8, 3,  FALSE)","v":"純物質"},null,{"$f":"VLOOKUP(F511,工作表9!$C$1:$D$8, 2, FALSE)","v":1810},0]
[null,null,null,null,null,22,{"$f":"VLOOKUP(F512,工作表9!$C$1:$E$8, 3,  FALSE)","v":"純物質"},null,{"$f":"VLOOKUP(F512,工作表9!$C$1:$D$8, 2, FALSE)","v":1810},0]
[null,null,null,null,null,22,{"$f":"VLOOKUP(F513,工作表9!$C$1:$E$8, 3,  FALSE)","v":"純物質"},null,{"$f":"VLOOKUP(F513,工作表9!$C$1:$D$8, 2, FALSE)","v":1810},0]
[null,null,null,null,null,22,{"$f":"VLOOKUP(F514,工作表9!$C$1:$E$8, 3,  FALSE)","v":"純物質"},null,{"$f":"VLOOKUP(F514,工作表9!$C$1:$D$8, 2, FALSE)","v":1810},0]
[null,null,null,null,null,22,{"$f":"VLOOKUP(F515,工作表9!$C$1:$E$8, 3,  FALSE)","v":"純物質"},null,{"$f":"VLOOKUP(F515,工作表9!$C$1:$D$8, 2, FALSE)","v":1810},0]
[null,null,null,null,null,22,{"$f":"VLOOKUP(F516,工作表9!$C$1:$E$8, 3,  FALSE)","v":"純物質"},null,{"$f":"VLOOKUP(F516,工作表9!$C$1:$D$8, 2, FALSE)","v":1810},0]
[null,null,null,null,null,22,{"$f":"VLOOKUP(F517,工作表9!$C$1:$E$8, 3,  FALSE)","v":"純物質"},null,{"$f":"VLOOKUP(F517,工作表9!$C$1:$D$8, 2, FALSE)","v":1810},0]
[null,null,null,null,null,22,{"$f":"VLOOKUP(F518,工作表9!$C$1:$E$8, 3,  FALSE)","v":"純物質"},null,{"$f":"VLOOKUP(F518,工作表9!$C$1:$D$8, 2, FALSE)","v":1810},{"$f":"H518*I518","v":0}]
[null,null,null,null,null,22,{"$f":"VLOOKUP(F519,工作表9!$C$1:$E$8, 3,  FALSE)","v":"純物質"},null,{"$f":"VLOOKUP(F519,工作表9!$C$1:$D$8, 2, FALSE)","v":1810},0]
[null,null,null,null,null,22,{"$f":"VLOOKUP(F520,工作表9!$C$1:$E$8, 3,  FALSE)","v":"純物質"},null,{"$f":"VLOOKUP(F520,工作表9!$C$1:$D$8, 2, FALSE)","v":1810},0]
[null,null,null,null,null,22,{"$f":"VLOOKUP(F521,工作表9!$C$1:$E$8, 3,  FALSE)","v":"純物質"},null,{"$f":"VLOOKUP(F521,工作表9!$C$1:$D$8, 2, FALSE)","v":1810},0]
[null,null,null,null,null,22,{"$f":"VLOOKUP(F522,工作表9!$C$1:$E$8, 3,  FALSE)","v":"純物質"},null,{"$f":"VLOOKUP(F522,工作表9!$C$1:$D$8, 2, FALSE)","v":1810},0]
[null,null,null,null,null,22,{"$f":"VLOOKUP(F523,工作表9!$C$1:$E$8, 3,  FALSE)","v":"純物質"},null,{"$f":"VLOOKUP(F523,工作表9!$C$1:$D$8, 2, FALSE)","v":1810},0]
[null,null,null,null,null,22,{"$f":"VLOOKUP(F524,工作表9!$C$1:$E$8, 3,  FALSE)","v":"純物質"},null,{"$f":"VLOOKUP(F524,工作表9!$C$1:$D$8, 2, FALSE)","v":1810},0]
[null,null,null,null,null,22,{"$f":"VLOOKUP(F525,工作表9!$C$1:$E$8, 3,  FALSE)","v":"純物質"},null,{"$f":"VLOOKUP(F525,工作表9!$C$1:$D$8, 2, FALSE)","v":1810},0]
[null,null,null,null,null,22,{"$f":"VLOOKUP(F526,工作表9!$C$1:$E$8, 3,  FALSE)","v":"純物質"},null,{"$f":"VLOOKUP(F526,工作表9!$C$1:$D$8, 2, FALSE)","v":1810},0]
[null,null,null,null,null,22,{"$f":"VLOOKUP(F527,工作表9!$C$1:$E$8, 3,  FALSE)","v":"純物質"},null,{"$f":"VLOOKUP(F527,工作表9!$C$1:$D$8, 2, FALSE)","v":1810},0]
[null,null,null,null,null,22,{"$f":"VLOOKUP(F528,工作表9!$C$1:$E$8, 3,  FALSE)","v":"純物質"},null,{"$f":"VLOOKUP(F528,工作表9!$C$1:$D$8, 2, FALSE)","v":1810},0]
[null,null,null,null,null,22,{"$f":"VLOOKUP(F529,工作表9!$C$1:$E$8, 3,  FALSE)","v":"純物質"},null,{"$f":"VLOOKUP(F529,工作表9!$C$1:$D$8, 2, FALSE)","v":1810},0]
[null,null,null,null,null,22,{"$f":"VLOOKUP(F530,工作表9!$C$1:$E$8, 3,  FALSE)","v":"純物質"},null,{"$f":"VLOOKUP(F530,工作表9!$C$1:$D$8, 2, FALSE)","v":1810},0]
[null,null,null,null,null,22,{"$f":"VLOOKUP(F531,工作表9!$C$1:$E$8, 3,  FALSE)","v":"純物質"},null,{"$f":"VLOOKUP(F531,工作表9!$C$1:$D$8, 2, FALSE)","v":1810},0]
[null,null,null,null,null,22,{"$f":"VLOOKUP(F532,工作表9!$C$1:$E$8, 3,  FALSE)","v":"純物質"},null,{"$f":"VLOOKUP(F532,工作表9!$C$1:$D$8, 2, FALSE)","v":1810},0]
[null,null,null,null,null,22,{"$f":"VLOOKUP(F533,工作表9!$C$1:$E$8, 3,  FALSE)","v":"純物質"},null,{"$f":"VLOOKUP(F533,工作表9!$C$1:$D$8, 2, FALSE)","v":1810},0]
[null,null,null,null,null,22,{"$f":"VLOOKUP(F534,工作表9!$C$1:$E$8, 3,  FALSE)","v":"純物質"},null,{"$f":"VLOOKUP(F534,工作表9!$C$1:$D$8, 2, FALSE)","v":1810},0]
[null,null,null,null,null,22,{"$f":"VLOOKUP(F535,工作表9!$C$1:$E$8, 3,  FALSE)","v":"純物質"},null,{"$f":"VLOOKUP(F535,工作表9!$C$1:$D$8, 2, FALSE)","v":1810},0]
[null,null,null,null,null,22,{"$f":"VLOOKUP(F536,工作表9!$C$1:$E$8, 3,  FALSE)","v":"純物質"},null,{"$f":"VLOOKUP(F536,工作表9!$C$1:$D$8, 2, FALSE)","v":1810},0]
[null,null,null,null,null,22,{"$f":"VLOOKUP(F537,工作表9!$C$1:$E$8, 3,  FALSE)","v":"純物質"},null,{"$f":"VLOOKUP(F537,工作表9!$C$1:$D$8, 2, FALSE)","v":1810},0]
[null,null,null,null,null,22,{"$f":"VLOOKUP(F538,工作表9!$C$1:$E$8, 3,  FALSE)","v":"純物質"},null,{"$f":"VLOOKUP(F538,工作表9!$C$1:$D$8, 2, FALSE)","v":1810},0]
[null,null,null,null,null,22,{"$f":"VLOOKUP(F539,工作表9!$C$1:$E$8, 3,  FALSE)","v":"純物質"},null,{"$f":"VLOOKUP(F539,工作表9!$C$1:$D$8, 2, FALSE)","v":1810},0]
[null,null,null,null,null,22,{"$f":"VLOOKUP(F540,工作表9!$C$1:$E$8, 3,  FALSE)","v":"純物質"},null,{"$f":"VLOOKUP(F540,工作表9!$C$1:$D$8, 2, FALSE)","v":1810},0]
[null,null,null,null,null,22,{"$f":"VLOOKUP(F541,工作表9!$C$1:$E$8, 3,  FALSE)","v":"純物質"},null,{"$f":"VLOOKUP(F541,工作表9!$C$1:$D$8, 2, FALSE)","v":1810},0]
[null,null,null,null,null,22,{"$f":"VLOOKUP(F542,工作表9!$C$1:$E$8, 3,  FALSE)","v":"純物質"},null,{"$f":"VLOOKUP(F542,工作表9!$C$1:$D$8, 2, FALSE)","v":1810},0]
[null,null,null,null,null,22,{"$f":"VLOOKUP(F543,工作表9!$C$1:$E$8, 3,  FALSE)","v":"純物質"},null,{"$f":"VLOOKUP(F543,工作表9!$C$1:$D$8, 2, FALSE)","v":1810},0]
[null,null,null,null,null,22,{"$f":"VLOOKUP(F544,工作表9!$C$1:$E$8, 3,  FALSE)","v":"純物質"},null,{"$f":"VLOOKUP(F544,工作表9!$C$1:$D$8, 2, FALSE)","v":1810},0]
[null,null,null,null,null,22,{"$f":"VLOOKUP(F545,工作表9!$C$1:$E$8, 3,  FALSE)","v":"純物質"},null,{"$f":"VLOOKUP(F545,工作表9!$C$1:$D$8, 2, FALSE)","v":1810},0]
[null,null,null,null,null,22,{"$f":"VLOOKUP(F546,工作表9!$C$1:$E$8, 3,  FALSE)","v":"純物質"},null,{"$f":"VLOOKUP(F546,工作表9!$C$1:$D$8, 2, FALSE)","v":1810},0]
[null,null,null,null,null,22,{"$f":"VLOOKUP(F547,工作表9!$C$1:$E$8, 3,  FALSE)","v":"純物質"},null,{"$f":"VLOOKUP(F547,工作表9!$C$1:$D$8, 2, FALSE)","v":1810},0]
[null,null,null,null,null,22,{"$f":"VLOOKUP(F548,工作表9!$C$1:$E$8, 3,  FALSE)","v":"純物質"},null,{"$f":"VLOOKUP(F548,工作表9!$C$1:$D$8, 2, FALSE)","v":1810},0]
[null,null,null,null,null,22,{"$f":"VLOOKUP(F549,工作表9!$C$1:$E$8, 3,  FALSE)","v":"純物質"},null,{"$f":"VLOOKUP(F549,工作表9!$C$1:$D$8, 2, FALSE)","v":1810},0]
[null,null,null,null,null,22,{"$f":"VLOOKUP(F550,工作表9!$C$1:$E$8, 3,  FALSE)","v":"純物質"},null,{"$f":"VLOOKUP(F550,工作表9!$C$1:$D$8, 2, FALSE)","v":1810},0]
[null,null,null,null,null,22,{"$f":"VLOOKUP(F551,工作表9!$C$1:$E$8, 3,  FALSE)","v":"純物質"},null,{"$f":"VLOOKUP(F551,工作表9!$C$1:$D$8, 2, FALSE)","v":1810},0]
[null,null,null,null,null,22,{"$f":"VLOOKUP(F552,工作表9!$C$1:$E$8, 3,  FALSE)","v":"純物質"},null,{"$f":"VLOOKUP(F552,工作表9!$C$1:$D$8, 2, FALSE)","v":1810},0]
[null,null,null,null,null,22,{"$f":"VLOOKUP(F553,工作表9!$C$1:$E$8, 3,  FALSE)","v":"純物質"},null,{"$f":"VLOOKUP(F553,工作表9!$C$1:$D$8, 2, FALSE)","v":1810},0]
[null,null,null,null,null,22,{"$f":"VLOOKUP(F554,工作表9!$C$1:$E$8, 3,  FALSE)","v":"純物質"},null,{"$f":"VLOOKUP(F554,工作表9!$C$1:$D$8, 2, FALSE)","v":1810},0]
[null,null,null,null,null,22,{"$f":"VLOOKUP(F555,工作表9!$C$1:$E$8, 3,  FALSE)","v":"純物質"},null,{"$f":"VLOOKUP(F555,工作表9!$C$1:$D$8, 2, FALSE)","v":1810},0]
[null,null,null,null,null,22,{"$f":"VLOOKUP(F556,工作表9!$C$1:$E$8, 3,  FALSE)","v":"純物質"},null,{"$f":"VLOOKUP(F556,工作表9!$C$1:$D$8, 2, FALSE)","v":1810},0]
[null,null,null,null,null,22,{"$f":"VLOOKUP(F557,工作表9!$C$1:$E$8, 3,  FALSE)","v":"純物質"},null,{"$f":"VLOOKUP(F557,工作表9!$C$1:$D$8, 2, FALSE)","v":1810},0]
[null,null,null,null,null,22,{"$f":"VLOOKUP(F558,工作表9!$C$1:$E$8, 3,  FALSE)","v":"純物質"},null,{"$f":"VLOOKUP(F558,工作表9!$C$1:$D$8, 2, FALSE)","v":1810},0]
[null,null,null,null,null,22,{"$f":"VLOOKUP(F559,工作表9!$C$1:$E$8, 3,  FALSE)","v":"純物質"},null,{"$f":"VLOOKUP(F559,工作表9!$C$1:$D$8, 2, FALSE)","v":1810},0]
[null,null,null,null,null,22,{"$f":"VLOOKUP(F560,工作表9!$C$1:$E$8, 3,  FALSE)","v":"純物質"},null,{"$f":"VLOOKUP(F560,工作表9!$C$1:$D$8, 2, FALSE)","v":1810},0]
[null,null,null,null,null,22,{"$f":"VLOOKUP(F561,工作表9!$C$1:$E$8, 3,  FALSE)","v":"純物質"},null,{"$f":"VLOOKUP(F561,工作表9!$C$1:$D$8, 2, FALSE)","v":1810},0]
[null,null,null,null,null,22,{"$f":"VLOOKUP(F562,工作表9!$C$1:$E$8, 3,  FALSE)","v":"純物質"},null,{"$f":"VLOOKUP(F562,工作表9!$C$1:$D$8, 2, FALSE)","v":1810},0]
[null,null,null,null,null,22,{"$f":"VLOOKUP(F563,工作表9!$C$1:$E$8, 3,  FALSE)","v":"純物質"},null,{"$f":"VLOOKUP(F563,工作表9!$C$1:$D$8, 2, FALSE)","v":1810},0]
[null,null,null,null,null,22,{"$f":"VLOOKUP(F564,工作表9!$C$1:$E$8, 3,  FALSE)","v":"純物質"},null,{"$f":"VLOOKUP(F564,工作表9!$C$1:$D$8, 2, FALSE)","v":1810},0]
[null,null,null,null,null,22,{"$f":"VLOOKUP(F565,工作表9!$C$1:$E$8, 3,  FALSE)","v":"純物質"},null,{"$f":"VLOOKUP(F565,工作表9!$C$1:$D$8, 2, FALSE)","v":1810},0]
[null,null,null,null,null,22,{"$f":"VLOOKUP(F566,工作表9!$C$1:$E$8, 3,  FALSE)","v":"純物質"},null,{"$f":"VLOOKUP(F566,工作表9!$C$1:$D$8, 2, FALSE)","v":1810},0]
[null,null,null,null,null,22,{"$f":"VLOOKUP(F567,工作表9!$C$1:$E$8, 3,  FALSE)","v":"純物質"},null,{"$f":"VLOOKUP(F567,工作表9!$C$1:$D$8, 2, FALSE)","v":1810},0]
[null,null,null,null,null,22,{"$f":"VLOOKUP(F568,工作表9!$C$1:$E$8, 3,  FALSE)","v":"純物質"},null,{"$f":"VLOOKUP(F568,工作表9!$C$1:$D$8, 2, FALSE)","v":1810},0]
[null,null,null,null,null,22,{"$f":"VLOOKUP(F569,工作表9!$C$1:$E$8, 3,  FALSE)","v":"純物質"},null,{"$f":"VLOOKUP(F569,工作表9!$C$1:$D$8, 2, FALSE)","v":1810},0]
[null,null,null,null,null,22,{"$f":"VLOOKUP(F570,工作表9!$C$1:$E$8, 3,  FALSE)","v":"純物質"},null,{"$f":"VLOOKUP(F570,工作表9!$C$1:$D$8, 2, FALSE)","v":1810},0]
[null,null,null,null,null,22,{"$f":"VLOOKUP(F571,工作表9!$C$1:$E$8, 3,  FALSE)","v":"純物質"},null,{"$f":"VLOOKUP(F571,工作表9!$C$1:$D$8, 2, FALSE)","v":1810},0]
[null,null,null,null,null,22,{"$f":"VLOOKUP(F572,工作表9!$C$1:$E$8, 3,  FALSE)","v":"純物質"},null,{"$f":"VLOOKUP(F572,工作表9!$C$1:$D$8, 2, FALSE)","v":1810},0]
[null,null,null,null,null,22,{"$f":"VLOOKUP(F573,工作表9!$C$1:$E$8, 3,  FALSE)","v":"純物質"},null,{"$f":"VLOOKUP(F573,工作表9!$C$1:$D$8, 2, FALSE)","v":1810},0]
[null,null,null,null,null,22,{"$f":"VLOOKUP(F574,工作表9!$C$1:$E$8, 3,  FALSE)","v":"純物質"},null,{"$f":"VLOOKUP(F574,工作表9!$C$1:$D$8, 2, FALSE)","v":1810},0]
[null,null,null,null,null,22,{"$f":"VLOOKUP(F575,工作表9!$C$1:$E$8, 3,  FALSE)","v":"純物質"},null,{"$f":"VLOOKUP(F575,工作表9!$C$1:$D$8, 2, FALSE)","v":1810},0]
[null,null,null,null,null,22,{"$f":"VLOOKUP(F576,工作表9!$C$1:$E$8, 3,  FALSE)","v":"純物質"},null,{"$f":"VLOOKUP(F576,工作表9!$C$1:$D$8, 2, FALSE)","v":1810},0]
[null,null,null,null,null,22,{"$f":"VLOOKUP(F577,工作表9!$C$1:$E$8, 3,  FALSE)","v":"純物質"},null,{"$f":"VLOOKUP(F577,工作表9!$C$1:$D$8, 2, FALSE)","v":1810},0]
[null,null,null,null,null,22,{"$f":"VLOOKUP(F578,工作表9!$C$1:$E$8, 3,  FALSE)","v":"純物質"},null,{"$f":"VLOOKUP(F578,工作表9!$C$1:$D$8, 2, FALSE)","v":1810},0]
[null,null,null,null,null,22,{"$f":"VLOOKUP(F579,工作表9!$C$1:$E$8, 3,  FALSE)","v":"純物質"},null,{"$f":"VLOOKUP(F579,工作表9!$C$1:$D$8, 2, FALSE)","v":1810},0]
[null,null,null,null,null,22,{"$f":"VLOOKUP(F580,工作表9!$C$1:$E$8, 3,  FALSE)","v":"純物質"},null,{"$f":"VLOOKUP(F580,工作表9!$C$1:$D$8, 2, FALSE)","v":1810},0]
[null,null,null,null,null,22,{"$f":"VLOOKUP(F581,工作表9!$C$1:$E$8, 3,  FALSE)","v":"純物質"},null,{"$f":"VLOOKUP(F581,工作表9!$C$1:$D$8, 2, FALSE)","v":1810},0]
[null,null,null,null,null,22,{"$f":"VLOOKUP(F582,工作表9!$C$1:$E$8, 3,  FALSE)","v":"純物質"},null,{"$f":"VLOOKUP(F582,工作表9!$C$1:$D$8, 2, FALSE)","v":1810},{"$f":"H582*I582","v":0}]
[null,null,null,null,null,22,{"$f":"VLOOKUP(F583,工作表9!$C$1:$E$8, 3,  FALSE)","v":"純物質"},null,{"$f":"VLOOKUP(F583,工作表9!$C$1:$D$8, 2, FALSE)","v":1810},0]
[null,null,null,null,null,22,{"$f":"VLOOKUP(F584,工作表9!$C$1:$E$8, 3,  FALSE)","v":"純物質"},null,{"$f":"VLOOKUP(F584,工作表9!$C$1:$D$8, 2, FALSE)","v":1810},0]
[null,null,null,null,null,22,{"$f":"VLOOKUP(F585,工作表9!$C$1:$E$8, 3,  FALSE)","v":"純物質"},null,{"$f":"VLOOKUP(F585,工作表9!$C$1:$D$8, 2, FALSE)","v":1810},0]
[null,null,null,null,null,22,{"$f":"VLOOKUP(F586,工作表9!$C$1:$E$8, 3,  FALSE)","v":"純物質"},null,{"$f":"VLOOKUP(F586,工作表9!$C$1:$D$8, 2, FALSE)","v":1810},0]
[null,null,null,null,null,22,{"$f":"VLOOKUP(F587,工作表9!$C$1:$E$8, 3,  FALSE)","v":"純物質"},null,{"$f":"VLOOKUP(F587,工作表9!$C$1:$D$8, 2, FALSE)","v":1810},0]
[null,null,null,null,null,22,{"$f":"VLOOKUP(F588,工作表9!$C$1:$E$8, 3,  FALSE)","v":"純物質"},null,{"$f":"VLOOKUP(F588,工作表9!$C$1:$D$8, 2, FALSE)","v":1810},0]
[null,null,null,null,null,22,{"$f":"VLOOKUP(F589,工作表9!$C$1:$E$8, 3,  FALSE)","v":"純物質"},null,{"$f":"VLOOKUP(F589,工作表9!$C$1:$D$8, 2, FALSE)","v":1810},0]
[null,null,null,null,null,22,{"$f":"VLOOKUP(F590,工作表9!$C$1:$E$8, 3,  FALSE)","v":"純物質"},null,{"$f":"VLOOKUP(F590,工作表9!$C$1:$D$8, 2, FALSE)","v":1810},0]
[null,null,null,null,null,22,{"$f":"VLOOKUP(F591,工作表9!$C$1:$E$8, 3,  FALSE)","v":"純物質"},null,{"$f":"VLOOKUP(F591,工作表9!$C$1:$D$8, 2, FALSE)","v":1810},0]
[null,null,null,null,null,22,{"$f":"VLOOKUP(F592,工作表9!$C$1:$E$8, 3,  FALSE)","v":"純物質"},null,{"$f":"VLOOKUP(F592,工作表9!$C$1:$D$8, 2, FALSE)","v":1810},0]
[null,null,null,null,null,22,{"$f":"VLOOKUP(F593,工作表9!$C$1:$E$8, 3,  FALSE)","v":"純物質"},null,{"$f":"VLOOKUP(F593,工作表9!$C$1:$D$8, 2, FALSE)","v":1810},0]
[null,null,null,null,null,22,{"$f":"VLOOKUP(F594,工作表9!$C$1:$E$8, 3,  FALSE)","v":"純物質"},null,{"$f":"VLOOKUP(F594,工作表9!$C$1:$D$8, 2, FALSE)","v":1810},0]
[null,null,null,null,null,22,{"$f":"VLOOKUP(F595,工作表9!$C$1:$E$8, 3,  FALSE)","v":"純物質"},null,{"$f":"VLOOKUP(F595,工作表9!$C$1:$D$8, 2, FALSE)","v":1810},0]
[null,null,null,null,null,22,{"$f":"VLOOKUP(F596,工作表9!$C$1:$E$8, 3,  FALSE)","v":"純物質"},null,{"$f":"VLOOKUP(F596,工作表9!$C$1:$D$8, 2, FALSE)","v":1810},0]
[null,null,null,null,null,22,{"$f":"VLOOKUP(F597,工作表9!$C$1:$E$8, 3,  FALSE)","v":"純物質"},null,{"$f":"VLOOKUP(F597,工作表9!$C$1:$D$8, 2, FALSE)","v":1810},0]
[null,null,null,null,null,22,{"$f":"VLOOKUP(F598,工作表9!$C$1:$E$8, 3,  FALSE)","v":"純物質"},null,{"$f":"VLOOKUP(F598,工作表9!$C$1:$D$8, 2, FALSE)","v":1810},0]
[null,null,null,null,null,22,{"$f":"VLOOKUP(F599,工作表9!$C$1:$E$8, 3,  FALSE)","v":"純物質"},null,{"$f":"VLOOKUP(F599,工作表9!$C$1:$D$8, 2, FALSE)","v":1810},0]
[null,null,null,null,null,22,{"$f":"VLOOKUP(F600,工作表9!$C$1:$E$8, 3,  FALSE)","v":"純物質"},null,{"$f":"VLOOKUP(F600,工作表9!$C$1:$D$8, 2, FALSE)","v":1810},0]
[null,null,null,null,null,22,{"$f":"VLOOKUP(F601,工作表9!$C$1:$E$8, 3,  FALSE)","v":"純物質"},null,{"$f":"VLOOKUP(F601,工作表9!$C$1:$D$8, 2, FALSE)","v":1810},0]
[null,null,null,null,null,22,{"$f":"VLOOKUP(F602,工作表9!$C$1:$E$8, 3,  FALSE)","v":"純物質"},null,{"$f":"VLOOKUP(F602,工作表9!$C$1:$D$8, 2, FALSE)","v":1810},0]
[null,null,null,null,null,22,{"$f":"VLOOKUP(F603,工作表9!$C$1:$E$8, 3,  FALSE)","v":"純物質"},null,{"$f":"VLOOKUP(F603,工作表9!$C$1:$D$8, 2, FALSE)","v":1810},0]
[null,null,null,null,null,22,{"$f":"VLOOKUP(F604,工作表9!$C$1:$E$8, 3,  FALSE)","v":"純物質"},null,{"$f":"VLOOKUP(F604,工作表9!$C$1:$D$8, 2, FALSE)","v":1810},0]
[null,null,null,null,null,22,{"$f":"VLOOKUP(F605,工作表9!$C$1:$E$8, 3,  FALSE)","v":"純物質"},null,{"$f":"VLOOKUP(F605,工作表9!$C$1:$D$8, 2, FALSE)","v":1810},0]
[null,null,null,null,null,22,{"$f":"VLOOKUP(F606,工作表9!$C$1:$E$8, 3,  FALSE)","v":"純物質"},null,{"$f":"VLOOKUP(F606,工作表9!$C$1:$D$8, 2, FALSE)","v":1810},0]
[null,null,null,null,null,22,{"$f":"VLOOKUP(F607,工作表9!$C$1:$E$8, 3,  FALSE)","v":"純物質"},null,{"$f":"VLOOKUP(F607,工作表9!$C$1:$D$8, 2, FALSE)","v":1810},0]
[null,null,null,null,null,22,{"$f":"VLOOKUP(F608,工作表9!$C$1:$E$8, 3,  FALSE)","v":"純物質"},null,{"$f":"VLOOKUP(F608,工作表9!$C$1:$D$8, 2, FALSE)","v":1810},0]
[null,null,null,null,null,22,{"$f":"VLOOKUP(F609,工作表9!$C$1:$E$8, 3,  FALSE)","v":"純物質"},null,{"$f":"VLOOKUP(F609,工作表9!$C$1:$D$8, 2, FALSE)","v":1810},0]
[null,null,null,null,null,22,{"$f":"VLOOKUP(F610,工作表9!$C$1:$E$8, 3,  FALSE)","v":"純物質"},null,{"$f":"VLOOKUP(F610,工作表9!$C$1:$D$8, 2, FALSE)","v":1810},0]
[null,null,null,null,null,22,{"$f":"VLOOKUP(F611,工作表9!$C$1:$E$8, 3,  FALSE)","v":"純物質"},null,{"$f":"VLOOKUP(F611,工作表9!$C$1:$D$8, 2, FALSE)","v":1810},0]
[null,null,null,null,null,22,{"$f":"VLOOKUP(F612,工作表9!$C$1:$E$8, 3,  FALSE)","v":"純物質"},null,{"$f":"VLOOKUP(F612,工作表9!$C$1:$D$8, 2, FALSE)","v":1810},0]
[null,null,null,null,null,22,{"$f":"VLOOKUP(F613,工作表9!$C$1:$E$8, 3,  FALSE)","v":"純物質"},null,{"$f":"VLOOKUP(F613,工作表9!$C$1:$D$8, 2, FALSE)","v":1810},0]
[null,null,null,null,null,22,{"$f":"VLOOKUP(F614,工作表9!$C$1:$E$8, 3,  FALSE)","v":"純物質"},null,{"$f":"VLOOKUP(F614,工作表9!$C$1:$D$8, 2, FALSE)","v":1810},0]
[null,null,null,null,null,22,{"$f":"VLOOKUP(F615,工作表9!$C$1:$E$8, 3,  FALSE)","v":"純物質"},null,{"$f":"VLOOKUP(F615,工作表9!$C$1:$D$8, 2, FALSE)","v":1810},0]
[null,null,null,null,null,22,{"$f":"VLOOKUP(F616,工作表9!$C$1:$E$8, 3,  FALSE)","v":"純物質"},null,{"$f":"VLOOKUP(F616,工作表9!$C$1:$D$8, 2, FALSE)","v":1810},0]
[null,null,null,null,null,22,{"$f":"VLOOKUP(F617,工作表9!$C$1:$E$8, 3,  FALSE)","v":"純物質"},null,{"$f":"VLOOKUP(F617,工作表9!$C$1:$D$8, 2, FALSE)","v":1810},0]
[null,null,null,null,null,22,{"$f":"VLOOKUP(F618,工作表9!$C$1:$E$8, 3,  FALSE)","v":"純物質"},null,{"$f":"VLOOKUP(F618,工作表9!$C$1:$D$8, 2, FALSE)","v":1810},0]
[null,null,null,null,null,22,{"$f":"VLOOKUP(F619,工作表9!$C$1:$E$8, 3,  FALSE)","v":"純物質"},null,{"$f":"VLOOKUP(F619,工作表9!$C$1:$D$8, 2, FALSE)","v":1810},0]
[null,null,null,null,null,22,{"$f":"VLOOKUP(F620,工作表9!$C$1:$E$8, 3,  FALSE)","v":"純物質"},null,{"$f":"VLOOKUP(F620,工作表9!$C$1:$D$8, 2, FALSE)","v":1810},0]
[null,null,null,null,null,22,{"$f":"VLOOKUP(F621,工作表9!$C$1:$E$8, 3,  FALSE)","v":"純物質"},null,{"$f":"VLOOKUP(F621,工作表9!$C$1:$D$8, 2, FALSE)","v":1810},0]
[null,null,null,null,null,22,{"$f":"VLOOKUP(F622,工作表9!$C$1:$E$8, 3,  FALSE)","v":"純物質"},null,{"$f":"VLOOKUP(F622,工作表9!$C$1:$D$8, 2, FALSE)","v":1810},0]
[null,null,null,null,null,22,{"$f":"VLOOKUP(F623,工作表9!$C$1:$E$8, 3,  FALSE)","v":"純物質"},null,{"$f":"VLOOKUP(F623,工作表9!$C$1:$D$8, 2, FALSE)","v":1810},0]
[null,null,null,null,null,22,{"$f":"VLOOKUP(F624,工作表9!$C$1:$E$8, 3,  FALSE)","v":"純物質"},null,{"$f":"VLOOKUP(F624,工作表9!$C$1:$D$8, 2, FALSE)","v":1810},0]
[null,null,null,null,null,22,{"$f":"VLOOKUP(F625,工作表9!$C$1:$E$8, 3,  FALSE)","v":"純物質"},null,{"$f":"VLOOKUP(F625,工作表9!$C$1:$D$8, 2, FALSE)","v":1810},0]
[null,null,null,null,null,22,{"$f":"VLOOKUP(F626,工作表9!$C$1:$E$8, 3,  FALSE)","v":"純物質"},null,{"$f":"VLOOKUP(F626,工作表9!$C$1:$D$8, 2, FALSE)","v":1810},0]
[null,null,null,null,null,22,{"$f":"VLOOKUP(F627,工作表9!$C$1:$E$8, 3,  FALSE)","v":"純物質"},null,{"$f":"VLOOKUP(F627,工作表9!$C$1:$D$8, 2, FALSE)","v":1810},0]
[null,null,null,null,null,22,{"$f":"VLOOKUP(F628,工作表9!$C$1:$E$8, 3,  FALSE)","v":"純物質"},null,{"$f":"VLOOKUP(F628,工作表9!$C$1:$D$8, 2, FALSE)","v":1810},0]
[null,null,null,null,null,22,{"$f":"VLOOKUP(F629,工作表9!$C$1:$E$8, 3,  FALSE)","v":"純物質"},null,{"$f":"VLOOKUP(F629,工作表9!$C$1:$D$8, 2, FALSE)","v":1810},0]
[null,null,null,null,null,22,{"$f":"VLOOKUP(F630,工作表9!$C$1:$E$8, 3,  FALSE)","v":"純物質"},null,{"$f":"VLOOKUP(F630,工作表9!$C$1:$D$8, 2, FALSE)","v":1810},0]
[null,null,null,null,null,22,{"$f":"VLOOKUP(F631,工作表9!$C$1:$E$8, 3,  FALSE)","v":"純物質"},null,{"$f":"VLOOKUP(F631,工作表9!$C$1:$D$8, 2, FALSE)","v":1810},0]
[null,null,null,null,null,22,{"$f":"VLOOKUP(F632,工作表9!$C$1:$E$8, 3,  FALSE)","v":"純物質"},null,{"$f":"VLOOKUP(F632,工作表9!$C$1:$D$8, 2, FALSE)","v":1810},0]
[null,null,null,null,null,22,{"$f":"VLOOKUP(F633,工作表9!$C$1:$E$8, 3,  FALSE)","v":"純物質"},null,{"$f":"VLOOKUP(F633,工作表9!$C$1:$D$8, 2, FALSE)","v":1810},0]
[null,null,null,null,null,22,{"$f":"VLOOKUP(F634,工作表9!$C$1:$E$8, 3,  FALSE)","v":"純物質"},null,{"$f":"VLOOKUP(F634,工作表9!$C$1:$D$8, 2, FALSE)","v":1810},0]
[null,null,null,null,null,22,{"$f":"VLOOKUP(F635,工作表9!$C$1:$E$8, 3,  FALSE)","v":"純物質"},null,{"$f":"VLOOKUP(F635,工作表9!$C$1:$D$8, 2, FALSE)","v":1810},0]
[null,null,null,null,null,22,{"$f":"VLOOKUP(F636,工作表9!$C$1:$E$8, 3,  FALSE)","v":"純物質"},null,{"$f":"VLOOKUP(F636,工作表9!$C$1:$D$8, 2, FALSE)","v":1810},0]
[null,null,null,null,null,22,{"$f":"VLOOKUP(F637,工作表9!$C$1:$E$8, 3,  FALSE)","v":"純物質"},null,{"$f":"VLOOKUP(F637,工作表9!$C$1:$D$8, 2, FALSE)","v":1810},0]
[null,null,null,null,null,22,{"$f":"VLOOKUP(F638,工作表9!$C$1:$E$8, 3,  FALSE)","v":"純物質"},null,{"$f":"VLOOKUP(F638,工作表9!$C$1:$D$8, 2, FALSE)","v":1810},0]
[null,null,null,null,null,22,{"$f":"VLOOKUP(F639,工作表9!$C$1:$E$8, 3,  FALSE)","v":"純物質"},null,{"$f":"VLOOKUP(F639,工作表9!$C$1:$D$8, 2, FALSE)","v":1810},0]
[null,null,null,null,null,22,{"$f":"VLOOKUP(F640,工作表9!$C$1:$E$8, 3,  FALSE)","v":"純物質"},null,{"$f":"VLOOKUP(F640,工作表9!$C$1:$D$8, 2, FALSE)","v":1810},0]
[null,null,null,null,null,22,{"$f":"VLOOKUP(F641,工作表9!$C$1:$E$8, 3,  FALSE)","v":"純物質"},null,{"$f":"VLOOKUP(F641,工作表9!$C$1:$D$8, 2, FALSE)","v":1810},0]
[null,null,null,null,null,22,{"$f":"VLOOKUP(F642,工作表9!$C$1:$E$8, 3,  FALSE)","v":"純物質"},null,{"$f":"VLOOKUP(F642,工作表9!$C$1:$D$8, 2, FALSE)","v":1810},0]
[null,null,null,null,null,22,{"$f":"VLOOKUP(F643,工作表9!$C$1:$E$8, 3,  FALSE)","v":"純物質"},null,{"$f":"VLOOKUP(F643,工作表9!$C$1:$D$8, 2, FALSE)","v":1810},0]
[null,null,null,null,null,22,{"$f":"VLOOKUP(F644,工作表9!$C$1:$E$8, 3,  FALSE)","v":"純物質"},null,{"$f":"VLOOKUP(F644,工作表9!$C$1:$D$8, 2, FALSE)","v":1810},0]
[null,null,null,null,null,22,{"$f":"VLOOKUP(F645,工作表9!$C$1:$E$8, 3,  FALSE)","v":"純物質"},null,{"$f":"VLOOKUP(F645,工作表9!$C$1:$D$8, 2, FALSE)","v":1810},0]
[null,null,null,null,null,22,{"$f":"VLOOKUP(F646,工作表9!$C$1:$E$8, 3,  FALSE)","v":"純物質"},null,{"$f":"VLOOKUP(F646,工作表9!$C$1:$D$8, 2, FALSE)","v":1810},{"$f":"H646*I646","v":0}]
[null,null,null,null,null,22,{"$f":"VLOOKUP(F647,工作表9!$C$1:$E$8, 3,  FALSE)","v":"純物質"},null,{"$f":"VLOOKUP(F647,工作表9!$C$1:$D$8, 2, FALSE)","v":1810},0]
[null,null,null,null,null,22,{"$f":"VLOOKUP(F648,工作表9!$C$1:$E$8, 3,  FALSE)","v":"純物質"},null,{"$f":"VLOOKUP(F648,工作表9!$C$1:$D$8, 2, FALSE)","v":1810},0]
[null,null,null,null,null,22,{"$f":"VLOOKUP(F649,工作表9!$C$1:$E$8, 3,  FALSE)","v":"純物質"},null,{"$f":"VLOOKUP(F649,工作表9!$C$1:$D$8, 2, FALSE)","v":1810},0]
[null,null,null,null,null,22,{"$f":"VLOOKUP(F650,工作表9!$C$1:$E$8, 3,  FALSE)","v":"純物質"},null,{"$f":"VLOOKUP(F650,工作表9!$C$1:$D$8, 2, FALSE)","v":1810},0]
[null,null,null,null,null,22,{"$f":"VLOOKUP(F651,工作表9!$C$1:$E$8, 3,  FALSE)","v":"純物質"},null,{"$f":"VLOOKUP(F651,工作表9!$C$1:$D$8, 2, FALSE)","v":1810},0]
[null,null,null,null,null,22,{"$f":"VLOOKUP(F652,工作表9!$C$1:$E$8, 3,  FALSE)","v":"純物質"},null,{"$f":"VLOOKUP(F652,工作表9!$C$1:$D$8, 2, FALSE)","v":1810},0]
[null,null,null,null,null,22,{"$f":"VLOOKUP(F653,工作表9!$C$1:$E$8, 3,  FALSE)","v":"純物質"},null,{"$f":"VLOOKUP(F653,工作表9!$C$1:$D$8, 2, FALSE)","v":1810},0]
[null,null,null,null,null,22,{"$f":"VLOOKUP(F654,工作表9!$C$1:$E$8, 3,  FALSE)","v":"純物質"},null,{"$f":"VLOOKUP(F654,工作表9!$C$1:$D$8, 2, FALSE)","v":1810},0]
[null,null,null,null,null,22,{"$f":"VLOOKUP(F655,工作表9!$C$1:$E$8, 3,  FALSE)","v":"純物質"},null,{"$f":"VLOOKUP(F655,工作表9!$C$1:$D$8, 2, FALSE)","v":1810},0]
[null,null,null,null,null,22,{"$f":"VLOOKUP(F656,工作表9!$C$1:$E$8, 3,  FALSE)","v":"純物質"},null,{"$f":"VLOOKUP(F656,工作表9!$C$1:$D$8, 2, FALSE)","v":1810},0]
[null,null,null,null,null,22,{"$f":"VLOOKUP(F657,工作表9!$C$1:$E$8, 3,  FALSE)","v":"純物質"},null,{"$f":"VLOOKUP(F657,工作表9!$C$1:$D$8, 2, FALSE)","v":1810},0]
[null,null,null,null,null,22,{"$f":"VLOOKUP(F658,工作表9!$C$1:$E$8, 3,  FALSE)","v":"純物質"},null,{"$f":"VLOOKUP(F658,工作表9!$C$1:$D$8, 2, FALSE)","v":1810},0]
[null,null,null,null,null,22,{"$f":"VLOOKUP(F659,工作表9!$C$1:$E$8, 3,  FALSE)","v":"純物質"},null,{"$f":"VLOOKUP(F659,工作表9!$C$1:$D$8, 2, FALSE)","v":1810},0]
[null,null,null,null,null,22,{"$f":"VLOOKUP(F660,工作表9!$C$1:$E$8, 3,  FALSE)","v":"純物質"},null,{"$f":"VLOOKUP(F660,工作表9!$C$1:$D$8, 2, FALSE)","v":1810},0]
[null,null,null,null,null,22,{"$f":"VLOOKUP(F661,工作表9!$C$1:$E$8, 3,  FALSE)","v":"純物質"},null,{"$f":"VLOOKUP(F661,工作表9!$C$1:$D$8, 2, FALSE)","v":1810},0]
[null,null,null,null,null,22,{"$f":"VLOOKUP(F662,工作表9!$C$1:$E$8, 3,  FALSE)","v":"純物質"},null,{"$f":"VLOOKUP(F662,工作表9!$C$1:$D$8, 2, FALSE)","v":1810},0]
[null,null,null,null,null,22,{"$f":"VLOOKUP(F663,工作表9!$C$1:$E$8, 3,  FALSE)","v":"純物質"},null,{"$f":"VLOOKUP(F663,工作表9!$C$1:$D$8, 2, FALSE)","v":1810},0]
[null,null,null,null,null,22,{"$f":"VLOOKUP(F664,工作表9!$C$1:$E$8, 3,  FALSE)","v":"純物質"},null,{"$f":"VLOOKUP(F664,工作表9!$C$1:$D$8, 2, FALSE)","v":1810},0]
[null,null,null,null,null,22,{"$f":"VLOOKUP(F665,工作表9!$C$1:$E$8, 3,  FALSE)","v":"純物質"},null,{"$f":"VLOOKUP(F665,工作表9!$C$1:$D$8, 2, FALSE)","v":1810},0]
[null,null,null,null,null,22,{"$f":"VLOOKUP(F666,工作表9!$C$1:$E$8, 3,  FALSE)","v":"純物質"},null,{"$f":"VLOOKUP(F666,工作表9!$C$1:$D$8, 2, FALSE)","v":1810},0]
[null,null,null,null,null,22,{"$f":"VLOOKUP(F667,工作表9!$C$1:$E$8, 3,  FALSE)","v":"純物質"},null,{"$f":"VLOOKUP(F667,工作表9!$C$1:$D$8, 2, FALSE)","v":1810},0]
[null,null,null,null,null,22,{"$f":"VLOOKUP(F668,工作表9!$C$1:$E$8, 3,  FALSE)","v":"純物質"},null,{"$f":"VLOOKUP(F668,工作表9!$C$1:$D$8, 2, FALSE)","v":1810},0]
[null,null,null,null,null,22,{"$f":"VLOOKUP(F669,工作表9!$C$1:$E$8, 3,  FALSE)","v":"純物質"},null,{"$f":"VLOOKUP(F669,工作表9!$C$1:$D$8, 2, FALSE)","v":1810},0]
[null,null,null,null,null,22,{"$f":"VLOOKUP(F670,工作表9!$C$1:$E$8, 3,  FALSE)","v":"純物質"},null,{"$f":"VLOOKUP(F670,工作表9!$C$1:$D$8, 2, FALSE)","v":1810},0]
[null,null,null,null,null,22,{"$f":"VLOOKUP(F671,工作表9!$C$1:$E$8, 3,  FALSE)","v":"純物質"},null,{"$f":"VLOOKUP(F671,工作表9!$C$1:$D$8, 2, FALSE)","v":1810},0]
[null,null,null,null,null,22,{"$f":"VLOOKUP(F672,工作表9!$C$1:$E$8, 3,  FALSE)","v":"純物質"},null,{"$f":"VLOOKUP(F672,工作表9!$C$1:$D$8, 2, FALSE)","v":1810},0]
[null,null,null,null,null,22,{"$f":"VLOOKUP(F673,工作表9!$C$1:$E$8, 3,  FALSE)","v":"純物質"},null,{"$f":"VLOOKUP(F673,工作表9!$C$1:$D$8, 2, FALSE)","v":1810},0]
[null,null,null,null,null,22,{"$f":"VLOOKUP(F674,工作表9!$C$1:$E$8, 3,  FALSE)","v":"純物質"},null,{"$f":"VLOOKUP(F674,工作表9!$C$1:$D$8, 2, FALSE)","v":1810},0]
[null,null,null,null,null,22,{"$f":"VLOOKUP(F675,工作表9!$C$1:$E$8, 3,  FALSE)","v":"純物質"},null,{"$f":"VLOOKUP(F675,工作表9!$C$1:$D$8, 2, FALSE)","v":1810},0]
[null,null,null,null,null,22,{"$f":"VLOOKUP(F676,工作表9!$C$1:$E$8, 3,  FALSE)","v":"純物質"},null,{"$f":"VLOOKUP(F676,工作表9!$C$1:$D$8, 2, FALSE)","v":1810},0]
[null,null,null,null,null,22,{"$f":"VLOOKUP(F677,工作表9!$C$1:$E$8, 3,  FALSE)","v":"純物質"},null,{"$f":"VLOOKUP(F677,工作表9!$C$1:$D$8, 2, FALSE)","v":1810},0]
[null,null,null,null,null,22,{"$f":"VLOOKUP(F678,工作表9!$C$1:$E$8, 3,  FALSE)","v":"純物質"},null,{"$f":"VLOOKUP(F678,工作表9!$C$1:$D$8, 2, FALSE)","v":1810},0]
[null,null,null,null,null,22,{"$f":"VLOOKUP(F679,工作表9!$C$1:$E$8, 3,  FALSE)","v":"純物質"},null,{"$f":"VLOOKUP(F679,工作表9!$C$1:$D$8, 2, FALSE)","v":1810},0]
[null,null,null,null,null,22,{"$f":"VLOOKUP(F680,工作表9!$C$1:$E$8, 3,  FALSE)","v":"純物質"},null,{"$f":"VLOOKUP(F680,工作表9!$C$1:$D$8, 2, FALSE)","v":1810},0]
[null,null,null,null,null,22,{"$f":"VLOOKUP(F681,工作表9!$C$1:$E$8, 3,  FALSE)","v":"純物質"},null,{"$f":"VLOOKUP(F681,工作表9!$C$1:$D$8, 2, FALSE)","v":1810},0]
[null,null,null,null,null,22,{"$f":"VLOOKUP(F682,工作表9!$C$1:$E$8, 3,  FALSE)","v":"純物質"},null,{"$f":"VLOOKUP(F682,工作表9!$C$1:$D$8, 2, FALSE)","v":1810},0]
[null,null,null,null,null,22,{"$f":"VLOOKUP(F683,工作表9!$C$1:$E$8, 3,  FALSE)","v":"純物質"},null,{"$f":"VLOOKUP(F683,工作表9!$C$1:$D$8, 2, FALSE)","v":1810},0]
[null,null,null,null,null,22,{"$f":"VLOOKUP(F684,工作表9!$C$1:$E$8, 3,  FALSE)","v":"純物質"},null,{"$f":"VLOOKUP(F684,工作表9!$C$1:$D$8, 2, FALSE)","v":1810},0]
[null,null,null,null,null,22,{"$f":"VLOOKUP(F685,工作表9!$C$1:$E$8, 3,  FALSE)","v":"純物質"},null,{"$f":"VLOOKUP(F685,工作表9!$C$1:$D$8, 2, FALSE)","v":1810},0]
[null,null,null,null,null,22,{"$f":"VLOOKUP(F686,工作表9!$C$1:$E$8, 3,  FALSE)","v":"純物質"},null,{"$f":"VLOOKUP(F686,工作表9!$C$1:$D$8, 2, FALSE)","v":1810},0]
[null,null,null,null,null,22,{"$f":"VLOOKUP(F687,工作表9!$C$1:$E$8, 3,  FALSE)","v":"純物質"},null,{"$f":"VLOOKUP(F687,工作表9!$C$1:$D$8, 2, FALSE)","v":1810},0]
[null,null,null,null,null,22,{"$f":"VLOOKUP(F688,工作表9!$C$1:$E$8, 3,  FALSE)","v":"純物質"},null,{"$f":"VLOOKUP(F688,工作表9!$C$1:$D$8, 2, FALSE)","v":1810},0]
[null,null,null,null,null,22,{"$f":"VLOOKUP(F689,工作表9!$C$1:$E$8, 3,  FALSE)","v":"純物質"},null,{"$f":"VLOOKUP(F689,工作表9!$C$1:$D$8, 2, FALSE)","v":1810},0]
[null,null,null,null,null,22,{"$f":"VLOOKUP(F690,工作表9!$C$1:$E$8, 3,  FALSE)","v":"純物質"},null,{"$f":"VLOOKUP(F690,工作表9!$C$1:$D$8, 2, FALSE)","v":1810},0]
[null,null,null,null,null,22,{"$f":"VLOOKUP(F691,工作表9!$C$1:$E$8, 3,  FALSE)","v":"純物質"},null,{"$f":"VLOOKUP(F691,工作表9!$C$1:$D$8, 2, FALSE)","v":1810},0]
[null,null,null,null,null,22,{"$f":"VLOOKUP(F692,工作表9!$C$1:$E$8, 3,  FALSE)","v":"純物質"},null,{"$f":"VLOOKUP(F692,工作表9!$C$1:$D$8, 2, FALSE)","v":1810},0]
[null,null,null,null,null,22,{"$f":"VLOOKUP(F693,工作表9!$C$1:$E$8, 3,  FALSE)","v":"純物質"},null,{"$f":"VLOOKUP(F693,工作表9!$C$1:$D$8, 2, FALSE)","v":1810},0]
[null,null,null,null,null,22,{"$f":"VLOOKUP(F694,工作表9!$C$1:$E$8, 3,  FALSE)","v":"純物質"},null,{"$f":"VLOOKUP(F694,工作表9!$C$1:$D$8, 2, FALSE)","v":1810},0]
[null,null,null,null,null,22,{"$f":"VLOOKUP(F695,工作表9!$C$1:$E$8, 3,  FALSE)","v":"純物質"},null,{"$f":"VLOOKUP(F695,工作表9!$C$1:$D$8, 2, FALSE)","v":1810},0]
[null,null,null,null,null,22,{"$f":"VLOOKUP(F696,工作表9!$C$1:$E$8, 3,  FALSE)","v":"純物質"},null,{"$f":"VLOOKUP(F696,工作表9!$C$1:$D$8, 2, FALSE)","v":1810},0]
[null,null,null,null,null,22,{"$f":"VLOOKUP(F697,工作表9!$C$1:$E$8, 3,  FALSE)","v":"純物質"},null,{"$f":"VLOOKUP(F697,工作表9!$C$1:$D$8, 2, FALSE)","v":1810},0]
[null,null,null,null,null,22,{"$f":"VLOOKUP(F698,工作表9!$C$1:$E$8, 3,  FALSE)","v":"純物質"},null,{"$f":"VLOOKUP(F698,工作表9!$C$1:$D$8, 2, FALSE)","v":1810},0]
[null,null,null,null,null,22,{"$f":"VLOOKUP(F699,工作表9!$C$1:$E$8, 3,  FALSE)","v":"純物質"},null,{"$f":"VLOOKUP(F699,工作表9!$C$1:$D$8, 2, FALSE)","v":1810},0]
[null,null,null,null,null,22,{"$f":"VLOOKUP(F700,工作表9!$C$1:$E$8, 3,  FALSE)","v":"純物質"},null,{"$f":"VLOOKUP(F700,工作表9!$C$1:$D$8, 2, FALSE)","v":1810},0]
[null,null,null,null,null,22,{"$f":"VLOOKUP(F701,工作表9!$C$1:$E$8, 3,  FALSE)","v":"純物質"},null,{"$f":"VLOOKUP(F701,工作表9!$C$1:$D$8, 2, FALSE)","v":1810},0]
[null,null,null,null,null,22,{"$f":"VLOOKUP(F702,工作表9!$C$1:$E$8, 3,  FALSE)","v":"純物質"},null,{"$f":"VLOOKUP(F702,工作表9!$C$1:$D$8, 2, FALSE)","v":1810},0]
[null,null,null,null,null,22,{"$f":"VLOOKUP(F703,工作表9!$C$1:$E$8, 3,  FALSE)","v":"純物質"},null,{"$f":"VLOOKUP(F703,工作表9!$C$1:$D$8, 2, FALSE)","v":1810},0]
[null,null,null,null,null,22,{"$f":"VLOOKUP(F704,工作表9!$C$1:$E$8, 3,  FALSE)","v":"純物質"},null,{"$f":"VLOOKUP(F704,工作表9!$C$1:$D$8, 2, FALSE)","v":1810},0]
[null,null,null,null,null,22,{"$f":"VLOOKUP(F705,工作表9!$C$1:$E$8, 3,  FALSE)","v":"純物質"},null,{"$f":"VLOOKUP(F705,工作表9!$C$1:$D$8, 2, FALSE)","v":1810},0]
[null,null,null,null,null,22,{"$f":"VLOOKUP(F706,工作表9!$C$1:$E$8, 3,  FALSE)","v":"純物質"},null,{"$f":"VLOOKUP(F706,工作表9!$C$1:$D$8, 2, FALSE)","v":1810},0]
[null,null,null,null,null,22,{"$f":"VLOOKUP(F707,工作表9!$C$1:$E$8, 3,  FALSE)","v":"純物質"},null,{"$f":"VLOOKUP(F707,工作表9!$C$1:$D$8, 2, FALSE)","v":1810},0]
[null,null,null,null,null,22,{"$f":"VLOOKUP(F708,工作表9!$C$1:$E$8, 3,  FALSE)","v":"純物質"},null,{"$f":"VLOOKUP(F708,工作表9!$C$1:$D$8, 2, FALSE)","v":1810},0]
[null,null,null,null,null,22,{"$f":"VLOOKUP(F709,工作表9!$C$1:$E$8, 3,  FALSE)","v":"純物質"},null,{"$f":"VLOOKUP(F709,工作表9!$C$1:$D$8, 2, FALSE)","v":1810},0]
[null,null,null,null,null,22,{"$f":"VLOOKUP(F710,工作表9!$C$1:$E$8, 3,  FALSE)","v":"純物質"},null,{"$f":"VLOOKUP(F710,工作表9!$C$1:$D$8, 2, FALSE)","v":1810},{"$f":"H710*I710","v":0}]
[null,null,null,null,null,22,{"$f":"VLOOKUP(F711,工作表9!$C$1:$E$8, 3,  FALSE)","v":"純物質"},null,{"$f":"VLOOKUP(F711,工作表9!$C$1:$D$8, 2, FALSE)","v":1810},0]
[null,null,null,null,null,22,{"$f":"VLOOKUP(F712,工作表9!$C$1:$E$8, 3,  FALSE)","v":"純物質"},null,{"$f":"VLOOKUP(F712,工作表9!$C$1:$D$8, 2, FALSE)","v":1810},0]
[null,null,null,null,null,22,{"$f":"VLOOKUP(F713,工作表9!$C$1:$E$8, 3,  FALSE)","v":"純物質"},null,{"$f":"VLOOKUP(F713,工作表9!$C$1:$D$8, 2, FALSE)","v":1810},0]
[null,null,null,null,null,22,{"$f":"VLOOKUP(F714,工作表9!$C$1:$E$8, 3,  FALSE)","v":"純物質"},null,{"$f":"VLOOKUP(F714,工作表9!$C$1:$D$8, 2, FALSE)","v":1810},0]
[null,null,null,null,null,22,{"$f":"VLOOKUP(F715,工作表9!$C$1:$E$8, 3,  FALSE)","v":"純物質"},null,{"$f":"VLOOKUP(F715,工作表9!$C$1:$D$8, 2, FALSE)","v":1810},0]
[null,null,null,null,null,22,{"$f":"VLOOKUP(F716,工作表9!$C$1:$E$8, 3,  FALSE)","v":"純物質"},null,{"$f":"VLOOKUP(F716,工作表9!$C$1:$D$8, 2, FALSE)","v":1810},0]
[null,null,null,null,null,22,{"$f":"VLOOKUP(F717,工作表9!$C$1:$E$8, 3,  FALSE)","v":"純物質"},null,{"$f":"VLOOKUP(F717,工作表9!$C$1:$D$8, 2, FALSE)","v":1810},0]
[null,null,null,null,null,22,{"$f":"VLOOKUP(F718,工作表9!$C$1:$E$8, 3,  FALSE)","v":"純物質"},null,{"$f":"VLOOKUP(F718,工作表9!$C$1:$D$8, 2, FALSE)","v":1810},0]
[null,null,null,null,null,22,{"$f":"VLOOKUP(F719,工作表9!$C$1:$E$8, 3,  FALSE)","v":"純物質"},null,{"$f":"VLOOKUP(F719,工作表9!$C$1:$D$8, 2, FALSE)","v":1810},0]
[null,null,null,null,null,22,{"$f":"VLOOKUP(F720,工作表9!$C$1:$E$8, 3,  FALSE)","v":"純物質"},null,{"$f":"VLOOKUP(F720,工作表9!$C$1:$D$8, 2, FALSE)","v":1810},0]
[null,null,null,null,null,22,{"$f":"VLOOKUP(F721,工作表9!$C$1:$E$8, 3,  FALSE)","v":"純物質"},null,{"$f":"VLOOKUP(F721,工作表9!$C$1:$D$8, 2, FALSE)","v":1810},0]
[null,null,null,null,null,22,{"$f":"VLOOKUP(F722,工作表9!$C$1:$E$8, 3,  FALSE)","v":"純物質"},null,{"$f":"VLOOKUP(F722,工作表9!$C$1:$D$8, 2, FALSE)","v":1810},0]
[null,null,null,null,null,22,{"$f":"VLOOKUP(F723,工作表9!$C$1:$E$8, 3,  FALSE)","v":"純物質"},null,{"$f":"VLOOKUP(F723,工作表9!$C$1:$D$8, 2, FALSE)","v":1810},0]
[null,null,null,null,null,22,{"$f":"VLOOKUP(F724,工作表9!$C$1:$E$8, 3,  FALSE)","v":"純物質"},null,{"$f":"VLOOKUP(F724,工作表9!$C$1:$D$8, 2, FALSE)","v":1810},0]
[null,null,null,null,null,22,{"$f":"VLOOKUP(F725,工作表9!$C$1:$E$8, 3,  FALSE)","v":"純物質"},null,{"$f":"VLOOKUP(F725,工作表9!$C$1:$D$8, 2, FALSE)","v":1810},0]
[null,null,null,null,null,22,{"$f":"VLOOKUP(F726,工作表9!$C$1:$E$8, 3,  FALSE)","v":"純物質"},null,{"$f":"VLOOKUP(F726,工作表9!$C$1:$D$8, 2, FALSE)","v":1810},0]
[null,null,null,null,null,22,{"$f":"VLOOKUP(F727,工作表9!$C$1:$E$8, 3,  FALSE)","v":"純物質"},null,{"$f":"VLOOKUP(F727,工作表9!$C$1:$D$8, 2, FALSE)","v":1810},0]
[null,null,null,null,null,22,{"$f":"VLOOKUP(F728,工作表9!$C$1:$E$8, 3,  FALSE)","v":"純物質"},null,{"$f":"VLOOKUP(F728,工作表9!$C$1:$D$8, 2, FALSE)","v":1810},0]
[null,null,null,null,null,22,{"$f":"VLOOKUP(F729,工作表9!$C$1:$E$8, 3,  FALSE)","v":"純物質"},null,{"$f":"VLOOKUP(F729,工作表9!$C$1:$D$8, 2, FALSE)","v":1810},0]
[null,null,null,null,null,22,{"$f":"VLOOKUP(F730,工作表9!$C$1:$E$8, 3,  FALSE)","v":"純物質"},null,{"$f":"VLOOKUP(F730,工作表9!$C$1:$D$8, 2, FALSE)","v":1810},0]
[null,null,null,null,null,22,{"$f":"VLOOKUP(F731,工作表9!$C$1:$E$8, 3,  FALSE)","v":"純物質"},null,{"$f":"VLOOKUP(F731,工作表9!$C$1:$D$8, 2, FALSE)","v":1810},0]
[null,null,null,null,null,22,{"$f":"VLOOKUP(F732,工作表9!$C$1:$E$8, 3,  FALSE)","v":"純物質"},null,{"$f":"VLOOKUP(F732,工作表9!$C$1:$D$8, 2, FALSE)","v":1810},0]
[null,null,null,null,null,22,{"$f":"VLOOKUP(F733,工作表9!$C$1:$E$8, 3,  FALSE)","v":"純物質"},null,{"$f":"VLOOKUP(F733,工作表9!$C$1:$D$8, 2, FALSE)","v":1810},0]
[null,null,null,null,null,22,{"$f":"VLOOKUP(F734,工作表9!$C$1:$E$8, 3,  FALSE)","v":"純物質"},null,{"$f":"VLOOKUP(F734,工作表9!$C$1:$D$8, 2, FALSE)","v":1810},0]
[null,null,null,null,null,22,{"$f":"VLOOKUP(F735,工作表9!$C$1:$E$8, 3,  FALSE)","v":"純物質"},null,{"$f":"VLOOKUP(F735,工作表9!$C$1:$D$8, 2, FALSE)","v":1810},0]
[null,null,null,null,null,22,{"$f":"VLOOKUP(F736,工作表9!$C$1:$E$8, 3,  FALSE)","v":"純物質"},null,{"$f":"VLOOKUP(F736,工作表9!$C$1:$D$8, 2, FALSE)","v":1810},0]
[null,null,null,null,null,22,{"$f":"VLOOKUP(F737,工作表9!$C$1:$E$8, 3,  FALSE)","v":"純物質"},null,{"$f":"VLOOKUP(F737,工作表9!$C$1:$D$8, 2, FALSE)","v":1810},0]
[null,null,null,null,null,22,{"$f":"VLOOKUP(F738,工作表9!$C$1:$E$8, 3,  FALSE)","v":"純物質"},null,{"$f":"VLOOKUP(F738,工作表9!$C$1:$D$8, 2, FALSE)","v":1810},0]
[null,null,null,null,null,22,{"$f":"VLOOKUP(F739,工作表9!$C$1:$E$8, 3,  FALSE)","v":"純物質"},null,{"$f":"VLOOKUP(F739,工作表9!$C$1:$D$8, 2, FALSE)","v":1810},0]
[null,null,null,null,null,22,{"$f":"VLOOKUP(F740,工作表9!$C$1:$E$8, 3,  FALSE)","v":"純物質"},null,{"$f":"VLOOKUP(F740,工作表9!$C$1:$D$8, 2, FALSE)","v":1810},0]
[null,null,null,null,null,22,{"$f":"VLOOKUP(F741,工作表9!$C$1:$E$8, 3,  FALSE)","v":"純物質"},null,{"$f":"VLOOKUP(F741,工作表9!$C$1:$D$8, 2, FALSE)","v":1810},0]
[null,null,null,null,null,22,{"$f":"VLOOKUP(F742,工作表9!$C$1:$E$8, 3,  FALSE)","v":"純物質"},null,{"$f":"VLOOKUP(F742,工作表9!$C$1:$D$8, 2, FALSE)","v":1810},0]
[null,null,null,null,null,22,{"$f":"VLOOKUP(F743,工作表9!$C$1:$E$8, 3,  FALSE)","v":"純物質"},null,{"$f":"VLOOKUP(F743,工作表9!$C$1:$D$8, 2, FALSE)","v":1810},0]
[null,null,null,null,null,22,{"$f":"VLOOKUP(F744,工作表9!$C$1:$E$8, 3,  FALSE)","v":"純物質"},null,{"$f":"VLOOKUP(F744,工作表9!$C$1:$D$8, 2, FALSE)","v":1810},0]
[null,null,null,null,null,22,{"$f":"VLOOKUP(F745,工作表9!$C$1:$E$8, 3,  FALSE)","v":"純物質"},null,{"$f":"VLOOKUP(F745,工作表9!$C$1:$D$8, 2, FALSE)","v":1810},0]
[null,null,null,null,null,22,{"$f":"VLOOKUP(F746,工作表9!$C$1:$E$8, 3,  FALSE)","v":"純物質"},null,{"$f":"VLOOKUP(F746,工作表9!$C$1:$D$8, 2, FALSE)","v":1810},0]
[null,null,null,null,null,22,{"$f":"VLOOKUP(F747,工作表9!$C$1:$E$8, 3,  FALSE)","v":"純物質"},null,{"$f":"VLOOKUP(F747,工作表9!$C$1:$D$8, 2, FALSE)","v":1810},0]
[null,null,null,null,null,22,{"$f":"VLOOKUP(F748,工作表9!$C$1:$E$8, 3,  FALSE)","v":"純物質"},null,{"$f":"VLOOKUP(F748,工作表9!$C$1:$D$8, 2, FALSE)","v":1810},0]
[null,null,null,null,null,22,{"$f":"VLOOKUP(F749,工作表9!$C$1:$E$8, 3,  FALSE)","v":"純物質"},null,{"$f":"VLOOKUP(F749,工作表9!$C$1:$D$8, 2, FALSE)","v":1810},0]
[null,null,null,null,null,22,{"$f":"VLOOKUP(F750,工作表9!$C$1:$E$8, 3,  FALSE)","v":"純物質"},null,{"$f":"VLOOKUP(F750,工作表9!$C$1:$D$8, 2, FALSE)","v":1810},0]
[null,null,null,null,null,22,{"$f":"VLOOKUP(F751,工作表9!$C$1:$E$8, 3,  FALSE)","v":"純物質"},null,{"$f":"VLOOKUP(F751,工作表9!$C$1:$D$8, 2, FALSE)","v":1810},0]
[null,null,null,null,null,22,{"$f":"VLOOKUP(F752,工作表9!$C$1:$E$8, 3,  FALSE)","v":"純物質"},null,{"$f":"VLOOKUP(F752,工作表9!$C$1:$D$8, 2, FALSE)","v":1810},0]
[null,null,null,null,null,22,{"$f":"VLOOKUP(F753,工作表9!$C$1:$E$8, 3,  FALSE)","v":"純物質"},null,{"$f":"VLOOKUP(F753,工作表9!$C$1:$D$8, 2, FALSE)","v":1810},0]
[null,null,null,null,null,22,{"$f":"VLOOKUP(F754,工作表9!$C$1:$E$8, 3,  FALSE)","v":"純物質"},null,{"$f":"VLOOKUP(F754,工作表9!$C$1:$D$8, 2, FALSE)","v":1810},0]
[null,null,null,null,null,22,{"$f":"VLOOKUP(F755,工作表9!$C$1:$E$8, 3,  FALSE)","v":"純物質"},null,{"$f":"VLOOKUP(F755,工作表9!$C$1:$D$8, 2, FALSE)","v":1810},0]
[null,null,null,null,null,22,{"$f":"VLOOKUP(F756,工作表9!$C$1:$E$8, 3,  FALSE)","v":"純物質"},null,{"$f":"VLOOKUP(F756,工作表9!$C$1:$D$8, 2, FALSE)","v":1810},0]
[null,null,null,null,null,22,{"$f":"VLOOKUP(F757,工作表9!$C$1:$E$8, 3,  FALSE)","v":"純物質"},null,{"$f":"VLOOKUP(F757,工作表9!$C$1:$D$8, 2, FALSE)","v":1810},0]
[null,null,null,null,null,22,{"$f":"VLOOKUP(F758,工作表9!$C$1:$E$8, 3,  FALSE)","v":"純物質"},null,{"$f":"VLOOKUP(F758,工作表9!$C$1:$D$8, 2, FALSE)","v":1810},0]
[null,null,null,null,null,22,{"$f":"VLOOKUP(F759,工作表9!$C$1:$E$8, 3,  FALSE)","v":"純物質"},null,{"$f":"VLOOKUP(F759,工作表9!$C$1:$D$8, 2, FALSE)","v":1810},0]
[null,null,null,null,null,22,{"$f":"VLOOKUP(F760,工作表9!$C$1:$E$8, 3,  FALSE)","v":"純物質"},null,{"$f":"VLOOKUP(F760,工作表9!$C$1:$D$8, 2, FALSE)","v":1810},0]
[null,null,null,null,null,22,{"$f":"VLOOKUP(F761,工作表9!$C$1:$E$8, 3,  FALSE)","v":"純物質"},null,{"$f":"VLOOKUP(F761,工作表9!$C$1:$D$8, 2, FALSE)","v":1810},0]
[null,null,null,null,null,22,{"$f":"VLOOKUP(F762,工作表9!$C$1:$E$8, 3,  FALSE)","v":"純物質"},null,{"$f":"VLOOKUP(F762,工作表9!$C$1:$D$8, 2, FALSE)","v":1810},0]
[null,null,null,null,null,22,{"$f":"VLOOKUP(F763,工作表9!$C$1:$E$8, 3,  FALSE)","v":"純物質"},null,{"$f":"VLOOKUP(F763,工作表9!$C$1:$D$8, 2, FALSE)","v":1810},0]
[null,null,null,null,null,22,{"$f":"VLOOKUP(F764,工作表9!$C$1:$E$8, 3,  FALSE)","v":"純物質"},null,{"$f":"VLOOKUP(F764,工作表9!$C$1:$D$8, 2, FALSE)","v":1810},0]
[null,null,null,null,null,22,{"$f":"VLOOKUP(F765,工作表9!$C$1:$E$8, 3,  FALSE)","v":"純物質"},null,{"$f":"VLOOKUP(F765,工作表9!$C$1:$D$8, 2, FALSE)","v":1810},0]
[null,null,null,null,null,22,{"$f":"VLOOKUP(F766,工作表9!$C$1:$E$8, 3,  FALSE)","v":"純物質"},null,{"$f":"VLOOKUP(F766,工作表9!$C$1:$D$8, 2, FALSE)","v":1810},0]
[null,null,null,null,null,22,{"$f":"VLOOKUP(F767,工作表9!$C$1:$E$8, 3,  FALSE)","v":"純物質"},null,{"$f":"VLOOKUP(F767,工作表9!$C$1:$D$8, 2, FALSE)","v":1810},0]
[null,null,null,null,null,22,{"$f":"VLOOKUP(F768,工作表9!$C$1:$E$8, 3,  FALSE)","v":"純物質"},null,{"$f":"VLOOKUP(F768,工作表9!$C$1:$D$8, 2, FALSE)","v":1810},0]
[null,null,null,null,null,22,{"$f":"VLOOKUP(F769,工作表9!$C$1:$E$8, 3,  FALSE)","v":"純物質"},null,{"$f":"VLOOKUP(F769,工作表9!$C$1:$D$8, 2, FALSE)","v":1810},0]
[null,null,null,null,null,22,{"$f":"VLOOKUP(F770,工作表9!$C$1:$E$8, 3,  FALSE)","v":"純物質"},null,{"$f":"VLOOKUP(F770,工作表9!$C$1:$D$8, 2, FALSE)","v":1810},0]
[null,null,null,null,null,22,{"$f":"VLOOKUP(F771,工作表9!$C$1:$E$8, 3,  FALSE)","v":"純物質"},null,{"$f":"VLOOKUP(F771,工作表9!$C$1:$D$8, 2, FALSE)","v":1810},0]
[null,null,null,null,null,22,{"$f":"VLOOKUP(F772,工作表9!$C$1:$E$8, 3,  FALSE)","v":"純物質"},null,{"$f":"VLOOKUP(F772,工作表9!$C$1:$D$8, 2, FALSE)","v":1810},0]
[null,null,null,null,null,22,{"$f":"VLOOKUP(F773,工作表9!$C$1:$E$8, 3,  FALSE)","v":"純物質"},null,{"$f":"VLOOKUP(F773,工作表9!$C$1:$D$8, 2, FALSE)","v":1810},0]
[null,null,null,null,null,22,{"$f":"VLOOKUP(F774,工作表9!$C$1:$E$8, 3,  FALSE)","v":"純物質"},null,{"$f":"VLOOKUP(F774,工作表9!$C$1:$D$8, 2, FALSE)","v":1810},{"$f":"H774*I774","v":0}]
[null,null,null,null,null,22,{"$f":"VLOOKUP(F775,工作表9!$C$1:$E$8, 3,  FALSE)","v":"純物質"},null,{"$f":"VLOOKUP(F775,工作表9!$C$1:$D$8, 2, FALSE)","v":1810},0]
[null,null,null,null,null,22,{"$f":"VLOOKUP(F776,工作表9!$C$1:$E$8, 3,  FALSE)","v":"純物質"},null,{"$f":"VLOOKUP(F776,工作表9!$C$1:$D$8, 2, FALSE)","v":1810},0]
[null,null,null,null,null,22,{"$f":"VLOOKUP(F777,工作表9!$C$1:$E$8, 3,  FALSE)","v":"純物質"},null,{"$f":"VLOOKUP(F777,工作表9!$C$1:$D$8, 2, FALSE)","v":1810},0]
[null,null,null,null,null,22,{"$f":"VLOOKUP(F778,工作表9!$C$1:$E$8, 3,  FALSE)","v":"純物質"},null,{"$f":"VLOOKUP(F778,工作表9!$C$1:$D$8, 2, FALSE)","v":1810},0]
[null,null,null,null,null,22,{"$f":"VLOOKUP(F779,工作表9!$C$1:$E$8, 3,  FALSE)","v":"純物質"},null,{"$f":"VLOOKUP(F779,工作表9!$C$1:$D$8, 2, FALSE)","v":1810},0]
[null,null,null,null,null,22,{"$f":"VLOOKUP(F780,工作表9!$C$1:$E$8, 3,  FALSE)","v":"純物質"},null,{"$f":"VLOOKUP(F780,工作表9!$C$1:$D$8, 2, FALSE)","v":1810},0]
[null,null,null,null,null,22,{"$f":"VLOOKUP(F781,工作表9!$C$1:$E$8, 3,  FALSE)","v":"純物質"},null,{"$f":"VLOOKUP(F781,工作表9!$C$1:$D$8, 2, FALSE)","v":1810},0]
[null,null,null,null,null,22,{"$f":"VLOOKUP(F782,工作表9!$C$1:$E$8, 3,  FALSE)","v":"純物質"},null,{"$f":"VLOOKUP(F782,工作表9!$C$1:$D$8, 2, FALSE)","v":1810},0]
[null,null,null,null,null,22,{"$f":"VLOOKUP(F783,工作表9!$C$1:$E$8, 3,  FALSE)","v":"純物質"},null,{"$f":"VLOOKUP(F783,工作表9!$C$1:$D$8, 2, FALSE)","v":1810},0]
[null,null,null,null,null,22,{"$f":"VLOOKUP(F784,工作表9!$C$1:$E$8, 3,  FALSE)","v":"純物質"},null,{"$f":"VLOOKUP(F784,工作表9!$C$1:$D$8, 2, FALSE)","v":1810},0]
[null,null,null,null,null,22,{"$f":"VLOOKUP(F785,工作表9!$C$1:$E$8, 3,  FALSE)","v":"純物質"},null,{"$f":"VLOOKUP(F785,工作表9!$C$1:$D$8, 2, FALSE)","v":1810},0]
[null,null,null,null,null,22,{"$f":"VLOOKUP(F786,工作表9!$C$1:$E$8, 3,  FALSE)","v":"純物質"},null,{"$f":"VLOOKUP(F786,工作表9!$C$1:$D$8, 2, FALSE)","v":1810},0]
[null,null,null,null,null,22,{"$f":"VLOOKUP(F787,工作表9!$C$1:$E$8, 3,  FALSE)","v":"純物質"},null,{"$f":"VLOOKUP(F787,工作表9!$C$1:$D$8, 2, FALSE)","v":1810},0]
[null,null,null,null,null,22,{"$f":"VLOOKUP(F788,工作表9!$C$1:$E$8, 3,  FALSE)","v":"純物質"},null,{"$f":"VLOOKUP(F788,工作表9!$C$1:$D$8, 2, FALSE)","v":1810},0]
[null,null,null,null,null,22,{"$f":"VLOOKUP(F789,工作表9!$C$1:$E$8, 3,  FALSE)","v":"純物質"},null,{"$f":"VLOOKUP(F789,工作表9!$C$1:$D$8, 2, FALSE)","v":1810},0]
[null,null,null,null,null,22,{"$f":"VLOOKUP(F790,工作表9!$C$1:$E$8, 3,  FALSE)","v":"純物質"},null,{"$f":"VLOOKUP(F790,工作表9!$C$1:$D$8, 2, FALSE)","v":1810},0]
[null,null,null,null,null,22,{"$f":"VLOOKUP(F791,工作表9!$C$1:$E$8, 3,  FALSE)","v":"純物質"},null,{"$f":"VLOOKUP(F791,工作表9!$C$1:$D$8, 2, FALSE)","v":1810},0]
[null,null,null,null,null,22,{"$f":"VLOOKUP(F792,工作表9!$C$1:$E$8, 3,  FALSE)","v":"純物質"},null,{"$f":"VLOOKUP(F792,工作表9!$C$1:$D$8, 2, FALSE)","v":1810},0]
[null,null,null,null,null,22,{"$f":"VLOOKUP(F793,工作表9!$C$1:$E$8, 3,  FALSE)","v":"純物質"},null,{"$f":"VLOOKUP(F793,工作表9!$C$1:$D$8, 2, FALSE)","v":1810},0]
[null,null,null,null,null,22,{"$f":"VLOOKUP(F794,工作表9!$C$1:$E$8, 3,  FALSE)","v":"純物質"},null,{"$f":"VLOOKUP(F794,工作表9!$C$1:$D$8, 2, FALSE)","v":1810},0]
[null,null,null,null,null,22,{"$f":"VLOOKUP(F795,工作表9!$C$1:$E$8, 3,  FALSE)","v":"純物質"},null,{"$f":"VLOOKUP(F795,工作表9!$C$1:$D$8, 2, FALSE)","v":1810},0]
[null,null,null,null,null,22,{"$f":"VLOOKUP(F796,工作表9!$C$1:$E$8, 3,  FALSE)","v":"純物質"},null,{"$f":"VLOOKUP(F796,工作表9!$C$1:$D$8, 2, FALSE)","v":1810},0]
[null,null,null,null,null,22,{"$f":"VLOOKUP(F797,工作表9!$C$1:$E$8, 3,  FALSE)","v":"純物質"},null,{"$f":"VLOOKUP(F797,工作表9!$C$1:$D$8, 2, FALSE)","v":1810},0]
[null,null,null,null,null,22,{"$f":"VLOOKUP(F798,工作表9!$C$1:$E$8, 3,  FALSE)","v":"純物質"},null,{"$f":"VLOOKUP(F798,工作表9!$C$1:$D$8, 2, FALSE)","v":1810},0]
[null,null,null,null,null,22,{"$f":"VLOOKUP(F799,工作表9!$C$1:$E$8, 3,  FALSE)","v":"純物質"},null,{"$f":"VLOOKUP(F799,工作表9!$C$1:$D$8, 2, FALSE)","v":1810},0]
[null,null,null,null,null,22,{"$f":"VLOOKUP(F800,工作表9!$C$1:$E$8, 3,  FALSE)","v":"純物質"},null,{"$f":"VLOOKUP(F800,工作表9!$C$1:$D$8, 2, FALSE)","v":1810},0]
[null,null,null,null,null,22,{"$f":"VLOOKUP(F801,工作表9!$C$1:$E$8, 3,  FALSE)","v":"純物質"},null,{"$f":"VLOOKUP(F801,工作表9!$C$1:$D$8, 2, FALSE)","v":1810},0]
[null,null,null,null,null,22,{"$f":"VLOOKUP(F802,工作表9!$C$1:$E$8, 3,  FALSE)","v":"純物質"},null,{"$f":"VLOOKUP(F802,工作表9!$C$1:$D$8, 2, FALSE)","v":1810},0]
[null,null,null,null,null,22,{"$f":"VLOOKUP(F803,工作表9!$C$1:$E$8, 3,  FALSE)","v":"純物質"},null,{"$f":"VLOOKUP(F803,工作表9!$C$1:$D$8, 2, FALSE)","v":1810},0]
[null,null,null,null,null,22,{"$f":"VLOOKUP(F804,工作表9!$C$1:$E$8, 3,  FALSE)","v":"純物質"},null,{"$f":"VLOOKUP(F804,工作表9!$C$1:$D$8, 2, FALSE)","v":1810},0]
[null,null,null,null,null,22,{"$f":"VLOOKUP(F805,工作表9!$C$1:$E$8, 3,  FALSE)","v":"純物質"},null,{"$f":"VLOOKUP(F805,工作表9!$C$1:$D$8, 2, FALSE)","v":1810},0]
[null,null,null,null,null,22,{"$f":"VLOOKUP(F806,工作表9!$C$1:$E$8, 3,  FALSE)","v":"純物質"},null,{"$f":"VLOOKUP(F806,工作表9!$C$1:$D$8, 2, FALSE)","v":1810},0]
[null,null,null,null,null,22,{"$f":"VLOOKUP(F807,工作表9!$C$1:$E$8, 3,  FALSE)","v":"純物質"},null,{"$f":"VLOOKUP(F807,工作表9!$C$1:$D$8, 2, FALSE)","v":1810},0]
[null,null,null,null,null,22,{"$f":"VLOOKUP(F808,工作表9!$C$1:$E$8, 3,  FALSE)","v":"純物質"},null,{"$f":"VLOOKUP(F808,工作表9!$C$1:$D$8, 2, FALSE)","v":1810},0]
[null,null,null,null,null,22,{"$f":"VLOOKUP(F809,工作表9!$C$1:$E$8, 3,  FALSE)","v":"純物質"},null,{"$f":"VLOOKUP(F809,工作表9!$C$1:$D$8, 2, FALSE)","v":1810},0]
[null,null,null,null,null,22,{"$f":"VLOOKUP(F810,工作表9!$C$1:$E$8, 3,  FALSE)","v":"純物質"},null,{"$f":"VLOOKUP(F810,工作表9!$C$1:$D$8, 2, FALSE)","v":1810},0]
[null,null,null,null,null,22,{"$f":"VLOOKUP(F811,工作表9!$C$1:$E$8, 3,  FALSE)","v":"純物質"},null,{"$f":"VLOOKUP(F811,工作表9!$C$1:$D$8, 2, FALSE)","v":1810},0]
[null,null,null,null,null,22,{"$f":"VLOOKUP(F812,工作表9!$C$1:$E$8, 3,  FALSE)","v":"純物質"},null,{"$f":"VLOOKUP(F812,工作表9!$C$1:$D$8, 2, FALSE)","v":1810},0]
[null,null,null,null,null,22,{"$f":"VLOOKUP(F813,工作表9!$C$1:$E$8, 3,  FALSE)","v":"純物質"},null,{"$f":"VLOOKUP(F813,工作表9!$C$1:$D$8, 2, FALSE)","v":1810},0]
[null,null,null,null,null,22,{"$f":"VLOOKUP(F814,工作表9!$C$1:$E$8, 3,  FALSE)","v":"純物質"},null,{"$f":"VLOOKUP(F814,工作表9!$C$1:$D$8, 2, FALSE)","v":1810},0]
[null,null,null,null,null,22,{"$f":"VLOOKUP(F815,工作表9!$C$1:$E$8, 3,  FALSE)","v":"純物質"},null,{"$f":"VLOOKUP(F815,工作表9!$C$1:$D$8, 2, FALSE)","v":1810},0]
[null,null,null,null,null,22,{"$f":"VLOOKUP(F816,工作表9!$C$1:$E$8, 3,  FALSE)","v":"純物質"},null,{"$f":"VLOOKUP(F816,工作表9!$C$1:$D$8, 2, FALSE)","v":1810},0]
[null,null,null,null,null,22,{"$f":"VLOOKUP(F817,工作表9!$C$1:$E$8, 3,  FALSE)","v":"純物質"},null,{"$f":"VLOOKUP(F817,工作表9!$C$1:$D$8, 2, FALSE)","v":1810},0]
[null,null,null,null,null,22,{"$f":"VLOOKUP(F818,工作表9!$C$1:$E$8, 3,  FALSE)","v":"純物質"},null,{"$f":"VLOOKUP(F818,工作表9!$C$1:$D$8, 2, FALSE)","v":1810},0]
[null,null,null,null,null,22,{"$f":"VLOOKUP(F819,工作表9!$C$1:$E$8, 3,  FALSE)","v":"純物質"},null,{"$f":"VLOOKUP(F819,工作表9!$C$1:$D$8, 2, FALSE)","v":1810},0]
[null,null,null,null,null,22,{"$f":"VLOOKUP(F820,工作表9!$C$1:$E$8, 3,  FALSE)","v":"純物質"},null,{"$f":"VLOOKUP(F820,工作表9!$C$1:$D$8, 2, FALSE)","v":1810},0]
[null,null,null,null,null,22,{"$f":"VLOOKUP(F821,工作表9!$C$1:$E$8, 3,  FALSE)","v":"純物質"},null,{"$f":"VLOOKUP(F821,工作表9!$C$1:$D$8, 2, FALSE)","v":1810},0]
[null,null,null,null,null,22,{"$f":"VLOOKUP(F822,工作表9!$C$1:$E$8, 3,  FALSE)","v":"純物質"},null,{"$f":"VLOOKUP(F822,工作表9!$C$1:$D$8, 2, FALSE)","v":1810},0]
[null,null,null,null,null,22,{"$f":"VLOOKUP(F823,工作表9!$C$1:$E$8, 3,  FALSE)","v":"純物質"},null,{"$f":"VLOOKUP(F823,工作表9!$C$1:$D$8, 2, FALSE)","v":1810},0]
[null,null,null,null,null,22,{"$f":"VLOOKUP(F824,工作表9!$C$1:$E$8, 3,  FALSE)","v":"純物質"},null,{"$f":"VLOOKUP(F824,工作表9!$C$1:$D$8, 2, FALSE)","v":1810},0]
[null,null,null,null,null,22,{"$f":"VLOOKUP(F825,工作表9!$C$1:$E$8, 3,  FALSE)","v":"純物質"},null,{"$f":"VLOOKUP(F825,工作表9!$C$1:$D$8, 2, FALSE)","v":1810},0]
[null,null,null,null,null,22,{"$f":"VLOOKUP(F826,工作表9!$C$1:$E$8, 3,  FALSE)","v":"純物質"},null,{"$f":"VLOOKUP(F826,工作表9!$C$1:$D$8, 2, FALSE)","v":1810},0]
[null,null,null,null,null,22,{"$f":"VLOOKUP(F827,工作表9!$C$1:$E$8, 3,  FALSE)","v":"純物質"},null,{"$f":"VLOOKUP(F827,工作表9!$C$1:$D$8, 2, FALSE)","v":1810},0]
[null,null,null,null,null,22,{"$f":"VLOOKUP(F828,工作表9!$C$1:$E$8, 3,  FALSE)","v":"純物質"},null,{"$f":"VLOOKUP(F828,工作表9!$C$1:$D$8, 2, FALSE)","v":1810},0]
[null,null,null,null,null,22,{"$f":"VLOOKUP(F829,工作表9!$C$1:$E$8, 3,  FALSE)","v":"純物質"},null,{"$f":"VLOOKUP(F829,工作表9!$C$1:$D$8, 2, FALSE)","v":1810},0]
[null,null,null,null,null,22,{"$f":"VLOOKUP(F830,工作表9!$C$1:$E$8, 3,  FALSE)","v":"純物質"},null,{"$f":"VLOOKUP(F830,工作表9!$C$1:$D$8, 2, FALSE)","v":1810},0]
[null,null,null,null,null,22,{"$f":"VLOOKUP(F831,工作表9!$C$1:$E$8, 3,  FALSE)","v":"純物質"},null,{"$f":"VLOOKUP(F831,工作表9!$C$1:$D$8, 2, FALSE)","v":1810},0]
[null,null,null,null,null,22,{"$f":"VLOOKUP(F832,工作表9!$C$1:$E$8, 3,  FALSE)","v":"純物質"},null,{"$f":"VLOOKUP(F832,工作表9!$C$1:$D$8, 2, FALSE)","v":1810},0]
[null,null,null,null,null,22,{"$f":"VLOOKUP(F833,工作表9!$C$1:$E$8, 3,  FALSE)","v":"純物質"},null,{"$f":"VLOOKUP(F833,工作表9!$C$1:$D$8, 2, FALSE)","v":1810},0]
[null,null,null,null,null,22,{"$f":"VLOOKUP(F834,工作表9!$C$1:$E$8, 3,  FALSE)","v":"純物質"},null,{"$f":"VLOOKUP(F834,工作表9!$C$1:$D$8, 2, FALSE)","v":1810},0]
[null,null,null,null,null,22,{"$f":"VLOOKUP(F835,工作表9!$C$1:$E$8, 3,  FALSE)","v":"純物質"},null,{"$f":"VLOOKUP(F835,工作表9!$C$1:$D$8, 2, FALSE)","v":1810},0]
[null,null,null,null,null,22,{"$f":"VLOOKUP(F836,工作表9!$C$1:$E$8, 3,  FALSE)","v":"純物質"},null,{"$f":"VLOOKUP(F836,工作表9!$C$1:$D$8, 2, FALSE)","v":1810},0]
[null,null,null,null,null,22,{"$f":"VLOOKUP(F837,工作表9!$C$1:$E$8, 3,  FALSE)","v":"純物質"},null,{"$f":"VLOOKUP(F837,工作表9!$C$1:$D$8, 2, FALSE)","v":1810},0]
[null,null,null,null,null,22,{"$f":"VLOOKUP(F838,工作表9!$C$1:$E$8, 3,  FALSE)","v":"純物質"},null,{"$f":"VLOOKUP(F838,工作表9!$C$1:$D$8, 2, FALSE)","v":1810},{"$f":"H838*I838","v":0}]
[null,null,null,null,null,22,{"$f":"VLOOKUP(F839,工作表9!$C$1:$E$8, 3,  FALSE)","v":"純物質"},null,{"$f":"VLOOKUP(F839,工作表9!$C$1:$D$8, 2, FALSE)","v":1810},0]
[null,null,null,null,null,22,{"$f":"VLOOKUP(F840,工作表9!$C$1:$E$8, 3,  FALSE)","v":"純物質"},null,{"$f":"VLOOKUP(F840,工作表9!$C$1:$D$8, 2, FALSE)","v":1810},0]
[null,null,null,null,null,22,{"$f":"VLOOKUP(F841,工作表9!$C$1:$E$8, 3,  FALSE)","v":"純物質"},null,{"$f":"VLOOKUP(F841,工作表9!$C$1:$D$8, 2, FALSE)","v":1810},0]
[null,null,null,null,null,22,{"$f":"VLOOKUP(F842,工作表9!$C$1:$E$8, 3,  FALSE)","v":"純物質"},null,{"$f":"VLOOKUP(F842,工作表9!$C$1:$D$8, 2, FALSE)","v":1810},0]
[null,null,null,null,null,22,{"$f":"VLOOKUP(F843,工作表9!$C$1:$E$8, 3,  FALSE)","v":"純物質"},null,{"$f":"VLOOKUP(F843,工作表9!$C$1:$D$8, 2, FALSE)","v":1810},0]
[null,null,null,null,null,22,{"$f":"VLOOKUP(F844,工作表9!$C$1:$E$8, 3,  FALSE)","v":"純物質"},null,{"$f":"VLOOKUP(F844,工作表9!$C$1:$D$8, 2, FALSE)","v":1810},0]
[null,null,null,null,null,22,{"$f":"VLOOKUP(F845,工作表9!$C$1:$E$8, 3,  FALSE)","v":"純物質"},null,{"$f":"VLOOKUP(F845,工作表9!$C$1:$D$8, 2, FALSE)","v":1810},0]
[null,null,null,null,null,22,{"$f":"VLOOKUP(F846,工作表9!$C$1:$E$8, 3,  FALSE)","v":"純物質"},null,{"$f":"VLOOKUP(F846,工作表9!$C$1:$D$8, 2, FALSE)","v":1810},0]
[null,null,null,null,null,22,{"$f":"VLOOKUP(F847,工作表9!$C$1:$E$8, 3,  FALSE)","v":"純物質"},null,{"$f":"VLOOKUP(F847,工作表9!$C$1:$D$8, 2, FALSE)","v":1810},0]
[null,null,null,null,null,22,{"$f":"VLOOKUP(F848,工作表9!$C$1:$E$8, 3,  FALSE)","v":"純物質"},null,{"$f":"VLOOKUP(F848,工作表9!$C$1:$D$8, 2, FALSE)","v":1810},0]
[null,null,null,null,null,22,{"$f":"VLOOKUP(F849,工作表9!$C$1:$E$8, 3,  FALSE)","v":"純物質"},null,{"$f":"VLOOKUP(F849,工作表9!$C$1:$D$8, 2, FALSE)","v":1810},0]
[null,null,null,null,null,22,{"$f":"VLOOKUP(F850,工作表9!$C$1:$E$8, 3,  FALSE)","v":"純物質"},null,{"$f":"VLOOKUP(F850,工作表9!$C$1:$D$8, 2, FALSE)","v":1810},0]
[null,null,null,null,null,22,{"$f":"VLOOKUP(F851,工作表9!$C$1:$E$8, 3,  FALSE)","v":"純物質"},null,{"$f":"VLOOKUP(F851,工作表9!$C$1:$D$8, 2, FALSE)","v":1810},0]
[null,null,null,null,null,22,{"$f":"VLOOKUP(F852,工作表9!$C$1:$E$8, 3,  FALSE)","v":"純物質"},null,{"$f":"VLOOKUP(F852,工作表9!$C$1:$D$8, 2, FALSE)","v":1810},0]
[null,null,null,null,null,22,{"$f":"VLOOKUP(F853,工作表9!$C$1:$E$8, 3,  FALSE)","v":"純物質"},null,{"$f":"VLOOKUP(F853,工作表9!$C$1:$D$8, 2, FALSE)","v":1810},0]
[null,null,null,null,null,22,{"$f":"VLOOKUP(F854,工作表9!$C$1:$E$8, 3,  FALSE)","v":"純物質"},null,{"$f":"VLOOKUP(F854,工作表9!$C$1:$D$8, 2, FALSE)","v":1810},0]
[null,null,null,null,null,22,{"$f":"VLOOKUP(F855,工作表9!$C$1:$E$8, 3,  FALSE)","v":"純物質"},null,{"$f":"VLOOKUP(F855,工作表9!$C$1:$D$8, 2, FALSE)","v":1810},0]
[null,null,null,null,null,22,{"$f":"VLOOKUP(F856,工作表9!$C$1:$E$8, 3,  FALSE)","v":"純物質"},null,{"$f":"VLOOKUP(F856,工作表9!$C$1:$D$8, 2, FALSE)","v":1810},0]
[null,null,null,null,null,22,{"$f":"VLOOKUP(F857,工作表9!$C$1:$E$8, 3,  FALSE)","v":"純物質"},null,{"$f":"VLOOKUP(F857,工作表9!$C$1:$D$8, 2, FALSE)","v":1810},0]
[null,null,null,null,null,22,{"$f":"VLOOKUP(F858,工作表9!$C$1:$E$8, 3,  FALSE)","v":"純物質"},null,{"$f":"VLOOKUP(F858,工作表9!$C$1:$D$8, 2, FALSE)","v":1810},0]
[null,null,null,null,null,22,{"$f":"VLOOKUP(F859,工作表9!$C$1:$E$8, 3,  FALSE)","v":"純物質"},null,{"$f":"VLOOKUP(F859,工作表9!$C$1:$D$8, 2, FALSE)","v":1810},0]
[null,null,null,null,null,22,{"$f":"VLOOKUP(F860,工作表9!$C$1:$E$8, 3,  FALSE)","v":"純物質"},null,{"$f":"VLOOKUP(F860,工作表9!$C$1:$D$8, 2, FALSE)","v":1810},0]
[null,null,null,null,null,22,{"$f":"VLOOKUP(F861,工作表9!$C$1:$E$8, 3,  FALSE)","v":"純物質"},null,{"$f":"VLOOKUP(F861,工作表9!$C$1:$D$8, 2, FALSE)","v":1810},0]
[null,null,null,null,null,22,{"$f":"VLOOKUP(F862,工作表9!$C$1:$E$8, 3,  FALSE)","v":"純物質"},null,{"$f":"VLOOKUP(F862,工作表9!$C$1:$D$8, 2, FALSE)","v":1810},0]
[null,null,null,null,null,22,{"$f":"VLOOKUP(F863,工作表9!$C$1:$E$8, 3,  FALSE)","v":"純物質"},null,{"$f":"VLOOKUP(F863,工作表9!$C$1:$D$8, 2, FALSE)","v":1810},0]
[null,null,null,null,null,22,{"$f":"VLOOKUP(F864,工作表9!$C$1:$E$8, 3,  FALSE)","v":"純物質"},null,{"$f":"VLOOKUP(F864,工作表9!$C$1:$D$8, 2, FALSE)","v":1810},0]
[null,null,null,null,null,22,{"$f":"VLOOKUP(F865,工作表9!$C$1:$E$8, 3,  FALSE)","v":"純物質"},null,{"$f":"VLOOKUP(F865,工作表9!$C$1:$D$8, 2, FALSE)","v":1810},0]
[null,null,null,null,null,22,{"$f":"VLOOKUP(F866,工作表9!$C$1:$E$8, 3,  FALSE)","v":"純物質"},null,{"$f":"VLOOKUP(F866,工作表9!$C$1:$D$8, 2, FALSE)","v":1810},0]
[null,null,null,null,null,22,{"$f":"VLOOKUP(F867,工作表9!$C$1:$E$8, 3,  FALSE)","v":"純物質"},null,{"$f":"VLOOKUP(F867,工作表9!$C$1:$D$8, 2, FALSE)","v":1810},0]
[null,null,null,null,null,22,{"$f":"VLOOKUP(F868,工作表9!$C$1:$E$8, 3,  FALSE)","v":"純物質"},null,{"$f":"VLOOKUP(F868,工作表9!$C$1:$D$8, 2, FALSE)","v":1810},0]
[null,null,null,null,null,22,{"$f":"VLOOKUP(F869,工作表9!$C$1:$E$8, 3,  FALSE)","v":"純物質"},null,{"$f":"VLOOKUP(F869,工作表9!$C$1:$D$8, 2, FALSE)","v":1810},0]
[null,null,null,null,null,22,{"$f":"VLOOKUP(F870,工作表9!$C$1:$E$8, 3,  FALSE)","v":"純物質"},null,{"$f":"VLOOKUP(F870,工作表9!$C$1:$D$8, 2, FALSE)","v":1810},0]
[null,null,null,null,null,22,{"$f":"VLOOKUP(F871,工作表9!$C$1:$E$8, 3,  FALSE)","v":"純物質"},null,{"$f":"VLOOKUP(F871,工作表9!$C$1:$D$8, 2, FALSE)","v":1810},0]
[null,null,null,null,null,22,{"$f":"VLOOKUP(F872,工作表9!$C$1:$E$8, 3,  FALSE)","v":"純物質"},null,{"$f":"VLOOKUP(F872,工作表9!$C$1:$D$8, 2, FALSE)","v":1810},0]
[null,null,null,null,null,22,{"$f":"VLOOKUP(F873,工作表9!$C$1:$E$8, 3,  FALSE)","v":"純物質"},null,{"$f":"VLOOKUP(F873,工作表9!$C$1:$D$8, 2, FALSE)","v":1810},0]
[null,null,null,null,null,22,{"$f":"VLOOKUP(F874,工作表9!$C$1:$E$8, 3,  FALSE)","v":"純物質"},null,{"$f":"VLOOKUP(F874,工作表9!$C$1:$D$8, 2, FALSE)","v":1810},0]
[null,null,null,null,null,22,{"$f":"VLOOKUP(F875,工作表9!$C$1:$E$8, 3,  FALSE)","v":"純物質"},null,{"$f":"VLOOKUP(F875,工作表9!$C$1:$D$8, 2, FALSE)","v":1810},0]
[null,null,null,null,null,22,{"$f":"VLOOKUP(F876,工作表9!$C$1:$E$8, 3,  FALSE)","v":"純物質"},null,{"$f":"VLOOKUP(F876,工作表9!$C$1:$D$8, 2, FALSE)","v":1810},0]
[null,null,null,null,null,22,{"$f":"VLOOKUP(F877,工作表9!$C$1:$E$8, 3,  FALSE)","v":"純物質"},null,{"$f":"VLOOKUP(F877,工作表9!$C$1:$D$8, 2, FALSE)","v":1810},0]
[null,null,null,null,null,22,{"$f":"VLOOKUP(F878,工作表9!$C$1:$E$8, 3,  FALSE)","v":"純物質"},null,{"$f":"VLOOKUP(F878,工作表9!$C$1:$D$8, 2, FALSE)","v":1810},0]
[null,null,null,null,null,22,{"$f":"VLOOKUP(F879,工作表9!$C$1:$E$8, 3,  FALSE)","v":"純物質"},null,{"$f":"VLOOKUP(F879,工作表9!$C$1:$D$8, 2, FALSE)","v":1810},0]
[null,null,null,null,null,22,{"$f":"VLOOKUP(F880,工作表9!$C$1:$E$8, 3,  FALSE)","v":"純物質"},null,{"$f":"VLOOKUP(F880,工作表9!$C$1:$D$8, 2, FALSE)","v":1810},0]
[null,null,null,null,null,22,{"$f":"VLOOKUP(F881,工作表9!$C$1:$E$8, 3,  FALSE)","v":"純物質"},null,{"$f":"VLOOKUP(F881,工作表9!$C$1:$D$8, 2, FALSE)","v":1810},0]
[null,null,null,null,null,22,{"$f":"VLOOKUP(F882,工作表9!$C$1:$E$8, 3,  FALSE)","v":"純物質"},null,{"$f":"VLOOKUP(F882,工作表9!$C$1:$D$8, 2, FALSE)","v":1810},0]
[null,null,null,null,null,22,{"$f":"VLOOKUP(F883,工作表9!$C$1:$E$8, 3,  FALSE)","v":"純物質"},null,{"$f":"VLOOKUP(F883,工作表9!$C$1:$D$8, 2, FALSE)","v":1810},0]
[null,null,null,null,null,22,{"$f":"VLOOKUP(F884,工作表9!$C$1:$E$8, 3,  FALSE)","v":"純物質"},null,{"$f":"VLOOKUP(F884,工作表9!$C$1:$D$8, 2, FALSE)","v":1810},0]
[null,null,null,null,null,22,{"$f":"VLOOKUP(F885,工作表9!$C$1:$E$8, 3,  FALSE)","v":"純物質"},null,{"$f":"VLOOKUP(F885,工作表9!$C$1:$D$8, 2, FALSE)","v":1810},0]
[null,null,null,null,null,22,{"$f":"VLOOKUP(F886,工作表9!$C$1:$E$8, 3,  FALSE)","v":"純物質"},null,{"$f":"VLOOKUP(F886,工作表9!$C$1:$D$8, 2, FALSE)","v":1810},0]
[null,null,null,null,null,22,{"$f":"VLOOKUP(F887,工作表9!$C$1:$E$8, 3,  FALSE)","v":"純物質"},null,{"$f":"VLOOKUP(F887,工作表9!$C$1:$D$8, 2, FALSE)","v":1810},0]
[null,null,null,null,null,22,{"$f":"VLOOKUP(F888,工作表9!$C$1:$E$8, 3,  FALSE)","v":"純物質"},null,{"$f":"VLOOKUP(F888,工作表9!$C$1:$D$8, 2, FALSE)","v":1810},0]
[null,null,null,null,null,22,{"$f":"VLOOKUP(F889,工作表9!$C$1:$E$8, 3,  FALSE)","v":"純物質"},null,{"$f":"VLOOKUP(F889,工作表9!$C$1:$D$8, 2, FALSE)","v":1810},0]
[null,null,null,null,null,22,{"$f":"VLOOKUP(F890,工作表9!$C$1:$E$8, 3,  FALSE)","v":"純物質"},null,{"$f":"VLOOKUP(F890,工作表9!$C$1:$D$8, 2, FALSE)","v":1810},0]
[null,null,null,null,null,22,{"$f":"VLOOKUP(F891,工作表9!$C$1:$E$8, 3,  FALSE)","v":"純物質"},null,{"$f":"VLOOKUP(F891,工作表9!$C$1:$D$8, 2, FALSE)","v":1810},0]
[null,null,null,null,null,22,{"$f":"VLOOKUP(F892,工作表9!$C$1:$E$8, 3,  FALSE)","v":"純物質"},null,{"$f":"VLOOKUP(F892,工作表9!$C$1:$D$8, 2, FALSE)","v":1810},0]
[null,null,null,null,null,22,{"$f":"VLOOKUP(F893,工作表9!$C$1:$E$8, 3,  FALSE)","v":"純物質"},null,{"$f":"VLOOKUP(F893,工作表9!$C$1:$D$8, 2, FALSE)","v":1810},0]
[null,null,null,null,null,22,{"$f":"VLOOKUP(F894,工作表9!$C$1:$E$8, 3,  FALSE)","v":"純物質"},null,{"$f":"VLOOKUP(F894,工作表9!$C$1:$D$8, 2, FALSE)","v":1810},0]
[null,null,null,null,null,22,{"$f":"VLOOKUP(F895,工作表9!$C$1:$E$8, 3,  FALSE)","v":"純物質"},null,{"$f":"VLOOKUP(F895,工作表9!$C$1:$D$8, 2, FALSE)","v":1810},0]
[null,null,null,null,null,22,{"$f":"VLOOKUP(F896,工作表9!$C$1:$E$8, 3,  FALSE)","v":"純物質"},null,{"$f":"VLOOKUP(F896,工作表9!$C$1:$D$8, 2, FALSE)","v":1810},0]
[null,null,null,null,null,22,{"$f":"VLOOKUP(F897,工作表9!$C$1:$E$8, 3,  FALSE)","v":"純物質"},null,{"$f":"VLOOKUP(F897,工作表9!$C$1:$D$8, 2, FALSE)","v":1810},0]
[null,null,null,null,null,22,{"$f":"VLOOKUP(F898,工作表9!$C$1:$E$8, 3,  FALSE)","v":"純物質"},null,{"$f":"VLOOKUP(F898,工作表9!$C$1:$D$8, 2, FALSE)","v":1810},0]
[null,null,null,null,null,22,{"$f":"VLOOKUP(F899,工作表9!$C$1:$E$8, 3,  FALSE)","v":"純物質"},null,{"$f":"VLOOKUP(F899,工作表9!$C$1:$D$8, 2, FALSE)","v":1810},0]
[null,null,null,null,null,22,{"$f":"VLOOKUP(F900,工作表9!$C$1:$E$8, 3,  FALSE)","v":"純物質"},null,{"$f":"VLOOKUP(F900,工作表9!$C$1:$D$8, 2, FALSE)","v":1810},0]
[null,null,null,null,null,22,{"$f":"VLOOKUP(F901,工作表9!$C$1:$E$8, 3,  FALSE)","v":"純物質"},null,{"$f":"VLOOKUP(F901,工作表9!$C$1:$D$8, 2, FALSE)","v":1810},0]
[null,null,null,null,null,22,{"$f":"VLOOKUP(F902,工作表9!$C$1:$E$8, 3,  FALSE)","v":"純物質"},null,{"$f":"VLOOKUP(F902,工作表9!$C$1:$D$8, 2, FALSE)","v":1810},{"$f":"H902*I902","v":0}]
[null,null,null,null,null,22,{"$f":"VLOOKUP(F903,工作表9!$C$1:$E$8, 3,  FALSE)","v":"純物質"},null,{"$f":"VLOOKUP(F903,工作表9!$C$1:$D$8, 2, FALSE)","v":1810},0]
[null,null,null,null,null,22,{"$f":"VLOOKUP(F904,工作表9!$C$1:$E$8, 3,  FALSE)","v":"純物質"},null,{"$f":"VLOOKUP(F904,工作表9!$C$1:$D$8, 2, FALSE)","v":1810},0]
[null,null,null,null,null,22,{"$f":"VLOOKUP(F905,工作表9!$C$1:$E$8, 3,  FALSE)","v":"純物質"},null,{"$f":"VLOOKUP(F905,工作表9!$C$1:$D$8, 2, FALSE)","v":1810},0]
[null,null,null,null,null,22,{"$f":"VLOOKUP(F906,工作表9!$C$1:$E$8, 3,  FALSE)","v":"純物質"},null,{"$f":"VLOOKUP(F906,工作表9!$C$1:$D$8, 2, FALSE)","v":1810},0]
[null,null,null,null,null,22,{"$f":"VLOOKUP(F907,工作表9!$C$1:$E$8, 3,  FALSE)","v":"純物質"},null,{"$f":"VLOOKUP(F907,工作表9!$C$1:$D$8, 2, FALSE)","v":1810},0]
[null,null,null,null,null,22,{"$f":"VLOOKUP(F908,工作表9!$C$1:$E$8, 3,  FALSE)","v":"純物質"},null,{"$f":"VLOOKUP(F908,工作表9!$C$1:$D$8, 2, FALSE)","v":1810},0]
[null,null,null,null,null,22,{"$f":"VLOOKUP(F909,工作表9!$C$1:$E$8, 3,  FALSE)","v":"純物質"},null,{"$f":"VLOOKUP(F909,工作表9!$C$1:$D$8, 2, FALSE)","v":1810},0]
[null,null,null,null,null,22,{"$f":"VLOOKUP(F910,工作表9!$C$1:$E$8, 3,  FALSE)","v":"純物質"},null,{"$f":"VLOOKUP(F910,工作表9!$C$1:$D$8, 2, FALSE)","v":1810},0]
[null,null,null,null,null,22,{"$f":"VLOOKUP(F911,工作表9!$C$1:$E$8, 3,  FALSE)","v":"純物質"},null,{"$f":"VLOOKUP(F911,工作表9!$C$1:$D$8, 2, FALSE)","v":1810},0]
[null,null,null,null,null,22,{"$f":"VLOOKUP(F912,工作表9!$C$1:$E$8, 3,  FALSE)","v":"純物質"},null,{"$f":"VLOOKUP(F912,工作表9!$C$1:$D$8, 2, FALSE)","v":1810},0]
[null,null,null,null,null,22,{"$f":"VLOOKUP(F913,工作表9!$C$1:$E$8, 3,  FALSE)","v":"純物質"},null,{"$f":"VLOOKUP(F913,工作表9!$C$1:$D$8, 2, FALSE)","v":1810},0]
[null,null,null,null,null,22,{"$f":"VLOOKUP(F914,工作表9!$C$1:$E$8, 3,  FALSE)","v":"純物質"},null,{"$f":"VLOOKUP(F914,工作表9!$C$1:$D$8, 2, FALSE)","v":1810},0]
[null,null,null,null,null,22,{"$f":"VLOOKUP(F915,工作表9!$C$1:$E$8, 3,  FALSE)","v":"純物質"},null,{"$f":"VLOOKUP(F915,工作表9!$C$1:$D$8, 2, FALSE)","v":1810},0]
[null,null,null,null,null,22,{"$f":"VLOOKUP(F916,工作表9!$C$1:$E$8, 3,  FALSE)","v":"純物質"},null,{"$f":"VLOOKUP(F916,工作表9!$C$1:$D$8, 2, FALSE)","v":1810},0]
[null,null,null,null,null,22,{"$f":"VLOOKUP(F917,工作表9!$C$1:$E$8, 3,  FALSE)","v":"純物質"},null,{"$f":"VLOOKUP(F917,工作表9!$C$1:$D$8, 2, FALSE)","v":1810},0]
[null,null,null,null,null,22,{"$f":"VLOOKUP(F918,工作表9!$C$1:$E$8, 3,  FALSE)","v":"純物質"},null,{"$f":"VLOOKUP(F918,工作表9!$C$1:$D$8, 2, FALSE)","v":1810},0]
[null,null,null,null,null,22,{"$f":"VLOOKUP(F919,工作表9!$C$1:$E$8, 3,  FALSE)","v":"純物質"},null,{"$f":"VLOOKUP(F919,工作表9!$C$1:$D$8, 2, FALSE)","v":1810},0]
[null,null,null,null,null,22,{"$f":"VLOOKUP(F920,工作表9!$C$1:$E$8, 3,  FALSE)","v":"純物質"},null,{"$f":"VLOOKUP(F920,工作表9!$C$1:$D$8, 2, FALSE)","v":1810},0]
[null,null,null,null,null,22,{"$f":"VLOOKUP(F921,工作表9!$C$1:$E$8, 3,  FALSE)","v":"純物質"},null,{"$f":"VLOOKUP(F921,工作表9!$C$1:$D$8, 2, FALSE)","v":1810},0]
[null,null,null,null,null,22,{"$f":"VLOOKUP(F922,工作表9!$C$1:$E$8, 3,  FALSE)","v":"純物質"},null,{"$f":"VLOOKUP(F922,工作表9!$C$1:$D$8, 2, FALSE)","v":1810},0]
[null,null,null,null,null,22,{"$f":"VLOOKUP(F923,工作表9!$C$1:$E$8, 3,  FALSE)","v":"純物質"},null,{"$f":"VLOOKUP(F923,工作表9!$C$1:$D$8, 2, FALSE)","v":1810},0]
[null,null,null,null,null,22,{"$f":"VLOOKUP(F924,工作表9!$C$1:$E$8, 3,  FALSE)","v":"純物質"},null,{"$f":"VLOOKUP(F924,工作表9!$C$1:$D$8, 2, FALSE)","v":1810},0]
[null,null,null,null,null,22,{"$f":"VLOOKUP(F925,工作表9!$C$1:$E$8, 3,  FALSE)","v":"純物質"},null,{"$f":"VLOOKUP(F925,工作表9!$C$1:$D$8, 2, FALSE)","v":1810},0]
[null,null,null,null,null,22,{"$f":"VLOOKUP(F926,工作表9!$C$1:$E$8, 3,  FALSE)","v":"純物質"},null,{"$f":"VLOOKUP(F926,工作表9!$C$1:$D$8, 2, FALSE)","v":1810},0]
[null,null,null,null,null,22,{"$f":"VLOOKUP(F927,工作表9!$C$1:$E$8, 3,  FALSE)","v":"純物質"},null,{"$f":"VLOOKUP(F927,工作表9!$C$1:$D$8, 2, FALSE)","v":1810},0]
[null,null,null,null,null,22,{"$f":"VLOOKUP(F928,工作表9!$C$1:$E$8, 3,  FALSE)","v":"純物質"},null,{"$f":"VLOOKUP(F928,工作表9!$C$1:$D$8, 2, FALSE)","v":1810},0]
[null,null,null,null,null,22,{"$f":"VLOOKUP(F929,工作表9!$C$1:$E$8, 3,  FALSE)","v":"純物質"},null,{"$f":"VLOOKUP(F929,工作表9!$C$1:$D$8, 2, FALSE)","v":1810},0]
[null,null,null,null,null,22,{"$f":"VLOOKUP(F930,工作表9!$C$1:$E$8, 3,  FALSE)","v":"純物質"},null,{"$f":"VLOOKUP(F930,工作表9!$C$1:$D$8, 2, FALSE)","v":1810},0]
[null,null,null,null,null,22,{"$f":"VLOOKUP(F931,工作表9!$C$1:$E$8, 3,  FALSE)","v":"純物質"},null,{"$f":"VLOOKUP(F931,工作表9!$C$1:$D$8, 2, FALSE)","v":1810},0]
[null,null,null,null,null,22,{"$f":"VLOOKUP(F932,工作表9!$C$1:$E$8, 3,  FALSE)","v":"純物質"},null,{"$f":"VLOOKUP(F932,工作表9!$C$1:$D$8, 2, FALSE)","v":1810},0]
[null,null,null,null,null,22,{"$f":"VLOOKUP(F933,工作表9!$C$1:$E$8, 3,  FALSE)","v":"純物質"},null,{"$f":"VLOOKUP(F933,工作表9!$C$1:$D$8, 2, FALSE)","v":1810},0]
[null,null,null,null,null,22,{"$f":"VLOOKUP(F934,工作表9!$C$1:$E$8, 3,  FALSE)","v":"純物質"},null,{"$f":"VLOOKUP(F934,工作表9!$C$1:$D$8, 2, FALSE)","v":1810},0]
[null,null,null,null,null,22,{"$f":"VLOOKUP(F935,工作表9!$C$1:$E$8, 3,  FALSE)","v":"純物質"},null,{"$f":"VLOOKUP(F935,工作表9!$C$1:$D$8, 2, FALSE)","v":1810},0]
[null,null,null,null,null,22,{"$f":"VLOOKUP(F936,工作表9!$C$1:$E$8, 3,  FALSE)","v":"純物質"},null,{"$f":"VLOOKUP(F936,工作表9!$C$1:$D$8, 2, FALSE)","v":1810},0]
[null,null,null,null,null,22,{"$f":"VLOOKUP(F937,工作表9!$C$1:$E$8, 3,  FALSE)","v":"純物質"},null,{"$f":"VLOOKUP(F937,工作表9!$C$1:$D$8, 2, FALSE)","v":1810},0]
[null,null,null,null,null,22,{"$f":"VLOOKUP(F938,工作表9!$C$1:$E$8, 3,  FALSE)","v":"純物質"},null,{"$f":"VLOOKUP(F938,工作表9!$C$1:$D$8, 2, FALSE)","v":1810},0]
[null,null,null,null,null,22,{"$f":"VLOOKUP(F939,工作表9!$C$1:$E$8, 3,  FALSE)","v":"純物質"},null,{"$f":"VLOOKUP(F939,工作表9!$C$1:$D$8, 2, FALSE)","v":1810},0]
[null,null,null,null,null,22,{"$f":"VLOOKUP(F940,工作表9!$C$1:$E$8, 3,  FALSE)","v":"純物質"},null,{"$f":"VLOOKUP(F940,工作表9!$C$1:$D$8, 2, FALSE)","v":1810},0]
[null,null,null,null,null,22,{"$f":"VLOOKUP(F941,工作表9!$C$1:$E$8, 3,  FALSE)","v":"純物質"},null,{"$f":"VLOOKUP(F941,工作表9!$C$1:$D$8, 2, FALSE)","v":1810},0]
[null,null,null,null,null,22,{"$f":"VLOOKUP(F942,工作表9!$C$1:$E$8, 3,  FALSE)","v":"純物質"},null,{"$f":"VLOOKUP(F942,工作表9!$C$1:$D$8, 2, FALSE)","v":1810},0]
[null,null,null,null,null,22,{"$f":"VLOOKUP(F943,工作表9!$C$1:$E$8, 3,  FALSE)","v":"純物質"},null,{"$f":"VLOOKUP(F943,工作表9!$C$1:$D$8, 2, FALSE)","v":1810},0]
[null,null,null,null,null,22,{"$f":"VLOOKUP(F944,工作表9!$C$1:$E$8, 3,  FALSE)","v":"純物質"},null,{"$f":"VLOOKUP(F944,工作表9!$C$1:$D$8, 2, FALSE)","v":1810},0]
[null,null,null,null,null,22,{"$f":"VLOOKUP(F945,工作表9!$C$1:$E$8, 3,  FALSE)","v":"純物質"},null,{"$f":"VLOOKUP(F945,工作表9!$C$1:$D$8, 2, FALSE)","v":1810},0]
[null,null,null,null,null,22,{"$f":"VLOOKUP(F946,工作表9!$C$1:$E$8, 3,  FALSE)","v":"純物質"},null,{"$f":"VLOOKUP(F946,工作表9!$C$1:$D$8, 2, FALSE)","v":1810},0]
[null,null,null,null,null,22,{"$f":"VLOOKUP(F947,工作表9!$C$1:$E$8, 3,  FALSE)","v":"純物質"},null,{"$f":"VLOOKUP(F947,工作表9!$C$1:$D$8, 2, FALSE)","v":1810},0]
[null,null,null,null,null,22,{"$f":"VLOOKUP(F948,工作表9!$C$1:$E$8, 3,  FALSE)","v":"純物質"},null,{"$f":"VLOOKUP(F948,工作表9!$C$1:$D$8, 2, FALSE)","v":1810},0]
[null,null,null,null,null,22,{"$f":"VLOOKUP(F949,工作表9!$C$1:$E$8, 3,  FALSE)","v":"純物質"},null,{"$f":"VLOOKUP(F949,工作表9!$C$1:$D$8, 2, FALSE)","v":1810},0]
[null,null,null,null,null,22,{"$f":"VLOOKUP(F950,工作表9!$C$1:$E$8, 3,  FALSE)","v":"純物質"},null,{"$f":"VLOOKUP(F950,工作表9!$C$1:$D$8, 2, FALSE)","v":1810},0]
[null,null,null,null,null,22,{"$f":"VLOOKUP(F951,工作表9!$C$1:$E$8, 3,  FALSE)","v":"純物質"},null,{"$f":"VLOOKUP(F951,工作表9!$C$1:$D$8, 2, FALSE)","v":1810},0]
[null,null,null,null,null,22,{"$f":"VLOOKUP(F952,工作表9!$C$1:$E$8, 3,  FALSE)","v":"純物質"},null,{"$f":"VLOOKUP(F952,工作表9!$C$1:$D$8, 2, FALSE)","v":1810},0]
[null,null,null,null,null,22,{"$f":"VLOOKUP(F953,工作表9!$C$1:$E$8, 3,  FALSE)","v":"純物質"},null,{"$f":"VLOOKUP(F953,工作表9!$C$1:$D$8, 2, FALSE)","v":1810},0]
[null,null,null,null,null,22,{"$f":"VLOOKUP(F954,工作表9!$C$1:$E$8, 3,  FALSE)","v":"純物質"},null,{"$f":"VLOOKUP(F954,工作表9!$C$1:$D$8, 2, FALSE)","v":1810},0]
[null,null,null,null,null,22,{"$f":"VLOOKUP(F955,工作表9!$C$1:$E$8, 3,  FALSE)","v":"純物質"},null,{"$f":"VLOOKUP(F955,工作表9!$C$1:$D$8, 2, FALSE)","v":1810},0]
[null,null,null,null,null,22,{"$f":"VLOOKUP(F956,工作表9!$C$1:$E$8, 3,  FALSE)","v":"純物質"},null,{"$f":"VLOOKUP(F956,工作表9!$C$1:$D$8, 2, FALSE)","v":1810},0]
[null,null,null,null,null,22,{"$f":"VLOOKUP(F957,工作表9!$C$1:$E$8, 3,  FALSE)","v":"純物質"},null,{"$f":"VLOOKUP(F957,工作表9!$C$1:$D$8, 2, FALSE)","v":1810},0]
[null,null,null,null,null,22,{"$f":"VLOOKUP(F958,工作表9!$C$1:$E$8, 3,  FALSE)","v":"純物質"},null,{"$f":"VLOOKUP(F958,工作表9!$C$1:$D$8, 2, FALSE)","v":1810},0]
[null,null,null,null,null,22,{"$f":"VLOOKUP(F959,工作表9!$C$1:$E$8, 3,  FALSE)","v":"純物質"},null,{"$f":"VLOOKUP(F959,工作表9!$C$1:$D$8, 2, FALSE)","v":1810},0]
[null,null,null,null,null,22,{"$f":"VLOOKUP(F960,工作表9!$C$1:$E$8, 3,  FALSE)","v":"純物質"},null,{"$f":"VLOOKUP(F960,工作表9!$C$1:$D$8, 2, FALSE)","v":1810},0]
[null,null,null,null,null,22,{"$f":"VLOOKUP(F961,工作表9!$C$1:$E$8, 3,  FALSE)","v":"純物質"},null,{"$f":"VLOOKUP(F961,工作表9!$C$1:$D$8, 2, FALSE)","v":1810},0]
[null,null,null,null,null,22,{"$f":"VLOOKUP(F962,工作表9!$C$1:$E$8, 3,  FALSE)","v":"純物質"},null,{"$f":"VLOOKUP(F962,工作表9!$C$1:$D$8, 2, FALSE)","v":1810},0]
[null,null,null,null,null,22,{"$f":"VLOOKUP(F963,工作表9!$C$1:$E$8, 3,  FALSE)","v":"純物質"},null,{"$f":"VLOOKUP(F963,工作表9!$C$1:$D$8, 2, FALSE)","v":1810},0]
[null,null,null,null,null,22,{"$f":"VLOOKUP(F964,工作表9!$C$1:$E$8, 3,  FALSE)","v":"純物質"},null,{"$f":"VLOOKUP(F964,工作表9!$C$1:$D$8, 2, FALSE)","v":1810},0]
[null,null,null,null,null,22,{"$f":"VLOOKUP(F965,工作表9!$C$1:$E$8, 3,  FALSE)","v":"純物質"},null,{"$f":"VLOOKUP(F965,工作表9!$C$1:$D$8, 2, FALSE)","v":1810},0]
[null,null,null,null,null,22,{"$f":"VLOOKUP(F966,工作表9!$C$1:$E$8, 3,  FALSE)","v":"純物質"},null,{"$f":"VLOOKUP(F966,工作表9!$C$1:$D$8, 2, FALSE)","v":1810},{"$f":"H966*I966","v":0}]
[null,null,null,null,null,22,{"$f":"VLOOKUP(F967,工作表9!$C$1:$E$8, 3,  FALSE)","v":"純物質"},null,{"$f":"VLOOKUP(F967,工作表9!$C$1:$D$8, 2, FALSE)","v":1810},0]
[null,null,null,null,null,22,{"$f":"VLOOKUP(F968,工作表9!$C$1:$E$8, 3,  FALSE)","v":"純物質"},null,{"$f":"VLOOKUP(F968,工作表9!$C$1:$D$8, 2, FALSE)","v":1810},0]
[null,null,null,null,null,22,{"$f":"VLOOKUP(F969,工作表9!$C$1:$E$8, 3,  FALSE)","v":"純物質"},null,{"$f":"VLOOKUP(F969,工作表9!$C$1:$D$8, 2, FALSE)","v":1810},0]
[null,null,null,null,null,22,{"$f":"VLOOKUP(F970,工作表9!$C$1:$E$8, 3,  FALSE)","v":"純物質"},null,{"$f":"VLOOKUP(F970,工作表9!$C$1:$D$8, 2, FALSE)","v":1810},0]
[null,null,null,null,null,22,{"$f":"VLOOKUP(F971,工作表9!$C$1:$E$8, 3,  FALSE)","v":"純物質"},null,{"$f":"VLOOKUP(F971,工作表9!$C$1:$D$8, 2, FALSE)","v":1810},0]
[null,null,null,null,null,22,{"$f":"VLOOKUP(F972,工作表9!$C$1:$E$8, 3,  FALSE)","v":"純物質"},null,{"$f":"VLOOKUP(F972,工作表9!$C$1:$D$8, 2, FALSE)","v":1810},0]
[null,null,null,null,null,22,{"$f":"VLOOKUP(F973,工作表9!$C$1:$E$8, 3,  FALSE)","v":"純物質"},null,{"$f":"VLOOKUP(F973,工作表9!$C$1:$D$8, 2, FALSE)","v":1810},0]
[null,null,null,null,null,22,{"$f":"VLOOKUP(F974,工作表9!$C$1:$E$8, 3,  FALSE)","v":"純物質"},null,{"$f":"VLOOKUP(F974,工作表9!$C$1:$D$8, 2, FALSE)","v":1810},0]
[null,null,null,null,null,22,{"$f":"VLOOKUP(F975,工作表9!$C$1:$E$8, 3,  FALSE)","v":"純物質"},null,{"$f":"VLOOKUP(F975,工作表9!$C$1:$D$8, 2, FALSE)","v":1810},0]
[null,null,null,null,null,22,{"$f":"VLOOKUP(F976,工作表9!$C$1:$E$8, 3,  FALSE)","v":"純物質"},null,{"$f":"VLOOKUP(F976,工作表9!$C$1:$D$8, 2, FALSE)","v":1810},0]
[null,null,null,null,null,22,{"$f":"VLOOKUP(F977,工作表9!$C$1:$E$8, 3,  FALSE)","v":"純物質"},null,{"$f":"VLOOKUP(F977,工作表9!$C$1:$D$8, 2, FALSE)","v":1810},0]
[null,null,null,null,null,22,{"$f":"VLOOKUP(F978,工作表9!$C$1:$E$8, 3,  FALSE)","v":"純物質"},null,{"$f":"VLOOKUP(F978,工作表9!$C$1:$D$8, 2, FALSE)","v":1810},0]
[null,null,null,null,null,22,{"$f":"VLOOKUP(F979,工作表9!$C$1:$E$8, 3,  FALSE)","v":"純物質"},null,{"$f":"VLOOKUP(F979,工作表9!$C$1:$D$8, 2, FALSE)","v":1810},0]
[null,null,null,null,null,22,{"$f":"VLOOKUP(F980,工作表9!$C$1:$E$8, 3,  FALSE)","v":"純物質"},null,{"$f":"VLOOKUP(F980,工作表9!$C$1:$D$8, 2, FALSE)","v":1810},0]
[null,null,null,null,null,22,{"$f":"VLOOKUP(F981,工作表9!$C$1:$E$8, 3,  FALSE)","v":"純物質"},null,{"$f":"VLOOKUP(F981,工作表9!$C$1:$D$8, 2, FALSE)","v":1810},0]
[null,null,null,null,null,22,{"$f":"VLOOKUP(F982,工作表9!$C$1:$E$8, 3,  FALSE)","v":"純物質"},null,{"$f":"VLOOKUP(F982,工作表9!$C$1:$D$8, 2, FALSE)","v":1810},0]
[null,null,null,null,null,22,{"$f":"VLOOKUP(F983,工作表9!$C$1:$E$8, 3,  FALSE)","v":"純物質"},null,{"$f":"VLOOKUP(F983,工作表9!$C$1:$D$8, 2, FALSE)","v":1810},0]
[null,null,null,null,null,22,{"$f":"VLOOKUP(F984,工作表9!$C$1:$E$8, 3,  FALSE)","v":"純物質"},null,{"$f":"VLOOKUP(F984,工作表9!$C$1:$D$8, 2, FALSE)","v":1810},0]
[null,null,null,null,null,22,{"$f":"VLOOKUP(F985,工作表9!$C$1:$E$8, 3,  FALSE)","v":"純物質"},null,{"$f":"VLOOKUP(F985,工作表9!$C$1:$D$8, 2, FALSE)","v":1810},0]
[null,null,null,null,null,22,{"$f":"VLOOKUP(F986,工作表9!$C$1:$E$8, 3,  FALSE)","v":"純物質"},null,{"$f":"VLOOKUP(F986,工作表9!$C$1:$D$8, 2, FALSE)","v":1810},0]
[null,null,null,null,null,22,{"$f":"VLOOKUP(F987,工作表9!$C$1:$E$8, 3,  FALSE)","v":"純物質"},null,{"$f":"VLOOKUP(F987,工作表9!$C$1:$D$8, 2, FALSE)","v":1810},0]
[null,null,null,null,null,22,{"$f":"VLOOKUP(F988,工作表9!$C$1:$E$8, 3,  FALSE)","v":"純物質"},null,{"$f":"VLOOKUP(F988,工作表9!$C$1:$D$8, 2, FALSE)","v":1810},0]
[null,null,null,null,null,22,{"$f":"VLOOKUP(F989,工作表9!$C$1:$E$8, 3,  FALSE)","v":"純物質"},null,{"$f":"VLOOKUP(F989,工作表9!$C$1:$D$8, 2, FALSE)","v":1810},0]
[null,null,null,null,null,22,{"$f":"VLOOKUP(F990,工作表9!$C$1:$E$8, 3,  FALSE)","v":"純物質"},null,{"$f":"VLOOKUP(F990,工作表9!$C$1:$D$8, 2, FALSE)","v":1810},0]
[null,null,null,null,null,22,{"$f":"VLOOKUP(F991,工作表9!$C$1:$E$8, 3,  FALSE)","v":"純物質"},null,{"$f":"VLOOKUP(F991,工作表9!$C$1:$D$8, 2, FALSE)","v":1810},0]
[null,null,null,null,null,22,{"$f":"VLOOKUP(F992,工作表9!$C$1:$E$8, 3,  FALSE)","v":"純物質"},null,{"$f":"VLOOKUP(F992,工作表9!$C$1:$D$8, 2, FALSE)","v":1810},0]
[null,null,null,null,null,22,{"$f":"VLOOKUP(F993,工作表9!$C$1:$E$8, 3,  FALSE)","v":"純物質"},null,{"$f":"VLOOKUP(F993,工作表9!$C$1:$D$8, 2, FALSE)","v":1810},0]
[null,null,null,null,null,22,{"$f":"VLOOKUP(F994,工作表9!$C$1:$E$8, 3,  FALSE)","v":"純物質"},null,{"$f":"VLOOKUP(F994,工作表9!$C$1:$D$8, 2, FALSE)","v":1810},0]
[null,null,null,null,null,22,{"$f":"VLOOKUP(F995,工作表9!$C$1:$E$8, 3,  FALSE)","v":"純物質"},null,{"$f":"VLOOKUP(F995,工作表9!$C$1:$D$8, 2, FALSE)","v":1810},0]
[null,null,null,null,null,22,{"$f":"VLOOKUP(F996,工作表9!$C$1:$E$8, 3,  FALSE)","v":"純物質"},null,{"$f":"VLOOKUP(F996,工作表9!$C$1:$D$8, 2, FALSE)","v":1810},0]
[null,null,null,null,null,22,{"$f":"VLOOKUP(F997,工作表9!$C$1:$E$8, 3,  FALSE)","v":"純物質"},null,{"$f":"VLOOKUP(F997,工作表9!$C$1:$D$8, 2, FALSE)","v":1810},0]
[null,null,null,null,null,22,{"$f":"VLOOKUP(F998,工作表9!$C$1:$E$8, 3,  FALSE)","v":"純物質"},null,{"$f":"VLOOKUP(F998,工作表9!$C$1:$D$8, 2, FALSE)","v":1810},0]
[null,null,null,null,null,22,{"$f":"VLOOKUP(F999,工作表9!$C$1:$E$8, 3,  FALSE)","v":"純物質"},null,{"$f":"VLOOKUP(F999,工作表9!$C$1:$D$8, 2, FALSE)","v":1810},0]
[null,null,null,null,null,22,{"$f":"VLOOKUP(F1000,工作表9!$C$1:$E$8, 3,  FALSE)","v":"純物質"},null,{"$f":"VLOOKUP(F1000,工作表9!$C$1:$D$8, 2, FALSE)","v":1810},0]
["備註：","＊    請參考附件：冷媒GWP值"]

{"sheet":"99年氟氯烴（HCFCs）之國內採購統計申報表","index":10,"n_rows":1001,"n_cols":10,"rows_kept":1001,"cut":false,"hidden":false,"merged":[[1,6,3,6],[0,0,0,1],[1,0,3,0],[1,1,3,1],[1,3,3,3],[1,4,3,4],[1,5,3,5],[1,2,3,2],[0,2,0,5]]}
["申報年份",null,"            99        年"]
["編號","採購發票編號","供應廠商統一編號","供應廠商名稱","商品名稱","冷媒編號\n請填寫號碼即可，毋須填寫R-","物質類別","採購量","GWP*","公噸CO2eq"]
[null,null,null,null,null,null,null,"（公噸）",null,"C=A*B"]
[null,null,null,null,null,null,null,"A","B"]
["範例 1","UZ07990000","02750961","AA","R22",22,{"$f":"VLOOKUP(F5,工作表9!$C$1:$E$8, 3,  FALSE)","v":"純物質"},50,{"$f":"VLOOKUP(F5,工作表9!$C$1:$D$8, 2, FALSE)","v":1810},{"$f":"H5*I5","v":90500}]
["範例 2","UZ07990000","02750961","AA","R123",123,{"$f":"VLOOKUP(F6,工作表9!$C$1:$E$8, 3,  FALSE)","v":"純物質"},100,{"$f":"VLOOKUP(F6,工作表9!$C$1:$D$8, 2, FALSE)","v":77},{"$f":"H6*I6","v":7700}]
["範例 3","UZ07990060","02750963","BB","HCFC141b","141b",{"$f":"VLOOKUP(F7,工作表9!$C$1:$E$8, 3,  FALSE)","v":"純物質"},20,{"$f":"VLOOKUP(F7,工作表9!$C$1:$D$8, 2, FALSE)","v":725},14500]
["範例 4","UZ07990060","02750963","BB","R408A","408A",{"$f":"VLOOKUP(F8,工作表9!$C$1:$E$8, 3,  FALSE)","v":"混合物"},5,{"$f":"VLOOKUP(F8,工作表9!$C$1:$D$8, 2, FALSE)","v":850.69999999999993},4253.5]
[null,null,null,null,null,22,{"$f":"VLOOKUP(F9,工作表9!$C$1:$E$8, 3,  FALSE)","v":"純物質"},null,{"$f":"VLOOKUP(F9,工作表9!$C$1:$D$8, 2, FALSE)","v":1810},0]
[null,null,null,null,null,22,{"$f":"VLOOKUP(F10,工作表9!$C$1:$E$8, 3,  FALSE)","v":"純物質"},null,{"$f":"VLOOKUP(F10,工作表9!$C$1:$D$8, 2, FALSE)","v":1810},0]
[null,null,null,null,null,22,{"$f":"VLOOKUP(F11,工作表9!$C$1:$E$8, 3,  FALSE)","v":"純物質"},null,{"$f":"VLOOKUP(F11,工作表9!$C$1:$D$8, 2, FALSE)","v":1810},0]
[null,null,null,null,null,22,{"$f":"VLOOKUP(F12,工作表9!$C$1:$E$8, 3,  FALSE)","v":"純物質"},null,{"$f":"VLOOKUP(F12,工作表9!$C$1:$D$8, 2, FALSE)","v":1810},0]
[null,null,null,null,null,22,{"$f":"VLOOKUP(F13,工作表9!$C$1:$E$8, 3,  FALSE)","v":"純物質"},null,{"$f":"VLOOKUP(F13,工作表9!$C$1:$D$8, 2, FALSE)","v":1810},0]
[null,null,null,null,null,22,{"$f":"VLOOKUP(F14,工作表9!$C$1:$E$8, 3,  FALSE)","v":"純物質"},null,{"$f":"VLOOKUP(F14,工作表9!$C$1:$D$8, 2, FALSE)","v":1810},0]
[null,null,null,null,null,22,{"$f":"VLOOKUP(F15,工作表9!$C$1:$E$8, 3,  FALSE)","v":"純物質"},null,{"$f":"VLOOKUP(F15,工作表9!$C$1:$D$8, 2, FALSE)","v":1810},0]
[null,null,null,null,null,22,{"$f":"VLOOKUP(F16,工作表9!$C$1:$E$8, 3,  FALSE)","v":"純物質"},null,{"$f":"VLOOKUP(F16,工作表9!$C$1:$D$8, 2, FALSE)","v":1810},0]
[null,null,null,null,null,22,{"$f":"VLOOKUP(F17,工作表9!$C$1:$E$8, 3,  FALSE)","v":"純物質"},null,{"$f":"VLOOKUP(F17,工作表9!$C$1:$D$8, 2, FALSE)","v":1810},0]
[null,null,null,null,null,22,{"$f":"VLOOKUP(F18,工作表9!$C$1:$E$8, 3,  FALSE)","v":"純物質"},null,{"$f":"VLOOKUP(F18,工作表9!$C$1:$D$8, 2, FALSE)","v":1810},0]
[null,null,null,null,null,22,{"$f":"VLOOKUP(F19,工作表9!$C$1:$E$8, 3,  FALSE)","v":"純物質"},null,{"$f":"VLOOKUP(F19,工作表9!$C$1:$D$8, 2, FALSE)","v":1810},0]
[null,null,null,null,null,22,{"$f":"VLOOKUP(F20,工作表9!$C$1:$E$8, 3,  FALSE)","v":"純物質"},null,{"$f":"VLOOKUP(F20,工作表9!$C$1:$D$8, 2, FALSE)","v":1810},0]
[null,null,null,null,null,22,{"$f":"VLOOKUP(F21,工作表9!$C$1:$E$8, 3,  FALSE)","v":"純物質"},null,{"$f":"VLOOKUP(F21,工作表9!$C$1:$D$8, 2, FALSE)","v":1810},0]
[null,null,null,null,null,22,{"$f":"VLOOKUP(F22,工作表9!$C$1:$E$8, 3,  FALSE)","v":"純物質"},null,{"$f":"VLOOKUP(F22,工作表9!$C$1:$D$8, 2, FALSE)","v":1810},0]
[null,null,null,null,null,22,{"$f":"VLOOKUP(F23,工作表9!$C$1:$E$8, 3,  FALSE)","v":"純物質"},null,{"$f":"VLOOKUP(F23,工作表9!$C$1:$D$8, 2, FALSE)","v":1810},0]
[null,null,null,null,null,22,{"$f":"VLOOKUP(F24,工作表9!$C$1:$E$8, 3,  FALSE)","v":"純物質"},null,{"$f":"VLOOKUP(F24,工作表9!$C$1:$D$8, 2, FALSE)","v":1810},0]
[null,null,null,null,null,22,{"$f":"VLOOKUP(F25,工作表9!$C$1:$E$8, 3,  FALSE)","v":"純物質"},null,{"$f":"VLOOKUP(F25,工作表9!$C$1:$D$8, 2, FALSE)","v":1810},0]
[null,null,null,null,null,22,{"$f":"VLOOKUP(F26,工作表9!$C$1:$E$8, 3,  FALSE)","v":"純物質"},null,{"$f":"VLOOKUP(F26,工作表9!$C$1:$D$8, 2, FALSE)","v":1810},0]
[null,null,null,null,null,22,{"$f":"VLOOKUP(F27,工作表9!$C$1:$E$8, 3,  FALSE)","v":"純物質"},null,{"$f":"VLOOKUP(F27,工作表9!$C$1:$D$8, 2, FALSE)","v":1810},0]
[null,null,null,null,null,22,{"$f":"VLOOKUP(F28,工作表9!$C$1:$E$8, 3,  FALSE)","v":"純物質"},null,{"$f":"VLOOKUP(F28,工作表9!$C$1:$D$8, 2, FALSE)","v":1810},0]
[null,null,null,null,null,22,{"$f":"VLOOKUP(F29,工作表9!$C$1:$E$8, 3,  FALSE)","v":"純物質"},null,{"$f":"VLOOKUP(F29,工作表9!$C$1:$D$8, 2, FALSE)","v":1810},0]
[null,null,null,null,null,22,{"$f":"VLOOKUP(F30,工作表9!$C$1:$E$8, 3,  FALSE)","v":"純物質"},null,{"$f":"VLOOKUP(F30,工作表9!$C$1:$D$8, 2, FALSE)","v":1810},0]
[null,null,null,null,null,22,{"$f":"VLOOKUP(F31,工作表9!$C$1:$E$8, 3,  FALSE)","v":"純物質"},null,{"$f":"VLOOKUP(F31,工作表9!$C$1:$D$8, 2, FALSE)","v":1810},0]
[null,null,null,null,null,22,{"$f":"VLOOKUP(F32,工作表9!$C$1:$E$8, 3,  FALSE)","v":"純物質"},null,{"$f":"VLOOKUP(F32,工作表9!$C$1:$D$8, 2, FALSE)","v":1810},0]
[null,null,null,null,null,22,{"$f":"VLOOKUP(F33,工作表9!$C$1:$E$8, 3,  FALSE)","v":"純物質"},null,{"$f":"VLOOKUP(F33,工作表9!$C$1:$D$8, 2, FALSE)","v":1810},0]
[null,null,null,null,null,22,{"$f":"VLOOKUP(F34,工作表9!$C$1:$E$8, 3,  FALSE)","v":"純物質"},null,{"$f":"VLOOKUP(F34,工作表9!$C$1:$D$8, 2, FALSE)","v":1810},0]
[null,null,null,null,null,22,{"$f":"VLOOKUP(F35,工作表9!$C$1:$E$8, 3,  FALSE)","v":"純物質"},null,{"$f":"VLOOKUP(F35,工作表9!$C$1:$D$8, 2, FALSE)","v":1810},0]
[null,null,null,null,null,22,{"$f":"VLOOKUP(F36,工作表9!$C$1:$E$8, 3,  FALSE)","v":"純物質"},null,{"$f":"VLOOKUP(F36,工作表9!$C$1:$D$8, 2, FALSE)","v":1810},0]
[null,null,null,null,null,22,{"$f":"VLOOKUP(F37,工作表9!$C$1:$E$8, 3,  FALSE)","v":"純物質"},null,{"$f":"VLOOKUP(F37,工作表9!$C$1:$D$8, 2, FALSE)","v":1810},0]
[null,null,null,null,null,22,{"$f":"VLOOKUP(F38,工作表9!$C$1:$E$8, 3,  FALSE)","v":"純物質"},null,{"$f":"VLOOKUP(F38,工作表9!$C$1:$D$8, 2, FALSE)","v":1810},0]
[null,null,null,null,null,22,{"$f":"VLOOKUP(F39,工作表9!$C$1:$E$8, 3,  FALSE)","v":"純物質"},null,{"$f":"VLOOKUP(F39,工作表9!$C$1:$D$8, 2, FALSE)","v":1810},0]
[null,null,null,null,null,22,{"$f":"VLOOKUP(F40,工作表9!$C$1:$E$8, 3,  FALSE)","v":"純物質"},null,{"$f":"VLOOKUP(F40,工作表9!$C$1:$D$8, 2, FALSE)","v":1810},0]
[null,null,null,null,null,22,{"$f":"VLOOKUP(F41,工作表9!$C$1:$E$8, 3,  FALSE)","v":"純物質"},null,{"$f":"VLOOKUP(F41,工作表9!$C$1:$D$8, 2, FALSE)","v":1810},0]
[null,null,null,null,null,22,{"$f":"VLOOKUP(F42,工作表9!$C$1:$E$8, 3,  FALSE)","v":"純物質"},null,{"$f":"VLOOKUP(F42,工作表9!$C$1:$D$8, 2, FALSE)","v":1810},0]
[null,null,null,null,null,22,{"$f":"VLOOKUP(F43,工作表9!$C$1:$E$8, 3,  FALSE)","v":"純物質"},null,{"$f":"VLOOKUP(F43,工作表9!$C$1:$D$8, 2, FALSE)","v":1810},0]
[null,null,null,null,null,22,{"$f":"VLOOKUP(F44,工作表9!$C$1:$E$8, 3,  FALSE)","v":"純物質"},null,{"$f":"VLOOKUP(F44,工作表9!$C$1:$D$8, 2, FALSE)","v":1810},0]
[null,null,null,null,null,22,{"$f":"VLOOKUP(F45,工作表9!$C$1:$E$8, 3,  FALSE)","v":"純物質"},null,{"$f":"VLOOKUP(F45,工作表9!$C$1:$D$8, 2, FALSE)","v":1810},0]
[null,null,null,null,null,22,{"$f":"VLOOKUP(F46,工作表9!$C$1:$E$8, 3,  FALSE)","v":"純物質"},null,{"$f":"VLOOKUP(F46,工作表9!$C$1:$D$8, 2, FALSE)","v":1810},0]
[null,null,null,null,null,22,{"$f":"VLOOKUP(F47,工作表9!$C$1:$E$8, 3,  FALSE)","v":"純物質"},null,{"$f":"VLOOKUP(F47,工作表9!$C$1:$D$8, 2, FALSE)","v":1810},0]
[null,null,null,null,null,22,{"$f":"VLOOKUP(F48,工作表9!$C$1:$E$8, 3,  FALSE)","v":"純物質"},null,{"$f":"VLOOKUP(F48,工作表9!$C$1:$D$8, 2, FALSE)","v":1810},0]
[null,null,null,null,null,22,{"$f":"VLOOKUP(F49,工作表9!$C$1:$E$8, 3,  FALSE)","v":"純物質"},null,{"$f":"VLOOKUP(F49,工作表9!$C$1:$D$8, 2, FALSE)","v":1810},0]
[null,null,null,null,null,22,{"$f":"VLOOKUP(F50,工作表9!$C$1:$E$8, 3,  FALSE)","v":"純物質"},null,{"$f":"VLOOKUP(F50,工作表9!$C$1:$D$8, 2, FALSE)","v":1810},0]
[null,null,null,null,null,22,{"$f":"VLOOKUP(F51,工作表9!$C$1:$E$8, 3,  FALSE)","v":"純物質"},null,{"$f":"VLOOKUP(F51,工作表9!$C$1:$D$8, 2, FALSE)","v":1810},0]
[null,null,null,null,null,22,{"$f":"VLOOKUP(F52,工作表9!$C$1:$E$8, 3,  FALSE)","v":"純物質"},null,{"$f":"VLOOKUP(F52,工作表9!$C$1:$D$8, 2, FALSE)","v":1810},0]
[null,null,null,null,null,22,{"$f":"VLOOKUP(F53,工作表9!$C$1:$E$8, 3,  FALSE)","v":"純物質"},null,{"$f":"VLOOKUP(F53,工作表9!$C$1:$D$8, 2, FALSE)","v":1810},0]
[null,null,null,null,null,22,{"$f":"VLOOKUP(F54,工作表9!$C$1:$E$8, 3,  FALSE)","v":"純物質"},null,{"$f":"VLOOKUP(F54,工作表9!$C$1:$D$8, 2, FALSE)","v":1810},0]
[null,null,null,null,null,22,{"$f":"VLOOKUP(F55,工作表9!$C$1:$E$8, 3,  FALSE)","v":"純物質"},null,{"$f":"VLOOKUP(F55,工作表9!$C$1:$D$8, 2, FALSE)","v":1810},0]
[null,null,null,null,null,22,{"$f":"VLOOKUP(F56,工作表9!$C$1:$E$8, 3,  FALSE)","v":"純物質"},null,{"$f":"VLOOKUP(F56,工作表9!$C$1:$D$8, 2, FALSE)","v":1810},0]
[null,null,null,null,null,22,{"$f":"VLOOKUP(F57,工作表9!$C$1:$E$8, 3,  FALSE)","v":"純物質"},null,{"$f":"VLOOKUP(F57,工作表9!$C$1:$D$8, 2, FALSE)","v":1810},0]
[null,null,null,null,null,22,{"$f":"VLOOKUP(F58,工作表9!$C$1:$E$8, 3,  FALSE)","v":"純物質"},null,{"$f":"VLOOKUP(F58,工作表9!$C$1:$D$8, 2, FALSE)","v":1810},0]
[null,null,null,null,null,22,{"$f":"VLOOKUP(F59,工作表9!$C$1:$E$8, 3,  FALSE)","v":"純物質"},null,{"$f":"VLOOKUP(F59,工作表9!$C$1:$D$8, 2, FALSE)","v":1810},0]
[null,null,null,null,null,22,{"$f":"VLOOKUP(F60,工作表9!$C$1:$E$8, 3,  FALSE)","v":"純物質"},null,{"$f":"VLOOKUP(F60,工作表9!$C$1:$D$8, 2, FALSE)","v":1810},0]
[null,null,null,null,null,22,{"$f":"VLOOKUP(F61,工作表9!$C$1:$E$8, 3,  FALSE)","v":"純物質"},null,{"$f":"VLOOKUP(F61,工作表9!$C$1:$D$8, 2, FALSE)","v":1810},0]
[null,null,null,null,null,22,{"$f":"VLOOKUP(F62,工作表9!$C$1:$E$8, 3,  FALSE)","v":"純物質"},null,{"$f":"VLOOKUP(F62,工作表9!$C$1:$D$8, 2, FALSE)","v":1810},0]
[null,null,null,null,null,22,{"$f":"VLOOKUP(F63,工作表9!$C$1:$E$8, 3,  FALSE)","v":"純物質"},null,{"$f":"VLOOKUP(F63,工作表9!$C$1:$D$8, 2, FALSE)","v":1810},0]
[null,null,null,null,null,22,{"$f":"VLOOKUP(F64,工作表9!$C$1:$E$8, 3,  FALSE)","v":"純物質"},null,{"$f":"VLOOKUP(F64,工作表9!$C$1:$D$8, 2, FALSE)","v":1810},0]
[null,null,null,null,null,22,{"$f":"VLOOKUP(F65,工作表9!$C$1:$E$8, 3,  FALSE)","v":"純物質"},null,{"$f":"VLOOKUP(F65,工作表9!$C$1:$D$8, 2, FALSE)","v":1810},0]
[null,null,null,null,null,22,{"$f":"VLOOKUP(F66,工作表9!$C$1:$E$8, 3,  FALSE)","v":"純物質"},null,{"$f":"VLOOKUP(F66,工作表9!$C$1:$D$8, 2, FALSE)","v":1810},0]
[null,null,null,null,null,22,{"$f":"VLOOKUP(F67,工作表9!$C$1:$E$8, 3,  FALSE)","v":"純物質"},null,{"$f":"VLOOKUP(F67,工作表9!$C$1:$D$8, 2, FALSE)","v":1810},0]
[null,null,null,null,null,22,{"$f":"VLOOKUP(F68,工作表9!$C$1:$E$8, 3,  FALSE)","v":"純物質"},null,{"$f":"VLOOKUP(F68,工作表9!$C$1:$D$8, 2, FALSE)","v":1810},0]
[null,null,null,null,null,22,{"$f":"VLOOKUP(F69,工作表9!$C$1:$E$8, 3,  FALSE)","v":"純物質"},null,{"$f":"VLOOKUP(F69,工作表9!$C$1:$D$8, 2, FALSE)","v":1810},0]
[null,null,null,null,null,22,{"$f":"VLOOKUP(F70,工作表9!$C$1:$E$8, 3,  FALSE)","v":"純物質"},null,{"$f":"VLOOKUP(F70,工作表9!$C$1:$D$8, 2, FALSE)","v":1810},{"$f":"H70*I70","v":0}]
[null,null,null,null,null,22,{"$f":"VLOOKUP(F71,工作表9!$C$1:$E$8, 3,  FALSE)","v":"純物質"},null,{"$f":"VLOOKUP(F71,工作表9!$C$1:$D$8, 2, FALSE)","v":1810},0]
[null,null,null,null,null,22,{"$f":"VLOOKUP(F72,工作表9!$C$1:$E$8, 3,  FALSE)","v":"純物質"},null,{"$f":"VLOOKUP(F72,工作表9!$C$1:$D$8, 2, FALSE)","v":1810},0]
[null,null,null,null,null,22,{"$f":"VLOOKUP(F73,工作表9!$C$1:$E$8, 3,  FALSE)","v":"純物質"},null,{"$f":"VLOOKUP(F73,工作表9!$C$1:$D$8, 2, FALSE)","v":1810},0]
[null,null,null,null,null,22,{"$f":"VLOOKUP(F74,工作表9!$C$1:$E$8, 3,  FALSE)","v":"純物質"},null,{"$f":"VLOOKUP(F74,工作表9!$C$1:$D$8, 2, FALSE)","v":1810},0]
[null,null,null,null,null,22,{"$f":"VLOOKUP(F75,工作表9!$C$1:$E$8, 3,  FALSE)","v":"純物質"},null,{"$f":"VLOOKUP(F75,工作表9!$C$1:$D$8, 2, FALSE)","v":1810},0]
[null,null,null,null,null,22,{"$f":"VLOOKUP(F76,工作表9!$C$1:$E$8, 3,  FALSE)","v":"純物質"},null,{"$f":"VLOOKUP(F76,工作表9!$C$1:$D$8, 2, FALSE)","v":1810},0]
[null,null,null,null,null,22,{"$f":"VLOOKUP(F77,工作表9!$C$1:$E$8, 3,  FALSE)","v":"純物質"},null,{"$f":"VLOOKUP(F77,工作表9!$C$1:$D$8, 2, FALSE)","v":1810},0]
[null,null,null,null,null,22,{"$f":"VLOOKUP(F78,工作表9!$C$1:$E$8, 3,  FALSE)","v":"純物質"},null,{"$f":"VLOOKUP(F78,工作表9!$C$1:$D$8, 2, FALSE)","v":1810},0]
[null,null,null,null,null,22,{"$f":"VLOOKUP(F79,工作表9!$C$1:$E$8, 3,  FALSE)","v":"純物質"},null,{"$f":"VLOOKUP(F79,工作表9!$C$1:$D$8, 2, FALSE)","v":1810},0]
[null,null,null,null,null,22,{"$f":"VLOOKUP(F80,工作表9!$C$1:$E$8, 3,  FALSE)","v":"純物質"},null,{"$f":"VLOOKUP(F80,工作表9!$C$1:$D$8, 2, FALSE)","v":1810},0]
[null,null,null,null,null,22,{"$f":"VLOOKUP(F81,工作表9!$C$1:$E$8, 3,  FALSE)","v":"純物質"},null,{"$f":"VLOOKUP(F81,工作表9!$C$1:$D$8, 2, FALSE)","v":1810},0]
[null,null,null,null,null,22,{"$f":"VLOOKUP(F82,工作表9!$C$1:$E$8, 3,  FALSE)","v":"純物質"},null,{"$f":"VLOOKUP(F82,工作表9!$C$1:$D$8, 2, FALSE)","v":1810},0]
[null,null,null,null,null,22,{"$f":"VLOOKUP(F83,工作表9!$C$1:$E$8, 3,  FALSE)","v":"純物質"},null,{"$f":"VLOOKUP(F83,工作表9!$C$1:$D$8, 2, FALSE)","v":1810},0]
[null,null,null,null,null,22,{"$f":"VLOOKUP(F84,工作表9!$C$1:$E$8, 3,  FALSE)","v":"純物質"},null,{"$f":"VLOOKUP(F84,工作表9!$C$1:$D$8, 2, FALSE)","v":1810},0]
[null,null,null,null,null,22,{"$f":"VLOOKUP(F85,工作表9!$C$1:$E$8, 3,  FALSE)","v":"純物質"},null,{"$f":"VLOOKUP(F85,工作表9!$C$1:$D$8, 2, FALSE)","v":1810},0]
[null,null,null,null,null,22,{"$f":"VLOOKUP(F86,工作表9!$C$1:$E$8, 3,  FALSE)","v":"純物質"},null,{"$f":"VLOOKUP(F86,工作表9!$C$1:$D$8, 2, FALSE)","v":1810},0]
[null,null,null,null,null,22,{"$f":"VLOOKUP(F87,工作表9!$C$1:$E$8, 3,  FALSE)","v":"純物質"},null,{"$f":"VLOOKUP(F87,工作表9!$C$1:$D$8, 2, FALSE)","v":1810},0]
[null,null,null,null,null,22,{"$f":"VLOOKUP(F88,工作表9!$C$1:$E$8, 3,  FALSE)","v":"純物質"},null,{"$f":"VLOOKUP(F88,工作表9!$C$1:$D$8, 2, FALSE)","v":1810},0]
[null,null,null,null,null,22,{"$f":"VLOOKUP(F89,工作表9!$C$1:$E$8, 3,  FALSE)","v":"純物質"},null,{"$f":"VLOOKUP(F89,工作表9!$C$1:$D$8, 2, FALSE)","v":1810},0]
[null,null,null,null,null,22,{"$f":"VLOOKUP(F90,工作表9!$C$1:$E$8, 3,  FALSE)","v":"純物質"},null,{"$f":"VLOOKUP(F90,工作表9!$C$1:$D$8, 2, FALSE)","v":1810},0]
[null,null,null,null,null,22,{"$f":"VLOOKUP(F91,工作表9!$C$1:$E$8, 3,  FALSE)","v":"純物質"},null,{"$f":"VLOOKUP(F91,工作表9!$C$1:$D$8, 2, FALSE)","v":1810},0]
[null,null,null,null,null,22,{"$f":"VLOOKUP(F92,工作表9!$C$1:$E$8, 3,  FALSE)","v":"純物質"},null,{"$f":"VLOOKUP(F92,工作表9!$C$1:$D$8, 2, FALSE)","v":1810},0]
[null,null,null,null,null,22,{"$f":"VLOOKUP(F93,工作表9!$C$1:$E$8, 3,  FALSE)","v":"純物質"},null,{"$f":"VLOOKUP(F93,工作表9!$C$1:$D$8, 2, FALSE)","v":1810},0]
[null,null,null,null,null,22,{"$f":"VLOOKUP(F94,工作表9!$C$1:$E$8, 3,  FALSE)","v":"純物質"},null,{"$f":"VLOOKUP(F94,工作表9!$C$1:$D$8, 2, FALSE)","v":1810},0]
[null,null,null,null,null,22,{"$f":"VLOOKUP(F95,工作表9!$C$1:$E$8, 3,  FALSE)","v":"純物質"},null,{"$f":"VLOOKUP(F95,工作表9!$C$1:$D$8, 2, FALSE)","v":1810},0]
[null,null,null,null,null,22,{"$f":"VLOOKUP(F96,工作表9!$C$1:$E$8, 3,  FALSE)","v":"純物質"},null,{"$f":"VLOOKUP(F96,工作表9!$C$1:$D$8, 2, FALSE)","v":1810},0]
[null,null,null,null,null,22,{"$f":"VLOOKUP(F97,工作表9!$C$1:$E$8, 3,  FALSE)","v":"純物質"},null,{"$f":"VLOOKUP(F97,工作表9!$C$1:$D$8, 2, FALSE)","v":1810},0]
[null,null,null,null,null,22,{"$f":"VLOOKUP(F98,工作表9!$C$1:$E$8, 3,  FALSE)","v":"純物質"},null,{"$f":"VLOOKUP(F98,工作表9!$C$1:$D$8, 2, FALSE)","v":1810},0]
[null,null,null,null,null,22,{"$f":"VLOOKUP(F99,工作表9!$C$1:$E$8, 3,  FALSE)","v":"純物質"},null,{"$f":"VLOOKUP(F99,工作表9!$C$1:$D$8, 2, FALSE)","v":1810},0]
[null,null,null,null,null,22,{"$f":"VLOOKUP(F100,工作表9!$C$1:$E$8, 3,  FALSE)","v":"純物質"},null,{"$f":"VLOOKUP(F100,工作表9!$C$1:$D$8, 2, FALSE)","v":1810},0]
[null,null,null,null,null,22,{"$f":"VLOOKUP(F101,工作表9!$C$1:$E$8, 3,  FALSE)","v":"純物質"},null,{"$f":"VLOOKUP(F101,工作表9!$C$1:$D$8, 2, FALSE)","v":1810},0]
[null,null,null,null,null,22,{"$f":"VLOOKUP(F102,工作表9!$C$1:$E$8, 3,  FALSE)","v":"純物質"},null,{"$f":"VLOOKUP(F102,工作表9!$C$1:$D$8, 2, FALSE)","v":1810},0]
[null,null,null,null,null,22,{"$f":"VLOOKUP(F103,工作表9!$C$1:$E$8, 3,  FALSE)","v":"純物質"},null,{"$f":"VLOOKUP(F103,工作表9!$C$1:$D$8, 2, FALSE)","v":1810},0]
[null,null,null,null,null,22,{"$f":"VLOOKUP(F104,工作表9!$C$1:$E$8, 3,  FALSE)","v":"純物質"},null,{"$f":"VLOOKUP(F104,工作表9!$C$1:$D$8, 2, FALSE)","v":1810},0]
[null,null,null,null,null,22,{"$f":"VLOOKUP(F105,工作表9!$C$1:$E$8, 3,  FALSE)","v":"純物質"},null,{"$f":"VLOOKUP(F105,工作表9!$C$1:$D$8, 2, FALSE)","v":1810},0]
[null,null,null,null,null,22,{"$f":"VLOOKUP(F106,工作表9!$C$1:$E$8, 3,  FALSE)","v":"純物質"},null,{"$f":"VLOOKUP(F106,工作表9!$C$1:$D$8, 2, FALSE)","v":1810},0]
[null,null,null,null,null,22,{"$f":"VLOOKUP(F107,工作表9!$C$1:$E$8, 3,  FALSE)","v":"純物質"},null,{"$f":"VLOOKUP(F107,工作表9!$C$1:$D$8, 2, FALSE)","v":1810},0]
[null,null,null,null,null,22,{"$f":"VLOOKUP(F108,工作表9!$C$1:$E$8, 3,  FALSE)","v":"純物質"},null,{"$f":"VLOOKUP(F108,工作表9!$C$1:$D$8, 2, FALSE)","v":1810},0]
[null,null,null,null,null,22,{"$f":"VLOOKUP(F109,工作表9!$C$1:$E$8, 3,  FALSE)","v":"純物質"},null,{"$f":"VLOOKUP(F109,工作表9!$C$1:$D$8, 2, FALSE)","v":1810},0]
[null,null,null,null,null,22,{"$f":"VLOOKUP(F110,工作表9!$C$1:$E$8, 3,  FALSE)","v":"純物質"},null,{"$f":"VLOOKUP(F110,工作表9!$C$1:$D$8, 2, FALSE)","v":1810},0]
[null,null,null,null,null,22,{"$f":"VLOOKUP(F111,工作表9!$C$1:$E$8, 3,  FALSE)","v":"純物質"},null,{"$f":"VLOOKUP(F111,工作表9!$C$1:$D$8, 2, FALSE)","v":1810},0]
[null,null,null,null,null,22,{"$f":"VLOOKUP(F112,工作表9!$C$1:$E$8, 3,  FALSE)","v":"純物質"},null,{"$f":"VLOOKUP(F112,工作表9!$C$1:$D$8, 2, FALSE)","v":1810},0]
[null,null,null,null,null,22,{"$f":"VLOOKUP(F113,工作表9!$C$1:$E$8, 3,  FALSE)","v":"純物質"},null,{"$f":"VLOOKUP(F113,工作表9!$C$1:$D$8, 2, FALSE)","v":1810},0]
[null,null,null,null,null,22,{"$f":"VLOOKUP(F114,工作表9!$C$1:$E$8, 3,  FALSE)","v":"純物質"},null,{"$f":"VLOOKUP(F114,工作表9!$C$1:$D$8, 2, FALSE)","v":1810},0]
[null,null,null,null,null,22,{"$f":"VLOOKUP(F115,工作表9!$C$1:$E$8, 3,  FALSE)","v":"純物質"},null,{"$f":"VLOOKUP(F115,工作表9!$C$1:$D$8, 2, FALSE)","v":1810},0]
[null,null,null,null,null,22,{"$f":"VLOOKUP(F116,工作表9!$C$1:$E$8, 3,  FALSE)","v":"純物質"},null,{"$f":"VLOOKUP(F116,工作表9!$C$1:$D$8, 2, FALSE)","v":1810},0]
[null,null,null,null,null,22,{"$f":"VLOOKUP(F117,工作表9!$C$1:$E$8, 3,  FALSE)","v":"純物質"},null,{"$f":"VLOOKUP(F117,工作表9!$C$1:$D$8, 2, FALSE)","v":1810},0]
[null,null,null,null,null,22,{"$f":"VLOOKUP(F118,工作表9!$C$1:$E$8, 3,  FALSE)","v":"純物質"},null,{"$f":"VLOOKUP(F118,工作表9!$C$1:$D$8, 2, FALSE)","v":1810},0]
[null,null,null,null,null,22,{"$f":"VLOOKUP(F119,工作表9!$C$1:$E$8, 3,  FALSE)","v":"純物質"},null,{"$f":"VLOOKUP(F119,工作表9!$C$1:$D$8, 2, FALSE)","v":1810},0]
[null,null,null,null,null,22,{"$f":"VLOOKUP(F120,工作表9!$C$1:$E$8, 3,  FALSE)","v":"純物質"},null,{"$f":"VLOOKUP(F120,工作表9!$C$1:$D$8, 2, FALSE)","v":1810},0]
[null,null,null,null,null,22,{"$f":"VLOOKUP(F121,工作表9!$C$1:$E$8, 3,  FALSE)","v":"純物質"},null,{"$f":"VLOOKUP(F121,工作表9!$C$1:$D$8, 2, FALSE)","v":1810},0]
[null,null,null,null,null,22,{"$f":"VLOOKUP(F122,工作表9!$C$1:$E$8, 3,  FALSE)","v":"純物質"},null,{"$f":"VLOOKUP(F122,工作表9!$C$1:$D$8, 2, FALSE)","v":1810},0]
[null,null,null,null,null,22,{"$f":"VLOOKUP(F123,工作表9!$C$1:$E$8, 3,  FALSE)","v":"純物質"},null,{"$f":"VLOOKUP(F123,工作表9!$C$1:$D$8, 2, FALSE)","v":1810},0]
[null,null,null,null,null,22,{"$f":"VLOOKUP(F124,工作表9!$C$1:$E$8, 3,  FALSE)","v":"純物質"},null,{"$f":"VLOOKUP(F124,工作表9!$C$1:$D$8, 2, FALSE)","v":1810},0]
[null,null,null,null,null,22,{"$f":"VLOOKUP(F125,工作表9!$C$1:$E$8, 3,  FALSE)","v":"純物質"},null,{"$f":"VLOOKUP(F125,工作表9!$C$1:$D$8, 2, FALSE)","v":1810},0]
[null,null,null,null,null,22,{"$f":"VLOOKUP(F126,工作表9!$C$1:$E$8, 3,  FALSE)","v":"純物質"},null,{"$f":"VLOOKUP(F126,工作表9!$C$1:$D$8, 2, FALSE)","v":1810},0]
[null,null,null,null,null,22,{"$f":"VLOOKUP(F127,工作表9!$C$1:$E$8, 3,  FALSE)","v":"純物質"},null,{"$f":"VLOOKUP(F127,工作表9!$C$1:$D$8, 2, FALSE)","v":1810},0]
[null,null,null,null,null,22,{"$f":"VLOOKUP(F128,工作表9!$C$1:$E$8, 3,  FALSE)","v":"純物質"},null,{"$f":"VLOOKUP(F128,工作表9!$C$1:$D$8, 2, FALSE)","v":1810},0]
[null,null,null,null,null,22,{"$f":"VLOOKUP(F129,工作表9!$C$1:$E$8, 3,  FALSE)","v":"純物質"},null,{"$f":"VLOOKUP(F129,工作表9!$C$1:$D$8, 2, FALSE)","v":1810},0]
[null,null,null,null,null,22,{"$f":"VLOOKUP(F130,工作表9!$C$1:$E$8, 3,  FALSE)","v":"純物質"},null,{"$f":"VLOOKUP(F130,工作表9!$C$1:$D$8, 2, FALSE)","v":1810},0]
[null,null,null,null,null,22,{"$f":"VLOOKUP(F131,工作表9!$C$1:$E$8, 3,  FALSE)","v":"純物質"},null,{"$f":"VLOOKUP(F131,工作表9!$C$1:$D$8, 2, FALSE)","v":1810},0]
[null,null,null,null,null,22,{"$f":"VLOOKUP(F132,工作表9!$C$1:$E$8, 3,  FALSE)","v":"純物質"},null,{"$f":"VLOOKUP(F132,工作表9!$C$1:$D$8, 2, FALSE)","v":1810},0]
[null,null,null,null,null,22,{"$f":"VLOOKUP(F133,工作表9!$C$1:$E$8, 3,  FALSE)","v":"純物質"},null,{"$f":"VLOOKUP(F133,工作表9!$C$1:$D$8, 2, FALSE)","v":1810},0]
[null,null,null,null,null,22,{"$f":"VLOOKUP(F134,工作表9!$C$1:$E$8, 3,  FALSE)","v":"純物質"},null,{"$f":"VLOOKUP(F134,工作表9!$C$1:$D$8, 2, FALSE)","v":1810},{"$f":"H134*I134","v":0}]
[null,null,null,null,null,22,{"$f":"VLOOKUP(F135,工作表9!$C$1:$E$8, 3,  FALSE)","v":"純物質"},null,{"$f":"VLOOKUP(F135,工作表9!$C$1:$D$8, 2, FALSE)","v":1810},0]
[null,null,null,null,null,22,{"$f":"VLOOKUP(F136,工作表9!$C$1:$E$8, 3,  FALSE)","v":"純物質"},null,{"$f":"VLOOKUP(F136,工作表9!$C$1:$D$8, 2, FALSE)","v":1810},0]
[null,null,null,null,null,22,{"$f":"VLOOKUP(F137,工作表9!$C$1:$E$8, 3,  FALSE)","v":"純物質"},null,{"$f":"VLOOKUP(F137,工作表9!$C$1:$D$8, 2, FALSE)","v":1810},0]
[null,null,null,null,null,22,{"$f":"VLOOKUP(F138,工作表9!$C$1:$E$8, 3,  FALSE)","v":"純物質"},null,{"$f":"VLOOKUP(F138,工作表9!$C$1:$D$8, 2, FALSE)","v":1810},0]
[null,null,null,null,null,22,{"$f":"VLOOKUP(F139,工作表9!$C$1:$E$8, 3,  FALSE)","v":"純物質"},null,{"$f":"VLOOKUP(F139,工作表9!$C$1:$D$8, 2, FALSE)","v":1810},0]
[null,null,null,null,null,22,{"$f":"VLOOKUP(F140,工作表9!$C$1:$E$8, 3,  FALSE)","v":"純物質"},null,{"$f":"VLOOKUP(F140,工作表9!$C$1:$D$8, 2, FALSE)","v":1810},0]
[null,null,null,null,null,22,{"$f":"VLOOKUP(F141,工作表9!$C$1:$E$8, 3,  FALSE)","v":"純物質"},null,{"$f":"VLOOKUP(F141,工作表9!$C$1:$D$8, 2, FALSE)","v":1810},0]
[null,null,null,null,null,22,{"$f":"VLOOKUP(F142,工作表9!$C$1:$E$8, 3,  FALSE)","v":"純物質"},null,{"$f":"VLOOKUP(F142,工作表9!$C$1:$D$8, 2, FALSE)","v":1810},0]
[null,null,null,null,null,22,{"$f":"VLOOKUP(F143,工作表9!$C$1:$E$8, 3,  FALSE)","v":"純物質"},null,{"$f":"VLOOKUP(F143,工作表9!$C$1:$D$8, 2, FALSE)","v":1810},0]
[null,null,null,null,null,22,{"$f":"VLOOKUP(F144,工作表9!$C$1:$E$8, 3,  FALSE)","v":"純物質"},null,{"$f":"VLOOKUP(F144,工作表9!$C$1:$D$8, 2, FALSE)","v":1810},0]
[null,null,null,null,null,22,{"$f":"VLOOKUP(F145,工作表9!$C$1:$E$8, 3,  FALSE)","v":"純物質"},null,{"$f":"VLOOKUP(F145,工作表9!$C$1:$D$8, 2, FALSE)","v":1810},0]
[null,null,null,null,null,22,{"$f":"VLOOKUP(F146,工作表9!$C$1:$E$8, 3,  FALSE)","v":"純物質"},null,{"$f":"VLOOKUP(F146,工作表9!$C$1:$D$8, 2, FALSE)","v":1810},0]
[null,null,null,null,null,22,{"$f":"VLOOKUP(F147,工作表9!$C$1:$E$8, 3,  FALSE)","v":"純物質"},null,{"$f":"VLOOKUP(F147,工作表9!$C$1:$D$8, 2, FALSE)","v":1810},0]
[null,null,null,null,null,22,{"$f":"VLOOKUP(F148,工作表9!$C$1:$E$8, 3,  FALSE)","v":"純物質"},null,{"$f":"VLOOKUP(F148,工作表9!$C$1:$D$8, 2, FALSE)","v":1810},0]
[null,null,null,null,null,22,{"$f":"VLOOKUP(F149,工作表9!$C$1:$E$8, 3,  FALSE)","v":"純物質"},null,{"$f":"VLOOKUP(F149,工作表9!$C$1:$D$8, 2, FALSE)","v":1810},0]
[null,null,null,null,null,22,{"$f":"VLOOKUP(F150,工作表9!$C$1:$E$8, 3,  FALSE)","v":"純物質"},null,{"$f":"VLOOKUP(F150,工作表9!$C$1:$D$8, 2, FALSE)","v":1810},0]
[null,null,null,null,null,22,{"$f":"VLOOKUP(F151,工作表9!$C$1:$E$8, 3,  FALSE)","v":"純物質"},null,{"$f":"VLOOKUP(F151,工作表9!$C$1:$D$8, 2, FALSE)","v":1810},0]
[null,null,null,null,null,22,{"$f":"VLOOKUP(F152,工作表9!$C$1:$E$8, 3,  FALSE)","v":"純物質"},null,{"$f":"VLOOKUP(F152,工作表9!$C$1:$D$8, 2, FALSE)","v":1810},0]
[null,null,null,null,null,22,{"$f":"VLOOKUP(F153,工作表9!$C$1:$E$8, 3,  FALSE)","v":"純物質"},null,{"$f":"VLOOKUP(F153,工作表9!$C$1:$D$8, 2, FALSE)","v":1810},0]
[null,null,null,null,null,22,{"$f":"VLOOKUP(F154,工作表9!$C$1:$E$8, 3,  FALSE)","v":"純物質"},null,{"$f":"VLOOKUP(F154,工作表9!$C$1:$D$8, 2, FALSE)","v":1810},0]
[null,null,null,null,null,22,{"$f":"VLOOKUP(F155,工作表9!$C$1:$E$8, 3,  FALSE)","v":"純物質"},null,{"$f":"VLOOKUP(F155,工作表9!$C$1:$D$8, 2, FALSE)","v":1810},0]
[null,null,null,null,null,22,{"$f":"VLOOKUP(F156,工作表9!$C$1:$E$8, 3,  FALSE)","v":"純物質"},null,{"$f":"VLOOKUP(F156,工作表9!$C$1:$D$8, 2, FALSE)","v":1810},0]
[null,null,null,null,null,22,{"$f":"VLOOKUP(F157,工作表9!$C$1:$E$8, 3,  FALSE)","v":"純物質"},null,{"$f":"VLOOKUP(F157,工作表9!$C$1:$D$8, 2, FALSE)","v":1810},0]
[null,null,null,null,null,22,{"$f":"VLOOKUP(F158,工作表9!$C$1:$E$8, 3,  FALSE)","v":"純物質"},null,{"$f":"VLOOKUP(F158,工作表9!$C$1:$D$8, 2, FALSE)","v":1810},0]
[null,null,null,null,null,22,{"$f":"VLOOKUP(F159,工作表9!$C$1:$E$8, 3,  FALSE)","v":"純物質"},null,{"$f":"VLOOKUP(F159,工作表9!$C$1:$D$8, 2, FALSE)","v":1810},0]
[null,null,null,null,null,22,{"$f":"VLOOKUP(F160,工作表9!$C$1:$E$8, 3,  FALSE)","v":"純物質"},null,{"$f":"VLOOKUP(F160,工作表9!$C$1:$D$8, 2, FALSE)","v":1810},0]
[null,null,null,null,null,22,{"$f":"VLOOKUP(F161,工作表9!$C$1:$E$8, 3,  FALSE)","v":"純物質"},null,{"$f":"VLOOKUP(F161,工作表9!$C$1:$D$8, 2, FALSE)","v":1810},0]
[null,null,null,null,null,22,{"$f":"VLOOKUP(F162,工作表9!$C$1:$E$8, 3,  FALSE)","v":"純物質"},null,{"$f":"VLOOKUP(F162,工作表9!$C$1:$D$8, 2, FALSE)","v":1810},0]
[null,null,null,null,null,22,{"$f":"VLOOKUP(F163,工作表9!$C$1:$E$8, 3,  FALSE)","v":"純物質"},null,{"$f":"VLOOKUP(F163,工作表9!$C$1:$D$8, 2, FALSE)","v":1810},0]
[null,null,null,null,null,22,{"$f":"VLOOKUP(F164,工作表9!$C$1:$E$8, 3,  FALSE)","v":"純物質"},null,{"$f":"VLOOKUP(F164,工作表9!$C$1:$D$8, 2, FALSE)","v":1810},0]
[null,null,null,null,null,22,{"$f":"VLOOKUP(F165,工作表9!$C$1:$E$8, 3,  FALSE)","v":"純物質"},null,{"$f":"VLOOKUP(F165,工作表9!$C$1:$D$8, 2, FALSE)","v":1810},0]
[null,null,null,null,null,22,{"$f":"VLOOKUP(F166,工作表9!$C$1:$E$8, 3,  FALSE)","v":"純物質"},null,{"$f":"VLOOKUP(F166,工作表9!$C$1:$D$8, 2, FALSE)","v":1810},0]
[null,null,null,null,null,22,{"$f":"VLOOKUP(F167,工作表9!$C$1:$E$8, 3,  FALSE)","v":"純物質"},null,{"$f":"VLOOKUP(F167,工作表9!$C$1:$D$8, 2, FALSE)","v":1810},0]
[null,null,null,null,null,22,{"$f":"VLOOKUP(F168,工作表9!$C$1:$E$8, 3,  FALSE)","v":"純物質"},null,{"$f":"VLOOKUP(F168,工作表9!$C$1:$D$8, 2, FALSE)","v":1810},0]
[null,null,null,null,null,22,{"$f":"VLOOKUP(F169,工作表9!$C$1:$E$8, 3,  FALSE)","v":"純物質"},null,{"$f":"VLOOKUP(F169,工作表9!$C$1:$D$8, 2, FALSE)","v":1810},0]
[null,null,null,null,null,22,{"$f":"VLOOKUP(F170,工作表9!$C$1:$E$8, 3,  FALSE)","v":"純物質"},null,{"$f":"VLOOKUP(F170,工作表9!$C$1:$D$8, 2, FALSE)","v":1810},0]
[null,null,null,null,null,22,{"$f":"VLOOKUP(F171,工作表9!$C$1:$E$8, 3,  FALSE)","v":"純物質"},null,{"$f":"VLOOKUP(F171,工作表9!$C$1:$D$8, 2, FALSE)","v":1810},0]
[null,null,null,null,null,22,{"$f":"VLOOKUP(F172,工作表9!$C$1:$E$8, 3,  FALSE)","v":"純物質"},null,{"$f":"VLOOKUP(F172,工作表9!$C$1:$D$8, 2, FALSE)","v":1810},0]
[null,null,null,null,null,22,{"$f":"VLOOKUP(F173,工作表9!$C$1:$E$8, 3,  FALSE)","v":"純物質"},null,{"$f":"VLOOKUP(F173,工作表9!$C$1:$D$8, 2, FALSE)","v":1810},0]
[null,null,null,null,null,22,{"$f":"VLOOKUP(F174,工作表9!$C$1:$E$8, 3,  FALSE)","v":"純物質"},null,{"$f":"VLOOKUP(F174,工作表9!$C$1:$D$8, 2, FALSE)","v":1810},0]
[null,null,null,null,null,22,{"$f":"VLOOKUP(F175,工作表9!$C$1:$E$8, 3,  FALSE)","v":"純物質"},null,{"$f":"VLOOKUP(F175,工作表9!$C$1:$D$8, 2, FALSE)","v":1810},0]
[null,null,null,null,null,22,{"$f":"VLOOKUP(F176,工作表9!$C$1:$E$8, 3,  FALSE)","v":"純物質"},null,{"$f":"VLOOKUP(F176,工作表9!$C$1:$D$8, 2, FALSE)","v":1810},0]
[null,null,null,null,null,22,{"$f":"VLOOKUP(F177,工作表9!$C$1:$E$8, 3,  FALSE)","v":"純物質"},null,{"$f":"VLOOKUP(F177,工作表9!$C$1:$D$8, 2, FALSE)","v":1810},0]
[null,null,null,null,null,22,{"$f":"VLOOKUP(F178,工作表9!$C$1:$E$8, 3,  FALSE)","v":"純物質"},null,{"$f":"VLOOKUP(F178,工作表9!$C$1:$D$8, 2, FALSE)","v":1810},0]
[null,null,null,null,null,22,{"$f":"VLOOKUP(F179,工作表9!$C$1:$E$8, 3,  FALSE)","v":"純物質"},null,{"$f":"VLOOKUP(F179,工作表9!$C$1:$D$8, 2, FALSE)","v":1810},0]
[null,null,null,null,null,22,{"$f":"VLOOKUP(F180,工作表9!$C$1:$E$8, 3,  FALSE)","v":"純物質"},null,{"$f":"VLOOKUP(F180,工作表9!$C$1:$D$8, 2, FALSE)","v":1810},0]
[null,null,null,null,null,22,{"$f":"VLOOKUP(F181,工作表9!$C$1:$E$8, 3,  FALSE)","v":"純物質"},null,{"$f":"VLOOKUP(F181,工作表9!$C$1:$D$8, 2, FALSE)","v":1810},0]
[null,null,null,null,null,22,{"$f":"VLOOKUP(F182,工作表9!$C$1:$E$8, 3,  FALSE)","v":"純物質"},null,{"$f":"VLOOKUP(F182,工作表9!$C$1:$D$8, 2, FALSE)","v":1810},0]
[null,null,null,null,null,22,{"$f":"VLOOKUP(F183,工作表9!$C$1:$E$8, 3,  FALSE)","v":"純物質"},null,{"$f":"VLOOKUP(F183,工作表9!$C$1:$D$8, 2, FALSE)","v":1810},0]
[null,null,null,null,null,22,{"$f":"VLOOKUP(F184,工作表9!$C$1:$E$8, 3,  FALSE)","v":"純物質"},null,{"$f":"VLOOKUP(F184,工作表9!$C$1:$D$8, 2, FALSE)","v":1810},0]
[null,null,null,null,null,22,{"$f":"VLOOKUP(F185,工作表9!$C$1:$E$8, 3,  FALSE)","v":"純物質"},null,{"$f":"VLOOKUP(F185,工作表9!$C$1:$D$8, 2, FALSE)","v":1810},0]
[null,null,null,null,null,22,{"$f":"VLOOKUP(F186,工作表9!$C$1:$E$8, 3,  FALSE)","v":"純物質"},null,{"$f":"VLOOKUP(F186,工作表9!$C$1:$D$8, 2, FALSE)","v":1810},0]
[null,null,null,null,null,22,{"$f":"VLOOKUP(F187,工作表9!$C$1:$E$8, 3,  FALSE)","v":"純物質"},null,{"$f":"VLOOKUP(F187,工作表9!$C$1:$D$8, 2, FALSE)","v":1810},0]
[null,null,null,null,null,22,{"$f":"VLOOKUP(F188,工作表9!$C$1:$E$8, 3,  FALSE)","v":"純物質"},null,{"$f":"VLOOKUP(F188,工作表9!$C$1:$D$8, 2, FALSE)","v":1810},0]
[null,null,null,null,null,22,{"$f":"VLOOKUP(F189,工作表9!$C$1:$E$8, 3,  FALSE)","v":"純物質"},null,{"$f":"VLOOKUP(F189,工作表9!$C$1:$D$8, 2, FALSE)","v":1810},0]
[null,null,null,null,null,22,{"$f":"VLOOKUP(F190,工作表9!$C$1:$E$8, 3,  FALSE)","v":"純物質"},null,{"$f":"VLOOKUP(F190,工作表9!$C$1:$D$8, 2, FALSE)","v":1810},0]
[null,null,null,null,null,22,{"$f":"VLOOKUP(F191,工作表9!$C$1:$E$8, 3,  FALSE)","v":"純物質"},null,{"$f":"VLOOKUP(F191,工作表9!$C$1:$D$8, 2, FALSE)","v":1810},0]
[null,null,null,null,null,22,{"$f":"VLOOKUP(F192,工作表9!$C$1:$E$8, 3,  FALSE)","v":"純物質"},null,{"$f":"VLOOKUP(F192,工作表9!$C$1:$D$8, 2, FALSE)","v":1810},0]
[null,null,null,null,null,22,{"$f":"VLOOKUP(F193,工作表9!$C$1:$E$8, 3,  FALSE)","v":"純物質"},null,{"$f":"VLOOKUP(F193,工作表9!$C$1:$D$8, 2, FALSE)","v":1810},0]
[null,null,null,null,null,22,{"$f":"VLOOKUP(F194,工作表9!$C$1:$E$8, 3,  FALSE)","v":"純物質"},null,{"$f":"VLOOKUP(F194,工作表9!$C$1:$D$8, 2, FALSE)","v":1810},0]
[null,null,null,null,null,22,{"$f":"VLOOKUP(F195,工作表9!$C$1:$E$8, 3,  FALSE)","v":"純物質"},null,{"$f":"VLOOKUP(F195,工作表9!$C$1:$D$8, 2, FALSE)","v":1810},0]
[null,null,null,null,null,22,{"$f":"VLOOKUP(F196,工作表9!$C$1:$E$8, 3,  FALSE)","v":"純物質"},null,{"$f":"VLOOKUP(F196,工作表9!$C$1:$D$8, 2, FALSE)","v":1810},0]
[null,null,null,null,null,22,{"$f":"VLOOKUP(F197,工作表9!$C$1:$E$8, 3,  FALSE)","v":"純物質"},null,{"$f":"VLOOKUP(F197,工作表9!$C$1:$D$8, 2, FALSE)","v":1810},0]
[null,null,null,null,null,22,{"$f":"VLOOKUP(F198,工作表9!$C$1:$E$8, 3,  FALSE)","v":"純物質"},null,{"$f":"VLOOKUP(F198,工作表9!$C$1:$D$8, 2, FALSE)","v":1810},{"$f":"H198*I198","v":0}]
[null,null,null,null,null,22,{"$f":"VLOOKUP(F199,工作表9!$C$1:$E$8, 3,  FALSE)","v":"純物質"},null,{"$f":"VLOOKUP(F199,工作表9!$C$1:$D$8, 2, FALSE)","v":1810},0]
[null,null,null,null,null,22,{"$f":"VLOOKUP(F200,工作表9!$C$1:$E$8, 3,  FALSE)","v":"純物質"},null,{"$f":"VLOOKUP(F200,工作表9!$C$1:$D$8, 2, FALSE)","v":1810},0]
[null,null,null,null,null,22,{"$f":"VLOOKUP(F201,工作表9!$C$1:$E$8, 3,  FALSE)","v":"純物質"},null,{"$f":"VLOOKUP(F201,工作表9!$C$1:$D$8, 2, FALSE)","v":1810},0]
[null,null,null,null,null,22,{"$f":"VLOOKUP(F202,工作表9!$C$1:$E$8, 3,  FALSE)","v":"純物質"},null,{"$f":"VLOOKUP(F202,工作表9!$C$1:$D$8, 2, FALSE)","v":1810},0]
[null,null,null,null,null,22,{"$f":"VLOOKUP(F203,工作表9!$C$1:$E$8, 3,  FALSE)","v":"純物質"},null,{"$f":"VLOOKUP(F203,工作表9!$C$1:$D$8, 2, FALSE)","v":1810},0]
[null,null,null,null,null,22,{"$f":"VLOOKUP(F204,工作表9!$C$1:$E$8, 3,  FALSE)","v":"純物質"},null,{"$f":"VLOOKUP(F204,工作表9!$C$1:$D$8, 2, FALSE)","v":1810},0]
[null,null,null,null,null,22,{"$f":"VLOOKUP(F205,工作表9!$C$1:$E$8, 3,  FALSE)","v":"純物質"},null,{"$f":"VLOOKUP(F205,工作表9!$C$1:$D$8, 2, FALSE)","v":1810},0]
[null,null,null,null,null,22,{"$f":"VLOOKUP(F206,工作表9!$C$1:$E$8, 3,  FALSE)","v":"純物質"},null,{"$f":"VLOOKUP(F206,工作表9!$C$1:$D$8, 2, FALSE)","v":1810},0]
[null,null,null,null,null,22,{"$f":"VLOOKUP(F207,工作表9!$C$1:$E$8, 3,  FALSE)","v":"純物質"},null,{"$f":"VLOOKUP(F207,工作表9!$C$1:$D$8, 2, FALSE)","v":1810},0]
[null,null,null,null,null,22,{"$f":"VLOOKUP(F208,工作表9!$C$1:$E$8, 3,  FALSE)","v":"純物質"},null,{"$f":"VLOOKUP(F208,工作表9!$C$1:$D$8, 2, FALSE)","v":1810},0]
[null,null,null,null,null,22,{"$f":"VLOOKUP(F209,工作表9!$C$1:$E$8, 3,  FALSE)","v":"純物質"},null,{"$f":"VLOOKUP(F209,工作表9!$C$1:$D$8, 2, FALSE)","v":1810},0]
[null,null,null,null,null,22,{"$f":"VLOOKUP(F210,工作表9!$C$1:$E$8, 3,  FALSE)","v":"純物質"},null,{"$f":"VLOOKUP(F210,工作表9!$C$1:$D$8, 2, FALSE)","v":1810},0]
[null,null,null,null,null,22,{"$f":"VLOOKUP(F211,工作表9!$C$1:$E$8, 3,  FALSE)","v":"純物質"},null,{"$f":"VLOOKUP(F211,工作表9!$C$1:$D$8, 2, FALSE)","v":1810},0]
[null,null,null,null,null,22,{"$f":"VLOOKUP(F212,工作表9!$C$1:$E$8, 3,  FALSE)","v":"純物質"},null,{"$f":"VLOOKUP(F212,工作表9!$C$1:$D$8, 2, FALSE)","v":1810},0]
[null,null,null,null,null,22,{"$f":"VLOOKUP(F213,工作表9!$C$1:$E$8, 3,  FALSE)","v":"純物質"},null,{"$f":"VLOOKUP(F213,工作表9!$C$1:$D$8, 2, FALSE)","v":1810},0]
[null,null,null,null,null,22,{"$f":"VLOOKUP(F214,工作表9!$C$1:$E$8, 3,  FALSE)","v":"純物質"},null,{"$f":"VLOOKUP(F214,工作表9!$C$1:$D$8, 2, FALSE)","v":1810},0]
[null,null,null,null,null,22,{"$f":"VLOOKUP(F215,工作表9!$C$1:$E$8, 3,  FALSE)","v":"純物質"},null,{"$f":"VLOOKUP(F215,工作表9!$C$1:$D$8, 2, FALSE)","v":1810},0]
[null,null,null,null,null,22,{"$f":"VLOOKUP(F216,工作表9!$C$1:$E$8, 3,  FALSE)","v":"純物質"},null,{"$f":"VLOOKUP(F216,工作表9!$C$1:$D$8, 2, FALSE)","v":1810},0]
[null,null,null,null,null,22,{"$f":"VLOOKUP(F217,工作表9!$C$1:$E$8, 3,  FALSE)","v":"純物質"},null,{"$f":"VLOOKUP(F217,工作表9!$C$1:$D$8, 2, FALSE)","v":1810},0]
[null,null,null,null,null,22,{"$f":"VLOOKUP(F218,工作表9!$C$1:$E$8, 3,  FALSE)","v":"純物質"},null,{"$f":"VLOOKUP(F218,工作表9!$C$1:$D$8, 2, FALSE)","v":1810},0]
[null,null,null,null,null,22,{"$f":"VLOOKUP(F219,工作表9!$C$1:$E$8, 3,  FALSE)","v":"純物質"},null,{"$f":"VLOOKUP(F219,工作表9!$C$1:$D$8, 2, FALSE)","v":1810},0]
[null,null,null,null,null,22,{"$f":"VLOOKUP(F220,工作表9!$C$1:$E$8, 3,  FALSE)","v":"純物質"},null,{"$f":"VLOOKUP(F220,工作表9!$C$1:$D$8, 2, FALSE)","v":1810},0]
[null,null,null,null,null,22,{"$f":"VLOOKUP(F221,工作表9!$C$1:$E$8, 3,  FALSE)","v":"純物質"},null,{"$f":"VLOOKUP(F221,工作表9!$C$1:$D$8, 2, FALSE)","v":1810},0]
[null,null,null,null,null,22,{"$f":"VLOOKUP(F222,工作表9!$C$1:$E$8, 3,  FALSE)","v":"純物質"},null,{"$f":"VLOOKUP(F222,工作表9!$C$1:$D$8, 2, FALSE)","v":1810},0]
[null,null,null,null,null,22,{"$f":"VLOOKUP(F223,工作表9!$C$1:$E$8, 3,  FALSE)","v":"純物質"},null,{"$f":"VLOOKUP(F223,工作表9!$C$1:$D$8, 2, FALSE)","v":1810},0]
[null,null,null,null,null,22,{"$f":"VLOOKUP(F224,工作表9!$C$1:$E$8, 3,  FALSE)","v":"純物質"},null,{"$f":"VLOOKUP(F224,工作表9!$C$1:$D$8, 2, FALSE)","v":1810},0]
[null,null,null,null,null,22,{"$f":"VLOOKUP(F225,工作表9!$C$1:$E$8, 3,  FALSE)","v":"純物質"},null,{"$f":"VLOOKUP(F225,工作表9!$C$1:$D$8, 2, FALSE)","v":1810},0]
[null,null,null,null,null,22,{"$f":"VLOOKUP(F226,工作表9!$C$1:$E$8, 3,  FALSE)","v":"純物質"},null,{"$f":"VLOOKUP(F226,工作表9!$C$1:$D$8, 2, FALSE)","v":1810},0]
[null,null,null,null,null,22,{"$f":"VLOOKUP(F227,工作表9!$C$1:$E$8, 3,  FALSE)","v":"純物質"},null,{"$f":"VLOOKUP(F227,工作表9!$C$1:$D$8, 2, FALSE)","v":1810},0]
[null,null,null,null,null,22,{"$f":"VLOOKUP(F228,工作表9!$C$1:$E$8, 3,  FALSE)","v":"純物質"},null,{"$f":"VLOOKUP(F228,工作表9!$C$1:$D$8, 2, FALSE)","v":1810},0]
[null,null,null,null,null,22,{"$f":"VLOOKUP(F229,工作表9!$C$1:$E$8, 3,  FALSE)","v":"純物質"},null,{"$f":"VLOOKUP(F229,工作表9!$C$1:$D$8, 2, FALSE)","v":1810},0]
[null,null,null,null,null,22,{"$f":"VLOOKUP(F230,工作表9!$C$1:$E$8, 3,  FALSE)","v":"純物質"},null,{"$f":"VLOOKUP(F230,工作表9!$C$1:$D$8, 2, FALSE)","v":1810},0]
[null,null,null,null,null,22,{"$f":"VLOOKUP(F231,工作表9!$C$1:$E$8, 3,  FALSE)","v":"純物質"},null,{"$f":"VLOOKUP(F231,工作表9!$C$1:$D$8, 2, FALSE)","v":1810},0]
[null,null,null,null,null,22,{"$f":"VLOOKUP(F232,工作表9!$C$1:$E$8, 3,  FALSE)","v":"純物質"},null,{"$f":"VLOOKUP(F232,工作表9!$C$1:$D$8, 2, FALSE)","v":1810},0]
[null,null,null,null,null,22,{"$f":"VLOOKUP(F233,工作表9!$C$1:$E$8, 3,  FALSE)","v":"純物質"},null,{"$f":"VLOOKUP(F233,工作表9!$C$1:$D$8, 2, FALSE)","v":1810},0]
[null,null,null,null,null,22,{"$f":"VLOOKUP(F234,工作表9!$C$1:$E$8, 3,  FALSE)","v":"純物質"},null,{"$f":"VLOOKUP(F234,工作表9!$C$1:$D$8, 2, FALSE)","v":1810},0]
[null,null,null,null,null,22,{"$f":"VLOOKUP(F235,工作表9!$C$1:$E$8, 3,  FALSE)","v":"純物質"},null,{"$f":"VLOOKUP(F235,工作表9!$C$1:$D$8, 2, FALSE)","v":1810},0]
[null,null,null,null,null,22,{"$f":"VLOOKUP(F236,工作表9!$C$1:$E$8, 3,  FALSE)","v":"純物質"},null,{"$f":"VLOOKUP(F236,工作表9!$C$1:$D$8, 2, FALSE)","v":1810},0]
[null,null,null,null,null,22,{"$f":"VLOOKUP(F237,工作表9!$C$1:$E$8, 3,  FALSE)","v":"純物質"},null,{"$f":"VLOOKUP(F237,工作表9!$C$1:$D$8, 2, FALSE)","v":1810},0]
[null,null,null,null,null,22,{"$f":"VLOOKUP(F238,工作表9!$C$1:$E$8, 3,  FALSE)","v":"純物質"},null,{"$f":"VLOOKUP(F238,工作表9!$C$1:$D$8, 2, FALSE)","v":1810},0]
[null,null,null,null,null,22,{"$f":"VLOOKUP(F239,工作表9!$C$1:$E$8, 3,  FALSE)","v":"純物質"},null,{"$f":"VLOOKUP(F239,工作表9!$C$1:$D$8, 2, FALSE)","v":1810},0]
[null,null,null,null,null,22,{"$f":"VLOOKUP(F240,工作表9!$C$1:$E$8, 3,  FALSE)","v":"純物質"},null,{"$f":"VLOOKUP(F240,工作表9!$C$1:$D$8, 2, FALSE)","v":1810},0]
[null,null,null,null,null,22,{"$f":"VLOOKUP(F241,工作表9!$C$1:$E$8, 3,  FALSE)","v":"純物質"},null,{"$f":"VLOOKUP(F241,工作表9!$C$1:$D$8, 2, FALSE)","v":1810},0]
[null,null,null,null,null,22,{"$f":"VLOOKUP(F242,工作表9!$C$1:$E$8, 3,  FALSE)","v":"純物質"},null,{"$f":"VLOOKUP(F242,工作表9!$C$1:$D$8, 2, FALSE)","v":1810},0]
[null,null,null,null,null,22,{"$f":"VLOOKUP(F243,工作表9!$C$1:$E$8, 3,  FALSE)","v":"純物質"},null,{"$f":"VLOOKUP(F243,工作表9!$C$1:$D$8, 2, FALSE)","v":1810},0]
[null,null,null,null,null,22,{"$f":"VLOOKUP(F244,工作表9!$C$1:$E$8, 3,  FALSE)","v":"純物質"},null,{"$f":"VLOOKUP(F244,工作表9!$C$1:$D$8, 2, FALSE)","v":1810},0]
[null,null,null,null,null,22,{"$f":"VLOOKUP(F245,工作表9!$C$1:$E$8, 3,  FALSE)","v":"純物質"},null,{"$f":"VLOOKUP(F245,工作表9!$C$1:$D$8, 2, FALSE)","v":1810},0]
[null,null,null,null,null,22,{"$f":"VLOOKUP(F246,工作表9!$C$1:$E$8, 3,  FALSE)","v":"純物質"},null,{"$f":"VLOOKUP(F246,工作表9!$C$1:$D$8, 2, FALSE)","v":1810},0]
[null,null,null,null,null,22,{"$f":"VLOOKUP(F247,工作表9!$C$1:$E$8, 3,  FALSE)","v":"純物質"},null,{"$f":"VLOOKUP(F247,工作表9!$C$1:$D$8, 2, FALSE)","v":1810},0]
[null,null,null,null,null,22,{"$f":"VLOOKUP(F248,工作表9!$C$1:$E$8, 3,  FALSE)","v":"純物質"},null,{"$f":"VLOOKUP(F248,工作表9!$C$1:$D$8, 2, FALSE)","v":1810},0]
[null,null,null,null,null,22,{"$f":"VLOOKUP(F249,工作表9!$C$1:$E$8, 3,  FALSE)","v":"純物質"},null,{"$f":"VLOOKUP(F249,工作表9!$C$1:$D$8, 2, FALSE)","v":1810},0]
[null,null,null,null,null,22,{"$f":"VLOOKUP(F250,工作表9!$C$1:$E$8, 3,  FALSE)","v":"純物質"},null,{"$f":"VLOOKUP(F250,工作表9!$C$1:$D$8, 2, FALSE)","v":1810},0]
[null,null,null,null,null,22,{"$f":"VLOOKUP(F251,工作表9!$C$1:$E$8, 3,  FALSE)","v":"純物質"},null,{"$f":"VLOOKUP(F251,工作表9!$C$1:$D$8, 2, FALSE)","v":1810},0]
[null,null,null,null,null,22,{"$f":"VLOOKUP(F252,工作表9!$C$1:$E$8, 3,  FALSE)","v":"純物質"},null,{"$f":"VLOOKUP(F252,工作表9!$C$1:$D$8, 2, FALSE)","v":1810},0]
[null,null,null,null,null,22,{"$f":"VLOOKUP(F253,工作表9!$C$1:$E$8, 3,  FALSE)","v":"純物質"},null,{"$f":"VLOOKUP(F253,工作表9!$C$1:$D$8, 2, FALSE)","v":1810},0]
[null,null,null,null,null,22,{"$f":"VLOOKUP(F254,工作表9!$C$1:$E$8, 3,  FALSE)","v":"純物質"},null,{"$f":"VLOOKUP(F254,工作表9!$C$1:$D$8, 2, FALSE)","v":1810},0]
[null,null,null,null,null,22,{"$f":"VLOOKUP(F255,工作表9!$C$1:$E$8, 3,  FALSE)","v":"純物質"},null,{"$f":"VLOOKUP(F255,工作表9!$C$1:$D$8, 2, FALSE)","v":1810},0]
[null,null,null,null,null,22,{"$f":"VLOOKUP(F256,工作表9!$C$1:$E$8, 3,  FALSE)","v":"純物質"},null,{"$f":"VLOOKUP(F256,工作表9!$C$1:$D$8, 2, FALSE)","v":1810},0]
[null,null,null,null,null,22,{"$f":"VLOOKUP(F257,工作表9!$C$1:$E$8, 3,  FALSE)","v":"純物質"},null,{"$f":"VLOOKUP(F257,工作表9!$C$1:$D$8, 2, FALSE)","v":1810},0]
[null,null,null,null,null,22,{"$f":"VLOOKUP(F258,工作表9!$C$1:$E$8, 3,  FALSE)","v":"純物質"},null,{"$f":"VLOOKUP(F258,工作表9!$C$1:$D$8, 2, FALSE)","v":1810},0]
[null,null,null,null,null,22,{"$f":"VLOOKUP(F259,工作表9!$C$1:$E$8, 3,  FALSE)","v":"純物質"},null,{"$f":"VLOOKUP(F259,工作表9!$C$1:$D$8, 2, FALSE)","v":1810},0]
[null,null,null,null,null,22,{"$f":"VLOOKUP(F260,工作表9!$C$1:$E$8, 3,  FALSE)","v":"純物質"},null,{"$f":"VLOOKUP(F260,工作表9!$C$1:$D$8, 2, FALSE)","v":1810},0]
[null,null,null,null,null,22,{"$f":"VLOOKUP(F261,工作表9!$C$1:$E$8, 3,  FALSE)","v":"純物質"},null,{"$f":"VLOOKUP(F261,工作表9!$C$1:$D$8, 2, FALSE)","v":1810},0]
[null,null,null,null,null,22,{"$f":"VLOOKUP(F262,工作表9!$C$1:$E$8, 3,  FALSE)","v":"純物質"},null,{"$f":"VLOOKUP(F262,工作表9!$C$1:$D$8, 2, FALSE)","v":1810},{"$f":"H262*I262","v":0}]
[null,null,null,null,null,22,{"$f":"VLOOKUP(F263,工作表9!$C$1:$E$8, 3,  FALSE)","v":"純物質"},null,{"$f":"VLOOKUP(F263,工作表9!$C$1:$D$8, 2, FALSE)","v":1810},0]
[null,null,null,null,null,22,{"$f":"VLOOKUP(F264,工作表9!$C$1:$E$8, 3,  FALSE)","v":"純物質"},null,{"$f":"VLOOKUP(F264,工作表9!$C$1:$D$8, 2, FALSE)","v":1810},0]
[null,null,null,null,null,22,{"$f":"VLOOKUP(F265,工作表9!$C$1:$E$8, 3,  FALSE)","v":"純物質"},null,{"$f":"VLOOKUP(F265,工作表9!$C$1:$D$8, 2, FALSE)","v":1810},0]
[null,null,null,null,null,22,{"$f":"VLOOKUP(F266,工作表9!$C$1:$E$8, 3,  FALSE)","v":"純物質"},null,{"$f":"VLOOKUP(F266,工作表9!$C$1:$D$8, 2, FALSE)","v":1810},0]
[null,null,null,null,null,22,{"$f":"VLOOKUP(F267,工作表9!$C$1:$E$8, 3,  FALSE)","v":"純物質"},null,{"$f":"VLOOKUP(F267,工作表9!$C$1:$D$8, 2, FALSE)","v":1810},0]
[null,null,null,null,null,22,{"$f":"VLOOKUP(F268,工作表9!$C$1:$E$8, 3,  FALSE)","v":"純物質"},null,{"$f":"VLOOKUP(F268,工作表9!$C$1:$D$8, 2, FALSE)","v":1810},0]
[null,null,null,null,null,22,{"$f":"VLOOKUP(F269,工作表9!$C$1:$E$8, 3,  FALSE)","v":"純物質"},null,{"$f":"VLOOKUP(F269,工作表9!$C$1:$D$8, 2, FALSE)","v":1810},0]
[null,null,null,null,null,22,{"$f":"VLOOKUP(F270,工作表9!$C$1:$E$8, 3,  FALSE)","v":"純物質"},null,{"$f":"VLOOKUP(F270,工作表9!$C$1:$D$8, 2, FALSE)","v":1810},0]
[null,null,null,null,null,22,{"$f":"VLOOKUP(F271,工作表9!$C$1:$E$8, 3,  FALSE)","v":"純物質"},null,{"$f":"VLOOKUP(F271,工作表9!$C$1:$D$8, 2, FALSE)","v":1810},0]
[null,null,null,null,null,22,{"$f":"VLOOKUP(F272,工作表9!$C$1:$E$8, 3,  FALSE)","v":"純物質"},null,{"$f":"VLOOKUP(F272,工作表9!$C$1:$D$8, 2, FALSE)","v":1810},0]
[null,null,null,null,null,22,{"$f":"VLOOKUP(F273,工作表9!$C$1:$E$8, 3,  FALSE)","v":"純物質"},null,{"$f":"VLOOKUP(F273,工作表9!$C$1:$D$8, 2, FALSE)","v":1810},0]
[null,null,null,null,null,22,{"$f":"VLOOKUP(F274,工作表9!$C$1:$E$8, 3,  FALSE)","v":"純物質"},null,{"$f":"VLOOKUP(F274,工作表9!$C$1:$D$8, 2, FALSE)","v":1810},0]
[null,null,null,null,null,22,{"$f":"VLOOKUP(F275,工作表9!$C$1:$E$8, 3,  FALSE)","v":"純物質"},null,{"$f":"VLOOKUP(F275,工作表9!$C$1:$D$8, 2, FALSE)","v":1810},0]
[null,null,null,null,null,22,{"$f":"VLOOKUP(F276,工作表9!$C$1:$E$8, 3,  FALSE)","v":"純物質"},null,{"$f":"VLOOKUP(F276,工作表9!$C$1:$D$8, 2, FALSE)","v":1810},0]
[null,null,null,null,null,22,{"$f":"VLOOKUP(F277,工作表9!$C$1:$E$8, 3,  FALSE)","v":"純物質"},null,{"$f":"VLOOKUP(F277,工作表9!$C$1:$D$8, 2, FALSE)","v":1810},0]
[null,null,null,null,null,22,{"$f":"VLOOKUP(F278,工作表9!$C$1:$E$8, 3,  FALSE)","v":"純物質"},null,{"$f":"VLOOKUP(F278,工作表9!$C$1:$D$8, 2, FALSE)","v":1810},0]
[null,null,null,null,null,22,{"$f":"VLOOKUP(F279,工作表9!$C$1:$E$8, 3,  FALSE)","v":"純物質"},null,{"$f":"VLOOKUP(F279,工作表9!$C$1:$D$8, 2, FALSE)","v":1810},0]
[null,null,null,null,null,22,{"$f":"VLOOKUP(F280,工作表9!$C$1:$E$8, 3,  FALSE)","v":"純物質"},null,{"$f":"VLOOKUP(F280,工作表9!$C$1:$D$8, 2, FALSE)","v":1810},0]
[null,null,null,null,null,22,{"$f":"VLOOKUP(F281,工作表9!$C$1:$E$8, 3,  FALSE)","v":"純物質"},null,{"$f":"VLOOKUP(F281,工作表9!$C$1:$D$8, 2, FALSE)","v":1810},0]
[null,null,null,null,null,22,{"$f":"VLOOKUP(F282,工作表9!$C$1:$E$8, 3,  FALSE)","v":"純物質"},null,{"$f":"VLOOKUP(F282,工作表9!$C$1:$D$8, 2, FALSE)","v":1810},0]
[null,null,null,null,null,22,{"$f":"VLOOKUP(F283,工作表9!$C$1:$E$8, 3,  FALSE)","v":"純物質"},null,{"$f":"VLOOKUP(F283,工作表9!$C$1:$D$8, 2, FALSE)","v":1810},0]
[null,null,null,null,null,22,{"$f":"VLOOKUP(F284,工作表9!$C$1:$E$8, 3,  FALSE)","v":"純物質"},null,{"$f":"VLOOKUP(F284,工作表9!$C$1:$D$8, 2, FALSE)","v":1810},0]
[null,null,null,null,null,22,{"$f":"VLOOKUP(F285,工作表9!$C$1:$E$8, 3,  FALSE)","v":"純物質"},null,{"$f":"VLOOKUP(F285,工作表9!$C$1:$D$8, 2, FALSE)","v":1810},0]
[null,null,null,null,null,22,{"$f":"VLOOKUP(F286,工作表9!$C$1:$E$8, 3,  FALSE)","v":"純物質"},null,{"$f":"VLOOKUP(F286,工作表9!$C$1:$D$8, 2, FALSE)","v":1810},0]
[null,null,null,null,null,22,{"$f":"VLOOKUP(F287,工作表9!$C$1:$E$8, 3,  FALSE)","v":"純物質"},null,{"$f":"VLOOKUP(F287,工作表9!$C$1:$D$8, 2, FALSE)","v":1810},0]
[null,null,null,null,null,22,{"$f":"VLOOKUP(F288,工作表9!$C$1:$E$8, 3,  FALSE)","v":"純物質"},null,{"$f":"VLOOKUP(F288,工作表9!$C$1:$D$8, 2, FALSE)","v":1810},0]
[null,null,null,null,null,22,{"$f":"VLOOKUP(F289,工作表9!$C$1:$E$8, 3,  FALSE)","v":"純物質"},null,{"$f":"VLOOKUP(F289,工作表9!$C$1:$D$8, 2, FALSE)","v":1810},0]
[null,null,null,null,null,22,{"$f":"VLOOKUP(F290,工作表9!$C$1:$E$8, 3,  FALSE)","v":"純物質"},null,{"$f":"VLOOKUP(F290,工作表9!$C$1:$D$8, 2, FALSE)","v":1810},0]
[null,null,null,null,null,22,{"$f":"VLOOKUP(F291,工作表9!$C$1:$E$8, 3,  FALSE)","v":"純物質"},null,{"$f":"VLOOKUP(F291,工作表9!$C$1:$D$8, 2, FALSE)","v":1810},0]
[null,null,null,null,null,22,{"$f":"VLOOKUP(F292,工作表9!$C$1:$E$8, 3,  FALSE)","v":"純物質"},null,{"$f":"VLOOKUP(F292,工作表9!$C$1:$D$8, 2, FALSE)","v":1810},0]
[null,null,null,null,null,22,{"$f":"VLOOKUP(F293,工作表9!$C$1:$E$8, 3,  FALSE)","v":"純物質"},null,{"$f":"VLOOKUP(F293,工作表9!$C$1:$D$8, 2, FALSE)","v":1810},0]
[null,null,null,null,null,22,{"$f":"VLOOKUP(F294,工作表9!$C$1:$E$8, 3,  FALSE)","v":"純物質"},null,{"$f":"VLOOKUP(F294,工作表9!$C$1:$D$8, 2, FALSE)","v":1810},0]
[null,null,null,null,null,22,{"$f":"VLOOKUP(F295,工作表9!$C$1:$E$8, 3,  FALSE)","v":"純物質"},null,{"$f":"VLOOKUP(F295,工作表9!$C$1:$D$8, 2, FALSE)","v":1810},0]
[null,null,null,null,null,22,{"$f":"VLOOKUP(F296,工作表9!$C$1:$E$8, 3,  FALSE)","v":"純物質"},null,{"$f":"VLOOKUP(F296,工作表9!$C$1:$D$8, 2, FALSE)","v":1810},0]
[null,null,null,null,null,22,{"$f":"VLOOKUP(F297,工作表9!$C$1:$E$8, 3,  FALSE)","v":"純物質"},null,{"$f":"VLOOKUP(F297,工作表9!$C$1:$D$8, 2, FALSE)","v":1810},0]
[null,null,null,null,null,22,{"$f":"VLOOKUP(F298,工作表9!$C$1:$E$8, 3,  FALSE)","v":"純物質"},null,{"$f":"VLOOKUP(F298,工作表9!$C$1:$D$8, 2, FALSE)","v":1810},0]
[null,null,null,null,null,22,{"$f":"VLOOKUP(F299,工作表9!$C$1:$E$8, 3,  FALSE)","v":"純物質"},null,{"$f":"VLOOKUP(F299,工作表9!$C$1:$D$8, 2, FALSE)","v":1810},0]
[null,null,null,null,null,22,{"$f":"VLOOKUP(F300,工作表9!$C$1:$E$8, 3,  FALSE)","v":"純物質"},null,{"$f":"VLOOKUP(F300,工作表9!$C$1:$D$8, 2, FALSE)","v":1810},0]
[null,null,null,null,null,22,{"$f":"VLOOKUP(F301,工作表9!$C$1:$E$8, 3,  FALSE)","v":"純物質"},null,{"$f":"VLOOKUP(F301,工作表9!$C$1:$D$8, 2, FALSE)","v":1810},0]
[null,null,null,null,null,22,{"$f":"VLOOKUP(F302,工作表9!$C$1:$E$8, 3,  FALSE)","v":"純物質"},null,{"$f":"VLOOKUP(F302,工作表9!$C$1:$D$8, 2, FALSE)","v":1810},0]
[null,null,null,null,null,22,{"$f":"VLOOKUP(F303,工作表9!$C$1:$E$8, 3,  FALSE)","v":"純物質"},null,{"$f":"VLOOKUP(F303,工作表9!$C$1:$D$8, 2, FALSE)","v":1810},0]
[null,null,null,null,null,22,{"$f":"VLOOKUP(F304,工作表9!$C$1:$E$8, 3,  FALSE)","v":"純物質"},null,{"$f":"VLOOKUP(F304,工作表9!$C$1:$D$8, 2, FALSE)","v":1810},0]
[null,null,null,null,null,22,{"$f":"VLOOKUP(F305,工作表9!$C$1:$E$8, 3,  FALSE)","v":"純物質"},null,{"$f":"VLOOKUP(F305,工作表9!$C$1:$D$8, 2, FALSE)","v":1810},0]
[null,null,null,null,null,22,{"$f":"VLOOKUP(F306,工作表9!$C$1:$E$8, 3,  FALSE)","v":"純物質"},null,{"$f":"VLOOKUP(F306,工作表9!$C$1:$D$8, 2, FALSE)","v":1810},0]
[null,null,null,null,null,22,{"$f":"VLOOKUP(F307,工作表9!$C$1:$E$8, 3,  FALSE)","v":"純物質"},null,{"$f":"VLOOKUP(F307,工作表9!$C$1:$D$8, 2, FALSE)","v":1810},0]
[null,null,null,null,null,22,{"$f":"VLOOKUP(F308,工作表9!$C$1:$E$8, 3,  FALSE)","v":"純物質"},null,{"$f":"VLOOKUP(F308,工作表9!$C$1:$D$8, 2, FALSE)","v":1810},0]
[null,null,null,null,null,22,{"$f":"VLOOKUP(F309,工作表9!$C$1:$E$8, 3,  FALSE)","v":"純物質"},null,{"$f":"VLOOKUP(F309,工作表9!$C$1:$D$8, 2, FALSE)","v":1810},0]
[null,null,null,null,null,22,{"$f":"VLOOKUP(F310,工作表9!$C$1:$E$8, 3,  FALSE)","v":"純物質"},null,{"$f":"VLOOKUP(F310,工作表9!$C$1:$D$8, 2, FALSE)","v":1810},0]
[null,null,null,null,null,22,{"$f":"VLOOKUP(F311,工作表9!$C$1:$E$8, 3,  FALSE)","v":"純物質"},null,{"$f":"VLOOKUP(F311,工作表9!$C$1:$D$8, 2, FALSE)","v":1810},0]
[null,null,null,null,null,22,{"$f":"VLOOKUP(F312,工作表9!$C$1:$E$8, 3,  FALSE)","v":"純物質"},null,{"$f":"VLOOKUP(F312,工作表9!$C$1:$D$8, 2, FALSE)","v":1810},0]
[null,null,null,null,null,22,{"$f":"VLOOKUP(F313,工作表9!$C$1:$E$8, 3,  FALSE)","v":"純物質"},null,{"$f":"VLOOKUP(F313,工作表9!$C$1:$D$8, 2, FALSE)","v":1810},0]
[null,null,null,null,null,22,{"$f":"VLOOKUP(F314,工作表9!$C$1:$E$8, 3,  FALSE)","v":"純物質"},null,{"$f":"VLOOKUP(F314,工作表9!$C$1:$D$8, 2, FALSE)","v":1810},0]
[null,null,null,null,null,22,{"$f":"VLOOKUP(F315,工作表9!$C$1:$E$8, 3,  FALSE)","v":"純物質"},null,{"$f":"VLOOKUP(F315,工作表9!$C$1:$D$8, 2, FALSE)","v":1810},0]
[null,null,null,null,null,22,{"$f":"VLOOKUP(F316,工作表9!$C$1:$E$8, 3,  FALSE)","v":"純物質"},null,{"$f":"VLOOKUP(F316,工作表9!$C$1:$D$8, 2, FALSE)","v":1810},0]
[null,null,null,null,null,22,{"$f":"VLOOKUP(F317,工作表9!$C$1:$E$8, 3,  FALSE)","v":"純物質"},null,{"$f":"VLOOKUP(F317,工作表9!$C$1:$D$8, 2, FALSE)","v":1810},0]
[null,null,null,null,null,22,{"$f":"VLOOKUP(F318,工作表9!$C$1:$E$8, 3,  FALSE)","v":"純物質"},null,{"$f":"VLOOKUP(F318,工作表9!$C$1:$D$8, 2, FALSE)","v":1810},0]
[null,null,null,null,null,22,{"$f":"VLOOKUP(F319,工作表9!$C$1:$E$8, 3,  FALSE)","v":"純物質"},null,{"$f":"VLOOKUP(F319,工作表9!$C$1:$D$8, 2, FALSE)","v":1810},0]
[null,null,null,null,null,22,{"$f":"VLOOKUP(F320,工作表9!$C$1:$E$8, 3,  FALSE)","v":"純物質"},null,{"$f":"VLOOKUP(F320,工作表9!$C$1:$D$8, 2, FALSE)","v":1810},0]
[null,null,null,null,null,22,{"$f":"VLOOKUP(F321,工作表9!$C$1:$E$8, 3,  FALSE)","v":"純物質"},null,{"$f":"VLOOKUP(F321,工作表9!$C$1:$D$8, 2, FALSE)","v":1810},0]
[null,null,null,null,null,22,{"$f":"VLOOKUP(F322,工作表9!$C$1:$E$8, 3,  FALSE)","v":"純物質"},null,{"$f":"VLOOKUP(F322,工作表9!$C$1:$D$8, 2, FALSE)","v":1810},0]
[null,null,null,null,null,22,{"$f":"VLOOKUP(F323,工作表9!$C$1:$E$8, 3,  FALSE)","v":"純物質"},null,{"$f":"VLOOKUP(F323,工作表9!$C$1:$D$8, 2, FALSE)","v":1810},0]
[null,null,null,null,null,22,{"$f":"VLOOKUP(F324,工作表9!$C$1:$E$8, 3,  FALSE)","v":"純物質"},null,{"$f":"VLOOKUP(F324,工作表9!$C$1:$D$8, 2, FALSE)","v":1810},0]
[null,null,null,null,null,22,{"$f":"VLOOKUP(F325,工作表9!$C$1:$E$8, 3,  FALSE)","v":"純物質"},null,{"$f":"VLOOKUP(F325,工作表9!$C$1:$D$8, 2, FALSE)","v":1810},0]
[null,null,null,null,null,22,{"$f":"VLOOKUP(F326,工作表9!$C$1:$E$8, 3,  FALSE)","v":"純物質"},null,{"$f":"VLOOKUP(F326,工作表9!$C$1:$D$8, 2, FALSE)","v":1810},{"$f":"H326*I326","v":0}]
[null,null,null,null,null,22,{"$f":"VLOOKUP(F327,工作表9!$C$1:$E$8, 3,  FALSE)","v":"純物質"},null,{"$f":"VLOOKUP(F327,工作表9!$C$1:$D$8, 2, FALSE)","v":1810},0]
[null,null,null,null,null,22,{"$f":"VLOOKUP(F328,工作表9!$C$1:$E$8, 3,  FALSE)","v":"純物質"},null,{"$f":"VLOOKUP(F328,工作表9!$C$1:$D$8, 2, FALSE)","v":1810},0]
[null,null,null,null,null,22,{"$f":"VLOOKUP(F329,工作表9!$C$1:$E$8, 3,  FALSE)","v":"純物質"},null,{"$f":"VLOOKUP(F329,工作表9!$C$1:$D$8, 2, FALSE)","v":1810},0]
[null,null,null,null,null,22,{"$f":"VLOOKUP(F330,工作表9!$C$1:$E$8, 3,  FALSE)","v":"純物質"},null,{"$f":"VLOOKUP(F330,工作表9!$C$1:$D$8, 2, FALSE)","v":1810},0]
[null,null,null,null,null,22,{"$f":"VLOOKUP(F331,工作表9!$C$1:$E$8, 3,  FALSE)","v":"純物質"},null,{"$f":"VLOOKUP(F331,工作表9!$C$1:$D$8, 2, FALSE)","v":1810},0]
[null,null,null,null,null,22,{"$f":"VLOOKUP(F332,工作表9!$C$1:$E$8, 3,  FALSE)","v":"純物質"},null,{"$f":"VLOOKUP(F332,工作表9!$C$1:$D$8, 2, FALSE)","v":1810},0]
[null,null,null,null,null,22,{"$f":"VLOOKUP(F333,工作表9!$C$1:$E$8, 3,  FALSE)","v":"純物質"},null,{"$f":"VLOOKUP(F333,工作表9!$C$1:$D$8, 2, FALSE)","v":1810},0]
[null,null,null,null,null,22,{"$f":"VLOOKUP(F334,工作表9!$C$1:$E$8, 3,  FALSE)","v":"純物質"},null,{"$f":"VLOOKUP(F334,工作表9!$C$1:$D$8, 2, FALSE)","v":1810},0]
[null,null,null,null,null,22,{"$f":"VLOOKUP(F335,工作表9!$C$1:$E$8, 3,  FALSE)","v":"純物質"},null,{"$f":"VLOOKUP(F335,工作表9!$C$1:$D$8, 2, FALSE)","v":1810},0]
[null,null,null,null,null,22,{"$f":"VLOOKUP(F336,工作表9!$C$1:$E$8, 3,  FALSE)","v":"純物質"},null,{"$f":"VLOOKUP(F336,工作表9!$C$1:$D$8, 2, FALSE)","v":1810},0]
[null,null,null,null,null,22,{"$f":"VLOOKUP(F337,工作表9!$C$1:$E$8, 3,  FALSE)","v":"純物質"},null,{"$f":"VLOOKUP(F337,工作表9!$C$1:$D$8, 2, FALSE)","v":1810},0]
[null,null,null,null,null,22,{"$f":"VLOOKUP(F338,工作表9!$C$1:$E$8, 3,  FALSE)","v":"純物質"},null,{"$f":"VLOOKUP(F338,工作表9!$C$1:$D$8, 2, FALSE)","v":1810},0]
[null,null,null,null,null,22,{"$f":"VLOOKUP(F339,工作表9!$C$1:$E$8, 3,  FALSE)","v":"純物質"},null,{"$f":"VLOOKUP(F339,工作表9!$C$1:$D$8, 2, FALSE)","v":1810},0]
[null,null,null,null,null,22,{"$f":"VLOOKUP(F340,工作表9!$C$1:$E$8, 3,  FALSE)","v":"純物質"},null,{"$f":"VLOOKUP(F340,工作表9!$C$1:$D$8, 2, FALSE)","v":1810},0]
[null,null,null,null,null,22,{"$f":"VLOOKUP(F341,工作表9!$C$1:$E$8, 3,  FALSE)","v":"純物質"},null,{"$f":"VLOOKUP(F341,工作表9!$C$1:$D$8, 2, FALSE)","v":1810},0]
[null,null,null,null,null,22,{"$f":"VLOOKUP(F342,工作表9!$C$1:$E$8, 3,  FALSE)","v":"純物質"},null,{"$f":"VLOOKUP(F342,工作表9!$C$1:$D$8, 2, FALSE)","v":1810},0]
[null,null,null,null,null,22,{"$f":"VLOOKUP(F343,工作表9!$C$1:$E$8, 3,  FALSE)","v":"純物質"},null,{"$f":"VLOOKUP(F343,工作表9!$C$1:$D$8, 2, FALSE)","v":1810},0]
[null,null,null,null,null,22,{"$f":"VLOOKUP(F344,工作表9!$C$1:$E$8, 3,  FALSE)","v":"純物質"},null,{"$f":"VLOOKUP(F344,工作表9!$C$1:$D$8, 2, FALSE)","v":1810},0]
[null,null,null,null,null,22,{"$f":"VLOOKUP(F345,工作表9!$C$1:$E$8, 3,  FALSE)","v":"純物質"},null,{"$f":"VLOOKUP(F345,工作表9!$C$1:$D$8, 2, FALSE)","v":1810},0]
[null,null,null,null,null,22,{"$f":"VLOOKUP(F346,工作表9!$C$1:$E$8, 3,  FALSE)","v":"純物質"},null,{"$f":"VLOOKUP(F346,工作表9!$C$1:$D$8, 2, FALSE)","v":1810},0]
[null,null,null,null,null,22,{"$f":"VLOOKUP(F347,工作表9!$C$1:$E$8, 3,  FALSE)","v":"純物質"},null,{"$f":"VLOOKUP(F347,工作表9!$C$1:$D$8, 2, FALSE)","v":1810},0]
[null,null,null,null,null,22,{"$f":"VLOOKUP(F348,工作表9!$C$1:$E$8, 3,  FALSE)","v":"純物質"},null,{"$f":"VLOOKUP(F348,工作表9!$C$1:$D$8, 2, FALSE)","v":1810},0]
[null,null,null,null,null,22,{"$f":"VLOOKUP(F349,工作表9!$C$1:$E$8, 3,  FALSE)","v":"純物質"},null,{"$f":"VLOOKUP(F349,工作表9!$C$1:$D$8, 2, FALSE)","v":1810},0]
[null,null,null,null,null,22,{"$f":"VLOOKUP(F350,工作表9!$C$1:$E$8, 3,  FALSE)","v":"純物質"},null,{"$f":"VLOOKUP(F350,工作表9!$C$1:$D$8, 2, FALSE)","v":1810},0]
[null,null,null,null,null,22,{"$f":"VLOOKUP(F351,工作表9!$C$1:$E$8, 3,  FALSE)","v":"純物質"},null,{"$f":"VLOOKUP(F351,工作表9!$C$1:$D$8, 2, FALSE)","v":1810},0]
[null,null,null,null,null,22,{"$f":"VLOOKUP(F352,工作表9!$C$1:$E$8, 3,  FALSE)","v":"純物質"},null,{"$f":"VLOOKUP(F352,工作表9!$C$1:$D$8, 2, FALSE)","v":1810},0]
[null,null,null,null,null,22,{"$f":"VLOOKUP(F353,工作表9!$C$1:$E$8, 3,  FALSE)","v":"純物質"},null,{"$f":"VLOOKUP(F353,工作表9!$C$1:$D$8, 2, FALSE)","v":1810},0]
[null,null,null,null,null,22,{"$f":"VLOOKUP(F354,工作表9!$C$1:$E$8, 3,  FALSE)","v":"純物質"},null,{"$f":"VLOOKUP(F354,工作表9!$C$1:$D$8, 2, FALSE)","v":1810},0]
[null,null,null,null,null,22,{"$f":"VLOOKUP(F355,工作表9!$C$1:$E$8, 3,  FALSE)","v":"純物質"},null,{"$f":"VLOOKUP(F355,工作表9!$C$1:$D$8, 2, FALSE)","v":1810},0]
[null,null,null,null,null,22,{"$f":"VLOOKUP(F356,工作表9!$C$1:$E$8, 3,  FALSE)","v":"純物質"},null,{"$f":"VLOOKUP(F356,工作表9!$C$1:$D$8, 2, FALSE)","v":1810},0]
[null,null,null,null,null,22,{"$f":"VLOOKUP(F357,工作表9!$C$1:$E$8, 3,  FALSE)","v":"純物質"},null,{"$f":"VLOOKUP(F357,工作表9!$C$1:$D$8, 2, FALSE)","v":1810},0]
[null,null,null,null,null,22,{"$f":"VLOOKUP(F358,工作表9!$C$1:$E$8, 3,  FALSE)","v":"純物質"},null,{"$f":"VLOOKUP(F358,工作表9!$C$1:$D$8, 2, FALSE)","v":1810},0]
[null,null,null,null,null,22,{"$f":"VLOOKUP(F359,工作表9!$C$1:$E$8, 3,  FALSE)","v":"純物質"},null,{"$f":"VLOOKUP(F359,工作表9!$C$1:$D$8, 2, FALSE)","v":1810},0]
[null,null,null,null,null,22,{"$f":"VLOOKUP(F360,工作表9!$C$1:$E$8, 3,  FALSE)","v":"純物質"},null,{"$f":"VLOOKUP(F360,工作表9!$C$1:$D$8, 2, FALSE)","v":1810},0]
[null,null,null,null,null,22,{"$f":"VLOOKUP(F361,工作表9!$C$1:$E$8, 3,  FALSE)","v":"純物質"},null,{"$f":"VLOOKUP(F361,工作表9!$C$1:$D$8, 2, FALSE)","v":1810},0]
[null,null,null,null,null,22,{"$f":"VLOOKUP(F362,工作表9!$C$1:$E$8, 3,  FALSE)","v":"純物質"},null,{"$f":"VLOOKUP(F362,工作表9!$C$1:$D$8, 2, FALSE)","v":1810},0]
[null,null,null,null,null,22,{"$f":"VLOOKUP(F363,工作表9!$C$1:$E$8, 3,  FALSE)","v":"純物質"},null,{"$f":"VLOOKUP(F363,工作表9!$C$1:$D$8, 2, FALSE)","v":1810},0]
[null,null,null,null,null,22,{"$f":"VLOOKUP(F364,工作表9!$C$1:$E$8, 3,  FALSE)","v":"純物質"},null,{"$f":"VLOOKUP(F364,工作表9!$C$1:$D$8, 2, FALSE)","v":1810},0]
[null,null,null,null,null,22,{"$f":"VLOOKUP(F365,工作表9!$C$1:$E$8, 3,  FALSE)","v":"純物質"},null,{"$f":"VLOOKUP(F365,工作表9!$C$1:$D$8, 2, FALSE)","v":1810},0]
[null,null,null,null,null,22,{"$f":"VLOOKUP(F366,工作表9!$C$1:$E$8, 3,  FALSE)","v":"純物質"},null,{"$f":"VLOOKUP(F366,工作表9!$C$1:$D$8, 2, FALSE)","v":1810},0]
[null,null,null,null,null,22,{"$f":"VLOOKUP(F367,工作表9!$C$1:$E$8, 3,  FALSE)","v":"純物質"},null,{"$f":"VLOOKUP(F367,工作表9!$C$1:$D$8, 2, FALSE)","v":1810},0]
[null,null,null,null,null,22,{"$f":"VLOOKUP(F368,工作表9!$C$1:$E$8, 3,  FALSE)","v":"純物質"},null,{"$f":"VLOOKUP(F368,工作表9!$C$1:$D$8, 2, FALSE)","v":1810},0]
[null,null,null,null,null,22,{"$f":"VLOOKUP(F369,工作表9!$C$1:$E$8, 3,  FALSE)","v":"純物質"},null,{"$f":"VLOOKUP(F369,工作表9!$C$1:$D$8, 2, FALSE)","v":1810},0]
[null,null,null,null,null,22,{"$f":"VLOOKUP(F370,工作表9!$C$1:$E$8, 3,  FALSE)","v":"純物質"},null,{"$f":"VLOOKUP(F370,工作表9!$C$1:$D$8, 2, FALSE)","v":1810},0]
[null,null,null,null,null,22,{"$f":"VLOOKUP(F371,工作表9!$C$1:$E$8, 3,  FALSE)","v":"純物質"},null,{"$f":"VLOOKUP(F371,工作表9!$C$1:$D$8, 2, FALSE)","v":1810},0]
[null,null,null,null,null,22,{"$f":"VLOOKUP(F372,工作表9!$C$1:$E$8, 3,  FALSE)","v":"純物質"},null,{"$f":"VLOOKUP(F372,工作表9!$C$1:$D$8, 2, FALSE)","v":1810},0]
[null,null,null,null,null,22,{"$f":"VLOOKUP(F373,工作表9!$C$1:$E$8, 3,  FALSE)","v":"純物質"},null,{"$f":"VLOOKUP(F373,工作表9!$C$1:$D$8, 2, FALSE)","v":1810},0]
[null,null,null,null,null,22,{"$f":"VLOOKUP(F374,工作表9!$C$1:$E$8, 3,  FALSE)","v":"純物質"},null,{"$f":"VLOOKUP(F374,工作表9!$C$1:$D$8, 2, FALSE)","v":1810},0]
[null,null,null,null,null,22,{"$f":"VLOOKUP(F375,工作表9!$C$1:$E$8, 3,  FALSE)","v":"純物質"},null,{"$f":"VLOOKUP(F375,工作表9!$C$1:$D$8, 2, FALSE)","v":1810},0]
[null,null,null,null,null,22,{"$f":"VLOOKUP(F376,工作表9!$C$1:$E$8, 3,  FALSE)","v":"純物質"},null,{"$f":"VLOOKUP(F376,工作表9!$C$1:$D$8, 2, FALSE)","v":1810},0]
[null,null,null,null,null,22,{"$f":"VLOOKUP(F377,工作表9!$C$1:$E$8, 3,  FALSE)","v":"純物質"},null,{"$f":"VLOOKUP(F377,工作表9!$C$1:$D$8, 2, FALSE)","v":1810},0]
[null,null,null,null,null,22,{"$f":"VLOOKUP(F378,工作表9!$C$1:$E$8, 3,  FALSE)","v":"純物質"},null,{"$f":"VLOOKUP(F378,工作表9!$C$1:$D$8, 2, FALSE)","v":1810},0]
[null,null,null,null,null,22,{"$f":"VLOOKUP(F379,工作表9!$C$1:$E$8, 3,  FALSE)","v":"純物質"},null,{"$f":"VLOOKUP(F379,工作表9!$C$1:$D$8, 2, FALSE)","v":1810},0]
[null,null,null,null,null,22,{"$f":"VLOOKUP(F380,工作表9!$C$1:$E$8, 3,  FALSE)","v":"純物質"},null,{"$f":"VLOOKUP(F380,工作表9!$C$1:$D$8, 2, FALSE)","v":1810},0]
[null,null,null,null,null,22,{"$f":"VLOOKUP(F381,工作表9!$C$1:$E$8, 3,  FALSE)","v":"純物質"},null,{"$f":"VLOOKUP(F381,工作表9!$C$1:$D$8, 2, FALSE)","v":1810},0]
[null,null,null,null,null,22,{"$f":"VLOOKUP(F382,工作表9!$C$1:$E$8, 3,  FALSE)","v":"純物質"},null,{"$f":"VLOOKUP(F382,工作表9!$C$1:$D$8, 2, FALSE)","v":1810},0]
[null,null,null,null,null,22,{"$f":"VLOOKUP(F383,工作表9!$C$1:$E$8, 3,  FALSE)","v":"純物質"},null,{"$f":"VLOOKUP(F383,工作表9!$C$1:$D$8, 2, FALSE)","v":1810},0]
[null,null,null,null,null,22,{"$f":"VLOOKUP(F384,工作表9!$C$1:$E$8, 3,  FALSE)","v":"純物質"},null,{"$f":"VLOOKUP(F384,工作表9!$C$1:$D$8, 2, FALSE)","v":1810},0]
[null,null,null,null,null,22,{"$f":"VLOOKUP(F385,工作表9!$C$1:$E$8, 3,  FALSE)","v":"純物質"},null,{"$f":"VLOOKUP(F385,工作表9!$C$1:$D$8, 2, FALSE)","v":1810},0]
[null,null,null,null,null,22,{"$f":"VLOOKUP(F386,工作表9!$C$1:$E$8, 3,  FALSE)","v":"純物質"},null,{"$f":"VLOOKUP(F386,工作表9!$C$1:$D$8, 2, FALSE)","v":1810},0]
[null,null,null,null,null,22,{"$f":"VLOOKUP(F387,工作表9!$C$1:$E$8, 3,  FALSE)","v":"純物質"},null,{"$f":"VLOOKUP(F387,工作表9!$C$1:$D$8, 2, FALSE)","v":1810},0]
[null,null,null,null,null,22,{"$f":"VLOOKUP(F388,工作表9!$C$1:$E$8, 3,  FALSE)","v":"純物質"},null,{"$f":"VLOOKUP(F388,工作表9!$C$1:$D$8, 2, FALSE)","v":1810},0]
[null,null,null,null,null,22,{"$f":"VLOOKUP(F389,工作表9!$C$1:$E$8, 3,  FALSE)","v":"純物質"},null,{"$f":"VLOOKUP(F389,工作表9!$C$1:$D$8, 2, FALSE)","v":1810},0]
[null,null,null,null,null,22,{"$f":"VLOOKUP(F390,工作表9!$C$1:$E$8, 3,  FALSE)","v":"純物質"},null,{"$f":"VLOOKUP(F390,工作表9!$C$1:$D$8, 2, FALSE)","v":1810},{"$f":"H390*I390","v":0}]
[null,null,null,null,null,22,{"$f":"VLOOKUP(F391,工作表9!$C$1:$E$8, 3,  FALSE)","v":"純物質"},null,{"$f":"VLOOKUP(F391,工作表9!$C$1:$D$8, 2, FALSE)","v":1810},0]
[null,null,null,null,null,22,{"$f":"VLOOKUP(F392,工作表9!$C$1:$E$8, 3,  FALSE)","v":"純物質"},null,{"$f":"VLOOKUP(F392,工作表9!$C$1:$D$8, 2, FALSE)","v":1810},0]
[null,null,null,null,null,22,{"$f":"VLOOKUP(F393,工作表9!$C$1:$E$8, 3,  FALSE)","v":"純物質"},null,{"$f":"VLOOKUP(F393,工作表9!$C$1:$D$8, 2, FALSE)","v":1810},0]
[null,null,null,null,null,22,{"$f":"VLOOKUP(F394,工作表9!$C$1:$E$8, 3,  FALSE)","v":"純物質"},null,{"$f":"VLOOKUP(F394,工作表9!$C$1:$D$8, 2, FALSE)","v":1810},0]
[null,null,null,null,null,22,{"$f":"VLOOKUP(F395,工作表9!$C$1:$E$8, 3,  FALSE)","v":"純物質"},null,{"$f":"VLOOKUP(F395,工作表9!$C$1:$D$8, 2, FALSE)","v":1810},0]
[null,null,null,null,null,22,{"$f":"VLOOKUP(F396,工作表9!$C$1:$E$8, 3,  FALSE)","v":"純物質"},null,{"$f":"VLOOKUP(F396,工作表9!$C$1:$D$8, 2, FALSE)","v":1810},0]
[null,null,null,null,null,22,{"$f":"VLOOKUP(F397,工作表9!$C$1:$E$8, 3,  FALSE)","v":"純物質"},null,{"$f":"VLOOKUP(F397,工作表9!$C$1:$D$8, 2, FALSE)","v":1810},0]
[null,null,null,null,null,22,{"$f":"VLOOKUP(F398,工作表9!$C$1:$E$8, 3,  FALSE)","v":"純物質"},null,{"$f":"VLOOKUP(F398,工作表9!$C$1:$D$8, 2, FALSE)","v":1810},0]
[null,null,null,null,null,22,{"$f":"VLOOKUP(F399,工作表9!$C$1:$E$8, 3,  FALSE)","v":"純物質"},null,{"$f":"VLOOKUP(F399,工作表9!$C$1:$D$8, 2, FALSE)","v":1810},0]
[null,null,null,null,null,22,{"$f":"VLOOKUP(F400,工作表9!$C$1:$E$8, 3,  FALSE)","v":"純物質"},null,{"$f":"VLOOKUP(F400,工作表9!$C$1:$D$8, 2, FALSE)","v":1810},0]
[null,null,null,null,null,22,{"$f":"VLOOKUP(F401,工作表9!$C$1:$E$8, 3,  FALSE)","v":"純物質"},null,{"$f":"VLOOKUP(F401,工作表9!$C$1:$D$8, 2, FALSE)","v":1810},0]
[null,null,null,null,null,22,{"$f":"VLOOKUP(F402,工作表9!$C$1:$E$8, 3,  FALSE)","v":"純物質"},null,{"$f":"VLOOKUP(F402,工作表9!$C$1:$D$8, 2, FALSE)","v":1810},0]
[null,null,null,null,null,22,{"$f":"VLOOKUP(F403,工作表9!$C$1:$E$8, 3,  FALSE)","v":"純物質"},null,{"$f":"VLOOKUP(F403,工作表9!$C$1:$D$8, 2, FALSE)","v":1810},0]
[null,null,null,null,null,22,{"$f":"VLOOKUP(F404,工作表9!$C$1:$E$8, 3,  FALSE)","v":"純物質"},null,{"$f":"VLOOKUP(F404,工作表9!$C$1:$D$8, 2, FALSE)","v":1810},0]
[null,null,null,null,null,22,{"$f":"VLOOKUP(F405,工作表9!$C$1:$E$8, 3,  FALSE)","v":"純物質"},null,{"$f":"VLOOKUP(F405,工作表9!$C$1:$D$8, 2, FALSE)","v":1810},0]
[null,null,null,null,null,22,{"$f":"VLOOKUP(F406,工作表9!$C$1:$E$8, 3,  FALSE)","v":"純物質"},null,{"$f":"VLOOKUP(F406,工作表9!$C$1:$D$8, 2, FALSE)","v":1810},0]
[null,null,null,null,null,22,{"$f":"VLOOKUP(F407,工作表9!$C$1:$E$8, 3,  FALSE)","v":"純物質"},null,{"$f":"VLOOKUP(F407,工作表9!$C$1:$D$8, 2, FALSE)","v":1810},0]
[null,null,null,null,null,22,{"$f":"VLOOKUP(F408,工作表9!$C$1:$E$8, 3,  FALSE)","v":"純物質"},null,{"$f":"VLOOKUP(F408,工作表9!$C$1:$D$8, 2, FALSE)","v":1810},0]
[null,null,null,null,null,22,{"$f":"VLOOKUP(F409,工作表9!$C$1:$E$8, 3,  FALSE)","v":"純物質"},null,{"$f":"VLOOKUP(F409,工作表9!$C$1:$D$8, 2, FALSE)","v":1810},0]
[null,null,null,null,null,22,{"$f":"VLOOKUP(F410,工作表9!$C$1:$E$8, 3,  FALSE)","v":"純物質"},null,{"$f":"VLOOKUP(F410,工作表9!$C$1:$D$8, 2, FALSE)","v":1810},0]
[null,null,null,null,null,22,{"$f":"VLOOKUP(F411,工作表9!$C$1:$E$8, 3,  FALSE)","v":"純物質"},null,{"$f":"VLOOKUP(F411,工作表9!$C$1:$D$8, 2, FALSE)","v":1810},0]
[null,null,null,null,null,22,{"$f":"VLOOKUP(F412,工作表9!$C$1:$E$8, 3,  FALSE)","v":"純物質"},null,{"$f":"VLOOKUP(F412,工作表9!$C$1:$D$8, 2, FALSE)","v":1810},0]
[null,null,null,null,null,22,{"$f":"VLOOKUP(F413,工作表9!$C$1:$E$8, 3,  FALSE)","v":"純物質"},null,{"$f":"VLOOKUP(F413,工作表9!$C$1:$D$8, 2, FALSE)","v":1810},0]
[null,null,null,null,null,22,{"$f":"VLOOKUP(F414,工作表9!$C$1:$E$8, 3,  FALSE)","v":"純物質"},null,{"$f":"VLOOKUP(F414,工作表9!$C$1:$D$8, 2, FALSE)","v":1810},0]
[null,null,null,null,null,22,{"$f":"VLOOKUP(F415,工作表9!$C$1:$E$8, 3,  FALSE)","v":"純物質"},null,{"$f":"VLOOKUP(F415,工作表9!$C$1:$D$8, 2, FALSE)","v":1810},0]
[null,null,null,null,null,22,{"$f":"VLOOKUP(F416,工作表9!$C$1:$E$8, 3,  FALSE)","v":"純物質"},null,{"$f":"VLOOKUP(F416,工作表9!$C$1:$D$8, 2, FALSE)","v":1810},0]
[null,null,null,null,null,22,{"$f":"VLOOKUP(F417,工作表9!$C$1:$E$8, 3,  FALSE)","v":"純物質"},null,{"$f":"VLOOKUP(F417,工作表9!$C$1:$D$8, 2, FALSE)","v":1810},0]
[null,null,null,null,null,22,{"$f":"VLOOKUP(F418,工作表9!$C$1:$E$8, 3,  FALSE)","v":"純物質"},null,{"$f":"VLOOKUP(F418,工作表9!$C$1:$D$8, 2, FALSE)","v":1810},0]
[null,null,null,null,null,22,{"$f":"VLOOKUP(F419,工作表9!$C$1:$E$8, 3,  FALSE)","v":"純物質"},null,{"$f":"VLOOKUP(F419,工作表9!$C$1:$D$8, 2, FALSE)","v":1810},0]
[null,null,null,null,null,22,{"$f":"VLOOKUP(F420,工作表9!$C$1:$E$8, 3,  FALSE)","v":"純物質"},null,{"$f":"VLOOKUP(F420,工作表9!$C$1:$D$8, 2, FALSE)","v":1810},0]
[null,null,null,null,null,22,{"$f":"VLOOKUP(F421,工作表9!$C$1:$E$8, 3,  FALSE)","v":"純物質"},null,{"$f":"VLOOKUP(F421,工作表9!$C$1:$D$8, 2, FALSE)","v":1810},0]
[null,null,null,null,null,22,{"$f":"VLOOKUP(F422,工作表9!$C$1:$E$8, 3,  FALSE)","v":"純物質"},null,{"$f":"VLOOKUP(F422,工作表9!$C$1:$D$8, 2, FALSE)","v":1810},0]
[null,null,null,null,null,22,{"$f":"VLOOKUP(F423,工作表9!$C$1:$E$8, 3,  FALSE)","v":"純物質"},null,{"$f":"VLOOKUP(F423,工作表9!$C$1:$D$8, 2, FALSE)","v":1810},0]
[null,null,null,null,null,22,{"$f":"VLOOKUP(F424,工作表9!$C$1:$E$8, 3,  FALSE)","v":"純物質"},null,{"$f":"VLOOKUP(F424,工作表9!$C$1:$D$8, 2, FALSE)","v":1810},0]
[null,null,null,null,null,22,{"$f":"VLOOKUP(F425,工作表9!$C$1:$E$8, 3,  FALSE)","v":"純物質"},null,{"$f":"VLOOKUP(F425,工作表9!$C$1:$D$8, 2, FALSE)","v":1810},0]
[null,null,null,null,null,22,{"$f":"VLOOKUP(F426,工作表9!$C$1:$E$8, 3,  FALSE)","v":"純物質"},null,{"$f":"VLOOKUP(F426,工作表9!$C$1:$D$8, 2, FALSE)","v":1810},0]
[null,null,null,null,null,22,{"$f":"VLOOKUP(F427,工作表9!$C$1:$E$8, 3,  FALSE)","v":"純物質"},null,{"$f":"VLOOKUP(F427,工作表9!$C$1:$D$8, 2, FALSE)","v":1810},0]
[null,null,null,null,null,22,{"$f":"VLOOKUP(F428,工作表9!$C$1:$E$8, 3,  FALSE)","v":"純物質"},null,{"$f":"VLOOKUP(F428,工作表9!$C$1:$D$8, 2, FALSE)","v":1810},0]
[null,null,null,null,null,22,{"$f":"VLOOKUP(F429,工作表9!$C$1:$E$8, 3,  FALSE)","v":"純物質"},null,{"$f":"VLOOKUP(F429,工作表9!$C$1:$D$8, 2, FALSE)","v":1810},0]
[null,null,null,null,null,22,{"$f":"VLOOKUP(F430,工作表9!$C$1:$E$8, 3,  FALSE)","v":"純物質"},null,{"$f":"VLOOKUP(F430,工作表9!$C$1:$D$8, 2, FALSE)","v":1810},0]
[null,null,null,null,null,22,{"$f":"VLOOKUP(F431,工作表9!$C$1:$E$8, 3,  FALSE)","v":"純物質"},null,{"$f":"VLOOKUP(F431,工作表9!$C$1:$D$8, 2, FALSE)","v":1810},0]
[null,null,null,null,null,22,{"$f":"VLOOKUP(F432,工作表9!$C$1:$E$8, 3,  FALSE)","v":"純物質"},null,{"$f":"VLOOKUP(F432,工作表9!$C$1:$D$8, 2, FALSE)","v":1810},0]
[null,null,null,null,null,22,{"$f":"VLOOKUP(F433,工作表9!$C$1:$E$8, 3,  FALSE)","v":"純物質"},null,{"$f":"VLOOKUP(F433,工作表9!$C$1:$D$8, 2, FALSE)","v":1810},0]
[null,null,null,null,null,22,{"$f":"VLOOKUP(F434,工作表9!$C$1:$E$8, 3,  FALSE)","v":"純物質"},null,{"$f":"VLOOKUP(F434,工作表9!$C$1:$D$8, 2, FALSE)","v":1810},0]
[null,null,null,null,null,22,{"$f":"VLOOKUP(F435,工作表9!$C$1:$E$8, 3,  FALSE)","v":"純物質"},null,{"$f":"VLOOKUP(F435,工作表9!$C$1:$D$8, 2, FALSE)","v":1810},0]
[null,null,null,null,null,22,{"$f":"VLOOKUP(F436,工作表9!$C$1:$E$8, 3,  FALSE)","v":"純物質"},null,{"$f":"VLOOKUP(F436,工作表9!$C$1:$D$8, 2, FALSE)","v":1810},0]
[null,null,null,null,null,22,{"$f":"VLOOKUP(F437,工作表9!$C$1:$E$8, 3,  FALSE)","v":"純物質"},null,{"$f":"VLOOKUP(F437,工作表9!$C$1:$D$8, 2, FALSE)","v":1810},0]
[null,null,null,null,null,22,{"$f":"VLOOKUP(F438,工作表9!$C$1:$E$8, 3,  FALSE)","v":"純物質"},null,{"$f":"VLOOKUP(F438,工作表9!$C$1:$D$8, 2, FALSE)","v":1810},0]
[null,null,null,null,null,22,{"$f":"VLOOKUP(F439,工作表9!$C$1:$E$8, 3,  FALSE)","v":"純物質"},null,{"$f":"VLOOKUP(F439,工作表9!$C$1:$D$8, 2, FALSE)","v":1810},0]
[null,null,null,null,null,22,{"$f":"VLOOKUP(F440,工作表9!$C$1:$E$8, 3,  FALSE)","v":"純物質"},null,{"$f":"VLOOKUP(F440,工作表9!$C$1:$D$8, 2, FALSE)","v":1810},0]
[null,null,null,null,null,22,{"$f":"VLOOKUP(F441,工作表9!$C$1:$E$8, 3,  FALSE)","v":"純物質"},null,{"$f":"VLOOKUP(F441,工作表9!$C$1:$D$8, 2, FALSE)","v":1810},0]
[null,null,null,null,null,22,{"$f":"VLOOKUP(F442,工作表9!$C$1:$E$8, 3,  FALSE)","v":"純物質"},null,{"$f":"VLOOKUP(F442,工作表9!$C$1:$D$8, 2, FALSE)","v":1810},0]
[null,null,null,null,null,22,{"$f":"VLOOKUP(F443,工作表9!$C$1:$E$8, 3,  FALSE)","v":"純物質"},null,{"$f":"VLOOKUP(F443,工作表9!$C$1:$D$8, 2, FALSE)","v":1810},0]
[null,null,null,null,null,22,{"$f":"VLOOKUP(F444,工作表9!$C$1:$E$8, 3,  FALSE)","v":"純物質"},null,{"$f":"VLOOKUP(F444,工作表9!$C$1:$D$8, 2, FALSE)","v":1810},0]
[null,null,null,null,null,22,{"$f":"VLOOKUP(F445,工作表9!$C$1:$E$8, 3,  FALSE)","v":"純物質"},null,{"$f":"VLOOKUP(F445,工作表9!$C$1:$D$8, 2, FALSE)","v":1810},0]
[null,null,null,null,null,22,{"$f":"VLOOKUP(F446,工作表9!$C$1:$E$8, 3,  FALSE)","v":"純物質"},null,{"$f":"VLOOKUP(F446,工作表9!$C$1:$D$8, 2, FALSE)","v":1810},0]
[null,null,null,null,null,22,{"$f":"VLOOKUP(F447,工作表9!$C$1:$E$8, 3,  FALSE)","v":"純物質"},null,{"$f":"VLOOKUP(F447,工作表9!$C$1:$D$8, 2, FALSE)","v":1810},0]
[null,null,null,null,null,22,{"$f":"VLOOKUP(F448,工作表9!$C$1:$E$8, 3,  FALSE)","v":"純物質"},null,{"$f":"VLOOKUP(F448,工作表9!$C$1:$D$8, 2, FALSE)","v":1810},0]
[null,null,null,null,null,22,{"$f":"VLOOKUP(F449,工作表9!$C$1:$E$8, 3,  FALSE)","v":"純物質"},null,{"$f":"VLOOKUP(F449,工作表9!$C$1:$D$8, 2, FALSE)","v":1810},0]
[null,null,null,null,null,22,{"$f":"VLOOKUP(F450,工作表9!$C$1:$E$8, 3,  FALSE)","v":"純物質"},null,{"$f":"VLOOKUP(F450,工作表9!$C$1:$D$8, 2, FALSE)","v":1810},0]
[null,null,null,null,null,22,{"$f":"VLOOKUP(F451,工作表9!$C$1:$E$8, 3,  FALSE)","v":"純物質"},null,{"$f":"VLOOKUP(F451,工作表9!$C$1:$D$8, 2, FALSE)","v":1810},0]
[null,null,null,null,null,22,{"$f":"VLOOKUP(F452,工作表9!$C$1:$E$8, 3,  FALSE)","v":"純物質"},null,{"$f":"VLOOKUP(F452,工作表9!$C$1:$D$8, 2, FALSE)","v":1810},0]
[null,null,null,null,null,22,{"$f":"VLOOKUP(F453,工作表9!$C$1:$E$8, 3,  FALSE)","v":"純物質"},null,{"$f":"VLOOKUP(F453,工作表9!$C$1:$D$8, 2, FALSE)","v":1810},0]
[null,null,null,null,null,22,{"$f":"VLOOKUP(F454,工作表9!$C$1:$E$8, 3,  FALSE)","v":"純物質"},null,{"$f":"VLOOKUP(F454,工作表9!$C$1:$D$8, 2, FALSE)","v":1810},{"$f":"H454*I454","v":0}]
[null,null,null,null,null,22,{"$f":"VLOOKUP(F455,工作表9!$C$1:$E$8, 3,  FALSE)","v":"純物質"},null,{"$f":"VLOOKUP(F455,工作表9!$C$1:$D$8, 2, FALSE)","v":1810},0]
[null,null,null,null,null,22,{"$f":"VLOOKUP(F456,工作表9!$C$1:$E$8, 3,  FALSE)","v":"純物質"},null,{"$f":"VLOOKUP(F456,工作表9!$C$1:$D$8, 2, FALSE)","v":1810},0]
[null,null,null,null,null,22,{"$f":"VLOOKUP(F457,工作表9!$C$1:$E$8, 3,  FALSE)","v":"純物質"},null,{"$f":"VLOOKUP(F457,工作表9!$C$1:$D$8, 2, FALSE)","v":1810},0]
[null,null,null,null,null,22,{"$f":"VLOOKUP(F458,工作表9!$C$1:$E$8, 3,  FALSE)","v":"純物質"},null,{"$f":"VLOOKUP(F458,工作表9!$C$1:$D$8, 2, FALSE)","v":1810},0]
[null,null,null,null,null,22,{"$f":"VLOOKUP(F459,工作表9!$C$1:$E$8, 3,  FALSE)","v":"純物質"},null,{"$f":"VLOOKUP(F459,工作表9!$C$1:$D$8, 2, FALSE)","v":1810},0]
[null,null,null,null,null,22,{"$f":"VLOOKUP(F460,工作表9!$C$1:$E$8, 3,  FALSE)","v":"純物質"},null,{"$f":"VLOOKUP(F460,工作表9!$C$1:$D$8, 2, FALSE)","v":1810},0]
[null,null,null,null,null,22,{"$f":"VLOOKUP(F461,工作表9!$C$1:$E$8, 3,  FALSE)","v":"純物質"},null,{"$f":"VLOOKUP(F461,工作表9!$C$1:$D$8, 2, FALSE)","v":1810},0]
[null,null,null,null,null,22,{"$f":"VLOOKUP(F462,工作表9!$C$1:$E$8, 3,  FALSE)","v":"純物質"},null,{"$f":"VLOOKUP(F462,工作表9!$C$1:$D$8, 2, FALSE)","v":1810},0]
[null,null,null,null,null,22,{"$f":"VLOOKUP(F463,工作表9!$C$1:$E$8, 3,  FALSE)","v":"純物質"},null,{"$f":"VLOOKUP(F463,工作表9!$C$1:$D$8, 2, FALSE)","v":1810},0]
[null,null,null,null,null,22,{"$f":"VLOOKUP(F464,工作表9!$C$1:$E$8, 3,  FALSE)","v":"純物質"},null,{"$f":"VLOOKUP(F464,工作表9!$C$1:$D$8, 2, FALSE)","v":1810},0]
[null,null,null,null,null,22,{"$f":"VLOOKUP(F465,工作表9!$C$1:$E$8, 3,  FALSE)","v":"純物質"},null,{"$f":"VLOOKUP(F465,工作表9!$C$1:$D$8, 2, FALSE)","v":1810},0]
[null,null,null,null,null,22,{"$f":"VLOOKUP(F466,工作表9!$C$1:$E$8, 3,  FALSE)","v":"純物質"},null,{"$f":"VLOOKUP(F466,工作表9!$C$1:$D$8, 2, FALSE)","v":1810},0]
[null,null,null,null,null,22,{"$f":"VLOOKUP(F467,工作表9!$C$1:$E$8, 3,  FALSE)","v":"純物質"},null,{"$f":"VLOOKUP(F467,工作表9!$C$1:$D$8, 2, FALSE)","v":1810},0]
[null,null,null,null,null,22,{"$f":"VLOOKUP(F468,工作表9!$C$1:$E$8, 3,  FALSE)","v":"純物質"},null,{"$f":"VLOOKUP(F468,工作表9!$C$1:$D$8, 2, FALSE)","v":1810},0]
[null,null,null,null,null,22,{"$f":"VLOOKUP(F469,工作表9!$C$1:$E$8, 3,  FALSE)","v":"純物質"},null,{"$f":"VLOOKUP(F469,工作表9!$C$1:$D$8, 2, FALSE)","v":1810},0]
[null,null,null,null,null,22,{"$f":"VLOOKUP(F470,工作表9!$C$1:$E$8, 3,  FALSE)","v":"純物質"},null,{"$f":"VLOOKUP(F470,工作表9!$C$1:$D$8, 2, FALSE)","v":1810},0]
[null,null,null,null,null,22,{"$f":"VLOOKUP(F471,工作表9!$C$1:$E$8, 3,  FALSE)","v":"純物質"},null,{"$f":"VLOOKUP(F471,工作表9!$C$1:$D$8, 2, FALSE)","v":1810},0]
[null,null,null,null,null,22,{"$f":"VLOOKUP(F472,工作表9!$C$1:$E$8, 3,  FALSE)","v":"純物質"},null,{"$f":"VLOOKUP(F472,工作表9!$C$1:$D$8, 2, FALSE)","v":1810},0]
[null,null,null,null,null,22,{"$f":"VLOOKUP(F473,工作表9!$C$1:$E$8, 3,  FALSE)","v":"純物質"},null,{"$f":"VLOOKUP(F473,工作表9!$C$1:$D$8, 2, FALSE)","v":1810},0]
[null,null,null,null,null,22,{"$f":"VLOOKUP(F474,工作表9!$C$1:$E$8, 3,  FALSE)","v":"純物質"},null,{"$f":"VLOOKUP(F474,工作表9!$C$1:$D$8, 2, FALSE)","v":1810},0]
[null,null,null,null,null,22,{"$f":"VLOOKUP(F475,工作表9!$C$1:$E$8, 3,  FALSE)","v":"純物質"},null,{"$f":"VLOOKUP(F475,工作表9!$C$1:$D$8, 2, FALSE)","v":1810},0]
[null,null,null,null,null,22,{"$f":"VLOOKUP(F476,工作表9!$C$1:$E$8, 3,  FALSE)","v":"純物質"},null,{"$f":"VLOOKUP(F476,工作表9!$C$1:$D$8, 2, FALSE)","v":1810},0]
[null,null,null,null,null,22,{"$f":"VLOOKUP(F477,工作表9!$C$1:$E$8, 3,  FALSE)","v":"純物質"},null,{"$f":"VLOOKUP(F477,工作表9!$C$1:$D$8, 2, FALSE)","v":1810},0]
[null,null,null,null,null,22,{"$f":"VLOOKUP(F478,工作表9!$C$1:$E$8, 3,  FALSE)","v":"純物質"},null,{"$f":"VLOOKUP(F478,工作表9!$C$1:$D$8, 2, FALSE)","v":1810},0]
[null,null,null,null,null,22,{"$f":"VLOOKUP(F479,工作表9!$C$1:$E$8, 3,  FALSE)","v":"純物質"},null,{"$f":"VLOOKUP(F479,工作表9!$C$1:$D$8, 2, FALSE)","v":1810},0]
[null,null,null,null,null,22,{"$f":"VLOOKUP(F480,工作表9!$C$1:$E$8, 3,  FALSE)","v":"純物質"},null,{"$f":"VLOOKUP(F480,工作表9!$C$1:$D$8, 2, FALSE)","v":1810},0]
[null,null,null,null,null,22,{"$f":"VLOOKUP(F481,工作表9!$C$1:$E$8, 3,  FALSE)","v":"純物質"},null,{"$f":"VLOOKUP(F481,工作表9!$C$1:$D$8, 2, FALSE)","v":1810},0]
[null,null,null,null,null,22,{"$f":"VLOOKUP(F482,工作表9!$C$1:$E$8, 3,  FALSE)","v":"純物質"},null,{"$f":"VLOOKUP(F482,工作表9!$C$1:$D$8, 2, FALSE)","v":1810},0]
[null,null,null,null,null,22,{"$f":"VLOOKUP(F483,工作表9!$C$1:$E$8, 3,  FALSE)","v":"純物質"},null,{"$f":"VLOOKUP(F483,工作表9!$C$1:$D$8, 2, FALSE)","v":1810},0]
[null,null,null,null,null,22,{"$f":"VLOOKUP(F484,工作表9!$C$1:$E$8, 3,  FALSE)","v":"純物質"},null,{"$f":"VLOOKUP(F484,工作表9!$C$1:$D$8, 2, FALSE)","v":1810},0]
[null,null,null,null,null,22,{"$f":"VLOOKUP(F485,工作表9!$C$1:$E$8, 3,  FALSE)","v":"純物質"},null,{"$f":"VLOOKUP(F485,工作表9!$C$1:$D$8, 2, FALSE)","v":1810},0]
[null,null,null,null,null,22,{"$f":"VLOOKUP(F486,工作表9!$C$1:$E$8, 3,  FALSE)","v":"純物質"},null,{"$f":"VLOOKUP(F486,工作表9!$C$1:$D$8, 2, FALSE)","v":1810},0]
[null,null,null,null,null,22,{"$f":"VLOOKUP(F487,工作表9!$C$1:$E$8, 3,  FALSE)","v":"純物質"},null,{"$f":"VLOOKUP(F487,工作表9!$C$1:$D$8, 2, FALSE)","v":1810},0]
[null,null,null,null,null,22,{"$f":"VLOOKUP(F488,工作表9!$C$1:$E$8, 3,  FALSE)","v":"純物質"},null,{"$f":"VLOOKUP(F488,工作表9!$C$1:$D$8, 2, FALSE)","v":1810},0]
[null,null,null,null,null,22,{"$f":"VLOOKUP(F489,工作表9!$C$1:$E$8, 3,  FALSE)","v":"純物質"},null,{"$f":"VLOOKUP(F489,工作表9!$C$1:$D$8, 2, FALSE)","v":1810},0]
[null,null,null,null,null,22,{"$f":"VLOOKUP(F490,工作表9!$C$1:$E$8, 3,  FALSE)","v":"純物質"},null,{"$f":"VLOOKUP(F490,工作表9!$C$1:$D$8, 2, FALSE)","v":1810},0]
[null,null,null,null,null,22,{"$f":"VLOOKUP(F491,工作表9!$C$1:$E$8, 3,  FALSE)","v":"純物質"},null,{"$f":"VLOOKUP(F491,工作表9!$C$1:$D$8, 2, FALSE)","v":1810},0]
[null,null,null,null,null,22,{"$f":"VLOOKUP(F492,工作表9!$C$1:$E$8, 3,  FALSE)","v":"純物質"},null,{"$f":"VLOOKUP(F492,工作表9!$C$1:$D$8, 2, FALSE)","v":1810},0]
[null,null,null,null,null,22,{"$f":"VLOOKUP(F493,工作表9!$C$1:$E$8, 3,  FALSE)","v":"純物質"},null,{"$f":"VLOOKUP(F493,工作表9!$C$1:$D$8, 2, FALSE)","v":1810},0]
[null,null,null,null,null,22,{"$f":"VLOOKUP(F494,工作表9!$C$1:$E$8, 3,  FALSE)","v":"純物質"},null,{"$f":"VLOOKUP(F494,工作表9!$C$1:$D$8, 2, FALSE)","v":1810},0]
[null,null,null,null,null,22,{"$f":"VLOOKUP(F495,工作表9!$C$1:$E$8, 3,  FALSE)","v":"純物質"},null,{"$f":"VLOOKUP(F495,工作表9!$C$1:$D$8, 2, FALSE)","v":1810},0]
[null,null,null,null,null,22,{"$f":"VLOOKUP(F496,工作表9!$C$1:$E$8, 3,  FALSE)","v":"純物質"},null,{"$f":"VLOOKUP(F496,工作表9!$C$1:$D$8, 2, FALSE)","v":1810},0]
[null,null,null,null,null,22,{"$f":"VLOOKUP(F497,工作表9!$C$1:$E$8, 3,  FALSE)","v":"純物質"},null,{"$f":"VLOOKUP(F497,工作表9!$C$1:$D$8, 2, FALSE)","v":1810},0]
[null,null,null,null,null,22,{"$f":"VLOOKUP(F498,工作表9!$C$1:$E$8, 3,  FALSE)","v":"純物質"},null,{"$f":"VLOOKUP(F498,工作表9!$C$1:$D$8, 2, FALSE)","v":1810},0]
[null,null,null,null,null,22,{"$f":"VLOOKUP(F499,工作表9!$C$1:$E$8, 3,  FALSE)","v":"純物質"},null,{"$f":"VLOOKUP(F499,工作表9!$C$1:$D$8, 2, FALSE)","v":1810},0]
[null,null,null,null,null,22,{"$f":"VLOOKUP(F500,工作表9!$C$1:$E$8, 3,  FALSE)","v":"純物質"},null,{"$f":"VLOOKUP(F500,工作表9!$C$1:$D$8, 2, FALSE)","v":1810},0]
[null,null,null,null,null,22,{"$f":"VLOOKUP(F501,工作表9!$C$1:$E$8, 3,  FALSE)","v":"純物質"},null,{"$f":"VLOOKUP(F501,工作表9!$C$1:$D$8, 2, FALSE)","v":1810},0]
[null,null,null,null,null,22,{"$f":"VLOOKUP(F502,工作表9!$C$1:$E$8, 3,  FALSE)","v":"純物質"},null,{"$f":"VLOOKUP(F502,工作表9!$C$1:$D$8, 2, FALSE)","v":1810},0]
[null,null,null,null,null,22,{"$f":"VLOOKUP(F503,工作表9!$C$1:$E$8, 3,  FALSE)","v":"純物質"},null,{"$f":"VLOOKUP(F503,工作表9!$C$1:$D$8, 2, FALSE)","v":1810},0]
[null,null,null,null,null,22,{"$f":"VLOOKUP(F504,工作表9!$C$1:$E$8, 3,  FALSE)","v":"純物質"},null,{"$f":"VLOOKUP(F504,工作表9!$C$1:$D$8, 2, FALSE)","v":1810},0]
[null,null,null,null,null,22,{"$f":"VLOOKUP(F505,工作表9!$C$1:$E$8, 3,  FALSE)","v":"純物質"},null,{"$f":"VLOOKUP(F505,工作表9!$C$1:$D$8, 2, FALSE)","v":1810},0]
[null,null,null,null,null,22,{"$f":"VLOOKUP(F506,工作表9!$C$1:$E$8, 3,  FALSE)","v":"純物質"},null,{"$f":"VLOOKUP(F506,工作表9!$C$1:$D$8, 2, FALSE)","v":1810},0]
[null,null,null,null,null,22,{"$f":"VLOOKUP(F507,工作表9!$C$1:$E$8, 3,  FALSE)","v":"純物質"},null,{"$f":"VLOOKUP(F507,工作表9!$C$1:$D$8, 2, FALSE)","v":1810},0]
[null,null,null,null,null,22,{"$f":"VLOOKUP(F508,工作表9!$C$1:$E$8, 3,  FALSE)","v":"純物質"},null,{"$f":"VLOOKUP(F508,工作表9!$C$1:$D$8, 2, FALSE)","v":1810},0]
[null,null,null,null,null,22,{"$f":"VLOOKUP(F509,工作表9!$C$1:$E$8, 3,  FALSE)","v":"純物質"},null,{"$f":"VLOOKUP(F509,工作表9!$C$1:$D$8, 2, FALSE)","v":1810},0]
[null,null,null,null,null,22,{"$f":"VLOOKUP(F510,工作表9!$C$1:$E$8, 3,  FALSE)","v":"純物質"},null,{"$f":"VLOOKUP(F510,工作表9!$C$1:$D$8, 2, FALSE)","v":1810},0]
[null,null,null,null,null,22,{"$f":"VLOOKUP(F511,工作表9!$C$1:$E$8, 3,  FALSE)","v":"純物質"},null,{"$f":"VLOOKUP(F511,工作表9!$C$1:$D$8, 2, FALSE)","v":1810},0]
[null,null,null,null,null,22,{"$f":"VLOOKUP(F512,工作表9!$C$1:$E$8, 3,  FALSE)","v":"純物質"},null,{"$f":"VLOOKUP(F512,工作表9!$C$1:$D$8, 2, FALSE)","v":1810},0]
[null,null,null,null,null,22,{"$f":"VLOOKUP(F513,工作表9!$C$1:$E$8, 3,  FALSE)","v":"純物質"},null,{"$f":"VLOOKUP(F513,工作表9!$C$1:$D$8, 2, FALSE)","v":1810},0]
[null,null,null,null,null,22,{"$f":"VLOOKUP(F514,工作表9!$C$1:$E$8, 3,  FALSE)","v":"純物質"},null,{"$f":"VLOOKUP(F514,工作表9!$C$1:$D$8, 2, FALSE)","v":1810},0]
[null,null,null,null,null,22,{"$f":"VLOOKUP(F515,工作表9!$C$1:$E$8, 3,  FALSE)","v":"純物質"},null,{"$f":"VLOOKUP(F515,工作表9!$C$1:$D$8, 2, FALSE)","v":1810},0]
[null,null,null,null,null,22,{"$f":"VLOOKUP(F516,工作表9!$C$1:$E$8, 3,  FALSE)","v":"純物質"},null,{"$f":"VLOOKUP(F516,工作表9!$C$1:$D$8, 2, FALSE)","v":1810},0]
[null,null,null,null,null,22,{"$f":"VLOOKUP(F517,工作表9!$C$1:$E$8, 3,  FALSE)","v":"純物質"},null,{"$f":"VLOOKUP(F517,工作表9!$C$1:$D$8, 2, FALSE)","v":1810},0]
[null,null,null,null,null,22,{"$f":"VLOOKUP(F518,工作表9!$C$1:$E$8, 3,  FALSE)","v":"純物質"},null,{"$f":"VLOOKUP(F518,工作表9!$C$1:$D$8, 2, FALSE)","v":1810},{"$f":"H518*I518","v":0}]
[null,null,null,null,null,22,{"$f":"VLOOKUP(F519,工作表9!$C$1:$E$8, 3,  FALSE)","v":"純物質"},null,{"$f":"VLOOKUP(F519,工作表9!$C$1:$D$8, 2, FALSE)","v":1810},0]
[null,null,null,null,null,22,{"$f":"VLOOKUP(F520,工作表9!$C$1:$E$8, 3,  FALSE)","v":"純物質"},null,{"$f":"VLOOKUP(F520,工作表9!$C$1:$D$8, 2, FALSE)","v":1810},0]
[null,null,null,null,null,22,{"$f":"VLOOKUP(F521,工作表9!$C$1:$E$8, 3,  FALSE)","v":"純物質"},null,{"$f":"VLOOKUP(F521,工作表9!$C$1:$D$8, 2, FALSE)","v":1810},0]
[null,null,null,null,null,22,{"$f":"VLOOKUP(F522,工作表9!$C$1:$E$8, 3,  FALSE)","v":"純物質"},null,{"$f":"VLOOKUP(F522,工作表9!$C$1:$D$8, 2, FALSE)","v":1810},0]
[null,null,null,null,null,22,{"$f":"VLOOKUP(F523,工作表9!$C$1:$E$8, 3,  FALSE)","v":"純物質"},null,{"$f":"VLOOKUP(F523,工作表9!$C$1:$D$8, 2, FALSE)","v":1810},0]
[null,null,null,null,null,22,{"$f":"VLOOKUP(F524,工作表9!$C$1:$E$8, 3,  FALSE)","v":"純物質"},null,{"$f":"VLOOKUP(F524,工作表9!$C$1:$D$8, 2, FALSE)","v":1810},0]
[null,null,null,null,null,22,{"$f":"VLOOKUP(F525,工作表9!$C$1:$E$8, 3,  FALSE)","v":"純物質"},null,{"$f":"VLOOKUP(F525,工作表9!$C$1:$D$8, 2, FALSE)","v":1810},0]
[null,null,null,null,null,22,{"$f":"VLOOKUP(F526,工作表9!$C$1:$E$8, 3,  FALSE)","v":"純物質"},null,{"$f":"VLOOKUP(F526,工作表9!$C$1:$D$8, 2, FALSE)","v":1810},0]
[null,null,null,null,null,22,{"$f":"VLOOKUP(F527,工作表9!$C$1:$E$8, 3,  FALSE)","v":"純物質"},null,{"$f":"VLOOKUP(F527,工作表9!$C$1:$D$8, 2, FALSE)","v":1810},0]
[null,null,null,null,null,22,{"$f":"VLOOKUP(F528,工作表9!$C$1:$E$8, 3,  FALSE)","v":"純物質"},null,{"$f":"VLOOKUP(F528,工作表9!$C$1:$D$8, 2, FALSE)","v":1810},0]
[null,null,null,null,null,22,{"$f":"VLOOKUP(F529,工作表9!$C$1:$E$8, 3,  FALSE)","v":"純物質"},null,{"$f":"VLOOKUP(F529,工作表9!$C$1:$D$8, 2, FALSE)","v":1810},0]
[null,null,null,null,null,22,{"$f":"VLOOKUP(F530,工作表9!$C$1:$E$8, 3,  FALSE)","v":"純物質"},null,{"$f":"VLOOKUP(F530,工作表9!$C$1:$D$8, 2, FALSE)","v":1810},0]
[null,null,null,null,null,22,{"$f":"VLOOKUP(F531,工作表9!$C$1:$E$8, 3,  FALSE)","v":"純物質"},null,{"$f":"VLOOKUP(F531,工作表9!$C$1:$D$8, 2, FALSE)","v":1810},0]
[null,null,null,null,null,22,{"$f":"VLOOKUP(F532,工作表9!$C$1:$E$8, 3,  FALSE)","v":"純物質"},null,{"$f":"VLOOKUP(F532,工作表9!$C$1:$D$8, 2, FALSE)","v":1810},0]
[null,null,null,null,null,22,{"$f":"VLOOKUP(F533,工作表9!$C$1:$E$8, 3,  FALSE)","v":"純物質"},null,{"$f":"VLOOKUP(F533,工作表9!$C$1:$D$8, 2, FALSE)","v":1810},0]
[null,null,null,null,null,22,{"$f":"VLOOKUP(F534,工作表9!$C$1:$E$8, 3,  FALSE)","v":"純物質"},null,{"$f":"VLOOKUP(F534,工作表9!$C$1:$D$8, 2, FALSE)","v":1810},0]
[null,null,null,null,null,22,{"$f":"VLOOKUP(F535,工作表9!$C$1:$E$8, 3,  FALSE)","v":"純物質"},null,{"$f":"VLOOKUP(F535,工作表9!$C$1:$D$8, 2, FALSE)","v":1810},0]
[null,null,null,null,null,22,{"$f":"VLOOKUP(F536,工作表9!$C$1:$E$8, 3,  FALSE)","v":"純物質"},null,{"$f":"VLOOKUP(F536,工作表9!$C$1:$D$8, 2, FALSE)","v":1810},0]
[null,null,null,null,null,22,{"$f":"VLOOKUP(F537,工作表9!$C$1:$E$8, 3,  FALSE)","v":"純物質"},null,{"$f":"VLOOKUP(F537,工作表9!$C$1:$D$8, 2, FALSE)","v":1810},0]
[null,null,null,null,null,22,{"$f":"VLOOKUP(F538,工作表9!$C$1:$E$8, 3,  FALSE)","v":"純物質"},null,{"$f":"VLOOKUP(F538,工作表9!$C$1:$D$8, 2, FALSE)","v":1810},0]
[null,null,null,null,null,22,{"$f":"VLOOKUP(F539,工作表9!$C$1:$E$8, 3,  FALSE)","v":"純物質"},null,{"$f":"VLOOKUP(F539,工作表9!$C$1:$D$8, 2, FALSE)","v":1810},0]
[null,null,null,null,null,22,{"$f":"VLOOKUP(F540,工作表9!$C$1:$E$8, 3,  FALSE)","v":"純物質"},null,{"$f":"VLOOKUP(F540,工作表9!$C$1:$D$8, 2, FALSE)","v":1810},0]
[null,null,null,null,null,22,{"$f":"VLOOKUP(F541,工作表9!$C$1:$E$8, 3,  FALSE)","v":"純物質"},null,{"$f":"VLOOKUP(F541,工作表9!$C$1:$D$8, 2, FALSE)","v":1810},0]
[null,null,null,null,null,22,{"$f":"VLOOKUP(F542,工作表9!$C$1:$E$8, 3,  FALSE)","v":"純物質"},null,{"$f":"VLOOKUP(F542,工作表9!$C$1:$D$8, 2, FALSE)","v":1810},0]
[null,null,null,null,null,22,{"$f":"VLOOKUP(F543,工作表9!$C$1:$E$8, 3,  FALSE)","v":"純物質"},null,{"$f":"VLOOKUP(F543,工作表9!$C$1:$D$8, 2, FALSE)","v":1810},0]
[null,null,null,null,null,22,{"$f":"VLOOKUP(F544,工作表9!$C$1:$E$8, 3,  FALSE)","v":"純物質"},null,{"$f":"VLOOKUP(F544,工作表9!$C$1:$D$8, 2, FALSE)","v":1810},0]
[null,null,null,null,null,22,{"$f":"VLOOKUP(F545,工作表9!$C$1:$E$8, 3,  FALSE)","v":"純物質"},null,{"$f":"VLOOKUP(F545,工作表9!$C$1:$D$8, 2, FALSE)","v":1810},0]
[null,null,null,null,null,22,{"$f":"VLOOKUP(F546,工作表9!$C$1:$E$8, 3,  FALSE)","v":"純物質"},null,{"$f":"VLOOKUP(F546,工作表9!$C$1:$D$8, 2, FALSE)","v":1810},0]
[null,null,null,null,null,22,{"$f":"VLOOKUP(F547,工作表9!$C$1:$E$8, 3,  FALSE)","v":"純物質"},null,{"$f":"VLOOKUP(F547,工作表9!$C$1:$D$8, 2, FALSE)","v":1810},0]
[null,null,null,null,null,22,{"$f":"VLOOKUP(F548,工作表9!$C$1:$E$8, 3,  FALSE)","v":"純物質"},null,{"$f":"VLOOKUP(F548,工作表9!$C$1:$D$8, 2, FALSE)","v":1810},0]
[null,null,null,null,null,22,{"$f":"VLOOKUP(F549,工作表9!$C$1:$E$8, 3,  FALSE)","v":"純物質"},null,{"$f":"VLOOKUP(F549,工作表9!$C$1:$D$8, 2, FALSE)","v":1810},0]
[null,null,null,null,null,22,{"$f":"VLOOKUP(F550,工作表9!$C$1:$E$8, 3,  FALSE)","v":"純物質"},null,{"$f":"VLOOKUP(F550,工作表9!$C$1:$D$8, 2, FALSE)","v":1810},0]
[null,null,null,null,null,22,{"$f":"VLOOKUP(F551,工作表9!$C$1:$E$8, 3,  FALSE)","v":"純物質"},null,{"$f":"VLOOKUP(F551,工作表9!$C$1:$D$8, 2, FALSE)","v":1810},0]
[null,null,null,null,null,22,{"$f":"VLOOKUP(F552,工作表9!$C$1:$E$8, 3,  FALSE)","v":"純物質"},null,{"$f":"VLOOKUP(F552,工作表9!$C$1:$D$8, 2, FALSE)","v":1810},0]
[null,null,null,null,null,22,{"$f":"VLOOKUP(F553,工作表9!$C$1:$E$8, 3,  FALSE)","v":"純物質"},null,{"$f":"VLOOKUP(F553,工作表9!$C$1:$D$8, 2, FALSE)","v":1810},0]
[null,null,null,null,null,22,{"$f":"VLOOKUP(F554,工作表9!$C$1:$E$8, 3,  FALSE)","v":"純物質"},null,{"$f":"VLOOKUP(F554,工作表9!$C$1:$D$8, 2, FALSE)","v":1810},0]
[null,null,null,null,null,22,{"$f":"VLOOKUP(F555,工作表9!$C$1:$E$8, 3,  FALSE)","v":"純物質"},null,{"$f":"VLOOKUP(F555,工作表9!$C$1:$D$8, 2, FALSE)","v":1810},0]
[null,null,null,null,null,22,{"$f":"VLOOKUP(F556,工作表9!$C$1:$E$8, 3,  FALSE)","v":"純物質"},null,{"$f":"VLOOKUP(F556,工作表9!$C$1:$D$8, 2, FALSE)","v":1810},0]
[null,null,null,null,null,22,{"$f":"VLOOKUP(F557,工作表9!$C$1:$E$8, 3,  FALSE)","v":"純物質"},null,{"$f":"VLOOKUP(F557,工作表9!$C$1:$D$8, 2, FALSE)","v":1810},0]
[null,null,null,null,null,22,{"$f":"VLOOKUP(F558,工作表9!$C$1:$E$8, 3,  FALSE)","v":"純物質"},null,{"$f":"VLOOKUP(F558,工作表9!$C$1:$D$8, 2, FALSE)","v":1810},0]
[null,null,null,null,null,22,{"$f":"VLOOKUP(F559,工作表9!$C$1:$E$8, 3,  FALSE)","v":"純物質"},null,{"$f":"VLOOKUP(F559,工作表9!$C$1:$D$8, 2, FALSE)","v":1810},0]
[null,null,null,null,null,22,{"$f":"VLOOKUP(F560,工作表9!$C$1:$E$8, 3,  FALSE)","v":"純物質"},null,{"$f":"VLOOKUP(F560,工作表9!$C$1:$D$8, 2, FALSE)","v":1810},0]
[null,null,null,null,null,22,{"$f":"VLOOKUP(F561,工作表9!$C$1:$E$8, 3,  FALSE)","v":"純物質"},null,{"$f":"VLOOKUP(F561,工作表9!$C$1:$D$8, 2, FALSE)","v":1810},0]
[null,null,null,null,null,22,{"$f":"VLOOKUP(F562,工作表9!$C$1:$E$8, 3,  FALSE)","v":"純物質"},null,{"$f":"VLOOKUP(F562,工作表9!$C$1:$D$8, 2, FALSE)","v":1810},0]
[null,null,null,null,null,22,{"$f":"VLOOKUP(F563,工作表9!$C$1:$E$8, 3,  FALSE)","v":"純物質"},null,{"$f":"VLOOKUP(F563,工作表9!$C$1:$D$8, 2, FALSE)","v":1810},0]
[null,null,null,null,null,22,{"$f":"VLOOKUP(F564,工作表9!$C$1:$E$8, 3,  FALSE)","v":"純物質"},null,{"$f":"VLOOKUP(F564,工作表9!$C$1:$D$8, 2, FALSE)","v":1810},0]
[null,null,null,null,null,22,{"$f":"VLOOKUP(F565,工作表9!$C$1:$E$8, 3,  FALSE)","v":"純物質"},null,{"$f":"VLOOKUP(F565,工作表9!$C$1:$D$8, 2, FALSE)","v":1810},0]
[null,null,null,null,null,22,{"$f":"VLOOKUP(F566,工作表9!$C$1:$E$8, 3,  FALSE)","v":"純物質"},null,{"$f":"VLOOKUP(F566,工作表9!$C$1:$D$8, 2, FALSE)","v":1810},0]
[null,null,null,null,null,22,{"$f":"VLOOKUP(F567,工作表9!$C$1:$E$8, 3,  FALSE)","v":"純物質"},null,{"$f":"VLOOKUP(F567,工作表9!$C$1:$D$8, 2, FALSE)","v":1810},0]
[null,null,null,null,null,22,{"$f":"VLOOKUP(F568,工作表9!$C$1:$E$8, 3,  FALSE)","v":"純物質"},null,{"$f":"VLOOKUP(F568,工作表9!$C$1:$D$8, 2, FALSE)","v":1810},0]
[null,null,null,null,null,22,{"$f":"VLOOKUP(F569,工作表9!$C$1:$E$8, 3,  FALSE)","v":"純物質"},null,{"$f":"VLOOKUP(F569,工作表9!$C$1:$D$8, 2, FALSE)","v":1810},0]
[null,null,null,null,null,22,{"$f":"VLOOKUP(F570,工作表9!$C$1:$E$8, 3,  FALSE)","v":"純物質"},null,{"$f":"VLOOKUP(F570,工作表9!$C$1:$D$8, 2, FALSE)","v":1810},0]
[null,null,null,null,null,22,{"$f":"VLOOKUP(F571,工作表9!$C$1:$E$8, 3,  FALSE)","v":"純物質"},null,{"$f":"VLOOKUP(F571,工作表9!$C$1:$D$8, 2, FALSE)","v":1810},0]
[null,null,null,null,null,22,{"$f":"VLOOKUP(F572,工作表9!$C$1:$E$8, 3,  FALSE)","v":"純物質"},null,{"$f":"VLOOKUP(F572,工作表9!$C$1:$D$8, 2, FALSE)","v":1810},0]
[null,null,null,null,null,22,{"$f":"VLOOKUP(F573,工作表9!$C$1:$E$8, 3,  FALSE)","v":"純物質"},null,{"$f":"VLOOKUP(F573,工作表9!$C$1:$D$8, 2, FALSE)","v":1810},0]
[null,null,null,null,null,22,{"$f":"VLOOKUP(F574,工作表9!$C$1:$E$8, 3,  FALSE)","v":"純物質"},null,{"$f":"VLOOKUP(F574,工作表9!$C$1:$D$8, 2, FALSE)","v":1810},0]
[null,null,null,null,null,22,{"$f":"VLOOKUP(F575,工作表9!$C$1:$E$8, 3,  FALSE)","v":"純物質"},null,{"$f":"VLOOKUP(F575,工作表9!$C$1:$D$8, 2, FALSE)","v":1810},0]
[null,null,null,null,null,22,{"$f":"VLOOKUP(F576,工作表9!$C$1:$E$8, 3,  FALSE)","v":"純物質"},null,{"$f":"VLOOKUP(F576,工作表9!$C$1:$D$8, 2, FALSE)","v":1810},0]
[null,null,null,null,null,22,{"$f":"VLOOKUP(F577,工作表9!$C$1:$E$8, 3,  FALSE)","v":"純物質"},null,{"$f":"VLOOKUP(F577,工作表9!$C$1:$D$8, 2, FALSE)","v":1810},0]
[null,null,null,null,null,22,{"$f":"VLOOKUP(F578,工作表9!$C$1:$E$8, 3,  FALSE)","v":"純物質"},null,{"$f":"VLOOKUP(F578,工作表9!$C$1:$D$8, 2, FALSE)","v":1810},0]
[null,null,null,null,null,22,{"$f":"VLOOKUP(F579,工作表9!$C$1:$E$8, 3,  FALSE)","v":"純物質"},null,{"$f":"VLOOKUP(F579,工作表9!$C$1:$D$8, 2, FALSE)","v":1810},0]
[null,null,null,null,null,22,{"$f":"VLOOKUP(F580,工作表9!$C$1:$E$8, 3,  FALSE)","v":"純物質"},null,{"$f":"VLOOKUP(F580,工作表9!$C$1:$D$8, 2, FALSE)","v":1810},0]
[null,null,null,null,null,22,{"$f":"VLOOKUP(F581,工作表9!$C$1:$E$8, 3,  FALSE)","v":"純物質"},null,{"$f":"VLOOKUP(F581,工作表9!$C$1:$D$8, 2, FALSE)","v":1810},0]
[null,null,null,null,null,22,{"$f":"VLOOKUP(F582,工作表9!$C$1:$E$8, 3,  FALSE)","v":"純物質"},null,{"$f":"VLOOKUP(F582,工作表9!$C$1:$D$8, 2, FALSE)","v":1810},{"$f":"H582*I582","v":0}]
[null,null,null,null,null,22,{"$f":"VLOOKUP(F583,工作表9!$C$1:$E$8, 3,  FALSE)","v":"純物質"},null,{"$f":"VLOOKUP(F583,工作表9!$C$1:$D$8, 2, FALSE)","v":1810},0]
[null,null,null,null,null,22,{"$f":"VLOOKUP(F584,工作表9!$C$1:$E$8, 3,  FALSE)","v":"純物質"},null,{"$f":"VLOOKUP(F584,工作表9!$C$1:$D$8, 2, FALSE)","v":1810},0]
[null,null,null,null,null,22,{"$f":"VLOOKUP(F585,工作表9!$C$1:$E$8, 3,  FALSE)","v":"純物質"},null,{"$f":"VLOOKUP(F585,工作表9!$C$1:$D$8, 2, FALSE)","v":1810},0]
[null,null,null,null,null,22,{"$f":"VLOOKUP(F586,工作表9!$C$1:$E$8, 3,  FALSE)","v":"純物質"},null,{"$f":"VLOOKUP(F586,工作表9!$C$1:$D$8, 2, FALSE)","v":1810},0]
[null,null,null,null,null,22,{"$f":"VLOOKUP(F587,工作表9!$C$1:$E$8, 3,  FALSE)","v":"純物質"},null,{"$f":"VLOOKUP(F587,工作表9!$C$1:$D$8, 2, FALSE)","v":1810},0]
[null,null,null,null,null,22,{"$f":"VLOOKUP(F588,工作表9!$C$1:$E$8, 3,  FALSE)","v":"純物質"},null,{"$f":"VLOOKUP(F588,工作表9!$C$1:$D$8, 2, FALSE)","v":1810},0]
[null,null,null,null,null,22,{"$f":"VLOOKUP(F589,工作表9!$C$1:$E$8, 3,  FALSE)","v":"純物質"},null,{"$f":"VLOOKUP(F589,工作表9!$C$1:$D$8, 2, FALSE)","v":1810},0]
[null,null,null,null,null,22,{"$f":"VLOOKUP(F590,工作表9!$C$1:$E$8, 3,  FALSE)","v":"純物質"},null,{"$f":"VLOOKUP(F590,工作表9!$C$1:$D$8, 2, FALSE)","v":1810},0]
[null,null,null,null,null,22,{"$f":"VLOOKUP(F591,工作表9!$C$1:$E$8, 3,  FALSE)","v":"純物質"},null,{"$f":"VLOOKUP(F591,工作表9!$C$1:$D$8, 2, FALSE)","v":1810},0]
[null,null,null,null,null,22,{"$f":"VLOOKUP(F592,工作表9!$C$1:$E$8, 3,  FALSE)","v":"純物質"},null,{"$f":"VLOOKUP(F592,工作表9!$C$1:$D$8, 2, FALSE)","v":1810},0]
[null,null,null,null,null,22,{"$f":"VLOOKUP(F593,工作表9!$C$1:$E$8, 3,  FALSE)","v":"純物質"},null,{"$f":"VLOOKUP(F593,工作表9!$C$1:$D$8, 2, FALSE)","v":1810},0]
[null,null,null,null,null,22,{"$f":"VLOOKUP(F594,工作表9!$C$1:$E$8, 3,  FALSE)","v":"純物質"},null,{"$f":"VLOOKUP(F594,工作表9!$C$1:$D$8, 2, FALSE)","v":1810},0]
[null,null,null,null,null,22,{"$f":"VLOOKUP(F595,工作表9!$C$1:$E$8, 3,  FALSE)","v":"純物質"},null,{"$f":"VLOOKUP(F595,工作表9!$C$1:$D$8, 2, FALSE)","v":1810},0]
[null,null,null,null,null,22,{"$f":"VLOOKUP(F596,工作表9!$C$1:$E$8, 3,  FALSE)","v":"純物質"},null,{"$f":"VLOOKUP(F596,工作表9!$C$1:$D$8, 2, FALSE)","v":1810},0]
[null,null,null,null,null,22,{"$f":"VLOOKUP(F597,工作表9!$C$1:$E$8, 3,  FALSE)","v":"純物質"},null,{"$f":"VLOOKUP(F597,工作表9!$C$1:$D$8, 2, FALSE)","v":1810},0]
[null,null,null,null,null,22,{"$f":"VLOOKUP(F598,工作表9!$C$1:$E$8, 3,  FALSE)","v":"純物質"},null,{"$f":"VLOOKUP(F598,工作表9!$C$1:$D$8, 2, FALSE)","v":1810},0]
[null,null,null,null,null,22,{"$f":"VLOOKUP(F599,工作表9!$C$1:$E$8, 3,  FALSE)","v":"純物質"},null,{"$f":"VLOOKUP(F599,工作表9!$C$1:$D$8, 2, FALSE)","v":1810},0]
[null,null,null,null,null,22,{"$f":"VLOOKUP(F600,工作表9!$C$1:$E$8, 3,  FALSE)","v":"純物質"},null,{"$f":"VLOOKUP(F600,工作表9!$C$1:$D$8, 2, FALSE)","v":1810},0]
[null,null,null,null,null,22,{"$f":"VLOOKUP(F601,工作表9!$C$1:$E$8, 3,  FALSE)","v":"純物質"},null,{"$f":"VLOOKUP(F601,工作表9!$C$1:$D$8, 2, FALSE)","v":1810},0]
[null,null,null,null,null,22,{"$f":"VLOOKUP(F602,工作表9!$C$1:$E$8, 3,  FALSE)","v":"純物質"},null,{"$f":"VLOOKUP(F602,工作表9!$C$1:$D$8, 2, FALSE)","v":1810},0]
[null,null,null,null,null,22,{"$f":"VLOOKUP(F603,工作表9!$C$1:$E$8, 3,  FALSE)","v":"純物質"},null,{"$f":"VLOOKUP(F603,工作表9!$C$1:$D$8, 2, FALSE)","v":1810},0]
[null,null,null,null,null,22,{"$f":"VLOOKUP(F604,工作表9!$C$1:$E$8, 3,  FALSE)","v":"純物質"},null,{"$f":"VLOOKUP(F604,工作表9!$C$1:$D$8, 2, FALSE)","v":1810},0]
[null,null,null,null,null,22,{"$f":"VLOOKUP(F605,工作表9!$C$1:$E$8, 3,  FALSE)","v":"純物質"},null,{"$f":"VLOOKUP(F605,工作表9!$C$1:$D$8, 2, FALSE)","v":1810},0]
[null,null,null,null,null,22,{"$f":"VLOOKUP(F606,工作表9!$C$1:$E$8, 3,  FALSE)","v":"純物質"},null,{"$f":"VLOOKUP(F606,工作表9!$C$1:$D$8, 2, FALSE)","v":1810},0]
[null,null,null,null,null,22,{"$f":"VLOOKUP(F607,工作表9!$C$1:$E$8, 3,  FALSE)","v":"純物質"},null,{"$f":"VLOOKUP(F607,工作表9!$C$1:$D$8, 2, FALSE)","v":1810},0]
[null,null,null,null,null,22,{"$f":"VLOOKUP(F608,工作表9!$C$1:$E$8, 3,  FALSE)","v":"純物質"},null,{"$f":"VLOOKUP(F608,工作表9!$C$1:$D$8, 2, FALSE)","v":1810},0]
[null,null,null,null,null,22,{"$f":"VLOOKUP(F609,工作表9!$C$1:$E$8, 3,  FALSE)","v":"純物質"},null,{"$f":"VLOOKUP(F609,工作表9!$C$1:$D$8, 2, FALSE)","v":1810},0]
[null,null,null,null,null,22,{"$f":"VLOOKUP(F610,工作表9!$C$1:$E$8, 3,  FALSE)","v":"純物質"},null,{"$f":"VLOOKUP(F610,工作表9!$C$1:$D$8, 2, FALSE)","v":1810},0]
[null,null,null,null,null,22,{"$f":"VLOOKUP(F611,工作表9!$C$1:$E$8, 3,  FALSE)","v":"純物質"},null,{"$f":"VLOOKUP(F611,工作表9!$C$1:$D$8, 2, FALSE)","v":1810},0]
[null,null,null,null,null,22,{"$f":"VLOOKUP(F612,工作表9!$C$1:$E$8, 3,  FALSE)","v":"純物質"},null,{"$f":"VLOOKUP(F612,工作表9!$C$1:$D$8, 2, FALSE)","v":1810},0]
[null,null,null,null,null,22,{"$f":"VLOOKUP(F613,工作表9!$C$1:$E$8, 3,  FALSE)","v":"純物質"},null,{"$f":"VLOOKUP(F613,工作表9!$C$1:$D$8, 2, FALSE)","v":1810},0]
[null,null,null,null,null,22,{"$f":"VLOOKUP(F614,工作表9!$C$1:$E$8, 3,  FALSE)","v":"純物質"},null,{"$f":"VLOOKUP(F614,工作表9!$C$1:$D$8, 2, FALSE)","v":1810},0]
[null,null,null,null,null,22,{"$f":"VLOOKUP(F615,工作表9!$C$1:$E$8, 3,  FALSE)","v":"純物質"},null,{"$f":"VLOOKUP(F615,工作表9!$C$1:$D$8, 2, FALSE)","v":1810},0]
[null,null,null,null,null,22,{"$f":"VLOOKUP(F616,工作表9!$C$1:$E$8, 3,  FALSE)","v":"純物質"},null,{"$f":"VLOOKUP(F616,工作表9!$C$1:$D$8, 2, FALSE)","v":1810},0]
[null,null,null,null,null,22,{"$f":"VLOOKUP(F617,工作表9!$C$1:$E$8, 3,  FALSE)","v":"純物質"},null,{"$f":"VLOOKUP(F617,工作表9!$C$1:$D$8, 2, FALSE)","v":1810},0]
[null,null,null,null,null,22,{"$f":"VLOOKUP(F618,工作表9!$C$1:$E$8, 3,  FALSE)","v":"純物質"},null,{"$f":"VLOOKUP(F618,工作表9!$C$1:$D$8, 2, FALSE)","v":1810},0]
[null,null,null,null,null,22,{"$f":"VLOOKUP(F619,工作表9!$C$1:$E$8, 3,  FALSE)","v":"純物質"},null,{"$f":"VLOOKUP(F619,工作表9!$C$1:$D$8, 2, FALSE)","v":1810},0]
[null,null,null,null,null,22,{"$f":"VLOOKUP(F620,工作表9!$C$1:$E$8, 3,  FALSE)","v":"純物質"},null,{"$f":"VLOOKUP(F620,工作表9!$C$1:$D$8, 2, FALSE)","v":1810},0]
[null,null,null,null,null,22,{"$f":"VLOOKUP(F621,工作表9!$C$1:$E$8, 3,  FALSE)","v":"純物質"},null,{"$f":"VLOOKUP(F621,工作表9!$C$1:$D$8, 2, FALSE)","v":1810},0]
[null,null,null,null,null,22,{"$f":"VLOOKUP(F622,工作表9!$C$1:$E$8, 3,  FALSE)","v":"純物質"},null,{"$f":"VLOOKUP(F622,工作表9!$C$1:$D$8, 2, FALSE)","v":1810},0]
[null,null,null,null,null,22,{"$f":"VLOOKUP(F623,工作表9!$C$1:$E$8, 3,  FALSE)","v":"純物質"},null,{"$f":"VLOOKUP(F623,工作表9!$C$1:$D$8, 2, FALSE)","v":1810},0]
[null,null,null,null,null,22,{"$f":"VLOOKUP(F624,工作表9!$C$1:$E$8, 3,  FALSE)","v":"純物質"},null,{"$f":"VLOOKUP(F624,工作表9!$C$1:$D$8, 2, FALSE)","v":1810},0]
[null,null,null,null,null,22,{"$f":"VLOOKUP(F625,工作表9!$C$1:$E$8, 3,  FALSE)","v":"純物質"},null,{"$f":"VLOOKUP(F625,工作表9!$C$1:$D$8, 2, FALSE)","v":1810},0]
[null,null,null,null,null,22,{"$f":"VLOOKUP(F626,工作表9!$C$1:$E$8, 3,  FALSE)","v":"純物質"},null,{"$f":"VLOOKUP(F626,工作表9!$C$1:$D$8, 2, FALSE)","v":1810},0]
[null,null,null,null,null,22,{"$f":"VLOOKUP(F627,工作表9!$C$1:$E$8, 3,  FALSE)","v":"純物質"},null,{"$f":"VLOOKUP(F627,工作表9!$C$1:$D$8, 2, FALSE)","v":1810},0]
[null,null,null,null,null,22,{"$f":"VLOOKUP(F628,工作表9!$C$1:$E$8, 3,  FALSE)","v":"純物質"},null,{"$f":"VLOOKUP(F628,工作表9!$C$1:$D$8, 2, FALSE)","v":1810},0]
[null,null,null,null,null,22,{"$f":"VLOOKUP(F629,工作表9!$C$1:$E$8, 3,  FALSE)","v":"純物質"},null,{"$f":"VLOOKUP(F629,工作表9!$C$1:$D$8, 2, FALSE)","v":1810},0]
[null,null,null,null,null,22,{"$f":"VLOOKUP(F630,工作表9!$C$1:$E$8, 3,  FALSE)","v":"純物質"},null,{"$f":"VLOOKUP(F630,工作表9!$C$1:$D$8, 2, FALSE)","v":1810},0]
[null,null,null,null,null,22,{"$f":"VLOOKUP(F631,工作表9!$C$1:$E$8, 3,  FALSE)","v":"純物質"},null,{"$f":"VLOOKUP(F631,工作表9!$C$1:$D$8, 2, FALSE)","v":1810},0]
[null,null,null,null,null,22,{"$f":"VLOOKUP(F632,工作表9!$C$1:$E$8, 3,  FALSE)","v":"純物質"},null,{"$f":"VLOOKUP(F632,工作表9!$C$1:$D$8, 2, FALSE)","v":1810},0]
[null,null,null,null,null,22,{"$f":"VLOOKUP(F633,工作表9!$C$1:$E$8, 3,  FALSE)","v":"純物質"},null,{"$f":"VLOOKUP(F633,工作表9!$C$1:$D$8, 2, FALSE)","v":1810},0]
[null,null,null,null,null,22,{"$f":"VLOOKUP(F634,工作表9!$C$1:$E$8, 3,  FALSE)","v":"純物質"},null,{"$f":"VLOOKUP(F634,工作表9!$C$1:$D$8, 2, FALSE)","v":1810},0]
[null,null,null,null,null,22,{"$f":"VLOOKUP(F635,工作表9!$C$1:$E$8, 3,  FALSE)","v":"純物質"},null,{"$f":"VLOOKUP(F635,工作表9!$C$1:$D$8, 2, FALSE)","v":1810},0]
[null,null,null,null,null,22,{"$f":"VLOOKUP(F636,工作表9!$C$1:$E$8, 3,  FALSE)","v":"純物質"},null,{"$f":"VLOOKUP(F636,工作表9!$C$1:$D$8, 2, FALSE)","v":1810},0]
[null,null,null,null,null,22,{"$f":"VLOOKUP(F637,工作表9!$C$1:$E$8, 3,  FALSE)","v":"純物質"},null,{"$f":"VLOOKUP(F637,工作表9!$C$1:$D$8, 2, FALSE)","v":1810},0]
[null,null,null,null,null,22,{"$f":"VLOOKUP(F638,工作表9!$C$1:$E$8, 3,  FALSE)","v":"純物質"},null,{"$f":"VLOOKUP(F638,工作表9!$C$1:$D$8, 2, FALSE)","v":1810},0]
[null,null,null,null,null,22,{"$f":"VLOOKUP(F639,工作表9!$C$1:$E$8, 3,  FALSE)","v":"純物質"},null,{"$f":"VLOOKUP(F639,工作表9!$C$1:$D$8, 2, FALSE)","v":1810},0]
[null,null,null,null,null,22,{"$f":"VLOOKUP(F640,工作表9!$C$1:$E$8, 3,  FALSE)","v":"純物質"},null,{"$f":"VLOOKUP(F640,工作表9!$C$1:$D$8, 2, FALSE)","v":1810},0]
[null,null,null,null,null,22,{"$f":"VLOOKUP(F641,工作表9!$C$1:$E$8, 3,  FALSE)","v":"純物質"},null,{"$f":"VLOOKUP(F641,工作表9!$C$1:$D$8, 2, FALSE)","v":1810},0]
[null,null,null,null,null,22,{"$f":"VLOOKUP(F642,工作表9!$C$1:$E$8, 3,  FALSE)","v":"純物質"},null,{"$f":"VLOOKUP(F642,工作表9!$C$1:$D$8, 2, FALSE)","v":1810},0]
[null,null,null,null,null,22,{"$f":"VLOOKUP(F643,工作表9!$C$1:$E$8, 3,  FALSE)","v":"純物質"},null,{"$f":"VLOOKUP(F643,工作表9!$C$1:$D$8, 2, FALSE)","v":1810},0]
[null,null,null,null,null,22,{"$f":"VLOOKUP(F644,工作表9!$C$1:$E$8, 3,  FALSE)","v":"純物質"},null,{"$f":"VLOOKUP(F644,工作表9!$C$1:$D$8, 2, FALSE)","v":1810},0]
[null,null,null,null,null,22,{"$f":"VLOOKUP(F645,工作表9!$C$1:$E$8, 3,  FALSE)","v":"純物質"},null,{"$f":"VLOOKUP(F645,工作表9!$C$1:$D$8, 2, FALSE)","v":1810},0]
[null,null,null,null,null,22,{"$f":"VLOOKUP(F646,工作表9!$C$1:$E$8, 3,  FALSE)","v":"純物質"},null,{"$f":"VLOOKUP(F646,工作表9!$C$1:$D$8, 2, FALSE)","v":1810},{"$f":"H646*I646","v":0}]
[null,null,null,null,null,22,{"$f":"VLOOKUP(F647,工作表9!$C$1:$E$8, 3,  FALSE)","v":"純物質"},null,{"$f":"VLOOKUP(F647,工作表9!$C$1:$D$8, 2, FALSE)","v":1810},0]
[null,null,null,null,null,22,{"$f":"VLOOKUP(F648,工作表9!$C$1:$E$8, 3,  FALSE)","v":"純物質"},null,{"$f":"VLOOKUP(F648,工作表9!$C$1:$D$8, 2, FALSE)","v":1810},0]
[null,null,null,null,null,22,{"$f":"VLOOKUP(F649,工作表9!$C$1:$E$8, 3,  FALSE)","v":"純物質"},null,{"$f":"VLOOKUP(F649,工作表9!$C$1:$D$8, 2, FALSE)","v":1810},0]
[null,null,null,null,null,22,{"$f":"VLOOKUP(F650,工作表9!$C$1:$E$8, 3,  FALSE)","v":"純物質"},null,{"$f":"VLOOKUP(F650,工作表9!$C$1:$D$8, 2, FALSE)","v":1810},0]
[null,null,null,null,null,22,{"$f":"VLOOKUP(F651,工作表9!$C$1:$E$8, 3,  FALSE)","v":"純物質"},null,{"$f":"VLOOKUP(F651,工作表9!$C$1:$D$8, 2, FALSE)","v":1810},0]
[null,null,null,null,null,22,{"$f":"VLOOKUP(F652,工作表9!$C$1:$E$8, 3,  FALSE)","v":"純物質"},null,{"$f":"VLOOKUP(F652,工作表9!$C$1:$D$8, 2, FALSE)","v":1810},0]
[null,null,null,null,null,22,{"$f":"VLOOKUP(F653,工作表9!$C$1:$E$8, 3,  FALSE)","v":"純物質"},null,{"$f":"VLOOKUP(F653,工作表9!$C$1:$D$8, 2, FALSE)","v":1810},0]
[null,null,null,null,null,22,{"$f":"VLOOKUP(F654,工作表9!$C$1:$E$8, 3,  FALSE)","v":"純物質"},null,{"$f":"VLOOKUP(F654,工作表9!$C$1:$D$8, 2, FALSE)","v":1810},0]
[null,null,null,null,null,22,{"$f":"VLOOKUP(F655,工作表9!$C$1:$E$8, 3,  FALSE)","v":"純物質"},null,{"$f":"VLOOKUP(F655,工作表9!$C$1:$D$8, 2, FALSE)","v":1810},0]
[null,null,null,null,null,22,{"$f":"VLOOKUP(F656,工作表9!$C$1:$E$8, 3,  FALSE)","v":"純物質"},null,{"$f":"VLOOKUP(F656,工作表9!$C$1:$D$8, 2, FALSE)","v":1810},0]
[null,null,null,null,null,22,{"$f":"VLOOKUP(F657,工作表9!$C$1:$E$8, 3,  FALSE)","v":"純物質"},null,{"$f":"VLOOKUP(F657,工作表9!$C$1:$D$8, 2, FALSE)","v":1810},0]
[null,null,null,null,null,22,{"$f":"VLOOKUP(F658,工作表9!$C$1:$E$8, 3,  FALSE)","v":"純物質"},null,{"$f":"VLOOKUP(F658,工作表9!$C$1:$D$8, 2, FALSE)","v":1810},0]
[null,null,null,null,null,22,{"$f":"VLOOKUP(F659,工作表9!$C$1:$E$8, 3,  FALSE)","v":"純物質"},null,{"$f":"VLOOKUP(F659,工作表9!$C$1:$D$8, 2, FALSE)","v":1810},0]
[null,null,null,null,null,22,{"$f":"VLOOKUP(F660,工作表9!$C$1:$E$8, 3,  FALSE)","v":"純物質"},null,{"$f":"VLOOKUP(F660,工作表9!$C$1:$D$8, 2, FALSE)","v":1810},0]
[null,null,null,null,null,22,{"$f":"VLOOKUP(F661,工作表9!$C$1:$E$8, 3,  FALSE)","v":"純物質"},null,{"$f":"VLOOKUP(F661,工作表9!$C$1:$D$8, 2, FALSE)","v":1810},0]
[null,null,null,null,null,22,{"$f":"VLOOKUP(F662,工作表9!$C$1:$E$8, 3,  FALSE)","v":"純物質"},null,{"$f":"VLOOKUP(F662,工作表9!$C$1:$D$8, 2, FALSE)","v":1810},0]
[null,null,null,null,null,22,{"$f":"VLOOKUP(F663,工作表9!$C$1:$E$8, 3,  FALSE)","v":"純物質"},null,{"$f":"VLOOKUP(F663,工作表9!$C$1:$D$8, 2, FALSE)","v":1810},0]
[null,null,null,null,null,22,{"$f":"VLOOKUP(F664,工作表9!$C$1:$E$8, 3,  FALSE)","v":"純物質"},null,{"$f":"VLOOKUP(F664,工作表9!$C$1:$D$8, 2, FALSE)","v":1810},0]
[null,null,null,null,null,22,{"$f":"VLOOKUP(F665,工作表9!$C$1:$E$8, 3,  FALSE)","v":"純物質"},null,{"$f":"VLOOKUP(F665,工作表9!$C$1:$D$8, 2, FALSE)","v":1810},0]
[null,null,null,null,null,22,{"$f":"VLOOKUP(F666,工作表9!$C$1:$E$8, 3,  FALSE)","v":"純物質"},null,{"$f":"VLOOKUP(F666,工作表9!$C$1:$D$8, 2, FALSE)","v":1810},0]
[null,null,null,null,null,22,{"$f":"VLOOKUP(F667,工作表9!$C$1:$E$8, 3,  FALSE)","v":"純物質"},null,{"$f":"VLOOKUP(F667,工作表9!$C$1:$D$8, 2, FALSE)","v":1810},0]
[null,null,null,null,null,22,{"$f":"VLOOKUP(F668,工作表9!$C$1:$E$8, 3,  FALSE)","v":"純物質"},null,{"$f":"VLOOKUP(F668,工作表9!$C$1:$D$8, 2, FALSE)","v":1810},0]
[null,null,null,null,null,22,{"$f":"VLOOKUP(F669,工作表9!$C$1:$E$8, 3,  FALSE)","v":"純物質"},null,{"$f":"VLOOKUP(F669,工作表9!$C$1:$D$8, 2, FALSE)","v":1810},0]
[null,null,null,null,null,22,{"$f":"VLOOKUP(F670,工作表9!$C$1:$E$8, 3,  FALSE)","v":"純物質"},null,{"$f":"VLOOKUP(F670,工作表9!$C$1:$D$8, 2, FALSE)","v":1810},0]
[null,null,null,null,null,22,{"$f":"VLOOKUP(F671,工作表9!$C$1:$E$8, 3,  FALSE)","v":"純物質"},null,{"$f":"VLOOKUP(F671,工作表9!$C$1:$D$8, 2, FALSE)","v":1810},0]
[null,null,null,null,null,22,{"$f":"VLOOKUP(F672,工作表9!$C$1:$E$8, 3,  FALSE)","v":"純物質"},null,{"$f":"VLOOKUP(F672,工作表9!$C$1:$D$8, 2, FALSE)","v":1810},0]
[null,null,null,null,null,22,{"$f":"VLOOKUP(F673,工作表9!$C$1:$E$8, 3,  FALSE)","v":"純物質"},null,{"$f":"VLOOKUP(F673,工作表9!$C$1:$D$8, 2, FALSE)","v":1810},0]
[null,null,null,null,null,22,{"$f":"VLOOKUP(F674,工作表9!$C$1:$E$8, 3,  FALSE)","v":"純物質"},null,{"$f":"VLOOKUP(F674,工作表9!$C$1:$D$8, 2, FALSE)","v":1810},0]
[null,null,null,null,null,22,{"$f":"VLOOKUP(F675,工作表9!$C$1:$E$8, 3,  FALSE)","v":"純物質"},null,{"$f":"VLOOKUP(F675,工作表9!$C$1:$D$8, 2, FALSE)","v":1810},0]
[null,null,null,null,null,22,{"$f":"VLOOKUP(F676,工作表9!$C$1:$E$8, 3,  FALSE)","v":"純物質"},null,{"$f":"VLOOKUP(F676,工作表9!$C$1:$D$8, 2, FALSE)","v":1810},0]
[null,null,null,null,null,22,{"$f":"VLOOKUP(F677,工作表9!$C$1:$E$8, 3,  FALSE)","v":"純物質"},null,{"$f":"VLOOKUP(F677,工作表9!$C$1:$D$8, 2, FALSE)","v":1810},0]
[null,null,null,null,null,22,{"$f":"VLOOKUP(F678,工作表9!$C$1:$E$8, 3,  FALSE)","v":"純物質"},null,{"$f":"VLOOKUP(F678,工作表9!$C$1:$D$8, 2, FALSE)","v":1810},0]
[null,null,null,null,null,22,{"$f":"VLOOKUP(F679,工作表9!$C$1:$E$8, 3,  FALSE)","v":"純物質"},null,{"$f":"VLOOKUP(F679,工作表9!$C$1:$D$8, 2, FALSE)","v":1810},0]
[null,null,null,null,null,22,{"$f":"VLOOKUP(F680,工作表9!$C$1:$E$8, 3,  FALSE)","v":"純物質"},null,{"$f":"VLOOKUP(F680,工作表9!$C$1:$D$8, 2, FALSE)","v":1810},0]
[null,null,null,null,null,22,{"$f":"VLOOKUP(F681,工作表9!$C$1:$E$8, 3,  FALSE)","v":"純物質"},null,{"$f":"VLOOKUP(F681,工作表9!$C$1:$D$8, 2, FALSE)","v":1810},0]
[null,null,null,null,null,22,{"$f":"VLOOKUP(F682,工作表9!$C$1:$E$8, 3,  FALSE)","v":"純物質"},null,{"$f":"VLOOKUP(F682,工作表9!$C$1:$D$8, 2, FALSE)","v":1810},0]
[null,null,null,null,null,22,{"$f":"VLOOKUP(F683,工作表9!$C$1:$E$8, 3,  FALSE)","v":"純物質"},null,{"$f":"VLOOKUP(F683,工作表9!$C$1:$D$8, 2, FALSE)","v":1810},0]
[null,null,null,null,null,22,{"$f":"VLOOKUP(F684,工作表9!$C$1:$E$8, 3,  FALSE)","v":"純物質"},null,{"$f":"VLOOKUP(F684,工作表9!$C$1:$D$8, 2, FALSE)","v":1810},0]
[null,null,null,null,null,22,{"$f":"VLOOKUP(F685,工作表9!$C$1:$E$8, 3,  FALSE)","v":"純物質"},null,{"$f":"VLOOKUP(F685,工作表9!$C$1:$D$8, 2, FALSE)","v":1810},0]
[null,null,null,null,null,22,{"$f":"VLOOKUP(F686,工作表9!$C$1:$E$8, 3,  FALSE)","v":"純物質"},null,{"$f":"VLOOKUP(F686,工作表9!$C$1:$D$8, 2, FALSE)","v":1810},0]
[null,null,null,null,null,22,{"$f":"VLOOKUP(F687,工作表9!$C$1:$E$8, 3,  FALSE)","v":"純物質"},null,{"$f":"VLOOKUP(F687,工作表9!$C$1:$D$8, 2, FALSE)","v":1810},0]
[null,null,null,null,null,22,{"$f":"VLOOKUP(F688,工作表9!$C$1:$E$8, 3,  FALSE)","v":"純物質"},null,{"$f":"VLOOKUP(F688,工作表9!$C$1:$D$8, 2, FALSE)","v":1810},0]
[null,null,null,null,null,22,{"$f":"VLOOKUP(F689,工作表9!$C$1:$E$8, 3,  FALSE)","v":"純物質"},null,{"$f":"VLOOKUP(F689,工作表9!$C$1:$D$8, 2, FALSE)","v":1810},0]
[null,null,null,null,null,22,{"$f":"VLOOKUP(F690,工作表9!$C$1:$E$8, 3,  FALSE)","v":"純物質"},null,{"$f":"VLOOKUP(F690,工作表9!$C$1:$D$8, 2, FALSE)","v":1810},0]
[null,null,null,null,null,22,{"$f":"VLOOKUP(F691,工作表9!$C$1:$E$8, 3,  FALSE)","v":"純物質"},null,{"$f":"VLOOKUP(F691,工作表9!$C$1:$D$8, 2, FALSE)","v":1810},0]
[null,null,null,null,null,22,{"$f":"VLOOKUP(F692,工作表9!$C$1:$E$8, 3,  FALSE)","v":"純物質"},null,{"$f":"VLOOKUP(F692,工作表9!$C$1:$D$8, 2, FALSE)","v":1810},0]
[null,null,null,null,null,22,{"$f":"VLOOKUP(F693,工作表9!$C$1:$E$8, 3,  FALSE)","v":"純物質"},null,{"$f":"VLOOKUP(F693,工作表9!$C$1:$D$8, 2, FALSE)","v":1810},0]
[null,null,null,null,null,22,{"$f":"VLOOKUP(F694,工作表9!$C$1:$E$8, 3,  FALSE)","v":"純物質"},null,{"$f":"VLOOKUP(F694,工作表9!$C$1:$D$8, 2, FALSE)","v":1810},0]
[null,null,null,null,null,22,{"$f":"VLOOKUP(F695,工作表9!$C$1:$E$8, 3,  FALSE)","v":"純物質"},null,{"$f":"VLOOKUP(F695,工作表9!$C$1:$D$8, 2, FALSE)","v":1810},0]
[null,null,null,null,null,22,{"$f":"VLOOKUP(F696,工作表9!$C$1:$E$8, 3,  FALSE)","v":"純物質"},null,{"$f":"VLOOKUP(F696,工作表9!$C$1:$D$8, 2, FALSE)","v":1810},0]
[null,null,null,null,null,22,{"$f":"VLOOKUP(F697,工作表9!$C$1:$E$8, 3,  FALSE)","v":"純物質"},null,{"$f":"VLOOKUP(F697,工作表9!$C$1:$D$8, 2, FALSE)","v":1810},0]
[null,null,null,null,null,22,{"$f":"VLOOKUP(F698,工作表9!$C$1:$E$8, 3,  FALSE)","v":"純物質"},null,{"$f":"VLOOKUP(F698,工作表9!$C$1:$D$8, 2, FALSE)","v":1810},0]
[null,null,null,null,null,22,{"$f":"VLOOKUP(F699,工作表9!$C$1:$E$8, 3,  FALSE)","v":"純物質"},null,{"$f":"VLOOKUP(F699,工作表9!$C$1:$D$8, 2, FALSE)","v":1810},0]
[null,null,null,null,null,22,{"$f":"VLOOKUP(F700,工作表9!$C$1:$E$8, 3,  FALSE)","v":"純物質"},null,{"$f":"VLOOKUP(F700,工作表9!$C$1:$D$8, 2, FALSE)","v":1810},0]
[null,null,null,null,null,22,{"$f":"VLOOKUP(F701,工作表9!$C$1:$E$8, 3,  FALSE)","v":"純物質"},null,{"$f":"VLOOKUP(F701,工作表9!$C$1:$D$8, 2, FALSE)","v":1810},0]
[null,null,null,null,null,22,{"$f":"VLOOKUP(F702,工作表9!$C$1:$E$8, 3,  FALSE)","v":"純物質"},null,{"$f":"VLOOKUP(F702,工作表9!$C$1:$D$8, 2, FALSE)","v":1810},0]
[null,null,null,null,null,22,{"$f":"VLOOKUP(F703,工作表9!$C$1:$E$8, 3,  FALSE)","v":"純物質"},null,{"$f":"VLOOKUP(F703,工作表9!$C$1:$D$8, 2, FALSE)","v":1810},0]
[null,null,null,null,null,22,{"$f":"VLOOKUP(F704,工作表9!$C$1:$E$8, 3,  FALSE)","v":"純物質"},null,{"$f":"VLOOKUP(F704,工作表9!$C$1:$D$8, 2, FALSE)","v":1810},0]
[null,null,null,null,null,22,{"$f":"VLOOKUP(F705,工作表9!$C$1:$E$8, 3,  FALSE)","v":"純物質"},null,{"$f":"VLOOKUP(F705,工作表9!$C$1:$D$8, 2, FALSE)","v":1810},0]
[null,null,null,null,null,22,{"$f":"VLOOKUP(F706,工作表9!$C$1:$E$8, 3,  FALSE)","v":"純物質"},null,{"$f":"VLOOKUP(F706,工作表9!$C$1:$D$8, 2, FALSE)","v":1810},0]
[null,null,null,null,null,22,{"$f":"VLOOKUP(F707,工作表9!$C$1:$E$8, 3,  FALSE)","v":"純物質"},null,{"$f":"VLOOKUP(F707,工作表9!$C$1:$D$8, 2, FALSE)","v":1810},0]
[null,null,null,null,null,22,{"$f":"VLOOKUP(F708,工作表9!$C$1:$E$8, 3,  FALSE)","v":"純物質"},null,{"$f":"VLOOKUP(F708,工作表9!$C$1:$D$8, 2, FALSE)","v":1810},0]
[null,null,null,null,null,22,{"$f":"VLOOKUP(F709,工作表9!$C$1:$E$8, 3,  FALSE)","v":"純物質"},null,{"$f":"VLOOKUP(F709,工作表9!$C$1:$D$8, 2, FALSE)","v":1810},0]
[null,null,null,null,null,22,{"$f":"VLOOKUP(F710,工作表9!$C$1:$E$8, 3,  FALSE)","v":"純物質"},null,{"$f":"VLOOKUP(F710,工作表9!$C$1:$D$8, 2, FALSE)","v":1810},{"$f":"H710*I710","v":0}]
[null,null,null,null,null,22,{"$f":"VLOOKUP(F711,工作表9!$C$1:$E$8, 3,  FALSE)","v":"純物質"},null,{"$f":"VLOOKUP(F711,工作表9!$C$1:$D$8, 2, FALSE)","v":1810},0]
[null,null,null,null,null,22,{"$f":"VLOOKUP(F712,工作表9!$C$1:$E$8, 3,  FALSE)","v":"純物質"},null,{"$f":"VLOOKUP(F712,工作表9!$C$1:$D$8, 2, FALSE)","v":1810},0]
[null,null,null,null,null,22,{"$f":"VLOOKUP(F713,工作表9!$C$1:$E$8, 3,  FALSE)","v":"純物質"},null,{"$f":"VLOOKUP(F713,工作表9!$C$1:$D$8, 2, FALSE)","v":1810},0]
[null,null,null,null,null,22,{"$f":"VLOOKUP(F714,工作表9!$C$1:$E$8, 3,  FALSE)","v":"純物質"},null,{"$f":"VLOOKUP(F714,工作表9!$C$1:$D$8, 2, FALSE)","v":1810},0]
[null,null,null,null,null,22,{"$f":"VLOOKUP(F715,工作表9!$C$1:$E$8, 3,  FALSE)","v":"純物質"},null,{"$f":"VLOOKUP(F715,工作表9!$C$1:$D$8, 2, FALSE)","v":1810},0]
[null,null,null,null,null,22,{"$f":"VLOOKUP(F716,工作表9!$C$1:$E$8, 3,  FALSE)","v":"純物質"},null,{"$f":"VLOOKUP(F716,工作表9!$C$1:$D$8, 2, FALSE)","v":1810},0]
[null,null,null,null,null,22,{"$f":"VLOOKUP(F717,工作表9!$C$1:$E$8, 3,  FALSE)","v":"純物質"},null,{"$f":"VLOOKUP(F717,工作表9!$C$1:$D$8, 2, FALSE)","v":1810},0]
[null,null,null,null,null,22,{"$f":"VLOOKUP(F718,工作表9!$C$1:$E$8, 3,  FALSE)","v":"純物質"},null,{"$f":"VLOOKUP(F718,工作表9!$C$1:$D$8, 2, FALSE)","v":1810},0]
[null,null,null,null,null,22,{"$f":"VLOOKUP(F719,工作表9!$C$1:$E$8, 3,  FALSE)","v":"純物質"},null,{"$f":"VLOOKUP(F719,工作表9!$C$1:$D$8, 2, FALSE)","v":1810},0]
[null,null,null,null,null,22,{"$f":"VLOOKUP(F720,工作表9!$C$1:$E$8, 3,  FALSE)","v":"純物質"},null,{"$f":"VLOOKUP(F720,工作表9!$C$1:$D$8, 2, FALSE)","v":1810},0]
[null,null,null,null,null,22,{"$f":"VLOOKUP(F721,工作表9!$C$1:$E$8, 3,  FALSE)","v":"純物質"},null,{"$f":"VLOOKUP(F721,工作表9!$C$1:$D$8, 2, FALSE)","v":1810},0]
[null,null,null,null,null,22,{"$f":"VLOOKUP(F722,工作表9!$C$1:$E$8, 3,  FALSE)","v":"純物質"},null,{"$f":"VLOOKUP(F722,工作表9!$C$1:$D$8, 2, FALSE)","v":1810},0]
[null,null,null,null,null,22,{"$f":"VLOOKUP(F723,工作表9!$C$1:$E$8, 3,  FALSE)","v":"純物質"},null,{"$f":"VLOOKUP(F723,工作表9!$C$1:$D$8, 2, FALSE)","v":1810},0]
[null,null,null,null,null,22,{"$f":"VLOOKUP(F724,工作表9!$C$1:$E$8, 3,  FALSE)","v":"純物質"},null,{"$f":"VLOOKUP(F724,工作表9!$C$1:$D$8, 2, FALSE)","v":1810},0]
[null,null,null,null,null,22,{"$f":"VLOOKUP(F725,工作表9!$C$1:$E$8, 3,  FALSE)","v":"純物質"},null,{"$f":"VLOOKUP(F725,工作表9!$C$1:$D$8, 2, FALSE)","v":1810},0]
[null,null,null,null,null,22,{"$f":"VLOOKUP(F726,工作表9!$C$1:$E$8, 3,  FALSE)","v":"純物質"},null,{"$f":"VLOOKUP(F726,工作表9!$C$1:$D$8, 2, FALSE)","v":1810},0]
[null,null,null,null,null,22,{"$f":"VLOOKUP(F727,工作表9!$C$1:$E$8, 3,  FALSE)","v":"純物質"},null,{"$f":"VLOOKUP(F727,工作表9!$C$1:$D$8, 2, FALSE)","v":1810},0]
[null,null,null,null,null,22,{"$f":"VLOOKUP(F728,工作表9!$C$1:$E$8, 3,  FALSE)","v":"純物質"},null,{"$f":"VLOOKUP(F728,工作表9!$C$1:$D$8, 2, FALSE)","v":1810},0]
[null,null,null,null,null,22,{"$f":"VLOOKUP(F729,工作表9!$C$1:$E$8, 3,  FALSE)","v":"純物質"},null,{"$f":"VLOOKUP(F729,工作表9!$C$1:$D$8, 2, FALSE)","v":1810},0]
[null,null,null,null,null,22,{"$f":"VLOOKUP(F730,工作表9!$C$1:$E$8, 3,  FALSE)","v":"純物質"},null,{"$f":"VLOOKUP(F730,工作表9!$C$1:$D$8, 2, FALSE)","v":1810},0]
[null,null,null,null,null,22,{"$f":"VLOOKUP(F731,工作表9!$C$1:$E$8, 3,  FALSE)","v":"純物質"},null,{"$f":"VLOOKUP(F731,工作表9!$C$1:$D$8, 2, FALSE)","v":1810},0]
[null,null,null,null,null,22,{"$f":"VLOOKUP(F732,工作表9!$C$1:$E$8, 3,  FALSE)","v":"純物質"},null,{"$f":"VLOOKUP(F732,工作表9!$C$1:$D$8, 2, FALSE)","v":1810},0]
[null,null,null,null,null,22,{"$f":"VLOOKUP(F733,工作表9!$C$1:$E$8, 3,  FALSE)","v":"純物質"},null,{"$f":"VLOOKUP(F733,工作表9!$C$1:$D$8, 2, FALSE)","v":1810},0]
[null,null,null,null,null,22,{"$f":"VLOOKUP(F734,工作表9!$C$1:$E$8, 3,  FALSE)","v":"純物質"},null,{"$f":"VLOOKUP(F734,工作表9!$C$1:$D$8, 2, FALSE)","v":1810},0]
[null,null,null,null,null,22,{"$f":"VLOOKUP(F735,工作表9!$C$1:$E$8, 3,  FALSE)","v":"純物質"},null,{"$f":"VLOOKUP(F735,工作表9!$C$1:$D$8, 2, FALSE)","v":1810},0]
[null,null,null,null,null,22,{"$f":"VLOOKUP(F736,工作表9!$C$1:$E$8, 3,  FALSE)","v":"純物質"},null,{"$f":"VLOOKUP(F736,工作表9!$C$1:$D$8, 2, FALSE)","v":1810},0]
[null,null,null,null,null,22,{"$f":"VLOOKUP(F737,工作表9!$C$1:$E$8, 3,  FALSE)","v":"純物質"},null,{"$f":"VLOOKUP(F737,工作表9!$C$1:$D$8, 2, FALSE)","v":1810},0]
[null,null,null,null,null,22,{"$f":"VLOOKUP(F738,工作表9!$C$1:$E$8, 3,  FALSE)","v":"純物質"},null,{"$f":"VLOOKUP(F738,工作表9!$C$1:$D$8, 2, FALSE)","v":1810},0]
[null,null,null,null,null,22,{"$f":"VLOOKUP(F739,工作表9!$C$1:$E$8, 3,  FALSE)","v":"純物質"},null,{"$f":"VLOOKUP(F739,工作表9!$C$1:$D$8, 2, FALSE)","v":1810},0]
[null,null,null,null,null,22,{"$f":"VLOOKUP(F740,工作表9!$C$1:$E$8, 3,  FALSE)","v":"純物質"},null,{"$f":"VLOOKUP(F740,工作表9!$C$1:$D$8, 2, FALSE)","v":1810},0]
[null,null,null,null,null,22,{"$f":"VLOOKUP(F741,工作表9!$C$1:$E$8, 3,  FALSE)","v":"純物質"},null,{"$f":"VLOOKUP(F741,工作表9!$C$1:$D$8, 2, FALSE)","v":1810},0]
[null,null,null,null,null,22,{"$f":"VLOOKUP(F742,工作表9!$C$1:$E$8, 3,  FALSE)","v":"純物質"},null,{"$f":"VLOOKUP(F742,工作表9!$C$1:$D$8, 2, FALSE)","v":1810},0]
[null,null,null,null,null,22,{"$f":"VLOOKUP(F743,工作表9!$C$1:$E$8, 3,  FALSE)","v":"純物質"},null,{"$f":"VLOOKUP(F743,工作表9!$C$1:$D$8, 2, FALSE)","v":1810},0]
[null,null,null,null,null,22,{"$f":"VLOOKUP(F744,工作表9!$C$1:$E$8, 3,  FALSE)","v":"純物質"},null,{"$f":"VLOOKUP(F744,工作表9!$C$1:$D$8, 2, FALSE)","v":1810},0]
[null,null,null,null,null,22,{"$f":"VLOOKUP(F745,工作表9!$C$1:$E$8, 3,  FALSE)","v":"純物質"},null,{"$f":"VLOOKUP(F745,工作表9!$C$1:$D$8, 2, FALSE)","v":1810},0]
[null,null,null,null,null,22,{"$f":"VLOOKUP(F746,工作表9!$C$1:$E$8, 3,  FALSE)","v":"純物質"},null,{"$f":"VLOOKUP(F746,工作表9!$C$1:$D$8, 2, FALSE)","v":1810},0]
[null,null,null,null,null,22,{"$f":"VLOOKUP(F747,工作表9!$C$1:$E$8, 3,  FALSE)","v":"純物質"},null,{"$f":"VLOOKUP(F747,工作表9!$C$1:$D$8, 2, FALSE)","v":1810},0]
[null,null,null,null,null,22,{"$f":"VLOOKUP(F748,工作表9!$C$1:$E$8, 3,  FALSE)","v":"純物質"},null,{"$f":"VLOOKUP(F748,工作表9!$C$1:$D$8, 2, FALSE)","v":1810},0]
[null,null,null,null,null,22,{"$f":"VLOOKUP(F749,工作表9!$C$1:$E$8, 3,  FALSE)","v":"純物質"},null,{"$f":"VLOOKUP(F749,工作表9!$C$1:$D$8, 2, FALSE)","v":1810},0]
[null,null,null,null,null,22,{"$f":"VLOOKUP(F750,工作表9!$C$1:$E$8, 3,  FALSE)","v":"純物質"},null,{"$f":"VLOOKUP(F750,工作表9!$C$1:$D$8, 2, FALSE)","v":1810},0]
[null,null,null,null,null,22,{"$f":"VLOOKUP(F751,工作表9!$C$1:$E$8, 3,  FALSE)","v":"純物質"},null,{"$f":"VLOOKUP(F751,工作表9!$C$1:$D$8, 2, FALSE)","v":1810},0]
[null,null,null,null,null,22,{"$f":"VLOOKUP(F752,工作表9!$C$1:$E$8, 3,  FALSE)","v":"純物質"},null,{"$f":"VLOOKUP(F752,工作表9!$C$1:$D$8, 2, FALSE)","v":1810},0]
[null,null,null,null,null,22,{"$f":"VLOOKUP(F753,工作表9!$C$1:$E$8, 3,  FALSE)","v":"純物質"},null,{"$f":"VLOOKUP(F753,工作表9!$C$1:$D$8, 2, FALSE)","v":1810},0]
[null,null,null,null,null,22,{"$f":"VLOOKUP(F754,工作表9!$C$1:$E$8, 3,  FALSE)","v":"純物質"},null,{"$f":"VLOOKUP(F754,工作表9!$C$1:$D$8, 2, FALSE)","v":1810},0]
[null,null,null,null,null,22,{"$f":"VLOOKUP(F755,工作表9!$C$1:$E$8, 3,  FALSE)","v":"純物質"},null,{"$f":"VLOOKUP(F755,工作表9!$C$1:$D$8, 2, FALSE)","v":1810},0]
[null,null,null,null,null,22,{"$f":"VLOOKUP(F756,工作表9!$C$1:$E$8, 3,  FALSE)","v":"純物質"},null,{"$f":"VLOOKUP(F756,工作表9!$C$1:$D$8, 2, FALSE)","v":1810},0]
[null,null,null,null,null,22,{"$f":"VLOOKUP(F757,工作表9!$C$1:$E$8, 3,  FALSE)","v":"純物質"},null,{"$f":"VLOOKUP(F757,工作表9!$C$1:$D$8, 2, FALSE)","v":1810},0]
[null,null,null,null,null,22,{"$f":"VLOOKUP(F758,工作表9!$C$1:$E$8, 3,  FALSE)","v":"純物質"},null,{"$f":"VLOOKUP(F758,工作表9!$C$1:$D$8, 2, FALSE)","v":1810},0]
[null,null,null,null,null,22,{"$f":"VLOOKUP(F759,工作表9!$C$1:$E$8, 3,  FALSE)","v":"純物質"},null,{"$f":"VLOOKUP(F759,工作表9!$C$1:$D$8, 2, FALSE)","v":1810},0]
[null,null,null,null,null,22,{"$f":"VLOOKUP(F760,工作表9!$C$1:$E$8, 3,  FALSE)","v":"純物質"},null,{"$f":"VLOOKUP(F760,工作表9!$C$1:$D$8, 2, FALSE)","v":1810},0]
[null,null,null,null,null,22,{"$f":"VLOOKUP(F761,工作表9!$C$1:$E$8, 3,  FALSE)","v":"純物質"},null,{"$f":"VLOOKUP(F761,工作表9!$C$1:$D$8, 2, FALSE)","v":1810},0]
[null,null,null,null,null,22,{"$f":"VLOOKUP(F762,工作表9!$C$1:$E$8, 3,  FALSE)","v":"純物質"},null,{"$f":"VLOOKUP(F762,工作表9!$C$1:$D$8, 2, FALSE)","v":1810},0]
[null,null,null,null,null,22,{"$f":"VLOOKUP(F763,工作表9!$C$1:$E$8, 3,  FALSE)","v":"純物質"},null,{"$f":"VLOOKUP(F763,工作表9!$C$1:$D$8, 2, FALSE)","v":1810},0]
[null,null,null,null,null,22,{"$f":"VLOOKUP(F764,工作表9!$C$1:$E$8, 3,  FALSE)","v":"純物質"},null,{"$f":"VLOOKUP(F764,工作表9!$C$1:$D$8, 2, FALSE)","v":1810},0]
[null,null,null,null,null,22,{"$f":"VLOOKUP(F765,工作表9!$C$1:$E$8, 3,  FALSE)","v":"純物質"},null,{"$f":"VLOOKUP(F765,工作表9!$C$1:$D$8, 2, FALSE)","v":1810},0]
[null,null,null,null,null,22,{"$f":"VLOOKUP(F766,工作表9!$C$1:$E$8, 3,  FALSE)","v":"純物質"},null,{"$f":"VLOOKUP(F766,工作表9!$C$1:$D$8, 2, FALSE)","v":1810},0]
[null,null,null,null,null,22,{"$f":"VLOOKUP(F767,工作表9!$C$1:$E$8, 3,  FALSE)","v":"純物質"},null,{"$f":"VLOOKUP(F767,工作表9!$C$1:$D$8, 2, FALSE)","v":1810},0]
[null,null,null,null,null,22,{"$f":"VLOOKUP(F768,工作表9!$C$1:$E$8, 3,  FALSE)","v":"純物質"},null,{"$f":"VLOOKUP(F768,工作表9!$C$1:$D$8, 2, FALSE)","v":1810},0]
[null,null,null,null,null,22,{"$f":"VLOOKUP(F769,工作表9!$C$1:$E$8, 3,  FALSE)","v":"純物質"},null,{"$f":"VLOOKUP(F769,工作表9!$C$1:$D$8, 2, FALSE)","v":1810},0]
[null,null,null,null,null,22,{"$f":"VLOOKUP(F770,工作表9!$C$1:$E$8, 3,  FALSE)","v":"純物質"},null,{"$f":"VLOOKUP(F770,工作表9!$C$1:$D$8, 2, FALSE)","v":1810},0]
[null,null,null,null,null,22,{"$f":"VLOOKUP(F771,工作表9!$C$1:$E$8, 3,  FALSE)","v":"純物質"},null,{"$f":"VLOOKUP(F771,工作表9!$C$1:$D$8, 2, FALSE)","v":1810},0]
[null,null,null,null,null,22,{"$f":"VLOOKUP(F772,工作表9!$C$1:$E$8, 3,  FALSE)","v":"純物質"},null,{"$f":"VLOOKUP(F772,工作表9!$C$1:$D$8, 2, FALSE)","v":1810},0]
[null,null,null,null,null,22,{"$f":"VLOOKUP(F773,工作表9!$C$1:$E$8, 3,  FALSE)","v":"純物質"},null,{"$f":"VLOOKUP(F773,工作表9!$C$1:$D$8, 2, FALSE)","v":1810},0]
[null,null,null,null,null,22,{"$f":"VLOOKUP(F774,工作表9!$C$1:$E$8, 3,  FALSE)","v":"純物質"},null,{"$f":"VLOOKUP(F774,工作表9!$C$1:$D$8, 2, FALSE)","v":1810},{"$f":"H774*I774","v":0}]
[null,null,null,null,null,22,{"$f":"VLOOKUP(F775,工作表9!$C$1:$E$8, 3,  FALSE)","v":"純物質"},null,{"$f":"VLOOKUP(F775,工作表9!$C$1:$D$8, 2, FALSE)","v":1810},0]
[null,null,null,null,null,22,{"$f":"VLOOKUP(F776,工作表9!$C$1:$E$8, 3,  FALSE)","v":"純物質"},null,{"$f":"VLOOKUP(F776,工作表9!$C$1:$D$8, 2, FALSE)","v":1810},0]
[null,null,null,null,null,22,{"$f":"VLOOKUP(F777,工作表9!$C$1:$E$8, 3,  FALSE)","v":"純物質"},null,{"$f":"VLOOKUP(F777,工作表9!$C$1:$D$8, 2, FALSE)","v":1810},0]
[null,null,null,null,null,22,{"$f":"VLOOKUP(F778,工作表9!$C$1:$E$8, 3,  FALSE)","v":"純物質"},null,{"$f":"VLOOKUP(F778,工作表9!$C$1:$D$8, 2, FALSE)","v":1810},0]
[null,null,null,null,null,22,{"$f":"VLOOKUP(F779,工作表9!$C$1:$E$8, 3,  FALSE)","v":"純物質"},null,{"$f":"VLOOKUP(F779,工作表9!$C$1:$D$8, 2, FALSE)","v":1810},0]
[null,null,null,null,null,22,{"$f":"VLOOKUP(F780,工作表9!$C$1:$E$8, 3,  FALSE)","v":"純物質"},null,{"$f":"VLOOKUP(F780,工作表9!$C$1:$D$8, 2, FALSE)","v":1810},0]
[null,null,null,null,null,22,{"$f":"VLOOKUP(F781,工作表9!$C$1:$E$8, 3,  FALSE)","v":"純物質"},null,{"$f":"VLOOKUP(F781,工作表9!$C$1:$D$8, 2, FALSE)","v":1810},0]
[null,null,null,null,null,22,{"$f":"VLOOKUP(F782,工作表9!$C$1:$E$8, 3,  FALSE)","v":"純物質"},null,{"$f":"VLOOKUP(F782,工作表9!$C$1:$D$8, 2, FALSE)","v":1810},0]
[null,null,null,null,null,22,{"$f":"VLOOKUP(F783,工作表9!$C$1:$E$8, 3,  FALSE)","v":"純物質"},null,{"$f":"VLOOKUP(F783,工作表9!$C$1:$D$8, 2, FALSE)","v":1810},0]
[null,null,null,null,null,22,{"$f":"VLOOKUP(F784,工作表9!$C$1:$E$8, 3,  FALSE)","v":"純物質"},null,{"$f":"VLOOKUP(F784,工作表9!$C$1:$D$8, 2, FALSE)","v":1810},0]
[null,null,null,null,null,22,{"$f":"VLOOKUP(F785,工作表9!$C$1:$E$8, 3,  FALSE)","v":"純物質"},null,{"$f":"VLOOKUP(F785,工作表9!$C$1:$D$8, 2, FALSE)","v":1810},0]
[null,null,null,null,null,22,{"$f":"VLOOKUP(F786,工作表9!$C$1:$E$8, 3,  FALSE)","v":"純物質"},null,{"$f":"VLOOKUP(F786,工作表9!$C$1:$D$8, 2, FALSE)","v":1810},0]
[null,null,null,null,null,22,{"$f":"VLOOKUP(F787,工作表9!$C$1:$E$8, 3,  FALSE)","v":"純物質"},null,{"$f":"VLOOKUP(F787,工作表9!$C$1:$D$8, 2, FALSE)","v":1810},0]
[null,null,null,null,null,22,{"$f":"VLOOKUP(F788,工作表9!$C$1:$E$8, 3,  FALSE)","v":"純物質"},null,{"$f":"VLOOKUP(F788,工作表9!$C$1:$D$8, 2, FALSE)","v":1810},0]
[null,null,null,null,null,22,{"$f":"VLOOKUP(F789,工作表9!$C$1:$E$8, 3,  FALSE)","v":"純物質"},null,{"$f":"VLOOKUP(F789,工作表9!$C$1:$D$8, 2, FALSE)","v":1810},0]
[null,null,null,null,null,22,{"$f":"VLOOKUP(F790,工作表9!$C$1:$E$8, 3,  FALSE)","v":"純物質"},null,{"$f":"VLOOKUP(F790,工作表9!$C$1:$D$8, 2, FALSE)","v":1810},0]
[null,null,null,null,null,22,{"$f":"VLOOKUP(F791,工作表9!$C$1:$E$8, 3,  FALSE)","v":"純物質"},null,{"$f":"VLOOKUP(F791,工作表9!$C$1:$D$8, 2, FALSE)","v":1810},0]
[null,null,null,null,null,22,{"$f":"VLOOKUP(F792,工作表9!$C$1:$E$8, 3,  FALSE)","v":"純物質"},null,{"$f":"VLOOKUP(F792,工作表9!$C$1:$D$8, 2, FALSE)","v":1810},0]
[null,null,null,null,null,22,{"$f":"VLOOKUP(F793,工作表9!$C$1:$E$8, 3,  FALSE)","v":"純物質"},null,{"$f":"VLOOKUP(F793,工作表9!$C$1:$D$8, 2, FALSE)","v":1810},0]
[null,null,null,null,null,22,{"$f":"VLOOKUP(F794,工作表9!$C$1:$E$8, 3,  FALSE)","v":"純物質"},null,{"$f":"VLOOKUP(F794,工作表9!$C$1:$D$8, 2, FALSE)","v":1810},0]
[null,null,null,null,null,22,{"$f":"VLOOKUP(F795,工作表9!$C$1:$E$8, 3,  FALSE)","v":"純物質"},null,{"$f":"VLOOKUP(F795,工作表9!$C$1:$D$8, 2, FALSE)","v":1810},0]
[null,null,null,null,null,22,{"$f":"VLOOKUP(F796,工作表9!$C$1:$E$8, 3,  FALSE)","v":"純物質"},null,{"$f":"VLOOKUP(F796,工作表9!$C$1:$D$8, 2, FALSE)","v":1810},0]
[null,null,null,null,null,22,{"$f":"VLOOKUP(F797,工作表9!$C$1:$E$8, 3,  FALSE)","v":"純物質"},null,{"$f":"VLOOKUP(F797,工作表9!$C$1:$D$8, 2, FALSE)","v":1810},0]
[null,null,null,null,null,22,{"$f":"VLOOKUP(F798,工作表9!$C$1:$E$8, 3,  FALSE)","v":"純物質"},null,{"$f":"VLOOKUP(F798,工作表9!$C$1:$D$8, 2, FALSE)","v":1810},0]
[null,null,null,null,null,22,{"$f":"VLOOKUP(F799,工作表9!$C$1:$E$8, 3,  FALSE)","v":"純物質"},null,{"$f":"VLOOKUP(F799,工作表9!$C$1:$D$8, 2, FALSE)","v":1810},0]
[null,null,null,null,null,22,{"$f":"VLOOKUP(F800,工作表9!$C$1:$E$8, 3,  FALSE)","v":"純物質"},null,{"$f":"VLOOKUP(F800,工作表9!$C$1:$D$8, 2, FALSE)","v":1810},0]
[null,null,null,null,null,22,{"$f":"VLOOKUP(F801,工作表9!$C$1:$E$8, 3,  FALSE)","v":"純物質"},null,{"$f":"VLOOKUP(F801,工作表9!$C$1:$D$8, 2, FALSE)","v":1810},0]
[null,null,null,null,null,22,{"$f":"VLOOKUP(F802,工作表9!$C$1:$E$8, 3,  FALSE)","v":"純物質"},null,{"$f":"VLOOKUP(F802,工作表9!$C$1:$D$8, 2, FALSE)","v":1810},0]
[null,null,null,null,null,22,{"$f":"VLOOKUP(F803,工作表9!$C$1:$E$8, 3,  FALSE)","v":"純物質"},null,{"$f":"VLOOKUP(F803,工作表9!$C$1:$D$8, 2, FALSE)","v":1810},0]
[null,null,null,null,null,22,{"$f":"VLOOKUP(F804,工作表9!$C$1:$E$8, 3,  FALSE)","v":"純物質"},null,{"$f":"VLOOKUP(F804,工作表9!$C$1:$D$8, 2, FALSE)","v":1810},0]
[null,null,null,null,null,22,{"$f":"VLOOKUP(F805,工作表9!$C$1:$E$8, 3,  FALSE)","v":"純物質"},null,{"$f":"VLOOKUP(F805,工作表9!$C$1:$D$8, 2, FALSE)","v":1810},0]
[null,null,null,null,null,22,{"$f":"VLOOKUP(F806,工作表9!$C$1:$E$8, 3,  FALSE)","v":"純物質"},null,{"$f":"VLOOKUP(F806,工作表9!$C$1:$D$8, 2, FALSE)","v":1810},0]
[null,null,null,null,null,22,{"$f":"VLOOKUP(F807,工作表9!$C$1:$E$8, 3,  FALSE)","v":"純物質"},null,{"$f":"VLOOKUP(F807,工作表9!$C$1:$D$8, 2, FALSE)","v":1810},0]
[null,null,null,null,null,22,{"$f":"VLOOKUP(F808,工作表9!$C$1:$E$8, 3,  FALSE)","v":"純物質"},null,{"$f":"VLOOKUP(F808,工作表9!$C$1:$D$8, 2, FALSE)","v":1810},0]
[null,null,null,null,null,22,{"$f":"VLOOKUP(F809,工作表9!$C$1:$E$8, 3,  FALSE)","v":"純物質"},null,{"$f":"VLOOKUP(F809,工作表9!$C$1:$D$8, 2, FALSE)","v":1810},0]
[null,null,null,null,null,22,{"$f":"VLOOKUP(F810,工作表9!$C$1:$E$8, 3,  FALSE)","v":"純物質"},null,{"$f":"VLOOKUP(F810,工作表9!$C$1:$D$8, 2, FALSE)","v":1810},0]
[null,null,null,null,null,22,{"$f":"VLOOKUP(F811,工作表9!$C$1:$E$8, 3,  FALSE)","v":"純物質"},null,{"$f":"VLOOKUP(F811,工作表9!$C$1:$D$8, 2, FALSE)","v":1810},0]
[null,null,null,null,null,22,{"$f":"VLOOKUP(F812,工作表9!$C$1:$E$8, 3,  FALSE)","v":"純物質"},null,{"$f":"VLOOKUP(F812,工作表9!$C$1:$D$8, 2, FALSE)","v":1810},0]
[null,null,null,null,null,22,{"$f":"VLOOKUP(F813,工作表9!$C$1:$E$8, 3,  FALSE)","v":"純物質"},null,{"$f":"VLOOKUP(F813,工作表9!$C$1:$D$8, 2, FALSE)","v":1810},0]
[null,null,null,null,null,22,{"$f":"VLOOKUP(F814,工作表9!$C$1:$E$8, 3,  FALSE)","v":"純物質"},null,{"$f":"VLOOKUP(F814,工作表9!$C$1:$D$8, 2, FALSE)","v":1810},0]
[null,null,null,null,null,22,{"$f":"VLOOKUP(F815,工作表9!$C$1:$E$8, 3,  FALSE)","v":"純物質"},null,{"$f":"VLOOKUP(F815,工作表9!$C$1:$D$8, 2, FALSE)","v":1810},0]
[null,null,null,null,null,22,{"$f":"VLOOKUP(F816,工作表9!$C$1:$E$8, 3,  FALSE)","v":"純物質"},null,{"$f":"VLOOKUP(F816,工作表9!$C$1:$D$8, 2, FALSE)","v":1810},0]
[null,null,null,null,null,22,{"$f":"VLOOKUP(F817,工作表9!$C$1:$E$8, 3,  FALSE)","v":"純物質"},null,{"$f":"VLOOKUP(F817,工作表9!$C$1:$D$8, 2, FALSE)","v":1810},0]
[null,null,null,null,null,22,{"$f":"VLOOKUP(F818,工作表9!$C$1:$E$8, 3,  FALSE)","v":"純物質"},null,{"$f":"VLOOKUP(F818,工作表9!$C$1:$D$8, 2, FALSE)","v":1810},0]
[null,null,null,null,null,22,{"$f":"VLOOKUP(F819,工作表9!$C$1:$E$8, 3,  FALSE)","v":"純物質"},null,{"$f":"VLOOKUP(F819,工作表9!$C$1:$D$8, 2, FALSE)","v":1810},0]
[null,null,null,null,null,22,{"$f":"VLOOKUP(F820,工作表9!$C$1:$E$8, 3,  FALSE)","v":"純物質"},null,{"$f":"VLOOKUP(F820,工作表9!$C$1:$D$8, 2, FALSE)","v":1810},0]
[null,null,null,null,null,22,{"$f":"VLOOKUP(F821,工作表9!$C$1:$E$8, 3,  FALSE)","v":"純物質"},null,{"$f":"VLOOKUP(F821,工作表9!$C$1:$D$8, 2, FALSE)","v":1810},0]
[null,null,null,null,null,22,{"$f":"VLOOKUP(F822,工作表9!$C$1:$E$8, 3,  FALSE)","v":"純物質"},null,{"$f":"VLOOKUP(F822,工作表9!$C$1:$D$8, 2, FALSE)","v":1810},0]
[null,null,null,null,null,22,{"$f":"VLOOKUP(F823,工作表9!$C$1:$E$8, 3,  FALSE)","v":"純物質"},null,{"$f":"VLOOKUP(F823,工作表9!$C$1:$D$8, 2, FALSE)","v":1810},0]
[null,null,null,null,null,22,{"$f":"VLOOKUP(F824,工作表9!$C$1:$E$8, 3,  FALSE)","v":"純物質"},null,{"$f":"VLOOKUP(F824,工作表9!$C$1:$D$8, 2, FALSE)","v":1810},0]
[null,null,null,null,null,22,{"$f":"VLOOKUP(F825,工作表9!$C$1:$E$8, 3,  FALSE)","v":"純物質"},null,{"$f":"VLOOKUP(F825,工作表9!$C$1:$D$8, 2, FALSE)","v":1810},0]
[null,null,null,null,null,22,{"$f":"VLOOKUP(F826,工作表9!$C$1:$E$8, 3,  FALSE)","v":"純物質"},null,{"$f":"VLOOKUP(F826,工作表9!$C$1:$D$8, 2, FALSE)","v":1810},0]
[null,null,null,null,null,22,{"$f":"VLOOKUP(F827,工作表9!$C$1:$E$8, 3,  FALSE)","v":"純物質"},null,{"$f":"VLOOKUP(F827,工作表9!$C$1:$D$8, 2, FALSE)","v":1810},0]
[null,null,null,null,null,22,{"$f":"VLOOKUP(F828,工作表9!$C$1:$E$8, 3,  FALSE)","v":"純物質"},null,{"$f":"VLOOKUP(F828,工作表9!$C$1:$D$8, 2, FALSE)","v":1810},0]
[null,null,null,null,null,22,{"$f":"VLOOKUP(F829,工作表9!$C$1:$E$8, 3,  FALSE)","v":"純物質"},null,{"$f":"VLOOKUP(F829,工作表9!$C$1:$D$8, 2, FALSE)","v":1810},0]
[null,null,null,null,null,22,{"$f":"VLOOKUP(F830,工作表9!$C$1:$E$8, 3,  FALSE)","v":"純物質"},null,{"$f":"VLOOKUP(F830,工作表9!$C$1:$D$8, 2, FALSE)","v":1810},0]
[null,null,null,null,null,22,{"$f":"VLOOKUP(F831,工作表9!$C$1:$E$8, 3,  FALSE)","v":"純物質"},null,{"$f":"VLOOKUP(F831,工作表9!$C$1:$D$8, 2, FALSE)","v":1810},0]
[null,null,null,null,null,22,{"$f":"VLOOKUP(F832,工作表9!$C$1:$E$8, 3,  FALSE)","v":"純物質"},null,{"$f":"VLOOKUP(F832,工作表9!$C$1:$D$8, 2, FALSE)","v":1810},0]
[null,null,null,null,null,22,{"$f":"VLOOKUP(F833,工作表9!$C$1:$E$8, 3,  FALSE)","v":"純物質"},null,{"$f":"VLOOKUP(F833,工作表9!$C$1:$D$8, 2, FALSE)","v":1810},0]
[null,null,null,null,null,22,{"$f":"VLOOKUP(F834,工作表9!$C$1:$E$8, 3,  FALSE)","v":"純物質"},null,{"$f":"VLOOKUP(F834,工作表9!$C$1:$D$8, 2, FALSE)","v":1810},0]
[null,null,null,null,null,22,{"$f":"VLOOKUP(F835,工作表9!$C$1:$E$8, 3,  FALSE)","v":"純物質"},null,{"$f":"VLOOKUP(F835,工作表9!$C$1:$D$8, 2, FALSE)","v":1810},0]
[null,null,null,null,null,22,{"$f":"VLOOKUP(F836,工作表9!$C$1:$E$8, 3,  FALSE)","v":"純物質"},null,{"$f":"VLOOKUP(F836,工作表9!$C$1:$D$8, 2, FALSE)","v":1810},0]
[null,null,null,null,null,22,{"$f":"VLOOKUP(F837,工作表9!$C$1:$E$8, 3,  FALSE)","v":"純物質"},null,{"$f":"VLOOKUP(F837,工作表9!$C$1:$D$8, 2, FALSE)","v":1810},0]
[null,null,null,null,null,22,{"$f":"VLOOKUP(F838,工作表9!$C$1:$E$8, 3,  FALSE)","v":"純物質"},null,{"$f":"VLOOKUP(F838,工作表9!$C$1:$D$8, 2, FALSE)","v":1810},{"$f":"H838*I838","v":0}]
[null,null,null,null,null,22,{"$f":"VLOOKUP(F839,工作表9!$C$1:$E$8, 3,  FALSE)","v":"純物質"},null,{"$f":"VLOOKUP(F839,工作表9!$C$1:$D$8, 2, FALSE)","v":1810},0]
[null,null,null,null,null,22,{"$f":"VLOOKUP(F840,工作表9!$C$1:$E$8, 3,  FALSE)","v":"純物質"},null,{"$f":"VLOOKUP(F840,工作表9!$C$1:$D$8, 2, FALSE)","v":1810},0]
[null,null,null,null,null,22,{"$f":"VLOOKUP(F841,工作表9!$C$1:$E$8, 3,  FALSE)","v":"純物質"},null,{"$f":"VLOOKUP(F841,工作表9!$C$1:$D$8, 2, FALSE)","v":1810},0]
[null,null,null,null,null,22,{"$f":"VLOOKUP(F842,工作表9!$C$1:$E$8, 3,  FALSE)","v":"純物質"},null,{"$f":"VLOOKUP(F842,工作表9!$C$1:$D$8, 2, FALSE)","v":1810},0]
[null,null,null,null,null,22,{"$f":"VLOOKUP(F843,工作表9!$C$1:$E$8, 3,  FALSE)","v":"純物質"},null,{"$f":"VLOOKUP(F843,工作表9!$C$1:$D$8, 2, FALSE)","v":1810},0]
[null,null,null,null,null,22,{"$f":"VLOOKUP(F844,工作表9!$C$1:$E$8, 3,  FALSE)","v":"純物質"},null,{"$f":"VLOOKUP(F844,工作表9!$C$1:$D$8, 2, FALSE)","v":1810},0]
[null,null,null,null,null,22,{"$f":"VLOOKUP(F845,工作表9!$C$1:$E$8, 3,  FALSE)","v":"純物質"},null,{"$f":"VLOOKUP(F845,工作表9!$C$1:$D$8, 2, FALSE)","v":1810},0]
[null,null,null,null,null,22,{"$f":"VLOOKUP(F846,工作表9!$C$1:$E$8, 3,  FALSE)","v":"純物質"},null,{"$f":"VLOOKUP(F846,工作表9!$C$1:$D$8, 2, FALSE)","v":1810},0]
[null,null,null,null,null,22,{"$f":"VLOOKUP(F847,工作表9!$C$1:$E$8, 3,  FALSE)","v":"純物質"},null,{"$f":"VLOOKUP(F847,工作表9!$C$1:$D$8, 2, FALSE)","v":1810},0]
[null,null,null,null,null,22,{"$f":"VLOOKUP(F848,工作表9!$C$1:$E$8, 3,  FALSE)","v":"純物質"},null,{"$f":"VLOOKUP(F848,工作表9!$C$1:$D$8, 2, FALSE)","v":1810},0]
[null,null,null,null,null,22,{"$f":"VLOOKUP(F849,工作表9!$C$1:$E$8, 3,  FALSE)","v":"純物質"},null,{"$f":"VLOOKUP(F849,工作表9!$C$1:$D$8, 2, FALSE)","v":1810},0]
[null,null,null,null,null,22,{"$f":"VLOOKUP(F850,工作表9!$C$1:$E$8, 3,  FALSE)","v":"純物質"},null,{"$f":"VLOOKUP(F850,工作表9!$C$1:$D$8, 2, FALSE)","v":1810},0]
[null,null,null,null,null,22,{"$f":"VLOOKUP(F851,工作表9!$C$1:$E$8, 3,  FALSE)","v":"純物質"},null,{"$f":"VLOOKUP(F851,工作表9!$C$1:$D$8, 2, FALSE)","v":1810},0]
[null,null,null,null,null,22,{"$f":"VLOOKUP(F852,工作表9!$C$1:$E$8, 3,  FALSE)","v":"純物質"},null,{"$f":"VLOOKUP(F852,工作表9!$C$1:$D$8, 2, FALSE)","v":1810},0]
[null,null,null,null,null,22,{"$f":"VLOOKUP(F853,工作表9!$C$1:$E$8, 3,  FALSE)","v":"純物質"},null,{"$f":"VLOOKUP(F853,工作表9!$C$1:$D$8, 2, FALSE)","v":1810},0]
[null,null,null,null,null,22,{"$f":"VLOOKUP(F854,工作表9!$C$1:$E$8, 3,  FALSE)","v":"純物質"},null,{"$f":"VLOOKUP(F854,工作表9!$C$1:$D$8, 2, FALSE)","v":1810},0]
[null,null,null,null,null,22,{"$f":"VLOOKUP(F855,工作表9!$C$1:$E$8, 3,  FALSE)","v":"純物質"},null,{"$f":"VLOOKUP(F855,工作表9!$C$1:$D$8, 2, FALSE)","v":1810},0]
[null,null,null,null,null,22,{"$f":"VLOOKUP(F856,工作表9!$C$1:$E$8, 3,  FALSE)","v":"純物質"},null,{"$f":"VLOOKUP(F856,工作表9!$C$1:$D$8, 2, FALSE)","v":1810},0]
[null,null,null,null,null,22,{"$f":"VLOOKUP(F857,工作表9!$C$1:$E$8, 3,  FALSE)","v":"純物質"},null,{"$f":"VLOOKUP(F857,工作表9!$C$1:$D$8, 2, FALSE)","v":1810},0]
[null,null,null,null,null,22,{"$f":"VLOOKUP(F858,工作表9!$C$1:$E$8, 3,  FALSE)","v":"純物質"},null,{"$f":"VLOOKUP(F858,工作表9!$C$1:$D$8, 2, FALSE)","v":1810},0]
[null,null,null,null,null,22,{"$f":"VLOOKUP(F859,工作表9!$C$1:$E$8, 3,  FALSE)","v":"純物質"},null,{"$f":"VLOOKUP(F859,工作表9!$C$1:$D$8, 2, FALSE)","v":1810},0]
[null,null,null,null,null,22,{"$f":"VLOOKUP(F860,工作表9!$C$1:$E$8, 3,  FALSE)","v":"純物質"},null,{"$f":"VLOOKUP(F860,工作表9!$C$1:$D$8, 2, FALSE)","v":1810},0]
[null,null,null,null,null,22,{"$f":"VLOOKUP(F861,工作表9!$C$1:$E$8, 3,  FALSE)","v":"純物質"},null,{"$f":"VLOOKUP(F861,工作表9!$C$1:$D$8, 2, FALSE)","v":1810},0]
[null,null,null,null,null,22,{"$f":"VLOOKUP(F862,工作表9!$C$1:$E$8, 3,  FALSE)","v":"純物質"},null,{"$f":"VLOOKUP(F862,工作表9!$C$1:$D$8, 2, FALSE)","v":1810},0]
[null,null,null,null,null,22,{"$f":"VLOOKUP(F863,工作表9!$C$1:$E$8, 3,  FALSE)","v":"純物質"},null,{"$f":"VLOOKUP(F863,工作表9!$C$1:$D$8, 2, FALSE)","v":1810},0]
[null,null,null,null,null,22,{"$f":"VLOOKUP(F864,工作表9!$C$1:$E$8, 3,  FALSE)","v":"純物質"},null,{"$f":"VLOOKUP(F864,工作表9!$C$1:$D$8, 2, FALSE)","v":1810},0]
[null,null,null,null,null,22,{"$f":"VLOOKUP(F865,工作表9!$C$1:$E$8, 3,  FALSE)","v":"純物質"},null,{"$f":"VLOOKUP(F865,工作表9!$C$1:$D$8, 2, FALSE)","v":1810},0]
[null,null,null,null,null,22,{"$f":"VLOOKUP(F866,工作表9!$C$1:$E$8, 3,  FALSE)","v":"純物質"},null,{"$f":"VLOOKUP(F866,工作表9!$C$1:$D$8, 2, FALSE)","v":1810},0]
[null,null,null,null,null,22,{"$f":"VLOOKUP(F867,工作表9!$C$1:$E$8, 3,  FALSE)","v":"純物質"},null,{"$f":"VLOOKUP(F867,工作表9!$C$1:$D$8, 2, FALSE)","v":1810},0]
[null,null,null,null,null,22,{"$f":"VLOOKUP(F868,工作表9!$C$1:$E$8, 3,  FALSE)","v":"純物質"},null,{"$f":"VLOOKUP(F868,工作表9!$C$1:$D$8, 2, FALSE)","v":1810},0]
[null,null,null,null,null,22,{"$f":"VLOOKUP(F869,工作表9!$C$1:$E$8, 3,  FALSE)","v":"純物質"},null,{"$f":"VLOOKUP(F869,工作表9!$C$1:$D$8, 2, FALSE)","v":1810},0]
[null,null,null,null,null,22,{"$f":"VLOOKUP(F870,工作表9!$C$1:$E$8, 3,  FALSE)","v":"純物質"},null,{"$f":"VLOOKUP(F870,工作表9!$C$1:$D$8, 2, FALSE)","v":1810},0]
[null,null,null,null,null,22,{"$f":"VLOOKUP(F871,工作表9!$C$1:$E$8, 3,  FALSE)","v":"純物質"},null,{"$f":"VLOOKUP(F871,工作表9!$C$1:$D$8, 2, FALSE)","v":1810},0]
[null,null,null,null,null,22,{"$f":"VLOOKUP(F872,工作表9!$C$1:$E$8, 3,  FALSE)","v":"純物質"},null,{"$f":"VLOOKUP(F872,工作表9!$C$1:$D$8, 2, FALSE)","v":1810},0]
[null,null,null,null,null,22,{"$f":"VLOOKUP(F873,工作表9!$C$1:$E$8, 3,  FALSE)","v":"純物質"},null,{"$f":"VLOOKUP(F873,工作表9!$C$1:$D$8, 2, FALSE)","v":1810},0]
[null,null,null,null,null,22,{"$f":"VLOOKUP(F874,工作表9!$C$1:$E$8, 3,  FALSE)","v":"純物質"},null,{"$f":"VLOOKUP(F874,工作表9!$C$1:$D$8, 2, FALSE)","v":1810},0]
[null,null,null,null,null,22,{"$f":"VLOOKUP(F875,工作表9!$C$1:$E$8, 3,  FALSE)","v":"純物質"},null,{"$f":"VLOOKUP(F875,工作表9!$C$1:$D$8, 2, FALSE)","v":1810},0]
[null,null,null,null,null,22,{"$f":"VLOOKUP(F876,工作表9!$C$1:$E$8, 3,  FALSE)","v":"純物質"},null,{"$f":"VLOOKUP(F876,工作表9!$C$1:$D$8, 2, FALSE)","v":1810},0]
[null,null,null,null,null,22,{"$f":"VLOOKUP(F877,工作表9!$C$1:$E$8, 3,  FALSE)","v":"純物質"},null,{"$f":"VLOOKUP(F877,工作表9!$C$1:$D$8, 2, FALSE)","v":1810},0]
[null,null,null,null,null,22,{"$f":"VLOOKUP(F878,工作表9!$C$1:$E$8, 3,  FALSE)","v":"純物質"},null,{"$f":"VLOOKUP(F878,工作表9!$C$1:$D$8, 2, FALSE)","v":1810},0]
[null,null,null,null,null,22,{"$f":"VLOOKUP(F879,工作表9!$C$1:$E$8, 3,  FALSE)","v":"純物質"},null,{"$f":"VLOOKUP(F879,工作表9!$C$1:$D$8, 2, FALSE)","v":1810},0]
[null,null,null,null,null,22,{"$f":"VLOOKUP(F880,工作表9!$C$1:$E$8, 3,  FALSE)","v":"純物質"},null,{"$f":"VLOOKUP(F880,工作表9!$C$1:$D$8, 2, FALSE)","v":1810},0]
[null,null,null,null,null,22,{"$f":"VLOOKUP(F881,工作表9!$C$1:$E$8, 3,  FALSE)","v":"純物質"},null,{"$f":"VLOOKUP(F881,工作表9!$C$1:$D$8, 2, FALSE)","v":1810},0]
[null,null,null,null,null,22,{"$f":"VLOOKUP(F882,工作表9!$C$1:$E$8, 3,  FALSE)","v":"純物質"},null,{"$f":"VLOOKUP(F882,工作表9!$C$1:$D$8, 2, FALSE)","v":1810},0]
[null,null,null,null,null,22,{"$f":"VLOOKUP(F883,工作表9!$C$1:$E$8, 3,  FALSE)","v":"純物質"},null,{"$f":"VLOOKUP(F883,工作表9!$C$1:$D$8, 2, FALSE)","v":1810},0]
[null,null,null,null,null,22,{"$f":"VLOOKUP(F884,工作表9!$C$1:$E$8, 3,  FALSE)","v":"純物質"},null,{"$f":"VLOOKUP(F884,工作表9!$C$1:$D$8, 2, FALSE)","v":1810},0]
[null,null,null,null,null,22,{"$f":"VLOOKUP(F885,工作表9!$C$1:$E$8, 3,  FALSE)","v":"純物質"},null,{"$f":"VLOOKUP(F885,工作表9!$C$1:$D$8, 2, FALSE)","v":1810},0]
[null,null,null,null,null,22,{"$f":"VLOOKUP(F886,工作表9!$C$1:$E$8, 3,  FALSE)","v":"純物質"},null,{"$f":"VLOOKUP(F886,工作表9!$C$1:$D$8, 2, FALSE)","v":1810},0]
[null,null,null,null,null,22,{"$f":"VLOOKUP(F887,工作表9!$C$1:$E$8, 3,  FALSE)","v":"純物質"},null,{"$f":"VLOOKUP(F887,工作表9!$C$1:$D$8, 2, FALSE)","v":1810},0]
[null,null,null,null,null,22,{"$f":"VLOOKUP(F888,工作表9!$C$1:$E$8, 3,  FALSE)","v":"純物質"},null,{"$f":"VLOOKUP(F888,工作表9!$C$1:$D$8, 2, FALSE)","v":1810},0]
[null,null,null,null,null,22,{"$f":"VLOOKUP(F889,工作表9!$C$1:$E$8, 3,  FALSE)","v":"純物質"},null,{"$f":"VLOOKUP(F889,工作表9!$C$1:$D$8, 2, FALSE)","v":1810},0]
[null,null,null,null,null,22,{"$f":"VLOOKUP(F890,工作表9!$C$1:$E$8, 3,  FALSE)","v":"純物質"},null,{"$f":"VLOOKUP(F890,工作表9!$C$1:$D$8, 2, FALSE)","v":1810},0]
[null,null,null,null,null,22,{"$f":"VLOOKUP(F891,工作表9!$C$1:$E$8, 3,  FALSE)","v":"純物質"},null,{"$f":"VLOOKUP(F891,工作表9!$C$1:$D$8, 2, FALSE)","v":1810},0]
[null,null,null,null,null,22,{"$f":"VLOOKUP(F892,工作表9!$C$1:$E$8, 3,  FALSE)","v":"純物質"},null,{"$f":"VLOOKUP(F892,工作表9!$C$1:$D$8, 2, FALSE)","v":1810},0]
[null,null,null,null,null,22,{"$f":"VLOOKUP(F893,工作表9!$C$1:$E$8, 3,  FALSE)","v":"純物質"},null,{"$f":"VLOOKUP(F893,工作表9!$C$1:$D$8, 2, FALSE)","v":1810},0]
[null,null,null,null,null,22,{"$f":"VLOOKUP(F894,工作表9!$C$1:$E$8, 3,  FALSE)","v":"純物質"},null,{"$f":"VLOOKUP(F894,工作表9!$C$1:$D$8, 2, FALSE)","v":1810},0]
[null,null,null,null,null,22,{"$f":"VLOOKUP(F895,工作表9!$C$1:$E$8, 3,  FALSE)","v":"純物質"},null,{"$f":"VLOOKUP(F895,工作表9!$C$1:$D$8, 2, FALSE)","v":1810},0]
[null,null,null,null,null,22,{"$f":"VLOOKUP(F896,工作表9!$C$1:$E$8, 3,  FALSE)","v":"純物質"},null,{"$f":"VLOOKUP(F896,工作表9!$C$1:$D$8, 2, FALSE)","v":1810},0]
[null,null,null,null,null,22,{"$f":"VLOOKUP(F897,工作表9!$C$1:$E$8, 3,  FALSE)","v":"純物質"},null,{"$f":"VLOOKUP(F897,工作表9!$C$1:$D$8, 2, FALSE)","v":1810},0]
[null,null,null,null,null,22,{"$f":"VLOOKUP(F898,工作表9!$C$1:$E$8, 3,  FALSE)","v":"純物質"},null,{"$f":"VLOOKUP(F898,工作表9!$C$1:$D$8, 2, FALSE)","v":1810},0]
[null,null,null,null,null,22,{"$f":"VLOOKUP(F899,工作表9!$C$1:$E$8, 3,  FALSE)","v":"純物質"},null,{"$f":"VLOOKUP(F899,工作表9!$C$1:$D$8, 2, FALSE)","v":1810},0]
[null,null,null,null,null,22,{"$f":"VLOOKUP(F900,工作表9!$C$1:$E$8, 3,  FALSE)","v":"純物質"},null,{"$f":"VLOOKUP(F900,工作表9!$C$1:$D$8, 2, FALSE)","v":1810},0]
[null,null,null,null,null,22,{"$f":"VLOOKUP(F901,工作表9!$C$1:$E$8, 3,  FALSE)","v":"純物質"},null,{"$f":"VLOOKUP(F901,工作表9!$C$1:$D$8, 2, FALSE)","v":1810},0]
[null,null,null,null,null,22,{"$f":"VLOOKUP(F902,工作表9!$C$1:$E$8, 3,  FALSE)","v":"純物質"},null,{"$f":"VLOOKUP(F902,工作表9!$C$1:$D$8, 2, FALSE)","v":1810},{"$f":"H902*I902","v":0}]
[null,null,null,null,null,22,{"$f":"VLOOKUP(F903,工作表9!$C$1:$E$8, 3,  FALSE)","v":"純物質"},null,{"$f":"VLOOKUP(F903,工作表9!$C$1:$D$8, 2, FALSE)","v":1810},0]
[null,null,null,null,null,22,{"$f":"VLOOKUP(F904,工作表9!$C$1:$E$8, 3,  FALSE)","v":"純物質"},null,{"$f":"VLOOKUP(F904,工作表9!$C$1:$D$8, 2, FALSE)","v":1810},0]
[null,null,null,null,null,22,{"$f":"VLOOKUP(F905,工作表9!$C$1:$E$8, 3,  FALSE)","v":"純物質"},null,{"$f":"VLOOKUP(F905,工作表9!$C$1:$D$8, 2, FALSE)","v":1810},0]
[null,null,null,null,null,22,{"$f":"VLOOKUP(F906,工作表9!$C$1:$E$8, 3,  FALSE)","v":"純物質"},null,{"$f":"VLOOKUP(F906,工作表9!$C$1:$D$8, 2, FALSE)","v":1810},0]
[null,null,null,null,null,22,{"$f":"VLOOKUP(F907,工作表9!$C$1:$E$8, 3,  FALSE)","v":"純物質"},null,{"$f":"VLOOKUP(F907,工作表9!$C$1:$D$8, 2, FALSE)","v":1810},0]
[null,null,null,null,null,22,{"$f":"VLOOKUP(F908,工作表9!$C$1:$E$8, 3,  FALSE)","v":"純物質"},null,{"$f":"VLOOKUP(F908,工作表9!$C$1:$D$8, 2, FALSE)","v":1810},0]
[null,null,null,null,null,22,{"$f":"VLOOKUP(F909,工作表9!$C$1:$E$8, 3,  FALSE)","v":"純物質"},null,{"$f":"VLOOKUP(F909,工作表9!$C$1:$D$8, 2, FALSE)","v":1810},0]
[null,null,null,null,null,22,{"$f":"VLOOKUP(F910,工作表9!$C$1:$E$8, 3,  FALSE)","v":"純物質"},null,{"$f":"VLOOKUP(F910,工作表9!$C$1:$D$8, 2, FALSE)","v":1810},0]
[null,null,null,null,null,22,{"$f":"VLOOKUP(F911,工作表9!$C$1:$E$8, 3,  FALSE)","v":"純物質"},null,{"$f":"VLOOKUP(F911,工作表9!$C$1:$D$8, 2, FALSE)","v":1810},0]
[null,null,null,null,null,22,{"$f":"VLOOKUP(F912,工作表9!$C$1:$E$8, 3,  FALSE)","v":"純物質"},null,{"$f":"VLOOKUP(F912,工作表9!$C$1:$D$8, 2, FALSE)","v":1810},0]
[null,null,null,null,null,22,{"$f":"VLOOKUP(F913,工作表9!$C$1:$E$8, 3,  FALSE)","v":"純物質"},null,{"$f":"VLOOKUP(F913,工作表9!$C$1:$D$8, 2, FALSE)","v":1810},0]
[null,null,null,null,null,22,{"$f":"VLOOKUP(F914,工作表9!$C$1:$E$8, 3,  FALSE)","v":"純物質"},null,{"$f":"VLOOKUP(F914,工作表9!$C$1:$D$8, 2, FALSE)","v":1810},0]
[null,null,null,null,null,22,{"$f":"VLOOKUP(F915,工作表9!$C$1:$E$8, 3,  FALSE)","v":"純物質"},null,{"$f":"VLOOKUP(F915,工作表9!$C$1:$D$8, 2, FALSE)","v":1810},0]
[null,null,null,null,null,22,{"$f":"VLOOKUP(F916,工作表9!$C$1:$E$8, 3,  FALSE)","v":"純物質"},null,{"$f":"VLOOKUP(F916,工作表9!$C$1:$D$8, 2, FALSE)","v":1810},0]
[null,null,null,null,null,22,{"$f":"VLOOKUP(F917,工作表9!$C$1:$E$8, 3,  FALSE)","v":"純物質"},null,{"$f":"VLOOKUP(F917,工作表9!$C$1:$D$8, 2, FALSE)","v":1810},0]
[null,null,null,null,null,22,{"$f":"VLOOKUP(F918,工作表9!$C$1:$E$8, 3,  FALSE)","v":"純物質"},null,{"$f":"VLOOKUP(F918,工作表9!$C$1:$D$8, 2, FALSE)","v":1810},0]
[null,null,null,null,null,22,{"$f":"VLOOKUP(F919,工作表9!$C$1:$E$8, 3,  FALSE)","v":"純物質"},null,{"$f":"VLOOKUP(F919,工作表9!$C$1:$D$8, 2, FALSE)","v":1810},0]
[null,null,null,null,null,22,{"$f":"VLOOKUP(F920,工作表9!$C$1:$E$8, 3,  FALSE)","v":"純物質"},null,{"$f":"VLOOKUP(F920,工作表9!$C$1:$D$8, 2, FALSE)","v":1810},0]
[null,null,null,null,null,22,{"$f":"VLOOKUP(F921,工作表9!$C$1:$E$8, 3,  FALSE)","v":"純物質"},null,{"$f":"VLOOKUP(F921,工作表9!$C$1:$D$8, 2, FALSE)","v":1810},0]
[null,null,null,null,null,22,{"$f":"VLOOKUP(F922,工作表9!$C$1:$E$8, 3,  FALSE)","v":"純物質"},null,{"$f":"VLOOKUP(F922,工作表9!$C$1:$D$8, 2, FALSE)","v":1810},0]
[null,null,null,null,null,22,{"$f":"VLOOKUP(F923,工作表9!$C$1:$E$8, 3,  FALSE)","v":"純物質"},null,{"$f":"VLOOKUP(F923,工作表9!$C$1:$D$8, 2, FALSE)","v":1810},0]
[null,null,null,null,null,22,{"$f":"VLOOKUP(F924,工作表9!$C$1:$E$8, 3,  FALSE)","v":"純物質"},null,{"$f":"VLOOKUP(F924,工作表9!$C$1:$D$8, 2, FALSE)","v":1810},0]
[null,null,null,null,null,22,{"$f":"VLOOKUP(F925,工作表9!$C$1:$E$8, 3,  FALSE)","v":"純物質"},null,{"$f":"VLOOKUP(F925,工作表9!$C$1:$D$8, 2, FALSE)","v":1810},0]
[null,null,null,null,null,22,{"$f":"VLOOKUP(F926,工作表9!$C$1:$E$8, 3,  FALSE)","v":"純物質"},null,{"$f":"VLOOKUP(F926,工作表9!$C$1:$D$8, 2, FALSE)","v":1810},0]
[null,null,null,null,null,22,{"$f":"VLOOKUP(F927,工作表9!$C$1:$E$8, 3,  FALSE)","v":"純物質"},null,{"$f":"VLOOKUP(F927,工作表9!$C$1:$D$8, 2, FALSE)","v":1810},0]
[null,null,null,null,null,22,{"$f":"VLOOKUP(F928,工作表9!$C$1:$E$8, 3,  FALSE)","v":"純物質"},null,{"$f":"VLOOKUP(F928,工作表9!$C$1:$D$8, 2, FALSE)","v":1810},0]
[null,null,null,null,null,22,{"$f":"VLOOKUP(F929,工作表9!$C$1:$E$8, 3,  FALSE)","v":"純物質"},null,{"$f":"VLOOKUP(F929,工作表9!$C$1:$D$8, 2, FALSE)","v":1810},0]
[null,null,null,null,null,22,{"$f":"VLOOKUP(F930,工作表9!$C$1:$E$8, 3,  FALSE)","v":"純物質"},null,{"$f":"VLOOKUP(F930,工作表9!$C$1:$D$8, 2, FALSE)","v":1810},0]
[null,null,null,null,null,22,{"$f":"VLOOKUP(F931,工作表9!$C$1:$E$8, 3,  FALSE)","v":"純物質"},null,{"$f":"VLOOKUP(F931,工作表9!$C$1:$D$8, 2, FALSE)","v":1810},0]
[null,null,null,null,null,22,{"$f":"VLOOKUP(F932,工作表9!$C$1:$E$8, 3,  FALSE)","v":"純物質"},null,{"$f":"VLOOKUP(F932,工作表9!$C$1:$D$8, 2, FALSE)","v":1810},0]
[null,null,null,null,null,22,{"$f":"VLOOKUP(F933,工作表9!$C$1:$E$8, 3,  FALSE)","v":"純物質"},null,{"$f":"VLOOKUP(F933,工作表9!$C$1:$D$8, 2, FALSE)","v":1810},0]
[null,null,null,null,null,22,{"$f":"VLOOKUP(F934,工作表9!$C$1:$E$8, 3,  FALSE)","v":"純物質"},null,{"$f":"VLOOKUP(F934,工作表9!$C$1:$D$8, 2, FALSE)","v":1810},0]
[null,null,null,null,null,22,{"$f":"VLOOKUP(F935,工作表9!$C$1:$E$8, 3,  FALSE)","v":"純物質"},null,{"$f":"VLOOKUP(F935,工作表9!$C$1:$D$8, 2, FALSE)","v":1810},0]
[null,null,null,null,null,22,{"$f":"VLOOKUP(F936,工作表9!$C$1:$E$8, 3,  FALSE)","v":"純物質"},null,{"$f":"VLOOKUP(F936,工作表9!$C$1:$D$8, 2, FALSE)","v":1810},0]
[null,null,null,null,null,22,{"$f":"VLOOKUP(F937,工作表9!$C$1:$E$8, 3,  FALSE)","v":"純物質"},null,{"$f":"VLOOKUP(F937,工作表9!$C$1:$D$8, 2, FALSE)","v":1810},0]
[null,null,null,null,null,22,{"$f":"VLOOKUP(F938,工作表9!$C$1:$E$8, 3,  FALSE)","v":"純物質"},null,{"$f":"VLOOKUP(F938,工作表9!$C$1:$D$8, 2, FALSE)","v":1810},0]
[null,null,null,null,null,22,{"$f":"VLOOKUP(F939,工作表9!$C$1:$E$8, 3,  FALSE)","v":"純物質"},null,{"$f":"VLOOKUP(F939,工作表9!$C$1:$D$8, 2, FALSE)","v":1810},0]
[null,null,null,null,null,22,{"$f":"VLOOKUP(F940,工作表9!$C$1:$E$8, 3,  FALSE)","v":"純物質"},null,{"$f":"VLOOKUP(F940,工作表9!$C$1:$D$8, 2, FALSE)","v":1810},0]
[null,null,null,null,null,22,{"$f":"VLOOKUP(F941,工作表9!$C$1:$E$8, 3,  FALSE)","v":"純物質"},null,{"$f":"VLOOKUP(F941,工作表9!$C$1:$D$8, 2, FALSE)","v":1810},0]
[null,null,null,null,null,22,{"$f":"VLOOKUP(F942,工作表9!$C$1:$E$8, 3,  FALSE)","v":"純物質"},null,{"$f":"VLOOKUP(F942,工作表9!$C$1:$D$8, 2, FALSE)","v":1810},0]
[null,null,null,null,null,22,{"$f":"VLOOKUP(F943,工作表9!$C$1:$E$8, 3,  FALSE)","v":"純物質"},null,{"$f":"VLOOKUP(F943,工作表9!$C$1:$D$8, 2, FALSE)","v":1810},0]
[null,null,null,null,null,22,{"$f":"VLOOKUP(F944,工作表9!$C$1:$E$8, 3,  FALSE)","v":"純物質"},null,{"$f":"VLOOKUP(F944,工作表9!$C$1:$D$8, 2, FALSE)","v":1810},0]
[null,null,null,null,null,22,{"$f":"VLOOKUP(F945,工作表9!$C$1:$E$8, 3,  FALSE)","v":"純物質"},null,{"$f":"VLOOKUP(F945,工作表9!$C$1:$D$8, 2, FALSE)","v":1810},0]
[null,null,null,null,null,22,{"$f":"VLOOKUP(F946,工作表9!$C$1:$E$8, 3,  FALSE)","v":"純物質"},null,{"$f":"VLOOKUP(F946,工作表9!$C$1:$D$8, 2, FALSE)","v":1810},0]
[null,null,null,null,null,22,{"$f":"VLOOKUP(F947,工作表9!$C$1:$E$8, 3,  FALSE)","v":"純物質"},null,{"$f":"VLOOKUP(F947,工作表9!$C$1:$D$8, 2, FALSE)","v":1810},0]
[null,null,null,null,null,22,{"$f":"VLOOKUP(F948,工作表9!$C$1:$E$8, 3,  FALSE)","v":"純物質"},null,{"$f":"VLOOKUP(F948,工作表9!$C$1:$D$8, 2, FALSE)","v":1810},0]
[null,null,null,null,null,22,{"$f":"VLOOKUP(F949,工作表9!$C$1:$E$8, 3,  FALSE)","v":"純物質"},null,{"$f":"VLOOKUP(F949,工作表9!$C$1:$D$8, 2, FALSE)","v":1810},0]
[null,null,null,null,null,22,{"$f":"VLOOKUP(F950,工作表9!$C$1:$E$8, 3,  FALSE)","v":"純物質"},null,{"$f":"VLOOKUP(F950,工作表9!$C$1:$D$8, 2, FALSE)","v":1810},0]
[null,null,null,null,null,22,{"$f":"VLOOKUP(F951,工作表9!$C$1:$E$8, 3,  FALSE)","v":"純物質"},null,{"$f":"VLOOKUP(F951,工作表9!$C$1:$D$8, 2, FALSE)","v":1810},0]
[null,null,null,null,null,22,{"$f":"VLOOKUP(F952,工作表9!$C$1:$E$8, 3,  FALSE)","v":"純物質"},null,{"$f":"VLOOKUP(F952,工作表9!$C$1:$D$8, 2, FALSE)","v":1810},0]
[null,null,null,null,null,22,{"$f":"VLOOKUP(F953,工作表9!$C$1:$E$8, 3,  FALSE)","v":"純物質"},null,{"$f":"VLOOKUP(F953,工作表9!$C$1:$D$8, 2, FALSE)","v":1810},0]
[null,null,null,null,null,22,{"$f":"VLOOKUP(F954,工作表9!$C$1:$E$8, 3,  FALSE)","v":"純物質"},null,{"$f":"VLOOKUP(F954,工作表9!$C$1:$D$8, 2, FALSE)","v":1810},0]
[null,null,null,null,null,22,{"$f":"VLOOKUP(F955,工作表9!$C$1:$E$8, 3,  FALSE)","v":"純物質"},null,{"$f":"VLOOKUP(F955,工作表9!$C$1:$D$8, 2, FALSE)","v":1810},0]
[null,null,null,null,null,22,{"$f":"VLOOKUP(F956,工作表9!$C$1:$E$8, 3,  FALSE)","v":"純物質"},null,{"$f":"VLOOKUP(F956,工作表9!$C$1:$D$8, 2, FALSE)","v":1810},0]
[null,null,null,null,null,22,{"$f":"VLOOKUP(F957,工作表9!$C$1:$E$8, 3,  FALSE)","v":"純物質"},null,{"$f":"VLOOKUP(F957,工作表9!$C$1:$D$8, 2, FALSE)","v":1810},0]
[null,null,null,null,null,22,{"$f":"VLOOKUP(F958,工作表9!$C$1:$E$8, 3,  FALSE)","v":"純物質"},null,{"$f":"VLOOKUP(F958,工作表9!$C$1:$D$8, 2, FALSE)","v":1810},0]
[null,null,null,null,null,22,{"$f":"VLOOKUP(F959,工作表9!$C$1:$E$8, 3,  FALSE)","v":"純物質"},null,{"$f":"VLOOKUP(F959,工作表9!$C$1:$D$8, 2, FALSE)","v":1810},0]
[null,null,null,null,null,22,{"$f":"VLOOKUP(F960,工作表9!$C$1:$E$8, 3,  FALSE)","v":"純物質"},null,{"$f":"VLOOKUP(F960,工作表9!$C$1:$D$8, 2, FALSE)","v":1810},0]
[null,null,null,null,null,22,{"$f":"VLOOKUP(F961,工作表9!$C$1:$E$8, 3,  FALSE)","v":"純物質"},null,{"$f":"VLOOKUP(F961,工作表9!$C$1:$D$8, 2, FALSE)","v":1810},0]
[null,null,null,null,null,22,{"$f":"VLOOKUP(F962,工作表9!$C$1:$E$8, 3,  FALSE)","v":"純物質"},null,{"$f":"VLOOKUP(F962,工作表9!$C$1:$D$8, 2, FALSE)","v":1810},0]
[null,null,null,null,null,22,{"$f":"VLOOKUP(F963,工作表9!$C$1:$E$8, 3,  FALSE)","v":"純物質"},null,{"$f":"VLOOKUP(F963,工作表9!$C$1:$D$8, 2, FALSE)","v":1810},0]
[null,null,null,null,null,22,{"$f":"VLOOKUP(F964,工作表9!$C$1:$E$8, 3,  FALSE)","v":"純物質"},null,{"$f":"VLOOKUP(F964,工作表9!$C$1:$D$8, 2, FALSE)","v":1810},0]
[null,null,null,null,null,22,{"$f":"VLOOKUP(F965,工作表9!$C$1:$E$8, 3,  FALSE)","v":"純物質"},null,{"$f":"VLOOKUP(F965,工作表9!$C$1:$D$8, 2, FALSE)","v":1810},0]
[null,null,null,null,null,22,{"$f":"VLOOKUP(F966,工作表9!$C$1:$E$8, 3,  FALSE)","v":"純物質"},null,{"$f":"VLOOKUP(F966,工作表9!$C$1:$D$8, 2, FALSE)","v":1810},{"$f":"H966*I966","v":0}]
[null,null,null,null,null,22,{"$f":"VLOOKUP(F967,工作表9!$C$1:$E$8, 3,  FALSE)","v":"純物質"},null,{"$f":"VLOOKUP(F967,工作表9!$C$1:$D$8, 2, FALSE)","v":1810},0]
[null,null,null,null,null,22,{"$f":"VLOOKUP(F968,工作表9!$C$1:$E$8, 3,  FALSE)","v":"純物質"},null,{"$f":"VLOOKUP(F968,工作表9!$C$1:$D$8, 2, FALSE)","v":1810},0]
[null,null,null,null,null,22,{"$f":"VLOOKUP(F969,工作表9!$C$1:$E$8, 3,  FALSE)","v":"純物質"},null,{"$f":"VLOOKUP(F969,工作表9!$C$1:$D$8, 2, FALSE)","v":1810},0]
[null,null,null,null,null,22,{"$f":"VLOOKUP(F970,工作表9!$C$1:$E$8, 3,  FALSE)","v":"純物質"},null,{"$f":"VLOOKUP(F970,工作表9!$C$1:$D$8, 2, FALSE)","v":1810},0]
[null,null,null,null,null,22,{"$f":"VLOOKUP(F971,工作表9!$C$1:$E$8, 3,  FALSE)","v":"純物質"},null,{"$f":"VLOOKUP(F971,工作表9!$C$1:$D$8, 2, FALSE)","v":1810},0]
[null,null,null,null,null,22,{"$f":"VLOOKUP(F972,工作表9!$C$1:$E$8, 3,  FALSE)","v":"純物質"},null,{"$f":"VLOOKUP(F972,工作表9!$C$1:$D$8, 2, FALSE)","v":1810},0]
[null,null,null,null,null,22,{"$f":"VLOOKUP(F973,工作表9!$C$1:$E$8, 3,  FALSE)","v":"純物質"},null,{"$f":"VLOOKUP(F973,工作表9!$C$1:$D$8, 2, FALSE)","v":1810},0]
[null,null,null,null,null,22,{"$f":"VLOOKUP(F974,工作表9!$C$1:$E$8, 3,  FALSE)","v":"純物質"},null,{"$f":"VLOOKUP(F974,工作表9!$C$1:$D$8, 2, FALSE)","v":1810},0]
[null,null,null,null,null,22,{"$f":"VLOOKUP(F975,工作表9!$C$1:$E$8, 3,  FALSE)","v":"純物質"},null,{"$f":"VLOOKUP(F975,工作表9!$C$1:$D$8, 2, FALSE)","v":1810},0]
[null,null,null,null,null,22,{"$f":"VLOOKUP(F976,工作表9!$C$1:$E$8, 3,  FALSE)","v":"純物質"},null,{"$f":"VLOOKUP(F976,工作表9!$C$1:$D$8, 2, FALSE)","v":1810},0]
[null,null,null,null,null,22,{"$f":"VLOOKUP(F977,工作表9!$C$1:$E$8, 3,  FALSE)","v":"純物質"},null,{"$f":"VLOOKUP(F977,工作表9!$C$1:$D$8, 2, FALSE)","v":1810},0]
[null,null,null,null,null,22,{"$f":"VLOOKUP(F978,工作表9!$C$1:$E$8, 3,  FALSE)","v":"純物質"},null,{"$f":"VLOOKUP(F978,工作表9!$C$1:$D$8, 2, FALSE)","v":1810},0]
[null,null,null,null,null,22,{"$f":"VLOOKUP(F979,工作表9!$C$1:$E$8, 3,  FALSE)","v":"純物質"},null,{"$f":"VLOOKUP(F979,工作表9!$C$1:$D$8, 2, FALSE)","v":1810},0]
[null,null,null,null,null,22,{"$f":"VLOOKUP(F980,工作表9!$C$1:$E$8, 3,  FALSE)","v":"純物質"},null,{"$f":"VLOOKUP(F980,工作表9!$C$1:$D$8, 2, FALSE)","v":1810},0]
[null,null,null,null,null,22,{"$f":"VLOOKUP(F981,工作表9!$C$1:$E$8, 3,  FALSE)","v":"純物質"},null,{"$f":"VLOOKUP(F981,工作表9!$C$1:$D$8, 2, FALSE)","v":1810},0]
[null,null,null,null,null,22,{"$f":"VLOOKUP(F982,工作表9!$C$1:$E$8, 3,  FALSE)","v":"純物質"},null,{"$f":"VLOOKUP(F982,工作表9!$C$1:$D$8, 2, FALSE)","v":1810},0]
[null,null,null,null,null,22,{"$f":"VLOOKUP(F983,工作表9!$C$1:$E$8, 3,  FALSE)","v":"純物質"},null,{"$f":"VLOOKUP(F983,工作表9!$C$1:$D$8, 2, FALSE)","v":1810},0]
[null,null,null,null,null,22,{"$f":"VLOOKUP(F984,工作表9!$C$1:$E$8, 3,  FALSE)","v":"純物質"},null,{"$f":"VLOOKUP(F984,工作表9!$C$1:$D$8, 2, FALSE)","v":1810},0]
[null,null,null,null,null,22,{"$f":"VLOOKUP(F985,工作表9!$C$1:$E$8, 3,  FALSE)","v":"純物質"},null,{"$f":"VLOOKUP(F985,工作表9!$C$1:$D$8, 2, FALSE)","v":1810},0]
[null,null,null,null,null,22,{"$f":"VLOOKUP(F986,工作表9!$C$1:$E$8, 3,  FALSE)","v":"純物質"},null,{"$f":"VLOOKUP(F986,工作表9!$C$1:$D$8, 2, FALSE)","v":1810},0]
[null,null,null,null,null,22,{"$f":"VLOOKUP(F987,工作表9!$C$1:$E$8, 3,  FALSE)","v":"純物質"},null,{"$f":"VLOOKUP(F987,工作表9!$C$1:$D$8, 2, FALSE)","v":1810},0]
[null,null,null,null,null,22,{"$f":"VLOOKUP(F988,工作表9!$C$1:$E$8, 3,  FALSE)","v":"純物質"},null,{"$f":"VLOOKUP(F988,工作表9!$C$1:$D$8, 2, FALSE)","v":1810},0]
[null,null,null,null,null,22,{"$f":"VLOOKUP(F989,工作表9!$C$1:$E$8, 3,  FALSE)","v":"純物質"},null,{"$f":"VLOOKUP(F989,工作表9!$C$1:$D$8, 2, FALSE)","v":1810},0]
[null,null,null,null,null,22,{"$f":"VLOOKUP(F990,工作表9!$C$1:$E$8, 3,  FALSE)","v":"純物質"},null,{"$f":"VLOOKUP(F990,工作表9!$C$1:$D$8, 2, FALSE)","v":1810},0]
[null,null,null,null,null,22,{"$f":"VLOOKUP(F991,工作表9!$C$1:$E$8, 3,  FALSE)","v":"純物質"},null,{"$f":"VLOOKUP(F991,工作表9!$C$1:$D$8, 2, FALSE)","v":1810},0]
[null,null,null,null,null,22,{"$f":"VLOOKUP(F992,工作表9!$C$1:$E$8, 3,  FALSE)","v":"純物質"},null,{"$f":"VLOOKUP(F992,工作表9!$C$1:$D$8, 2, FALSE)","v":1810},0]
[null,null,null,null,null,22,{"$f":"VLOOKUP(F993,工作表9!$C$1:$E$8, 3,  FALSE)","v":"純物質"},null,{"$f":"VLOOKUP(F993,工作表9!$C$1:$D$8, 2, FALSE)","v":1810},0]
[null,null,null,null,null,22,{"$f":"VLOOKUP(F994,工作表9!$C$1:$E$8, 3,  FALSE)","v":"純物質"},null,{"$f":"VLOOKUP(F994,工作表9!$C$1:$D$8, 2, FALSE)","v":1810},0]
[null,null,null,null,null,22,{"$f":"VLOOKUP(F995,工作表9!$C$1:$E$8, 3,  FALSE)","v":"純物質"},null,{"$f":"VLOOKUP(F995,工作表9!$C$1:$D$8, 2, FALSE)","v":1810},0]
[null,null,null,null,null,22,{"$f":"VLOOKUP(F996,工作表9!$C$1:$E$8, 3,  FALSE)","v":"純物質"},null,{"$f":"VLOOKUP(F996,工作表9!$C$1:$D$8, 2, FALSE)","v":1810},0]
[null,null,null,null,null,22,{"$f":"VLOOKUP(F997,工作表9!$C$1:$E$8, 3,  FALSE)","v":"純物質"},null,{"$f":"VLOOKUP(F997,工作表9!$C$1:$D$8, 2, FALSE)","v":1810},0]
[null,null,null,null,null,22,{"$f":"VLOOKUP(F998,工作表9!$C$1:$E$8, 3,  FALSE)","v":"純物質"},null,{"$f":"VLOOKUP(F998,工作表9!$C$1:$D$8, 2, FALSE)","v":1810},0]
[null,null,null,null,null,22,{"$f":"VLOOKUP(F999,工作表9!$C$1:$E$8, 3,  FALSE)","v":"純物質"},null,{"$f":"VLOOKUP(F999,工作表9!$C$1:$D$8, 2, FALSE)","v":1810},0]
[null,null,null,null,null,22,{"$f":"VLOOKUP(F1000,工作表9!$C$1:$E$8, 3,  FALSE)","v":"純物質"},null,{"$f":"VLOOKUP(F1000,工作表9!$C$1:$D$8, 2, FALSE)","v":1810},0]
["備註：","＊    請參考附件：冷媒GWP值"]

{"sheet":"附件、冷媒GWP值","index":11,"n_rows":154,"n_cols":6,"rows_kept":154,"cut":false,"hidden":false,"merged":[[1,1,2,1],[1,2,2,2],[1,3,2,3]]}
["附件、冷媒GWP值"]
[null,"化學名","化學式","工業名稱","溫暖化潛勢"]
[null,null,null,null,"GWP值"]
["純物質","二氟一氯甲烷","CHF2Cl","HCFC-22",1810]
["純物質","三氟二氯乙烷","CHCl2CF3","HCFC-123",77]
["純物質","四氟一氯乙烷","CHClFCF3","HCFC-124",609]
["純物質","一氟二氯乙烷","CH3CFCl2","HCFC-141b",725]
["純物質","二氟一氯乙烷","CH3CF2Cl","HCFC-142b",2310]
["純物質","五氟二氯丙烷","CF3CF2CHCl2","HCFC-225ca",122]
["純物質","五氟二氯丙烷","CF2ClCF2CHClF","HCFC-225cb",595]
["純物質","二氟甲烷","CH2F2","HFC-32",675]
["純物質","氟甲烷","CH3F","HFC-41",92]
["純物質","五氟乙烷","CHF2CF3","HFC-125",3500]
["純物質","1,1,2,2-四氟乙烷","CHF2CHF2","HFC-134",1100]
["純物質","1,1,1,2-四氟乙烷","CH2FCF3","HFC-134a",1430]
["純物質","1,1,2-三氟乙烷","CH2FCHF2","HFC-143",353]
["純物質","1,1,1-三氟乙烷","CH3CF3","HFC-143a",4470]
["純物質","1,2-二氟乙烷","CH2FCH2F","HFC-152",53]
["純物質","1,1-二氟乙烷","CH3CHF2","HFC-152a",124]
["純物質","1,1,1,2,3,3,3-七氟丙烷","CF3CHFCF3","HFC-227ea",3220]
["純物質","1,1,1,2,2,3-六氟丙烷","CH2FCF2CF3","HFC-236cb",1340]
["純物質","1,1,1,2,3,3-六氟丙烷","CHF2CHFCF3","HFC-236ea",1370]
["純物質","1,1,1,3,3,3-六氟丙烷","CF3CH2CF3","HFC-236fa",9810]
["純物質","1,1,2,2,3-五氟丙烷","CH2FCF2CHF2","HFC-245ca",693]
["純物質","1,1,1,3,3-五氟丙烷","CHF2CH2CF3","HFC-245fa",1030]
["純物質","1,1,1,3,3-五氟丁烷","CF3CH2CF2CH3","HFC-365mfc",794]
["純物質","1,1,1,2,2,3,4,5,5,5-十氟戊烷","CF3CHFCHFCF2CF3","HFC-43-10mee",1640]
["純物質","三氟甲烷","CHF3","HFC-23",14800]
[null,null,null,null,"溫暖化潛勢"]
[null,null,null,"工業名稱","GWP值","混合物種類及其混合比例"]
["混合物",null,null,"401A",1182.48,"R-22/152a/124 (53.0/13.0/34.0)"]
["混合物",null,null,"401B",1288.26,"R-22/152a/124 (61.0/11.0/28.0"]
["混合物",null,null,"401C",932.58000000000015,"R-22/152a/124 (33.0/15.0/52.0)"]
["混合物",null,null,"402A",2787.8,"R-125/290/22 (60.0/2.0/38.0)"]
["混合物",null,null,"402B",2416,"R-125/290/22 (38.0/2.0/60.0)"]
["混合物",null,null,"404A",3921.6000000000004,"R-125/143a/134a (44.0/52.0/4.0)"]
["混合物",null,null,"405A",5327.73,"R-22/152a/142b/C318 (45.0/7.0/5.5/42.5)"]
["混合物",null,null,"407A",2107,"R-32/125/134a (20.0/40.0/40.0)"]
["混合物",null,null,"407B",2803.5,"R-32/125/134a (10.0/70.0/20.0)"]
["混合物",null,null,"407C",1773.85,"R-32/125/134a (23.0/25.0/52.0)"]
["混合物",null,null,"407D",1627.25,"R-32/125/134a (15.0/15.0/70.0)"]
["混合物",null,null,"407E",1551.75,"R-32/125/134a (25.0/15.0/60.0)"]
["混合物",null,null,"407F",1824.5,"R-32/125/134a (30.0/30.0/40.0)"]
["混合物",null,null,"407G",1462.875,"R-32/125/134a (2.5/2.5/95.0)"]
["混合物",null,null,"407H",1495.125,"R-32/125/134a (32.5/15.0/52.5)"]
["混合物",null,null,"407I",1458.7249999999999,"R-32/125/134a (19.5/8.5/72.0)"]
["混合物",null,null,"408A",3151.9,"R-125/143a/22 (7.0/46.0/47.0)"]
["混合物",null,null,"410A",2087.5,"R-32/125 (50.0/50.0)"]
["混合物",null,null,"410B",2228.75,"R-32/125 (45.0/55.0)"]
["混合物",null,null,"411A",1597.39,"R-1270/22/152a) (1.5/87.5/11.0)"]
["混合物",null,null,"411B",1710.55,"R-1270/22/152a (3.0/94.0/3.0)"]
["混合物",null,null,"411C",1730.4099999999999,"HC-1270/HCFC-22/HFC-152a (3.0/95.5/1.5)"]
["混合物",null,null,"413A",2053.1,"R-218/134a/600a (9.0/88.0/3.0)"]
["混合物",null,null,"415A",1506.5199999999998,"R-22/152a (82.0/18.0)"]
["混合物",null,null,"415B",545.5,"R-22/152a (25.0/75.0)"]
["混合物",null,null,"416A",1084.2549999999999,"R-134a/124/600 (59.0/39.5/1.5)"]
["混合物",null,null,"417A",2346,"R-125/134a/600 (46.6/50.0/3.4)"]
["混合物",null,null,"417B",3026.69,"R-125/134a/600 (79.0/18.3/2.7)"]
["混合物",null,null,"417C",1809.3400000000001,"R-125/134a/600 (19.5/78.8/1.7)"]
["混合物",null,null,"418A",1740.6999999999998,"R-290/22/152a (1.5/96.0/2.5)"]
["混合物",null,null,"419A",2966.7,"R-125/134a/E170 (77.0/19.0/4.0)"]
["混合物",null,null,"419B",2383.9,"R-125/134a/E170 (48.5/48.0/3.5)"]
["混合物",null,null,"420A",1535.6000000000001,"R-134a/142b (88.0/12.0)"]
["混合物",null,null,"421A",2630.6,"R-125/134a (58.0/42.0)"]
["混合物",null,null,"421B",3189.5,"R-125/134a (85.0/15.0)"]
["混合物",null,null,"422A",3142.95,"R-125/134a/600a (85.1/11.5/3.4)"]
["混合物",null,null,"422B",2525.6000000000004,"R-125/134a/600a (55.0/42.0/3.0)"]
["混合物",null,null,"422C",3084.5,"R-125/134a/600a (82.0/15.0/3.0)"]
["混合物",null,null,"422D",2728.95,"R-125/134a/600a (65.1/31.5/3.4)"]
["混合物",null,null,"422E",2591.9899999999998,"R-125/134a/600a (58.0/39.3/2.7)"]
["混合物",null,null,"423A",2280.25,"134a/227ea (52.5/47.5)"]
["混合物",null,null,"424A",2439.6,"R-125/134a/600a/600/601a (50.5/47.0/0.9/1.0/0.6)"]
["混合物",null,null,"425A",1505.125,"R-32/134a/227ea (18.5/69.5/12)"]
["混合物",null,null,"426A",1508.4,"R-125/134a/600/601a (5.1/93.0/1.3/0.6)"]
["混合物",null,null,"427A",2138.25,"R-32/125/143a/134a (15.0/25.0/10.0/50.0)"]
["混合物",null,null,"427C",2062.75,"R-32/125/143a/134a (25.0/25.0/10.0/40.0)"]
["混合物",null,null,"428A",3606.5,"R-125/143a/290/600a (77.5/20.0/0.6/1.9)"]
["混合物",null,null,"429A",12.4,"R-E170/152a/600a (60.0/10.0/30.0)"]
["混合物",null,null,"430A",94.24,"R-152a/600a (76.0/24.0)"]
["混合物",null,null,"431A",35.96,"R-290/152a (71.0/29.0)"]
["混合物",null,null,"434A",3245.4,"R-125/143a/134a/600a (63.2/18.0/16.0/2.8)"]
["混合物",null,null,"435A",24.8,"R-E170/152a (80.0/20.0)"]
["混合物",null,null,"437A",1805.05,"R-125/134a/600/601 (19.5/78.5/1.4/0.6)"]
["混合物",null,null,"438A",2264.4349999999999,"R-32/125/134a/600/601a (8.5/45.0/44.2/1.7/0.6)"]
["混合物",null,null,"439A",1982.5,"R-32/125/600a (50.0/47.0/3.0)"]
["混合物",null,null,"440A",144.15199999999999,"R-290/134a/152a (0.6/1.6/97.8)"]
["混合物",null,null,"442A",1887.97,"R-32/125/134a/152a/227ea (31.0/31.0/30.0/3.0/5.0)"]
["混合物",null,null,"444A",87.2,"R-32/152a/1234ze(E) (12.0/5.0/83.0)"]
["混合物",null,null,"444B",292.52499999999998,"R-32/152a/1234ze(E)  (41.5/10.0/48.5)"]
["混合物",null,null,"445A",128.69999999999999,"R-744/134a/1234ze(E) (6.0/9.0/85.0)"]
["混合物",null,null,"446A",459.00000000000006,"R-32/1234ze(E)/600 (68.0/29.0/3.0)"]
["混合物",null,null,"447A",581.50000000000011,"R-32/125/1234ze(E) (68.0/3.5/28.5)"]
["混合物",null,null,"447B",739,"R-32/125/1234ze (E) (68.0/8.0/24.0)"]
["混合物",null,null,"448A",1385.8,"R-32/125/1234yf/134a/1234ze(E) (26.0/26.0/20.0/21.0/7.0)"]
["混合物",null,null,"448B",1320.05,"R-32/125/1234yf/134a/1234ze(E) (21.0/21.0/20.0/31.0/7.0)"]
["混合物",null,null,"449A",1396.0350000000001,"R-32 /125 /1234yf /134a (24.3/24.7/25.3/25.7)"]
["混合物",null,null,"449B",1410.99,"R-32/125/1234yf/134a (25.2/24.3/23.2/27.3)"]
["混合物",null,null,"449C",1249.7,"R-32/125/1234yf/134a (20.0/20.0/31.0/29.0)"]
["混合物",null,null,"450A",600.6,"R-134a/1234ze(E) (42.0/58.0)"]
["混合物",null,null,"451A",145.85999999999999,"R-1234yf/134a (89.8/10.2)"]
["混合物",null,null,"451B",160.16,"R-1234yf/134a (88.8/11.2)"]
["混合物",null,null,"452A",2139.25,"R-32/125/1234yf (11.0/59.0/30.0)"]
["混合物",null,null,"452B",697.25,"R-32/125/1234yf (67.0/7.0/26.0)"]
["混合物",null,null,"452C",2219.375,"R-32/125/1234yf (12.5/61.0/26.5)"]
["混合物",null,null,"453A",1765.3400000000001,"R-32/125/134a/227ea/600/601a (20.0/20.0/53.8/5.0/0.6/0.6)"]
["混合物",null,null,"454A",236.24999999999997,"R-32/1234yf (35.0/65.0)"]
["混合物",null,null,"454B",465.07499999999999,"R-32/1234yf (68.9/31.1)"]
["混合物",null,null,"454C",145.125,"R-32/1234yf (21.5/78.5)"]
["混合物",null,null,"455A",145.125,"R-744/32/1234yf (3.0/21.5/75.5)"]
["混合物",null,null,"456A",684,"R-32/134a/1234ze(E) (6.0/45.0/49.0)"]
["混合物",null,null,"457A",136.38,"R-32/1234yf/152a (18.0/70.0/12.0)"]
["混合物",null,null,"457B",248.64999999999998,"R-32/1234yf/152a (35.0/55.0/10.0)"]
["混合物",null,null,"458A",1649.9549999999999,"R-32/125/134a/227ea/236fa (20.5/4.0/61.4/13.5/0.6)"]
["混合物",null,null,"459A",459.00000000000006,"R-32/1234yf/1234ze(E) (68.0/26.0/6.0)"]
["混合物",null,null,"459B",141.75,"LTR 11: R-32/1234yf/1234ze(E) (21.0/69.0/10.0)"]
["混合物",null,null,"460A",2101.1999999999998,"LTR 10: R-32/125/134a/1234ze(E) (12.0/52.0/14.0/22.0)"]
["混合物",null,null,"460B",1350,"LTR4X10: R-32/125/134a/1234ze(E) (28.0/25.0/20.0/27.0)"]
["混合物",null,null,"460C",762.17500000000007,"R-32/125/134a/1234ze(E) (2.5/2.5/46.0/49.0)"]
["混合物",null,null,"461A",2767.1000000000004,"R-125/143a/134a/227ea/600a (55.0/5.0/32.0/5.0/3.0)"]
["混合物",null,null,"462A",2249.35,"R-32/125/143a/134a/600 (9.0/42.0/2.0/44.0/3.0)"]
["混合物",null,null,"463A",1493.2,"R-744/32/125/1234yf/134a (6.0/36.0/30.0/14.0/14.0)"]
["混合物",null,null,"464A",1320.45,"R-32/125/1234ze(E)/227ea (27.0/27.0/40.0/6.0)"]
["混合物",null,null,"465A",141.75,"R-32/290/1234yf (21.0/7.9/71.1)"]
["混合物",null,null,"466A",733.25,"R-32/125/131I (49.0/11.5/39.5)"]
["混合物",null,null,"467A",1358.82,"R-32/125/134a/600a (22.0/5.0/72.4/0.6)"]
["混合物",null,null,"468A",145.125,"R-1132a/32/1234yf (3.5/21.5/75.0)"]
["混合物",null,null,"469A",1356.875,"R-744/32/125 (35.0/32.5/32.5)"]
["混合物",null,null,"470A",976.45,"R-744/32/125/134a/1234ze(E)/227ea (10.0/17.0/19.0/7.0/44.0/3.0)"]
["混合物",null,null,"470B",748.42499999999995,"R-744/32/125/134a/1234ze(E)/227ea (10.0/11.5/11.5/3.0/57.0/7.0)"]
["混合物",null,null,"471A",138.45999999999998,"R-1234ze(E)/227ea/1336mzz(E) (78.7/4.3/17.0)"]
["混合物",null,null,"472A",352.7,"R-744/32/134a (69.0/12.0/19.0)"]
["混合物",null,null,"473A",1830,"R-1132a/23/744/125 (20.0/10.0/60.0/10.0)"]
["混合物",null,null,500,8076.6880000000001,"R-12/152a (73.8/26.2)"]
["混合物",null,null,503,14560.400000000001,"R-23/13 (40.1/59.9)"]
["混合物",null,null,504,4143.01,"R-32/115 (48.2/51.8)"]
["混合物",null,null,"507A",3985,"R-125/143a (50.0/50.0)"]
["混合物",null,null,"508A",13214,"R-23/116 (39.0/61.0)"]
["混合物",null,null,"508B",13396,"R-23/116 (46.0/54.0)"]
["混合物",null,null,"512A",189.3,"R-134a/152a (5.0/95.0)"]
["混合物",null,null,"513A",629.20000000000005,"R-1234yf/134a (56.0/44.0)"]
["混合物",null,null,"513B",593.44999999999993,"R-1234yf/134a (58.5/41.5)"]
["混合物",null,null,"515A",386.4,"R-1234ze (E)/227ea (88.0/12.0)"]
["混合物",null,null,"515B",286.58,"R-1234ze(E)/227ea (91.1/8.9)"]
["混合物",null,null,"516A",138.91000000000003,"R-1234yf/134a/152a (77.5/8.5/14.0)"]
["混合物",null,null,"365mfc/227ea",null,"test:   R-365mfc/227ea（50 / 50）"]
["混合物"]
["混合物"]
["混合物"]
["混合物"]
["混合物"]
["混合物"]
["混合物"]
["混合物"]
["混合物"]

{"sheet":"工作表9","index":12,"n_rows":142,"n_cols":9,"rows_kept":142,"cut":false,"hidden":true,"merged":[]}
["純物質",null,22,1810,"純物質",null,32,675,"純物質"]
["混合物",null,123,77,"純物質",null,41,92,"純物質"]
[null,null,124,609,"純物質",null,125,3500,"純物質"]
[null,null,"141b",725,"純物質",null,134,1100,"純物質"]
[null,null,"142b",2310,"純物質",null,"134a",1430,"純物質"]
[null,null,"225ca",122,"純物質",null,143,353,"純物質"]
[null,null,"225cb",595,"純物質",null,"143a",4470,"純物質"]
[null,null,"408A",850.69999999999993,"混合物",null,152,53,"純物質"]
[null,null,null,null,null,null,"152a",124,"純物質"]
[null,null,null,null,null,null,"227ea",3220,"純物質"]
[null,null,null,null,null,null,"236cb",1340,"純物質"]
[null,null,null,null,null,null,"236ea",1370,"純物質"]
[null,null,null,null,null,null,"236fa",9810,"純物質"]
[null,null,null,null,null,null,"245ca",693,"純物質"]
[null,null,null,null,null,null,"245fa",1030,"純物質"]
[null,null,null,null,null,null,"365mfc",794,"純物質"]
[null,null,null,null,null,null,"43-10mee",1640,"純物質"]
[null,null,null,null,null,null,23,14800,"純物質"]
[null,null,null,null,null,null,"401A",16.12,"混合物"]
[null,null,null,null,null,null,"401B",13.64,"混合物"]
[null,null,null,null,null,null,"401C",18.599999999999998,"混合物"]
[null,null,null,null,null,null,"402A",2100,"混合物"]
[null,null,null,null,null,null,"402B",1330,"混合物"]
[null,null,null,null,null,null,"404A",3921.6000000000004,"混合物"]
[null,null,null,null,null,null,"405A",8.6800000000000015,"混合物"]
[null,null,null,null,null,null,"407A",2107,"混合物"]
[null,null,null,null,null,null,"407B",2803.5,"混合物"]
[null,null,null,null,null,null,"407C",1773.85,"混合物"]
[null,null,null,null,null,null,"407D",1627.25,"混合物"]
[null,null,null,null,null,null,"407E",1551.75,"混合物"]
[null,null,null,null,null,null,"407F",1824.5,"混合物"]
[null,null,null,null,null,null,"407G",1462.875,"混合物"]
[null,null,null,null,null,null,"407H",1495.125,"混合物"]
[null,null,null,null,null,null,"407I",1458.7249999999999,"混合物"]
[null,null,null,null,null,null,"408A",{"$f":"3500*0.07+4470*0.46","v":2301.2000000000003},"混合物"]
[null,null,null,null,null,null,"410A",2087.5,"混合物"]
[null,null,null,null,null,null,"410B",2228.75,"混合物"]
[null,null,null,null,null,null,"411A",13.64,"混合物"]
[null,null,null,null,null,null,"411B",3.7199999999999998,"混合物"]
[null,null,null,null,null,null,"411C",1.8599999999999999,"混合物"]
[null,null,null,null,null,null,"413A",1258.4000000000001,"混合物"]
[null,null,null,null,null,null,"415A",22.32,"混合物"]
[null,null,null,null,null,null,"415B",93,"混合物"]
[null,null,null,null,null,null,"416A",843.69999999999993,"混合物"]
[null,null,null,null,null,null,"417A",2346,"混合物"]
[null,null,null,null,null,null,"417B",3026.69,"混合物"]
[null,null,null,null,null,null,"417C",1809.3400000000001,"混合物"]
[null,null,null,null,null,null,"418A",3.1,"混合物"]
[null,null,null,null,null,null,"419A",2966.7,"混合物"]
[null,null,null,null,null,null,"419B",2383.9,"混合物"]
[null,null,null,null,null,null,"420A",1258.4000000000001,"混合物"]
[null,null,null,null,null,null,"421A",2630.6,"混合物"]
[null,null,null,null,null,null,"421B",3189.5,"混合物"]
[null,null,null,null,null,null,"422A",3142.95,"混合物"]
[null,null,null,null,null,null,"422B",2525.6000000000004,"混合物"]
[null,null,null,null,null,null,"422C",3084.5,"混合物"]
[null,null,null,null,null,null,"422D",2728.95,"混合物"]
[null,null,null,null,null,null,"422E",2591.9899999999998,"混合物"]
[null,null,null,null,null,null,"423A",2280.25,"混合物"]
[null,null,null,null,null,null,"424A",2439.6,"混合物"]
[null,null,null,null,null,null,"425A",1505.125,"混合物"]
[null,null,null,null,null,null,"426A",1508.4,"混合物"]
[null,null,null,null,null,null,"427A",2138.25,"混合物"]
[null,null,null,null,null,null,"427C",2062.75,"混合物"]
[null,null,null,null,null,null,"428A",3606.5,"混合物"]
[null,null,null,null,null,null,"429A",12.4,"混合物"]
[null,null,null,null,null,null,"430A",94.24,"混合物"]
[null,null,null,null,null,null,"431A",35.96,"混合物"]
[null,null,null,null,null,null,"434A",3245.4,"混合物"]
[null,null,null,null,null,null,"435A",24.8,"混合物"]
[null,null,null,null,null,null,"437A",1805.05,"混合物"]
[null,null,null,null,null,null,"438A",2264.4349999999999,"混合物"]
[null,null,null,null,null,null,"439A",1982.5,"混合物"]
[null,null,null,null,null,null,"440A",144.15199999999999,"混合物"]
[null,null,null,null,null,null,"442A",1887.97,"混合物"]
[null,null,null,null,null,null,"444A",87.2,"混合物"]
[null,null,null,null,null,null,"444B",292.52499999999998,"混合物"]
[null,null,null,null,null,null,"445A",128.69999999999999,"混合物"]
[null,null,null,null,null,null,"446A",459.00000000000006,"混合物"]
[null,null,null,null,null,null,"447A",581.50000000000011,"混合物"]
[null,null,null,null,null,null,"447B",739,"混合物"]
[null,null,null,null,null,null,"448A",1385.8,"混合物"]
[null,null,null,null,null,null,"448B",1320.05,"混合物"]
[null,null,null,null,null,null,"449A",1396.0350000000001,"混合物"]
[null,null,null,null,null,null,"449B",1410.99,"混合物"]
[null,null,null,null,null,null,"449C",1249.7,"混合物"]
[null,null,null,null,null,null,"450A",600.6,"混合物"]
[null,null,null,null,null,null,"451A",145.85999999999999,"混合物"]
[null,null,null,null,null,null,"451B",160.16,"混合物"]
[null,null,null,null,null,null,"452A",2139.25,"混合物"]
[null,null,null,null,null,null,"452B",697.25,"混合物"]
[null,null,null,null,null,null,"452C",2219.375,"混合物"]
[null,null,null,null,null,null,"453A",1765.3400000000001,"混合物"]
[null,null,null,null,null,null,"454A",236.24999999999997,"混合物"]
[null,null,null,null,null,null,"454B",465.07499999999999,"混合物"]
[null,null,null,null,null,null,"454C",145.125,"混合物"]
[null,null,null,null,null,null,"455A",145.125,"混合物"]
[null,null,null,null,null,null,"456A",684,"混合物"]
[null,null,null,null,null,null,"457A",136.38,"混合物"]
[null,null,null,null,null,null,"457B",248.64999999999998,"混合物"]
[null,null,null,null,null,null,"458A",1649.9549999999999,"混合物"]
[null,null,null,null,null,null,"459A",459.00000000000006,"混合物"]
[null,null,null,null,null,null,"459B",141.75,"混合物"]
[null,null,null,null,null,null,"460A",2101.1999999999998,"混合物"]
[null,null,null,null,null,null,"460B",1350,"混合物"]
[null,null,null,null,null,null,"460C",762.17500000000007,"混合物"]
[null,null,null,null,null,null,"461A",2767.1000000000004,"混合物"]
[null,null,null,null,null,null,"462A",2249.35,"混合物"]
[null,null,null,null,null,null,"463A",1493.2,"混合物"]
[null,null,null,null,null,null,"464A",1320.45,"混合物"]
[null,null,null,null,null,null,"465A",141.75,"混合物"]
[null,null,null,null,null,null,"466A",733.25,"混合物"]
[null,null,null,null,null,null,"467A",1358.82,"混合物"]
[null,null,null,null,null,null,"468A",145.125,"混合物"]
[null,null,null,null,null,null,"469A",1356.875,"混合物"]
[null,null,null,null,null,null,"470A",976.45,"混合物"]
[null,null,null,null,null,null,"470B",748.42499999999995,"混合物"]
[null,null,null,null,null,null,"471A",138.45999999999998,"混合物"]
[null,null,null,null,null,null,"472A",352.7,"混合物"]
[null,null,null,null,null,null,"473A",1830,"混合物"]
[null,null,null,null,null,null,500,32.488,"混合物"]
[null,null,null,null,null,null,503,5934.8,"混合物"]
[null,null,null,null,null,null,504,325.34999999999997,"混合物"]
[null,null,null,null,null,null,"507A",3985,"混合物"]
[null,null,null,null,null,null,"508A",5772,"混合物"]
[null,null,null,null,null,null,"508B",6808,"混合物"]
[null,null,null,null,null,null,"512A",189.3,"混合物"]
[null,null,null,null,null,null,"513A",629.20000000000005,"混合物"]
[null,null,null,null,null,null,"513B",593.44999999999993,"混合物"]
[null,null,null,null,null,null,"515A",386.4,"混合物"]
[null,null,null,null,null,null,"515B",286.58,"混合物"]
[null,null,null,null,null,null,"516A",138.91000000000003,"混合物"]
[null,null,null,null,null,null,{"$f":"附件、冷媒GWP值!D145","v":"365mfc/227ea"},{"$f":"附件、冷媒GWP值!E145","v":0},"混合物"]
[null,null,null,null,null,null,{"$f":"附件、冷媒GWP值!D146","v":0},{"$f":"附件、冷媒GWP值!E146","v":0},"混合物"]
[null,null,null,null,null,null,{"$f":"附件、冷媒GWP值!D147","v":0},{"$f":"附件、冷媒GWP值!E147","v":0},"混合物"]
[null,null,null,null,null,null,{"$f":"附件、冷媒GWP值!D148","v":0},{"$f":"附件、冷媒GWP值!E148","v":0},"混合物"]
[null,null,null,null,null,null,{"$f":"附件、冷媒GWP值!D149","v":0},{"$f":"附件、冷媒GWP值!E149","v":0},"混合物"]
[null,null,null,null,null,null,{"$f":"附件、冷媒GWP值!D150","v":0},{"$f":"附件、冷媒GWP值!E150","v":0},"混合物"]
[null,null,null,null,null,null,{"$f":"附件、冷媒GWP值!D151","v":0},{"$f":"附件、冷媒GWP值!E151","v":0},"混合物"]
[null,null,null,null,null,null,{"$f":"附件、冷媒GWP值!D152","v":0},{"$f":"附件、冷媒GWP值!E152","v":0},"混合物"]
[null,null,null,null,null,null,{"$f":"附件、冷媒GWP值!D153","v":0},{"$f":"附件、冷媒GWP值!E153","v":0},"混合物"]
[null,null,null,null,null,null,{"$f":"附件、冷媒GWP值!D154","v":0},{"$f":"附件、冷媒GWP值!E154","v":0},"混合物"]